{"text_format":"3","workbook":"xlsx","n_sheets":38,"sheets":["Main Menu","How to Use","G6 Purchase","G6 Combination","G6 Lease","G7 Lone Worker Purchase","G7 Single-Gas Purchase","G7 Multi-Gas Purchase","G7 Purchase Optional Services","G7 Lone Worker Blend","G7 Single-Gas Blend","G7 Multi-Gas Blend","G7 Lone Worker Lease","G7 Single-Gas Lease","G7 Multi-Gas Lease","G7 Bridge & Satellite Plans","G8 Lone Worker Purchase","G8 Single-Gas Purchase","G8 Multi-Gas Purchase","G8 Lone Worker Combination","G8 Single-Gas Combination","G8 Multi-Gas Combination","G8 Lone Worker Blend","G8 Single-Gas Blend","G8 Multi-Gas Blend","G8 Lone Worker Lease","G8 Single-Gas Lease","G8 Multi-Gas Lease","EXO 8 Purchase","EXO 8 Combination","EXO 8 Lease","EXO Gas Expansion Module","EXO Auto Bump & Cal","Accessories","Gas Cylinders","Professional Services","Base Pricing","Lookup"],"not_rendered":{"images":16,"defined_names":101},"read":"whole","date_system":"1900"}

{"sheet":"Main Menu","index":0,"n_rows":42,"n_cols":17,"rows_kept":42,"merged":[[0,4,0,6],[3,4,13,6],[15,4,30,6]]}
[{"$error":"#VALUE!"},{"$nulls":3},2025]
["Main Menu",{"$nulls":4},"Currency:","USD"]
[{"$nulls":6},"Effective February 2, 2026 Rev 2"]
[{"$f":"HYPERLINK(\"#'\"&C4&\"'!A1\",B4)","v":"How to Use"},{"$f":"_xlfn.VSTACK('How to Use:Professional Services'!B2)","v":"How to Use"},{"$f":"_xlfn.VSTACK('How to Use:Professional Services'!P1)","v":"How to Use"},null,{"$f":"IF(OR(Currency=\"AUD\",Currency=\"CAD\",Currency=\"USD\"),$Q$5,$Q$6)","v":"Blackline offers a rental program designed to meet your needs, regardless of the size or scope of your project.\n\nTo initiate a request for rental, please contact rentals@blacklinesafety.com with your product needs and contact information, or reach out to Blackline’s Customer Care team at 1-877-869-7212."}]
[{"$f":"HYPERLINK(\"#'\"&C5&\"'!A1\",B5)","v":"G6 Purchase"},"G6 Purchase","G6 Purchase",{"$nulls":13},"Blackline offers a rental program designed to meet your needs, regardless of the size or scope of your project.\n\nTo initiate a request for rental, please contact rentals@blacklinesafety.com with your product needs and contact information, or reach out to Blackline’s Customer Care team at 1-877-869-7212."]
["G6 Combination","G6 Combination","G6 Combination",{"$nulls":13},"Blackline offers a rental program designed to meet your needs, regardless of the size or scope of your project.\n\nTo initiate a request for rental, please contact rentals@blacklinesafety.com with your product needs and contact information, or reach out to Blackline’s Customer Care team at +44 1787 222684"]
["G6 Lease","G6 Lease","G6 Lease"]
["G7 Lone Worker Purchase","G7 Lone Worker Purchase","G7 Lone Worker Purchase"]
["G7 Single-Gas Purchase","G7 Single-Gas Purchase","G7 Single-Gas Purchase"]
["G7 Multi-Gas Purchase","G7 Multi-Gas Purchase","G7 Multi-Gas Purchase"]
["G7 Purchase Optional Services","G7 Purchase Optional Services","G7 Purchase Optional Services"]
["G7 Lone Worker Blend","G7 Lone Worker Blend","G7 Lone Worker Blend"]
["G7 Single-Gas Blend","G7 Single-Gas Blend","G7 Single-Gas Blend"]
["G7 Multi-Gas Blend","G7 Multi-Gas Blend","G7 Multi-Gas Blend"]
["G7 Lone Worker Lease","G7 Lone Worker Lease","G7 Lone Worker Lease"]
["G7 Single-Gas Lease","G7 Single-Gas Lease","G7 Single-Gas Lease",null,{"$error":"#VALUE!"}]
["G7 Multi-Gas Lease","G7 Multi-Gas Lease","G7 Multi-Gas Lease"]
["G7 Bridge and Satellite Plans","G7 Bridge and Satellite Plans","G7 Bridge & Satellite Plans"]
["G8 Lone Worker Purchase","G8 Lone Worker Purchase","G8 Lone Worker Purchase"]
["G8 Single-Gas Purchase","G8 Single-Gas Purchase","G8 Single-Gas Purchase"]
["G8 Multi-Gas Purchase","G8 Multi-Gas Purchase","G8 Multi-Gas Purchase"]
["G8 Lone Worker Combination","G8 Lone Worker Combination","G8 Lone Worker Combination"]
["G8 Single-Gas Combination","G8 Single-Gas Combination","G8 Single-Gas Combination"]
["G8 Multi-Gas Combination","G8 Multi-Gas Combination","G8 Multi-Gas Combination"]
["G8 Lone Worker Blend","G8 Lone Worker Blend","G8 Lone Worker Blend"]
["G8 Single-Gas Blend","G8 Single-Gas Blend","G8 Single-Gas Blend"]
["G8 Multi-Gas Blend","G8 Multi-Gas Blend","G8 Multi-Gas Blend"]
["G8 Lone Worker Lease","G8 Lone Worker Lease","G8 Lone Worker Lease"]
[{"$f":"HYPERLINK(\"#'\"&C29&\"'!A1\",B29)","v":"G8 Single-Gas Lease"},"G8 Single-Gas Lease","G8 Single-Gas Lease"]
[{"$f":"HYPERLINK(\"#'\"&C30&\"'!A1\",B30)","v":"G8 Multi-Gas Lease"},"G8 Multi-Gas Lease","G8 Multi-Gas Lease"]
["EXO 8 Purchase","EXO 8 Purchase","EXO 8 Purchase"]
["EXO 8 Combination","EXO 8 Combination","EXO 8 Combination"]
["EXO 8 Lease","EXO 8 Lease","EXO 8 Lease"]
["EXO Gas Expansion Module","EXO Gas Expansion Module","EXO Gas Expansion Module"]
["EXO Automatic Bump & Calibration","EXO Automatic Bump & Calibration","EXO Auto Bump & Cal"]
["Accessories","Accessories","Accessories"]
["Gas Cylinders","Gas Cylinders","Gas Cylinders"]
["Professional Services","Professional Services","Professional Services"]
[0]
[0]
[0]
[0]

{"sheet":"How to Use","index":1,"n_rows":2,"n_cols":16,"rows_kept":2,"merged":[[1,1,1,7]]}
[null,{"$error":"#VALUE!"},{"$nulls":5},"Main Menu",{"$nulls":7},{"$f":"_xlfn.TEXTAFTER(CELL(\"filename\",P1),\"]\")","v":"How to Use"}]
[null,"How to Use"]

{"sheet":"G6 Purchase","index":2,"n_rows":35,"n_cols":16,"rows_kept":35,"merged":[[1,1,1,7],[2,1,12,1],[7,7,7,9],[9,7,9,9],[11,7,11,9],[13,1,13,5],[14,7,14,9],[15,7,16,9],[16,1,16,5],[17,7,20,9],[17,11,20,11],[21,7,22,9],[21,11,25,11],[22,1,22,5],[23,7,23,9],[24,7,25,9],[25,1,25,5],[26,7,27,9],[26,11,27,11],[28,7,29,9],[29,1,29,5],[30,7,30,9],[31,7,32,9],[32,1,32,5],[33,7,34,9]]}
[null,{"$error":"#VALUE!"},{"$nulls":10},{"$f":"Currency","v":"USD"},null,null,"G6 Purchase"]
[null,"G6 Purchase",{"$nulls":10},{"$f":"PBYear","v":2025},"Quick Links"]
[null,{"$error":"#VALUE!"},{"$nulls":10},{"$f":"Revision","v":"Effective February 2, 2026 Rev 2"},"Main Menu"]
[{"$nulls":12},"Blackline Safety Confidential","Accessories"]
[{"$nulls":12},"All prices are an estimate - for a formal quote contact your local Blackline Safety representative"]
[]
[]
[{"$nulls":5},"Device + Cartridge",null,{"$f":"CONCATENATE(H15,\"-\",H18,\"-\",H24,\"-\",H27,\"-\",H31,\"-\",H34)","v":"J-G6-H-XX-PTX-XX-4Y"},{"$nulls":3},{"$f":"L18+L27","v":{"v":432,"d":"$ 432"}},{"$f":"M1&\" List\"","v":"USD List"}]
[]
[{"$nulls":15},"Power and calibration accessories not included. Charge clip included with Protect Plus plan"]
[]
[]
[]
[null,"Buying Option"]
[null,"Purchase","è","J-G6",{"$nulls":3},{"$f":"D15","v":"J-G6"}]
[{"$nulls":7},"-"]
[null,"Sensor"]
[null,"H2S","è","H",{"$f":"IF(B18=0,\"\",\"=\")","v":"="},{"$f":"P18","v":{"v":192,"d":"$ 192"}},null,"H",{"$nulls":3},{"$f":"VLOOKUP(H18,D18:F21,3,FALSE)","v":{"v":192,"d":"$ 192"}},{"$nulls":3},{"$f":"ROUNDUP(INDEX(G6Base[],MATCH(\"G6 H2S Monthly\",G6Base[Type],0),MATCH($M$1,G6Base[#Headers],0))*48*(1-G6PurchaseDiscount),0)","v":192}]
[null,"CO","è","M","=",{"$f":"P19","v":{"v":192,"d":"$ 192"}},{"$nulls":9},{"$f":"ROUNDUP(INDEX(G6Base[],MATCH(\"G6 CO Monthly\",G6Base[Type],0),MATCH($M$1,G6Base[#Headers],0))*48*(1-G6PurchaseDiscount),0)","v":192}]
[null,"O2","è","O","=",{"v":192,"d":"$ 192"},{"$nulls":9},{"$f":"ROUNDUP(INDEX(G6Base[],MATCH(\"G6 O2 Monthly\",G6Base[Type],0),MATCH($M$1,G6Base[#Headers],0))*48*(1-G6PurchaseDiscount),0)","v":192}]
[null,"(2-year term) SO2",{"$f":"IF(B21=\"\",\"\",\"è\")","v":"è"},"S","=",{"v":192,"d":"$ 192"},{"$nulls":9},{"$f":"ROUNDUP(INDEX(G6Base[],MATCH(\"G6 SO2 Monthly\",G6Base[Type],0),MATCH($M$1,G6Base[#Headers],0))*24*(1-G6PurchaseDiscount),0)","v":192}]
[{"$nulls":7},"-",{"$nulls":3},"+"]
[null,"Future"]
[null,"Future","è","XX",{"$nulls":3},"XX"]
[{"$nulls":7},"-"]
[null,"Service Plan"]
[null," Protect",{"$f":"IF(B27=0,\"\",\"è\")","v":"è"},"PTX",{"$f":"IF(B27=0,\"\",\"=\")","v":"="},{"$f":"P27","v":{"v":240,"d":"$ 240"}},null,"PTX",{"$nulls":3},{"$f":"VLOOKUP(H27,D27:F28,3,FALSE)","v":{"v":240,"d":"$ 240"}},{"$nulls":3},{"$f":"ROUNDUP(INDEX(G6Base[],MATCH(\"G6 Protect Monthly\",G6Base[Type],0),MATCH($M$1,G6Base[#Headers],0))*IF($H$18=\"S\",24,48),0)","v":240}]
[null,"Protect Plus",{"$f":"IF(B28=0,\"\",\"è\")","v":"è"},"PPX",{"$f":"IF(B28=0,\"\",\"=\")","v":"="},{"$f":"P28","v":{"v":528,"d":"$ 528"}},{"$nulls":9},{"$f":"ROUNDUP(INDEX(G6Base[],MATCH(\"G6 Protect Plus Monthly\",G6Base[Type],0),MATCH($M$1,G6Base[#Headers],0))*IF($H$18=\"S\",24,48),0)","v":528}]
[{"$nulls":7},"-"]
[null,"Future"]
[null,"Future",{"$f":"IF(B31=\"\",\"\",\"è\")","v":"è"},"XX",{"$nulls":3},"XX"]
[{"$nulls":7},"-"]
[null,"Term"]
[null,"Two-Years","è","2Y",{"$nulls":3},{"$f":"IF(H18=\"S\",\"2Y\",\"4Y\")","v":"4Y"}]
[null,"Four-Years","è","4Y"]

{"sheet":"G6 Combination","index":3,"n_rows":46,"n_cols":16,"rows_kept":46,"merged":[[1,1,1,7],[2,1,12,1],[7,7,7,9],[9,7,9,9],[11,7,11,9],[14,1,14,5],[15,7,15,9],[16,7,17,9],[17,1,17,5],[18,7,21,9],[18,11,21,11],[22,7,23,9],[23,1,23,5],[24,7,24,9],[25,7,26,9],[26,1,26,5],[27,7,28,9],[31,1,31,5],[32,7,32,9],[33,7,34,9],[34,1,34,5],[35,7,35,9],[36,7,36,9],[37,1,37,5],[37,7,37,9],[38,7,39,9],[38,11,39,11],[40,7,41,9],[41,1,41,5],[42,7,42,9],[43,7,44,9],[44,1,44,5],[45,7,45,9]]}
[null,{"$error":"#VALUE!"},{"$nulls":10},{"$f":"Currency","v":"USD"},null,null,"G6 Combination"]
[null,"G6 Combination",{"$nulls":10},{"$f":"PBYear","v":2025},"Quick Links"]
[null,{"$error":"#VALUE!"},{"$nulls":10},{"$f":"Revision","v":"Effective February 2, 2026 Rev 2"},"Main Menu"]
[{"$nulls":12},"Blackline Safety Confidential","Accessories"]
[{"$nulls":12},"All prices are an estimate - for a formal quote contact your local Blackline Safety representative"]
[]
[]
[{"$nulls":5},"Hardware",null,{"$f":"CONCATENATE(H16,\"-\",H19,\"-\",H25,\"-\",H28)","v":"G6-H-XX-4Y"},{"$nulls":3},{"$f":"L19","v":{"v":228,"d":"$ 228"}},{"$f":"M1&\" Upfront\"","v":"USD Upfront"}]
[]
[{"$nulls":5},"Service",null,{"$f":"CONCATENATE(H33,\"-\",H36,\"-\",H39,\"-\",H43,\"-\",H46)","v":"SER-G6-H-PTX-XX-4Y"},{"$nulls":3},{"$f":"L39","v":{"v":5,"d":"$ 5"}},{"$f":"M1&\" / mo*\"","v":"USD / mo*"},null,null,"Power and calibration accessories not included. Charge clip included in Protect Plus plan"]
[]
[{"$nulls":15},"*Monthly rates are billed annually"]
[]
[null,"Hardware (Upfront)"]
[null,"Buying Option"]
[null,"Combination","è","G6",{"$nulls":3},{"$f":"D16","v":"G6"}]
[{"$nulls":7},"-"]
[null,"Sensor"]
[null,"H2S","è","H",{"$f":"IF(B19=0,\"\",\"=\")","v":"="},{"$f":"P19","v":{"v":228,"d":"$ 228"}},null,"H",{"$nulls":3},{"$f":"VLOOKUP(H19,D19:F22,3,FALSE)","v":{"v":228,"d":"$ 228"}},{"$nulls":3},{"$f":"ROUNDUP(INDEX(G6Base[],MATCH(\"G6 H2S Monthly\",G6Base[Type],0),MATCH($M$1,G6Base[#Headers],0))*48*(1-G6ComboDiscount),0)","v":228}]
[null,"CO","è","M","=",{"$f":"P20","v":{"v":228,"d":"$ 228"}},{"$nulls":9},{"$f":"ROUNDUP(INDEX(G6Base[],MATCH(\"G6 CO Monthly\",G6Base[Type],0),MATCH($M$1,G6Base[#Headers],0))*48*(1-G6ComboDiscount),0)","v":228}]
[null,"O2","è","O","=",{"v":228,"d":"$ 228"},{"$nulls":9},{"$f":"ROUNDUP(INDEX(G6Base[],MATCH(\"G6 O2 Monthly\",G6Base[Type],0),MATCH($M$1,G6Base[#Headers],0))*48*(1-G6ComboDiscount),0)","v":228}]
[null,"(2-year term) SO2",{"$f":"IF(B22=\"\",\"\",\"è\")","v":"è"},"S","=",{"v":228,"d":"$ 228"},{"$nulls":9},{"$f":"ROUNDUP(INDEX(G6Base[],MATCH(\"G6 SO2 Monthly\",G6Base[Type],0),MATCH($M$1,G6Base[#Headers],0))*24*(1-G6ComboDiscount),0)","v":228}]
[{"$nulls":7},"-"]
[null,"Future"]
[null,"Future","è","XX",{"$nulls":3},"XX"]
[{"$nulls":7},"-"]
[null,"Term"]
[null,"Two-Years","è","2Y",{"$nulls":3},{"$f":"IF(H19=\"S\",\"2Y\",\"4Y\")","v":"4Y"}]
[null,"Four-Years","è","4Y"]
[]
[null,"Service (Monthly)"]
[null,"Buying Option"]
[null,"Combination","è","SER-G6",{"$nulls":3},{"$f":"D33","v":"SER-G6"}]
[{"$nulls":7},"-"]
[null,"Sensor"]
[null,"From Above",{"$nulls":5},{"$f":"H19","v":"H"}]
[{"$nulls":7},"-"]
[null,"Service Plan"]
[null,"Protect",{"$f":"IF(B39=0,\"\",\"è\")","v":"è"},"PTX",{"$f":"IF(B39=0,\"\",\"=\")","v":"="},{"$f":"P39","v":{"v":5,"d":"$ 5"}},null,"PTX",{"$nulls":3},{"$f":"VLOOKUP(H39,D39:F40,3,FALSE)","v":{"v":5,"d":"$ 5"}},{"$nulls":3},{"$f":"INDEX(G6Base[],MATCH(\"G6 Protect Monthly\",G6Base[Type],0),MATCH($M$1,G6Base[#Headers],0))","v":5}]
[null,"Protect Plus",{"$f":"IF(B40=0,\"\",\"è\")","v":"è"},"PPX",{"$f":"IF(B40=0,\"\",\"=\")","v":"="},{"$f":"P40","v":{"v":11,"d":"$ 11"}},{"$nulls":9},{"$f":"INDEX(G6Base[],MATCH(\"G6 Protect Plus Monthly\",G6Base[Type],0),MATCH($M$1,G6Base[#Headers],0))","v":11}]
[{"$nulls":7},"-"]
[null,"Future"]
[null,"Future",{"$f":"IF(B43=\"\",\"\",\"è\")","v":"è"},"XX",{"$nulls":3},"XX"]
[{"$nulls":7},"-"]
[null,"Term"]
[null,"From Above",{"$nulls":5},{"$f":"H28","v":"4Y"}]

{"sheet":"G6 Lease","index":4,"n_rows":35,"n_cols":16,"rows_kept":35,"merged":[[1,1,1,7],[2,1,12,1],[7,7,7,9],[9,7,9,9],[11,7,11,9],[13,1,13,5],[14,7,14,9],[15,7,16,9],[16,1,16,5],[17,7,20,9],[17,11,20,11],[21,7,22,9],[21,11,25,11],[22,1,22,5],[23,7,23,9],[24,7,25,9],[25,1,25,5],[26,7,27,9],[26,11,27,11],[28,7,29,9],[29,1,29,5],[30,7,30,9],[31,7,32,9],[32,1,32,5],[33,7,34,9]]}
[null,{"$error":"#VALUE!"},{"$nulls":10},{"$f":"Currency","v":"USD"},null,null,"G6 Lease"]
[null,"G6 Lease",{"$nulls":10},{"$f":"PBYear","v":2025},"Quick Links"]
[null,{"$error":"#VALUE!"},{"$nulls":10},{"$f":"Revision","v":"Effective February 2, 2026 Rev 2"},"Main Menu"]
[{"$nulls":12},"Blackline Safety Confidential","Accessories"]
[{"$nulls":12},"All prices are an estimate - for a formal quote contact your local Blackline Safety representative"]
[]
[]
[{"$nulls":5},"Device + Cartridge",null,{"$f":"CONCATENATE(H15,\"-\",H18,\"-\",H24,\"-\",H27,\"-\",H31,\"-\",H34)","v":"CMP-G6-H-XX-PTX-XX-4Y"},{"$nulls":3},{"$f":"L18+L27","v":{"v":10,"d":"$ 10"}},{"$f":"M1&\" / mo*\"","v":"USD / mo*"}]
[]
[{"$nulls":15},"Power and calibration accessories not included. Charge clip included in Protect Plus plan"]
[]
[{"$nulls":15},"*Monthly rates are billed annually"]
[]
[null,"Buying Option"]
[null,"Lease","è","CMP-G6",{"$nulls":3},{"$f":"D15","v":"CMP-G6"}]
[{"$nulls":7},"-"]
[null,"Sensor"]
[null,"H2S","è","H",{"$f":"IF(B18=0,\"\",\"=\")","v":"="},{"$f":"P18","v":{"v":5,"d":"$ 5"}},null,"H",{"$nulls":3},{"$f":"VLOOKUP(H18,D18:F21,3,FALSE)","v":{"v":5,"d":"$ 5"}},{"$nulls":3},{"$f":"INDEX(G6Base[],MATCH(\"G6 H2S Monthly\",G6Base[Type],0),MATCH($M$1,G6Base[#Headers],0))","v":5}]
[null,"CO","è","M","=",{"$f":"P19","v":{"v":5,"d":"$ 5"}},{"$nulls":9},{"$f":"INDEX(G6Base[],MATCH(\"G6 CO Monthly\",G6Base[Type],0),MATCH($M$1,G6Base[#Headers],0))","v":5}]
[null,"O2","è","O","=",{"v":5,"d":"$ 5"},{"$nulls":9},{"$f":"INDEX(G6Base[],MATCH(\"G6 O2 Monthly\",G6Base[Type],0),MATCH($M$1,G6Base[#Headers],0))","v":5}]
[null,"(2-year term) SO2",{"$f":"IF(B21=\"\",\"\",\"è\")","v":"è"},"S","=",{"v":10,"d":"$ 10"},{"$nulls":9},{"$f":"INDEX(G6Base[],MATCH(\"G6 SO2 Monthly\",G6Base[Type],0),MATCH($M$1,G6Base[#Headers],0))","v":10}]
[{"$nulls":7},"-",{"$nulls":3},"+"]
[null,"Future"]
[null,"Future","è","XX",{"$nulls":3},"XX"]
[{"$nulls":7},"-"]
[null,"Service Plan"]
[null,"Protect",{"$f":"IF(B27=0,\"\",\"è\")","v":"è"},"PTX",{"$f":"IF(B27=0,\"\",\"=\")","v":"="},{"$f":"P27","v":{"v":5,"d":"$ 5"}},null,"PTX",{"$nulls":3},{"$f":"VLOOKUP(H27,D27:F28,3,FALSE)","v":{"v":5,"d":"$ 5"}},{"$nulls":3},{"$f":"INDEX(G6Base[],MATCH(\"G6 Protect Monthly\",G6Base[Type],0),MATCH($M$1,G6Base[#Headers],0))","v":5}]
[null,"Protect Plus",{"$f":"IF(B28=0,\"\",\"è\")","v":"è"},"PPX",{"$f":"IF(B28=0,\"\",\"=\")","v":"="},{"$f":"P28","v":{"v":11,"d":"$ 11"}},{"$nulls":9},{"$f":"INDEX(G6Base[],MATCH(\"G6 Protect Plus Monthly\",G6Base[Type],0),MATCH($M$1,G6Base[#Headers],0))","v":11}]
[{"$nulls":7},"-"]
[null,"Future"]
[null,"Future",{"$f":"IF(B31=\"\",\"\",\"è\")","v":"è"},"XX",{"$nulls":3},"XX"]
[{"$nulls":7},"-"]
[null,"Term"]
[null,"Two-Years","è","2Y",{"$nulls":3},{"$f":"IF(H18=\"S\",\"2Y\",\"4Y\")","v":"4Y"}]
[null,"Four-Years","è","4Y"]

{"sheet":"G7 Lone Worker Purchase","index":5,"n_rows":32,"n_cols":24,"rows_kept":32,"merged":[[1,1,1,7],[2,1,12,1],[7,7,7,9],[9,7,9,9],[11,7,11,9],[13,1,13,5],[14,7,15,9],[14,11,15,11],[17,1,17,5],[18,7,19,9],[20,7,21,9],[21,1,21,5],[22,7,22,9],[23,7,24,9],[24,1,24,5],[25,7,27,9],[28,7,29,9],[29,1,29,5],[30,7,31,9]]}
[null,{"$error":"#VALUE!"},{"$nulls":10},{"$f":"Currency","v":"USD"},null,null,"G7 Lone Worker Purchase"]
[null,"G7 Lone Worker Purchase",{"$nulls":10},{"$f":"PBYear","v":2025},"Quick Links"]
[null,{"$error":"#VALUE!"},{"$nulls":10},{"$f":"Revision","v":"Effective February 2, 2026 Rev 2"},"Main Menu"]
[{"$nulls":12},"Blackline Safety Confidential","G7 Optional Services"]
[{"$nulls":12},"All prices are an estimate - for a formal quote contact your local Blackline Safety representative","Accessories"]
[{"$nulls":13},"G7 Bridge & Satellite Plans"]
[]
[{"$nulls":5},"Device + Cartridge",null,{"$f":"CONCATENATE(H15,H19,\"-\",H23,\"-\",H26,\"-\",H31)","v":"J-G7C-Z-NA2-2Y"},{"$nulls":3},{"$f":"L15","v":{"v":854,"d":"$ 854"}},{"$f":"M1&\" List\"","v":"USD List"}]
[]
[{"$nulls":5},"2Y Extended Warranty",null,{"$f":"CONCATENATE(\"J-WAR-\",H23)","v":"J-WAR-Z"},{"$nulls":3},{"$f":"SUM(V16:V24)","v":{"v":482,"d":"$ 482"}},{"$f":"M1&\" List\"","v":"USD List"}]
[]
[{"$nulls":5},"Additional Cartridge",null,{"$f":"CONCATENATE(\"J-CART-\",H23,\"-\",H31,\"-R\")","v":"J-CART-Z-2Y-R"},{"$nulls":3},{"$f":"SUM(X16:X24)","v":{"v":118,"d":"$ 118"}},{"$f":"M1&\" List\"","v":"USD List"}]
[]
[null,"Buying Option",{"$nulls":16},"2Y Price","3Y Adder","Extended Warranty",null,"Additional CART"]
[null,"Purchase","è","J-G7",{"$nulls":3},{"$f":"D15","v":"J-G7"},{"$nulls":3},{"$f":"F16","v":{"v":854,"d":"$ 854"}}]
[1,null,null,"Lone Worker","=",{"$f":"SUM(S16:T16)","v":{"v":854,"d":"$ 854"}},{"$nulls":12},{"$f":"INDEX(BasePrices[],MATCH(\"G7 Purchase Base Price\",BasePrices[Type],0),MATCH($M$1,BasePrices[#Headers],0))+\nINDEX(ServicePrices[],MATCH(\"System Access\",ServicePrices[Type],0),MATCH($M$1,ServicePrices[#Headers],0))*24","v":854},{"$f":"IF(H$31=\"2Y\",0,\nINDEX(BasePrices[],MATCH(\"G7 Warranty Base Price\",BasePrices[Type],0),MATCH($M$1,BasePrices[#Headers],0))+\nINDEX(ServicePrices[],MATCH(\"System Access\",ServicePrices[Type],0),MATCH($M$1,ServicePrices[#Headers],0))*12)","v":0},null,{"$f":"(INDEX(BasePrices[],MATCH(\"G7 Warranty Base Price\",BasePrices[Type],0),MATCH($M$1,BasePrices[#Headers],0))+\nINDEX(ServicePrices[],MATCH(\"System Access\",ServicePrices[Type],0),MATCH($M$1,ServicePrices[#Headers],0))*12)*2","v":482},null,{"$f":"ROUNDUP(INDEX(BasePrices[],MATCH(\"Standard Cartridge\",BasePrices[Type],0),MATCH($M$1,BasePrices[#Headers],0))*IF(H$31=\"2Y\",2.5,3),0)","v":118}]
[]
[null,"Connectivity"]
[null,"Cellular","è","C",{"$nulls":3},"C"]
[null,{"$f":"IF(OR(M1=\"EUR\",M1=\"GBP\"),\"\",\"Satellite (900 MHz)*\")","v":"Satellite (900 MHz)*"},{"$f":"IF(B20=\"\",\"\",\"è\")","v":"è"},{"$f":"IF(OR(M1=\"EUR\",M1=\"GBP\"),\"\",\"X\")","v":"X"}]
[{"$nulls":7},"-",{"$nulls":6},{"$f":"IF(OR(M1=\"EUR\",M1=\"GBP\"),\"\",\"*Bridge and satellite service plan required\")","v":"*Bridge and satellite service plan required"}]
[null,"Cartridge Type"]
[null,"Lone Worker","è","Z",{"$nulls":3},"Z"]
[{"$nulls":7},"-"]
[null,"Country Code"]
[null,{"$f":"_xlfn.VSTACK(O26:O28)","v":"North America (3G/4G) - G7C"},{"$f":"IF(B26=\"\",\"\",\"è\")","v":"è"},{"$f":"IFERROR(VLOOKUP(B26,Lookup!$F$3:$G$12,2,FALSE),\"\")","v":"NA2"},{"$nulls":3},"NA2",{"$nulls":6},{"$f":"_xlfn.LET(\n_xlpm.Dtype,G7CountryCodes[Type],_xlpm.Curr,G7CountryCodes[Currency],_xlpm.SType,H19,_xlpm.SCurr,M1,\n_xlpm.myCalculation,_xlfn.VSTACK(_xlfn._xlws.FILTER(G7CountryCodes[],(_xlpm.Dtype=_xlpm.SType)*(_xlpm.Curr=_xlpm.SCurr))),_xlpm.myCalculation)","v":"North America (3G/4G) - G7C"},"NA2","C","USD"]
[null,"Outside of North America (3G/4G) - G7C",{"$f":"IF(B27=0,\"\",\"è\")","v":"è"},{"$f":"IFERROR(VLOOKUP(B27,Lookup!$F$3:$G$12,2,FALSE),\"\")","v":"EU2"},{"$nulls":10},"Outside of North America (3G/4G) - G7C","EU2","C","USD"]
[null,"Brazil (3G/4G) - G7C",{"$f":"IF(B28=0,\"\",\"è\")","v":"è"},{"$f":"IFERROR(VLOOKUP(B28,Lookup!$F$3:$G$12,2,FALSE),\"\")","v":"BR2"},{"$nulls":10},"Brazil (3G/4G) - G7C","BR2","C","USD"]
[{"$nulls":7},"-"]
[null,"Term"]
[null,"Two-Years","è","2Y",{"$nulls":3},"2Y"]
[null,"Three-Years","è","3Y"]

{"sheet":"G7 Single-Gas Purchase","index":6,"n_rows":53,"n_cols":24,"rows_kept":53,"merged":[[1,1,1,7],[2,1,12,1],[7,7,7,9],[9,7,9,9],[11,7,11,9],[13,1,13,5],[14,7,15,9],[14,11,15,11],[16,11,24,11],[17,1,17,5],[18,7,19,9],[20,7,21,9],[21,1,21,5],[22,7,22,9],[23,7,24,9],[24,1,24,5],[25,7,43,9],[25,11,43,11],[44,7,45,9],[45,1,45,5],[46,7,48,9],[49,7,50,9],[50,1,50,5],[51,7,52,9]]}
[null,{"$error":"#VALUE!"},{"$nulls":10},{"$f":"Currency","v":"USD"},null,null,"G7 Single-Gas Purchase"]
[null,"G7 Single-Gas Purchase",{"$nulls":10},{"$f":"PBYear","v":2025},"Quick Links"]
[null,{"$error":"#VALUE!"},{"$nulls":10},{"$f":"Revision","v":"Effective February 2, 2026 Rev 2"},"Main Menu"]
[{"$nulls":12},"Blackline Safety Confidential","G7 Optional Services"]
[{"$nulls":12},"All prices are an estimate - for a formal quote contact your local Blackline Safety representative","Accessories"]
[{"$nulls":13},"G7 Bridge & Satellite Plans"]
[]
[{"$nulls":5},"Device + Cartridge",null,{"$f":"CONCATENATE(H15,H19,\"-\",H23,\"-\",H26,\"-\",H47,\"-\",H52)","v":"J-G7C-S-H-NA2-2Y"},{"$nulls":3},{"$f":"L15+L26","v":{"v":1000,"d":"$ 1,000"}},{"$f":"M1&\" List\"","v":"USD List"}]
[]
[{"$nulls":5},"2Y Extended Warranty",null,{"$f":"CONCATENATE(\"J-WAR-\",H23,\"-\",H26)","v":"J-WAR-S-H"},{"$nulls":3},{"$f":"SUM(V16:V24)","v":{"v":523,"d":"$ 523"}},{"$f":"M1&\" List\"","v":"USD List"}]
[]
[{"$nulls":5},"Additional Cartridge",null,{"$f":"CONCATENATE(\"J-CART-\",H23,\"-\",H26,\"-\",H52,\"-R\")","v":"J-CART-S-H-2Y-R"},{"$nulls":3},{"$f":"SUM(X16:X24)","v":{"v":183,"d":"$ 183"}},{"$f":"M1&\" List\"","v":"USD List"}]
[]
[null,"Buying Option",{"$nulls":16},"2Y Price","3Y Adder","Extended Warranty",null,"Additional CART"]
[null,"Purchase","è","J-G7",{"$nulls":3},{"$f":"D15","v":"J-G7"},{"$nulls":3},{"$f":"F16","v":{"v":1000,"d":"$ 1,000"}}]
[1,null,null,"Single-sensor","=",{"$f":"SUM(S16:T16)","v":{"v":1000,"d":"$ 1,000"}},{"$nulls":12},{"$f":"INDEX(BasePrices[],MATCH(\"G7 Purchase Base Price\",BasePrices[Type],0),MATCH($M$1,BasePrices[#Headers],0))+\nINDEX(BasePrices[],MATCH(\"1 Sensor Cartridge\",BasePrices[Type],0),MATCH($M$1,BasePrices[#Headers],0))*2+\nINDEX(ServicePrices[],MATCH(\"System Access\",ServicePrices[Type],0),MATCH($M$1,ServicePrices[#Headers],0))*24","v":1000},{"$f":"IF(H$52=\"2Y\",0,\nROUNDUP(INDEX(BasePrices[],MATCH(\"1 Sensor Cartridge\",BasePrices[Type],0),MATCH($M$1,BasePrices[#Headers],0))*0.2777777,0)+\nINDEX(BasePrices[],MATCH(\"G7 Warranty Base Price\",BasePrices[Type],0),MATCH($M$1,BasePrices[#Headers],0))+\nINDEX(ServicePrices[],MATCH(\"System Access\",ServicePrices[Type],0),MATCH($M$1,ServicePrices[#Headers],0))*12)","v":0},null,{"$f":"(INDEX(BasePrices[],MATCH(\"G7 Warranty Base Price\",BasePrices[Type],0),MATCH($M$1,BasePrices[#Headers],0))+\nINDEX(ServicePrices[],MATCH(\"System Access\",ServicePrices[Type],0),MATCH($M$1,ServicePrices[#Headers],0))*12)*2+\nROUNDUP(INDEX(BasePrices[],MATCH(\"1 Sensor Cartridge\",BasePrices[Type],0),MATCH($M$1,BasePrices[#Headers],0))*0.2777777*2,0)","v":523},null,{"$f":"ROUNDUP(INDEX(BasePrices[],MATCH(\"1 Sensor Cartridge\",BasePrices[Type],0),MATCH($M$1,BasePrices[#Headers],0))*IF(H$52=\"2Y\",2.5,3),0)","v":183}]
[{"$nulls":11},"+"]
[null,"Connectivity"]
[null,"Cellular","è","C",{"$nulls":3},"C"]
[null,{"$f":"IF(OR(M1=\"EUR\",M1=\"GBP\"),\"\",\"Satellite (900 MHz)*\")","v":"Satellite (900 MHz)*"},{"$f":"IF(B20=\"\",\"\",\"è\")","v":"è"},{"$f":"IF(OR(M1=\"EUR\",M1=\"GBP\"),\"\",\"X\")","v":"X"}]
[{"$nulls":7},"-",{"$nulls":6},{"$f":"IF(OR(M1=\"EUR\",M1=\"GBP\"),\"\",\"*Bridge and satellite service plan required\")","v":"*Bridge and satellite service plan required"}]
[null,"Cartridge Type"]
[null,"Single Sensor","è","S",{"$nulls":3},"S",{"$nulls":13},{"$f":"VLOOKUP(H26,P26:U44,6,FALSE)","v":0},null,{"$f":"VLOOKUP(H26,P26:X44,9,FALSE)","v":0}]
[{"$nulls":7},"-"]
[null,"Toxic Sensor"]
[null,{"$f":"_xlfn.VSTACK(O26:O44)","v":"HF"},{"$f":"IF(B26=0,\"\",\"è\")","v":"è"},{"$f":"_xlfn.VSTACK(P26:P44)","v":"2"},{"$f":"IF(B26=0,\"\",\"=\")","v":"="},{"$f":"IFERROR(SUM(S26:T26),\"\")","v":{"v":840,"d":"$ 840"}},null,"H",{"$nulls":3},{"$f":"VLOOKUP(H26,D26:F44,3,FALSE)","v":{"v":0,"d":"$ 0"}},null,null,{"$f":"_xlfn.LET(\n_xlpm.Dtype,G7Sensors[Type1],_xlpm.Curr,G7Sensors[Currency],_xlpm.Stype,H23,_xlpm.SCurr,M1,\n_xlpm.myCalculation,_xlfn.VSTACK(_xlfn._xlws.FILTER(G7Sensors[],(_xlpm.Dtype=_xlpm.Stype)*(_xlpm.Curr=_xlpm.SCurr))),_xlpm.myCalculation)","v":"HF"},"2","S","USD",{"$f":"INDEX(SensorPricing[],MATCH(P26,SensorPricing[Sensor],0),MATCH($M$1,SensorPricing[#Headers],0))*2","v":840},{"$f":"IF($H$52=\"2Y\",0,ROUNDUP(INDEX(SensorPricing[],MATCH(P26,SensorPricing[Sensor],0),MATCH($M$1,SensorPricing[#Headers],0))*0.2777777,0))","v":0},{"$f":"ROUNDUP(S26*0.2777777,0)","v":234},null,null,{"$f":"ROUNDUP(INDEX(SensorPricing[],MATCH(P26,SensorPricing[Sensor],0),MATCH($M$1,SensorPricing[#Headers],0))*IF($H$52=\"2Y\",2.5,3),0)","v":1050}]
[null,"NH3","è","A","=",{"$f":"IFERROR(SUM(S27:T27),\"\")","v":{"v":120,"d":"$ 120"}},{"$nulls":8},"NH3","A","S","USD",{"$f":"INDEX(SensorPricing[],MATCH(P27,SensorPricing[Sensor],0),MATCH($M$1,SensorPricing[#Headers],0))*2","v":120},{"$f":"IF($H$52=\"2Y\",0,ROUNDUP(INDEX(SensorPricing[],MATCH(P27,SensorPricing[Sensor],0),MATCH($M$1,SensorPricing[#Headers],0))*0.2777777,0))","v":0},{"$f":"ROUNDUP(S27*0.2777777,0)","v":34},null,null,{"$f":"ROUNDUP(INDEX(SensorPricing[],MATCH(P27,SensorPricing[Sensor],0),MATCH($M$1,SensorPricing[#Headers],0))*IF($H$52=\"2Y\",2.5,3),0)","v":150}]
[null,"High-range NH3 ","è","B","=",{"v":252,"d":"$ 252"},{"$nulls":8},"High-range NH3 ","B","S","USD",{"$f":"INDEX(SensorPricing[],MATCH(P28,SensorPricing[Sensor],0),MATCH($M$1,SensorPricing[#Headers],0))*2","v":252},{"$f":"IF($H$52=\"2Y\",0,ROUNDUP(INDEX(SensorPricing[],MATCH(P28,SensorPricing[Sensor],0),MATCH($M$1,SensorPricing[#Headers],0))*0.2777777,0))","v":0},70,null,null,{"$f":"ROUNDUP(INDEX(SensorPricing[],MATCH(P28,SensorPricing[Sensor],0),MATCH($M$1,SensorPricing[#Headers],0))*IF($H$52=\"2Y\",2.5,3),0)","v":315}]
[null,"CO2","è","C","=",{"v":480,"d":"$ 480"},{"$nulls":8},"CO2","C","S","USD",{"$f":"INDEX(SensorPricing[],MATCH(P29,SensorPricing[Sensor],0),MATCH($M$1,SensorPricing[#Headers],0))*2","v":480},{"$f":"IF($H$52=\"2Y\",0,ROUNDUP(INDEX(SensorPricing[],MATCH(P29,SensorPricing[Sensor],0),MATCH($M$1,SensorPricing[#Headers],0))*0.2777777,0))","v":0},134,null,null,{"$f":"ROUNDUP(INDEX(SensorPricing[],MATCH(P29,SensorPricing[Sensor],0),MATCH($M$1,SensorPricing[#Headers],0))*IF($H$52=\"2Y\",2.5,3),0)","v":600}]
[null,"O3","è","E","=",{"v":240,"d":"$ 240"},{"$nulls":8},"O3","E","S","USD",{"$f":"INDEX(SensorPricing[],MATCH(P30,SensorPricing[Sensor],0),MATCH($M$1,SensorPricing[#Headers],0))*2","v":240},{"$f":"IF($H$52=\"2Y\",0,ROUNDUP(INDEX(SensorPricing[],MATCH(P30,SensorPricing[Sensor],0),MATCH($M$1,SensorPricing[#Headers],0))*0.2777777,0))","v":0},67,null,null,{"$f":"ROUNDUP(INDEX(SensorPricing[],MATCH(P30,SensorPricing[Sensor],0),MATCH($M$1,SensorPricing[#Headers],0))*IF($H$52=\"2Y\",2.5,3),0)","v":300}]
[null,"H2S","è","H","=",{"v":0,"d":"$ 0"},{"$nulls":8},"H2S","H","S","USD",{"$f":"INDEX(SensorPricing[],MATCH(P31,SensorPricing[Sensor],0),MATCH($M$1,SensorPricing[#Headers],0))*2","v":0},{"$f":"IF($H$52=\"2Y\",0,ROUNDUP(INDEX(SensorPricing[],MATCH(P31,SensorPricing[Sensor],0),MATCH($M$1,SensorPricing[#Headers],0))*0.2777777,0))","v":0},0,null,null,{"$f":"ROUNDUP(INDEX(SensorPricing[],MATCH(P31,SensorPricing[Sensor],0),MATCH($M$1,SensorPricing[#Headers],0))*IF($H$52=\"2Y\",2.5,3),0)","v":0}]
[null,"High-range H2S ","è","J","=",{"v":240,"d":"$ 240"},{"$nulls":8},"High-range H2S ","J","S","USD",{"$f":"INDEX(SensorPricing[],MATCH(P32,SensorPricing[Sensor],0),MATCH($M$1,SensorPricing[#Headers],0))*2","v":240},{"$f":"IF($H$52=\"2Y\",0,ROUNDUP(INDEX(SensorPricing[],MATCH(P32,SensorPricing[Sensor],0),MATCH($M$1,SensorPricing[#Headers],0))*0.2777777,0))","v":0},67,null,null,{"$f":"ROUNDUP(INDEX(SensorPricing[],MATCH(P32,SensorPricing[Sensor],0),MATCH($M$1,SensorPricing[#Headers],0))*IF($H$52=\"2Y\",2.5,3),0)","v":300}]
[null,"NO2 ","è","K","=",{"v":120,"d":"$ 120"},{"$nulls":8},"NO2 ","K","S","USD",{"$f":"INDEX(SensorPricing[],MATCH(P33,SensorPricing[Sensor],0),MATCH($M$1,SensorPricing[#Headers],0))*2","v":120},{"$f":"IF($H$52=\"2Y\",0,ROUNDUP(INDEX(SensorPricing[],MATCH(P33,SensorPricing[Sensor],0),MATCH($M$1,SensorPricing[#Headers],0))*0.2777777,0))","v":0},34,null,null,{"$f":"ROUNDUP(INDEX(SensorPricing[],MATCH(P33,SensorPricing[Sensor],0),MATCH($M$1,SensorPricing[#Headers],0))*IF($H$52=\"2Y\",2.5,3),0)","v":150}]
[null,"Cl2","è","L","=",{"v":120,"d":"$ 120"},{"$nulls":8},"Cl2","L","S","USD",{"$f":"INDEX(SensorPricing[],MATCH(P34,SensorPricing[Sensor],0),MATCH($M$1,SensorPricing[#Headers],0))*2","v":120},{"$f":"IF($H$52=\"2Y\",0,ROUNDUP(INDEX(SensorPricing[],MATCH(P34,SensorPricing[Sensor],0),MATCH($M$1,SensorPricing[#Headers],0))*0.2777777,0))","v":0},34,null,null,{"$f":"ROUNDUP(INDEX(SensorPricing[],MATCH(P34,SensorPricing[Sensor],0),MATCH($M$1,SensorPricing[#Headers],0))*IF($H$52=\"2Y\",2.5,3),0)","v":150}]
[null,"CO ","è","M","=",{"v":0,"d":"$ 0"},{"$nulls":8},"CO ","M","S","USD",{"$f":"INDEX(SensorPricing[],MATCH(P35,SensorPricing[Sensor],0),MATCH($M$1,SensorPricing[#Headers],0))*2","v":0},{"$f":"IF($H$52=\"2Y\",0,ROUNDUP(INDEX(SensorPricing[],MATCH(P35,SensorPricing[Sensor],0),MATCH($M$1,SensorPricing[#Headers],0))*0.2777777,0))","v":0},0,null,null,{"$f":"ROUNDUP(INDEX(SensorPricing[],MATCH(P35,SensorPricing[Sensor],0),MATCH($M$1,SensorPricing[#Headers],0))*IF($H$52=\"2Y\",2.5,3),0)","v":0}]
[null,"HCN","è","N","=",{"v":120,"d":"$ 120"},{"$nulls":8},"HCN","N","S","USD",{"$f":"INDEX(SensorPricing[],MATCH(P36,SensorPricing[Sensor],0),MATCH($M$1,SensorPricing[#Headers],0))*2","v":120},{"$f":"IF($H$52=\"2Y\",0,ROUNDUP(INDEX(SensorPricing[],MATCH(P36,SensorPricing[Sensor],0),MATCH($M$1,SensorPricing[#Headers],0))*0.2777777,0))","v":0},34,null,null,{"$f":"ROUNDUP(INDEX(SensorPricing[],MATCH(P36,SensorPricing[Sensor],0),MATCH($M$1,SensorPricing[#Headers],0))*IF($H$52=\"2Y\",2.5,3),0)","v":150}]
[null,"O2","è","O","=",{"v":0,"d":"$ 0"},{"$nulls":8},"O2","O","S","USD",{"$f":"INDEX(SensorPricing[],MATCH(P37,SensorPricing[Sensor],0),MATCH($M$1,SensorPricing[#Headers],0))*2","v":0},{"$f":"IF($H$52=\"2Y\",0,ROUNDUP(INDEX(SensorPricing[],MATCH(P37,SensorPricing[Sensor],0),MATCH($M$1,SensorPricing[#Headers],0))*0.2777777,0))","v":0},0,null,null,{"$f":"ROUNDUP(INDEX(SensorPricing[],MATCH(P37,SensorPricing[Sensor],0),MATCH($M$1,SensorPricing[#Headers],0))*IF($H$52=\"2Y\",2.5,3),0)","v":0}]
[null,"CO-H ","è","R","=",{"v":0,"d":"$ 0"},{"$nulls":8},"CO-H ","R","S","USD",{"$f":"INDEX(SensorPricing[],MATCH(P38,SensorPricing[Sensor],0),MATCH($M$1,SensorPricing[#Headers],0))*2","v":0},{"$f":"IF($H$52=\"2Y\",0,ROUNDUP(INDEX(SensorPricing[],MATCH(P38,SensorPricing[Sensor],0),MATCH($M$1,SensorPricing[#Headers],0))*0.2777777,0))","v":0},0,null,null,{"$f":"ROUNDUP(INDEX(SensorPricing[],MATCH(P38,SensorPricing[Sensor],0),MATCH($M$1,SensorPricing[#Headers],0))*IF($H$52=\"2Y\",2.5,3),0)","v":0}]
[null,"SO2","è","S","=",{"v":0,"d":"$ 0"},{"$nulls":8},"SO2","S","S","USD",{"$f":"INDEX(SensorPricing[],MATCH(P39,SensorPricing[Sensor],0),MATCH($M$1,SensorPricing[#Headers],0))*2","v":0},{"$f":"IF($H$52=\"2Y\",0,ROUNDUP(INDEX(SensorPricing[],MATCH(P39,SensorPricing[Sensor],0),MATCH($M$1,SensorPricing[#Headers],0))*0.2777777,0))","v":0},0,null,null,{"$f":"ROUNDUP(INDEX(SensorPricing[],MATCH(P39,SensorPricing[Sensor],0),MATCH($M$1,SensorPricing[#Headers],0))*IF($H$52=\"2Y\",2.5,3),0)","v":0}]
[null,"High-range CO ","è","T","=",{"v":240,"d":"$ 240"},{"$nulls":8},"High-range CO ","T","S","USD",{"$f":"INDEX(SensorPricing[],MATCH(P40,SensorPricing[Sensor],0),MATCH($M$1,SensorPricing[#Headers],0))*2","v":240},{"$f":"IF($H$52=\"2Y\",0,ROUNDUP(INDEX(SensorPricing[],MATCH(P40,SensorPricing[Sensor],0),MATCH($M$1,SensorPricing[#Headers],0))*0.2777777,0))","v":0},67,null,null,{"$f":"ROUNDUP(INDEX(SensorPricing[],MATCH(P40,SensorPricing[Sensor],0),MATCH($M$1,SensorPricing[#Headers],0))*IF($H$52=\"2Y\",2.5,3),0)","v":300}]
[null,"PID","è","V","=",{"v":966,"d":"$ 966"},{"$nulls":8},"PID","V","S","USD",{"$f":"INDEX(SensorPricing[],MATCH(P41,SensorPricing[Sensor],0),MATCH($M$1,SensorPricing[#Headers],0))*2","v":966},{"$f":"IF($H$52=\"2Y\",0,ROUNDUP(INDEX(SensorPricing[],MATCH(P41,SensorPricing[Sensor],0),MATCH($M$1,SensorPricing[#Headers],0))*0.2777777,0))","v":0},269,null,null,{"$f":"ROUNDUP(INDEX(SensorPricing[],MATCH(P41,SensorPricing[Sensor],0),MATCH($M$1,SensorPricing[#Headers],0))*IF($H$52=\"2Y\",2.5,3),0)","v":1208}]
[null,"ClO2","è","W","=",{"v":120,"d":"$ 120"},{"$nulls":8},"ClO2","W","S","USD",{"$f":"INDEX(SensorPricing[],MATCH(P42,SensorPricing[Sensor],0),MATCH($M$1,SensorPricing[#Headers],0))*2","v":120},{"$f":"IF($H$52=\"2Y\",0,ROUNDUP(INDEX(SensorPricing[],MATCH(P42,SensorPricing[Sensor],0),MATCH($M$1,SensorPricing[#Headers],0))*0.2777777,0))","v":0},34,null,null,{"$f":"ROUNDUP(INDEX(SensorPricing[],MATCH(P42,SensorPricing[Sensor],0),MATCH($M$1,SensorPricing[#Headers],0))*IF($H$52=\"2Y\",2.5,3),0)","v":150}]
[null,0,{"$f":"IF(B43=0,\"\",\"è\")","v":""},0,{"$f":"IF(B43=0,\"\",\"=\")","v":""},"",{"$nulls":12},{"$f":"INDEX(SensorPricing[],MATCH(P43,SensorPricing[Sensor],0),MATCH($M$1,SensorPricing[#Headers],0))*2","v":{"$error":"#N/A"}},{"$f":"IF($H$52=\"2Y\",0,ROUNDUP(INDEX(SensorPricing[],MATCH(P43,SensorPricing[Sensor],0),MATCH($M$1,SensorPricing[#Headers],0))*0.2777777,0))","v":0},{"$error":"#N/A"},null,null,{"$f":"ROUNDUP(INDEX(SensorPricing[],MATCH(P43,SensorPricing[Sensor],0),MATCH($M$1,SensorPricing[#Headers],0))*IF($H$52=\"2Y\",2.5,3),0)","v":{"$error":"#N/A"}}]
[null,0,{"$f":"IF(B44=0,\"\",\"è\")","v":""},0,{"$f":"IF(B44=0,\"\",\"=\")","v":""},"",{"$nulls":12},{"$f":"INDEX(SensorPricing[],MATCH(P44,SensorPricing[Sensor],0),MATCH($M$1,SensorPricing[#Headers],0))*2","v":{"$error":"#N/A"}},{"$f":"IF($H$52=\"2Y\",0,ROUNDUP(INDEX(SensorPricing[],MATCH(P44,SensorPricing[Sensor],0),MATCH($M$1,SensorPricing[#Headers],0))*0.2777777,0))","v":0},{"$error":"#N/A"},null,null,{"$f":"ROUNDUP(INDEX(SensorPricing[],MATCH(P44,SensorPricing[Sensor],0),MATCH($M$1,SensorPricing[#Headers],0))*IF($H$52=\"2Y\",2.5,3),0)","v":{"$error":"#N/A"}}]
[{"$nulls":7},"-"]
[null,"Country Code"]
[null,{"$f":"_xlfn.VSTACK(O47:O49)","v":"North America (3G/4G) - G7C"},{"$f":"IF(B47=\"\",\"\",\"è\")","v":"è"},{"$f":"IFERROR(VLOOKUP(B47,Lookup!$F$3:$G$12,2,FALSE),\"\")","v":"NA2"},{"$nulls":3},"NA2",{"$nulls":6},{"$f":"_xlfn.LET(\n_xlpm.Dtype,G7CountryCodes[Type],_xlpm.Curr,G7CountryCodes[Currency],_xlpm.SType,H19,_xlpm.SCurr,M1,\n_xlpm.myCalculation,_xlfn.VSTACK(_xlfn._xlws.FILTER(G7CountryCodes[],(_xlpm.Dtype=_xlpm.SType)*(_xlpm.Curr=_xlpm.SCurr))),_xlpm.myCalculation)","v":"North America (3G/4G) - G7C"},"NA2","C","USD"]
[null,"Outside of North America (3G/4G) - G7C",{"$f":"IF(B48=0,\"\",\"è\")","v":"è"},{"$f":"IFERROR(VLOOKUP(B48,Lookup!$F$3:$G$12,2,FALSE),\"\")","v":"EU2"},{"$nulls":10},"Outside of North America (3G/4G) - G7C","EU2","C","USD"]
[null,"Brazil (3G/4G) - G7C",{"$f":"IF(B49=0,\"\",\"è\")","v":"è"},{"$f":"IFERROR(VLOOKUP(B49,Lookup!$F$3:$G$12,2,FALSE),\"\")","v":"BR2"},{"$nulls":10},"Brazil (3G/4G) - G7C","BR2","C","USD"]
[{"$nulls":7},"-"]
[null,"Term"]
[null,"Two-Years","è","2Y",{"$nulls":3},"2Y"]
[null,"Three-Years","è","3Y"]

{"sheet":"G7 Multi-Gas Purchase","index":7,"n_rows":91,"n_cols":24,"rows_kept":91,"merged":[[1,1,1,7],[2,1,12,1],[7,7,7,9],[9,7,9,9],[11,7,11,9],[13,1,13,5],[14,7,22,9],[14,11,22,11],[15,21,22,21],[15,23,22,23],[23,11,32,11],[24,1,24,5],[25,7,26,9],[27,7,28,9],[28,1,28,5],[29,7,30,9],[29,21,30,21],[29,23,30,23],[31,7,32,9],[32,1,32,5],[33,7,35,7],[33,9,81,9],[33,11,35,11],[36,11,37,11],[37,1,37,5],[38,7,56,7],[38,11,56,11],[57,11,58,11],[58,1,58,5],[59,7,77,7],[59,11,77,11],[78,11,79,11],[79,1,79,5],[80,7,81,7],[80,11,81,11],[82,7,83,9],[83,1,83,5],[84,7,86,9],[87,7,88,9],[88,1,88,5],[89,7,90,9]]}
[null,{"$error":"#VALUE!"},{"$nulls":10},{"$f":"Currency","v":"USD"},null,null,"G7 Multi-Gas Purchase"]
[null,"G7 Multi-Gas Purchase",{"$nulls":10},{"$f":"PBYear","v":2025},"Quick Links"]
[null,{"$error":"#VALUE!"},{"$nulls":10},{"$f":"Revision","v":"Effective February 2, 2026 Rev 2"},"Main Menu"]
[{"$nulls":12},"Blackline Safety Confidential","G7 Optional Services"]
[{"$nulls":12},"All prices are an estimate - for a formal quote contact your local Blackline Safety representative","Accessories"]
[{"$nulls":13},"G7 Bridge & Satellite Plans"]
[]
[{"$nulls":5},"Device + Cartridge",null,{"$f":"CONCATENATE(H15,H26,\"-\",H30,\"-\",J34,\"-\",H85,\"-\",H90)","v":"J-G7C-Q-FHMO-NA2-2Y"},{"$nulls":3},{"$f":"L15+L30+L34+L39+L60+L81","v":{"v":1254,"d":"$ 1,254"}},{"$f":"M1&\" List\"","v":"USD List"}]
[]
[{"$nulls":5},"2Y Extended Warranty",null,{"$f":"CONCATENATE(\"J-WAR-\",H30,\"-\",J34)","v":"J-WAR-Q-FHMO"},{"$nulls":3},{"$f":"SUM(V16:V37)","v":{"v":594,"d":"$ 594"}},{"$f":"M1&\" List\"","v":"USD List"}]
[]
[{"$nulls":5},"Additional Cartridge",null,{"$f":"CONCATENATE(\"J-CART-\",H30,\"-\",J34,\"-\",H90,\"-R\")","v":"J-CART-Q-FHMO-2Y-R"},{"$nulls":3},{"$f":"SUM(X16:X37)","v":{"v":500,"d":"$ 500"}},{"$f":"M1&\" List\"","v":"USD List"}]
[]
[null,"Buying Option",{"$nulls":16},"2Y Price","3Y Adder","Extended Warranty",null,"Additional CART"]
[null,"Purchase","è","J-G7",{"$nulls":3},{"$f":"D15","v":"J-G7"},{"$nulls":3},{"$f":"VLOOKUP(Q38,A16:F23,6,FALSE)","v":{"v":1254,"d":"$ 1,254"}}]
["Q1",null,null,"Multi 1-sensor","=",{"$f":"SUM(S16:T16)","v":{"v":1000,"d":"$ 1,000"}},{"$nulls":11},1,{"$f":"INDEX(BasePrices[],MATCH(\"G7 Purchase Base Price\",BasePrices[Type],0),MATCH($M$1,BasePrices[#Headers],0))+\nINDEX(BasePrices[],MATCH(R16&\" Sensor Cartridge\",BasePrices[Type],0),MATCH($M$1,BasePrices[#Headers],0))*2+\nINDEX(ServicePrices[],MATCH(\"System Access\",ServicePrices[Type],0),MATCH($M$1,ServicePrices[#Headers],0))*24","v":1000},{"$f":"IF(H$90=\"2Y\",0,\nROUNDUP(INDEX(BasePrices[],MATCH(R16&\" Sensor Cartridge\",BasePrices[Type],0),MATCH($M$1,BasePrices[#Headers],0))*0.2777777,0)+\nINDEX(BasePrices[],MATCH(\"G7 Warranty Base Price\",BasePrices[Type],0),MATCH($M$1,BasePrices[#Headers],0))+\nINDEX(ServicePrices[],MATCH(\"System Access\",ServicePrices[Type],0),MATCH($M$1,ServicePrices[#Headers],0))*12)","v":0},{"$f":"(INDEX(BasePrices[],MATCH(\"G7 Warranty Base Price\",BasePrices[Type],0),MATCH($M$1,BasePrices[#Headers],0))+\nINDEX(ServicePrices[],MATCH(\"System Access\",ServicePrices[Type],0),MATCH($M$1,ServicePrices[#Headers],0))*12)*2+\nROUNDUP(INDEX(BasePrices[],MATCH(R16&\" Sensor Cartridge\",BasePrices[Type],0),MATCH($M$1,BasePrices[#Headers],0))*0.2777777*2,0)","v":523},{"$f":"VLOOKUP(Q38,A16:U23,COLUMN()-1,FALSE)","v":594},{"$f":"ROUNDUP(INDEX(BasePrices[],MATCH(R16&\" Sensor Cartridge\",BasePrices[Type],0),MATCH($M$1,BasePrices[#Headers],0))*IF(H$90=\"2Y\",2.5,3),0)","v":183},{"$f":"VLOOKUP(Q38,A16:W23,COLUMN()-1,FALSE)","v":500}]
["Q2",null,null,"Multi 2-sensor","=",{"$f":"SUM(S17:T17)","v":{"v":1106,"d":"$ 1,106"}},{"$nulls":11},2,{"$f":"INDEX(BasePrices[],MATCH(\"G7 Purchase Base Price\",BasePrices[Type],0),MATCH($M$1,BasePrices[#Headers],0))+\nINDEX(BasePrices[],MATCH(R17&\" Sensor Cartridge\",BasePrices[Type],0),MATCH($M$1,BasePrices[#Headers],0))*2+\nINDEX(ServicePrices[],MATCH(\"System Access\",ServicePrices[Type],0),MATCH($M$1,ServicePrices[#Headers],0))*24","v":1106},{"$f":"IF(H$90=\"2Y\",0,\nROUNDUP(INDEX(BasePrices[],MATCH(R17&\" Sensor Cartridge\",BasePrices[Type],0),MATCH($M$1,BasePrices[#Headers],0))*0.2777777,0)+\nINDEX(BasePrices[],MATCH(\"G7 Warranty Base Price\",BasePrices[Type],0),MATCH($M$1,BasePrices[#Headers],0))+\nINDEX(ServicePrices[],MATCH(\"System Access\",ServicePrices[Type],0),MATCH($M$1,ServicePrices[#Headers],0))*12)","v":0},{"$f":"(INDEX(BasePrices[],MATCH(\"G7 Warranty Base Price\",BasePrices[Type],0),MATCH($M$1,BasePrices[#Headers],0))+\nINDEX(ServicePrices[],MATCH(\"System Access\",ServicePrices[Type],0),MATCH($M$1,ServicePrices[#Headers],0))*12)*2+\nROUNDUP(INDEX(BasePrices[],MATCH(R17&\" Sensor Cartridge\",BasePrices[Type],0),MATCH($M$1,BasePrices[#Headers],0))*0.2777777*2,0)","v":552},null,{"$f":"ROUNDUP(INDEX(BasePrices[],MATCH(R17&\" Sensor Cartridge\",BasePrices[Type],0),MATCH($M$1,BasePrices[#Headers],0))*IF(H$90=\"2Y\",2.5,3),0)","v":315}]
["Q3",null,null,"Multi 3-sensor","=",{"$f":"SUM(S18:T18)","v":{"v":1184,"d":"$ 1,184"}},{"$nulls":11},3,{"$f":"INDEX(BasePrices[],MATCH(\"G7 Purchase Base Price\",BasePrices[Type],0),MATCH($M$1,BasePrices[#Headers],0))+\nINDEX(BasePrices[],MATCH(R18&\" Sensor Cartridge\",BasePrices[Type],0),MATCH($M$1,BasePrices[#Headers],0))*2+\nINDEX(ServicePrices[],MATCH(\"System Access\",ServicePrices[Type],0),MATCH($M$1,ServicePrices[#Headers],0))*24","v":1184},{"$f":"IF(H$90=\"2Y\",0,\nROUNDUP(INDEX(BasePrices[],MATCH(R18&\" Sensor Cartridge\",BasePrices[Type],0),MATCH($M$1,BasePrices[#Headers],0))*0.2777777,0)+\nINDEX(BasePrices[],MATCH(\"G7 Warranty Base Price\",BasePrices[Type],0),MATCH($M$1,BasePrices[#Headers],0))+\nINDEX(ServicePrices[],MATCH(\"System Access\",ServicePrices[Type],0),MATCH($M$1,ServicePrices[#Headers],0))*12)","v":0},{"$f":"(INDEX(BasePrices[],MATCH(\"G7 Warranty Base Price\",BasePrices[Type],0),MATCH($M$1,BasePrices[#Headers],0))+\nINDEX(ServicePrices[],MATCH(\"System Access\",ServicePrices[Type],0),MATCH($M$1,ServicePrices[#Headers],0))*12)*2+\nROUNDUP(INDEX(BasePrices[],MATCH(R18&\" Sensor Cartridge\",BasePrices[Type],0),MATCH($M$1,BasePrices[#Headers],0))*0.2777777*2,0)","v":574},null,{"$f":"ROUNDUP(INDEX(BasePrices[],MATCH(R18&\" Sensor Cartridge\",BasePrices[Type],0),MATCH($M$1,BasePrices[#Headers],0))*IF(H$90=\"2Y\",2.5,3),0)","v":413}]
["Q4",null,null,"Multi 4-sensor","=",{"$f":"SUM(S19:T19)","v":{"v":1254,"d":"$ 1,254"}},{"$nulls":11},4,{"$f":"INDEX(BasePrices[],MATCH(\"G7 Purchase Base Price\",BasePrices[Type],0),MATCH($M$1,BasePrices[#Headers],0))+\nINDEX(BasePrices[],MATCH(R19&\" Sensor Cartridge\",BasePrices[Type],0),MATCH($M$1,BasePrices[#Headers],0))*2+\nINDEX(ServicePrices[],MATCH(\"System Access\",ServicePrices[Type],0),MATCH($M$1,ServicePrices[#Headers],0))*24","v":1254},{"$f":"IF(H$90=\"2Y\",0,\nROUNDUP(INDEX(BasePrices[],MATCH(R19&\" Sensor Cartridge\",BasePrices[Type],0),MATCH($M$1,BasePrices[#Headers],0))*0.2777777,0)+\nINDEX(BasePrices[],MATCH(\"G7 Warranty Base Price\",BasePrices[Type],0),MATCH($M$1,BasePrices[#Headers],0))+\nINDEX(ServicePrices[],MATCH(\"System Access\",ServicePrices[Type],0),MATCH($M$1,ServicePrices[#Headers],0))*12)","v":0},{"$f":"(INDEX(BasePrices[],MATCH(\"G7 Warranty Base Price\",BasePrices[Type],0),MATCH($M$1,BasePrices[#Headers],0))+\nINDEX(ServicePrices[],MATCH(\"System Access\",ServicePrices[Type],0),MATCH($M$1,ServicePrices[#Headers],0))*12)*2+\nROUNDUP(INDEX(BasePrices[],MATCH(R19&\" Sensor Cartridge\",BasePrices[Type],0),MATCH($M$1,BasePrices[#Headers],0))*0.2777777*2,0)","v":594},null,{"$f":"ROUNDUP(INDEX(BasePrices[],MATCH(R19&\" Sensor Cartridge\",BasePrices[Type],0),MATCH($M$1,BasePrices[#Headers],0))*IF(H$90=\"2Y\",2.5,3),0)","v":500}]
["P1",null,null,"Multi 1-sensor pump","=",{"$f":"SUM(S20:T20)","v":{"v":1364,"d":"$ 1,364"}},{"$nulls":11},1,{"$f":"INDEX(BasePrices[],MATCH(\"G7 Purchase Base Price\",BasePrices[Type],0),MATCH($M$1,BasePrices[#Headers],0))+\nINDEX(BasePrices[],MATCH(R20&\" Sensor Cartridge\",BasePrices[Type],0),MATCH($M$1,BasePrices[#Headers],0))*2+\nINDEX(BasePrices[],MATCH(\"G7 Pump\",BasePrices[Type],0),MATCH($M$1,BasePrices[#Headers],0))*2+\nINDEX(ServicePrices[],MATCH(\"System Access\",ServicePrices[Type],0),MATCH($M$1,ServicePrices[#Headers],0))*24","v":1364},{"$f":"IF(H$90=\"2Y\",0,\nROUNDUP((INDEX(BasePrices[],MATCH(R20&\" Sensor Cartridge\",BasePrices[Type],0),MATCH($M$1,BasePrices[#Headers],0))+\nINDEX(BasePrices[],MATCH(\"G7 Pump\",BasePrices[Type],0),MATCH($M$1,BasePrices[#Headers],0)))*0.2777777,0)+\nINDEX(BasePrices[],MATCH(\"G7 Warranty Base Price\",BasePrices[Type],0),MATCH($M$1,BasePrices[#Headers],0))+\nINDEX(ServicePrices[],MATCH(\"System Access\",ServicePrices[Type],0),MATCH($M$1,ServicePrices[#Headers],0))*12)","v":0},{"$f":"(INDEX(BasePrices[],MATCH(\"G7 Warranty Base Price\",BasePrices[Type],0),MATCH($M$1,BasePrices[#Headers],0))+\nINDEX(ServicePrices[],MATCH(\"System Access\",ServicePrices[Type],0),MATCH($M$1,ServicePrices[#Headers],0))*12)*2+\nROUNDUP((INDEX(BasePrices[],MATCH(R20&\" Sensor Cartridge\",BasePrices[Type],0),MATCH($M$1,BasePrices[#Headers],0))+\nINDEX(BasePrices[],MATCH(\"G7 Pump\",BasePrices[Type],0),MATCH($M$1,BasePrices[#Headers],0)))*0.2777777*2,0)","v":624},null,{"$f":"ROUNDUP((INDEX(BasePrices[],MATCH(R20&\" Sensor Cartridge\",BasePrices[Type],0),MATCH($M$1,BasePrices[#Headers],0))+\nINDEX(BasePrices[],MATCH(\"G7 Pump\",BasePrices[Type],0),MATCH($M$1,BasePrices[#Headers],0)))*IF(H$90=\"2Y\",2.5,3),0)","v":638}]
["P2",null,null,"Multi 2-sensor pump","=",{"v":1470,"d":"$ 1,470"},{"$nulls":11},2,{"$f":"INDEX(BasePrices[],MATCH(\"G7 Purchase Base Price\",BasePrices[Type],0),MATCH($M$1,BasePrices[#Headers],0))+\nINDEX(BasePrices[],MATCH(R21&\" Sensor Cartridge\",BasePrices[Type],0),MATCH($M$1,BasePrices[#Headers],0))*2+\nINDEX(BasePrices[],MATCH(\"G7 Pump\",BasePrices[Type],0),MATCH($M$1,BasePrices[#Headers],0))*2+\nINDEX(ServicePrices[],MATCH(\"System Access\",ServicePrices[Type],0),MATCH($M$1,ServicePrices[#Headers],0))*24","v":1470},{"$f":"IF(H$90=\"2Y\",0,\nROUNDUP((INDEX(BasePrices[],MATCH(R21&\" Sensor Cartridge\",BasePrices[Type],0),MATCH($M$1,BasePrices[#Headers],0))+\nINDEX(BasePrices[],MATCH(\"G7 Pump\",BasePrices[Type],0),MATCH($M$1,BasePrices[#Headers],0)))*0.2777777,0)+\nINDEX(BasePrices[],MATCH(\"G7 Warranty Base Price\",BasePrices[Type],0),MATCH($M$1,BasePrices[#Headers],0))+\nINDEX(ServicePrices[],MATCH(\"System Access\",ServicePrices[Type],0),MATCH($M$1,ServicePrices[#Headers],0))*12)","v":0},{"$f":"(INDEX(BasePrices[],MATCH(\"G7 Warranty Base Price\",BasePrices[Type],0),MATCH($M$1,BasePrices[#Headers],0))+\nINDEX(ServicePrices[],MATCH(\"System Access\",ServicePrices[Type],0),MATCH($M$1,ServicePrices[#Headers],0))*12)*2+\nROUNDUP((INDEX(BasePrices[],MATCH(R21&\" Sensor Cartridge\",BasePrices[Type],0),MATCH($M$1,BasePrices[#Headers],0))+\nINDEX(BasePrices[],MATCH(\"G7 Pump\",BasePrices[Type],0),MATCH($M$1,BasePrices[#Headers],0)))*0.2777777*2,0)","v":654},null,{"$f":"ROUNDUP((INDEX(BasePrices[],MATCH(R21&\" Sensor Cartridge\",BasePrices[Type],0),MATCH($M$1,BasePrices[#Headers],0))+\nINDEX(BasePrices[],MATCH(\"G7 Pump\",BasePrices[Type],0),MATCH($M$1,BasePrices[#Headers],0)))*IF(H$90=\"2Y\",2.5,3),0)","v":770}]
["P3",null,null,"Multi 3-sensor pump","=",{"v":1548,"d":"$ 1,548"},{"$nulls":11},3,{"$f":"INDEX(BasePrices[],MATCH(\"G7 Purchase Base Price\",BasePrices[Type],0),MATCH($M$1,BasePrices[#Headers],0))+\nINDEX(BasePrices[],MATCH(R22&\" Sensor Cartridge\",BasePrices[Type],0),MATCH($M$1,BasePrices[#Headers],0))*2+\nINDEX(BasePrices[],MATCH(\"G7 Pump\",BasePrices[Type],0),MATCH($M$1,BasePrices[#Headers],0))*2+\nINDEX(ServicePrices[],MATCH(\"System Access\",ServicePrices[Type],0),MATCH($M$1,ServicePrices[#Headers],0))*24","v":1548},{"$f":"IF(H$90=\"2Y\",0,\nROUNDUP((INDEX(BasePrices[],MATCH(R22&\" Sensor Cartridge\",BasePrices[Type],0),MATCH($M$1,BasePrices[#Headers],0))+\nINDEX(BasePrices[],MATCH(\"G7 Pump\",BasePrices[Type],0),MATCH($M$1,BasePrices[#Headers],0)))*0.2777777,0)+\nINDEX(BasePrices[],MATCH(\"G7 Warranty Base Price\",BasePrices[Type],0),MATCH($M$1,BasePrices[#Headers],0))+\nINDEX(ServicePrices[],MATCH(\"System Access\",ServicePrices[Type],0),MATCH($M$1,ServicePrices[#Headers],0))*12)","v":0},{"$f":"(INDEX(BasePrices[],MATCH(\"G7 Warranty Base Price\",BasePrices[Type],0),MATCH($M$1,BasePrices[#Headers],0))+\nINDEX(ServicePrices[],MATCH(\"System Access\",ServicePrices[Type],0),MATCH($M$1,ServicePrices[#Headers],0))*12)*2+\nROUNDUP((INDEX(BasePrices[],MATCH(R22&\" Sensor Cartridge\",BasePrices[Type],0),MATCH($M$1,BasePrices[#Headers],0))+\nINDEX(BasePrices[],MATCH(\"G7 Pump\",BasePrices[Type],0),MATCH($M$1,BasePrices[#Headers],0)))*0.2777777*2,0)","v":675},null,{"$f":"ROUNDUP((INDEX(BasePrices[],MATCH(R22&\" Sensor Cartridge\",BasePrices[Type],0),MATCH($M$1,BasePrices[#Headers],0))+\nINDEX(BasePrices[],MATCH(\"G7 Pump\",BasePrices[Type],0),MATCH($M$1,BasePrices[#Headers],0)))*IF(H$90=\"2Y\",2.5,3),0)","v":868}]
["P4",null,null,"Multi 4-sensor pump","=",{"v":1618,"d":"$ 1,618"},{"$nulls":11},4,{"$f":"INDEX(BasePrices[],MATCH(\"G7 Purchase Base Price\",BasePrices[Type],0),MATCH($M$1,BasePrices[#Headers],0))+\nINDEX(BasePrices[],MATCH(R23&\" Sensor Cartridge\",BasePrices[Type],0),MATCH($M$1,BasePrices[#Headers],0))*2+\nINDEX(BasePrices[],MATCH(\"G7 Pump\",BasePrices[Type],0),MATCH($M$1,BasePrices[#Headers],0))*2+\nINDEX(ServicePrices[],MATCH(\"System Access\",ServicePrices[Type],0),MATCH($M$1,ServicePrices[#Headers],0))*24","v":1618},{"$f":"IF(H$90=\"2Y\",0,\nROUNDUP((INDEX(BasePrices[],MATCH(R23&\" Sensor Cartridge\",BasePrices[Type],0),MATCH($M$1,BasePrices[#Headers],0))+\nINDEX(BasePrices[],MATCH(\"G7 Pump\",BasePrices[Type],0),MATCH($M$1,BasePrices[#Headers],0)))*0.2777777,0)+\nINDEX(BasePrices[],MATCH(\"G7 Warranty Base Price\",BasePrices[Type],0),MATCH($M$1,BasePrices[#Headers],0))+\nINDEX(ServicePrices[],MATCH(\"System Access\",ServicePrices[Type],0),MATCH($M$1,ServicePrices[#Headers],0))*12)","v":0},{"$f":"(INDEX(BasePrices[],MATCH(\"G7 Warranty Base Price\",BasePrices[Type],0),MATCH($M$1,BasePrices[#Headers],0))+\nINDEX(ServicePrices[],MATCH(\"System Access\",ServicePrices[Type],0),MATCH($M$1,ServicePrices[#Headers],0))*12)*2+\nROUNDUP((INDEX(BasePrices[],MATCH(R23&\" Sensor Cartridge\",BasePrices[Type],0),MATCH($M$1,BasePrices[#Headers],0))+\nINDEX(BasePrices[],MATCH(\"G7 Pump\",BasePrices[Type],0),MATCH($M$1,BasePrices[#Headers],0)))*0.2777777*2,0)","v":695},null,{"$f":"ROUNDUP((INDEX(BasePrices[],MATCH(R23&\" Sensor Cartridge\",BasePrices[Type],0),MATCH($M$1,BasePrices[#Headers],0))+\nINDEX(BasePrices[],MATCH(\"G7 Pump\",BasePrices[Type],0),MATCH($M$1,BasePrices[#Headers],0)))*IF(H$90=\"2Y\",2.5,3),0)","v":955}]
[{"$nulls":11},"+"]
[null,"Connectivity"]
[null,"Cellular","è","C",{"$nulls":3},"C"]
[null,{"$f":"IF(OR(M1=\"EUR\",M1=\"GBP\"),\"\",\"Satellite (900 MHz)*\")","v":"Satellite (900 MHz)*"},{"$f":"IF(B27=\"\",\"\",\"è\")","v":"è"},{"$f":"IF(OR(M1=\"EUR\",M1=\"GBP\"),\"\",\"X\")","v":"X"}]
[{"$nulls":7},"-",{"$nulls":6},{"$f":"IF(OR(M1=\"EUR\",M1=\"GBP\"),\"\",\"*Bridge and satellite service plan required\")","v":"*Bridge and satellite service plan required"}]
[null,"Cartridge Type"]
[null,"Diffusion","è","Q",{"$nulls":3},"Q"]
[null,"Pump","è","P"]
[{"$nulls":7},"-"]
[null,"Combustible Sensor",{"$nulls":16},"2Y Price","3Y Adder","Extended Warranty",null,"Additional CART"]
[null,"LEL-IR","è","I","=",{"$f":"SUM(S34:T34)","v":{"v":120,"d":"$ 120"}},null,"F",null,{"$f":"CONCATENATE(P34,P35,P36,P37)","v":"FHMO"},null,{"$f":"VLOOKUP(H34,D34:F36,3,FALSE)","v":{"v":0,"d":"$ 0"}},null,null,{"$f":"H34","v":"F"},{"$f":"_xlfn._xlws.SORT(O34:O37)","v":"F"},{"$f":"IF(P34=\"X\",1,0)","v":0},null,{"$f":"INDEX(SensorPricing[],MATCH(D34,SensorPricing[Sensor],0),MATCH($M$1,SensorPricing[#Headers],0))*2","v":120},{"$f":"IFERROR(IF($H$90=\"2Y\",0,ROUNDUP(INDEX(SensorPricing[],MATCH(D34,SensorPricing[Sensor],0),MATCH($M$1,SensorPricing[#Headers],0))*0.2777777,0)),0)","v":0},null,{"$f":"IFERROR(ROUNDUP(INDEX(SensorPricing[],MATCH(P34,SensorPricing[Sensor],0),MATCH($M$1,SensorPricing[#Headers],0))*0.2777777*2,0),\"\")","v":0},null,{"$f":"IFERROR(ROUNDUP(INDEX(SensorPricing[],MATCH(P34,SensorPricing[Sensor],0),MATCH($M$1,SensorPricing[#Headers],0))*IF(H$90=\"2Y\",2.5,3),0),\"\")","v":0}]
[null,"LEL-MPS","è","F","=",{"$f":"SUM(S35:T35)","v":{"v":0,"d":"$ 0"}},{"$nulls":8},{"$f":"H39","v":"H"},"H",{"$f":"IF(P35=\"X\",1,0)","v":0},null,{"$f":"INDEX(SensorPricing[],MATCH(D35,SensorPricing[Sensor],0),MATCH($M$1,SensorPricing[#Headers],0))*2","v":0},{"$f":"IFERROR(IF($H$90=\"2Y\",0,ROUNDUP(INDEX(SensorPricing[],MATCH(D35,SensorPricing[Sensor],0),MATCH($M$1,SensorPricing[#Headers],0))*0.2777777,0)),0)","v":0},null,{"$f":"IFERROR(ROUNDUP(INDEX(SensorPricing[],MATCH(P35,SensorPricing[Sensor],0),MATCH($M$1,SensorPricing[#Headers],0))*0.2777777*2,0),\"\")","v":0},null,{"$f":"IFERROR(ROUNDUP(INDEX(SensorPricing[],MATCH(P35,SensorPricing[Sensor],0),MATCH($M$1,SensorPricing[#Headers],0))*IF(H$90=\"2Y\",2.5,3),0),\"\")","v":0}]
[null,"None","è","X","=",{"$f":"SUM(S36:T36)","v":{"v":0,"d":"$ 0"}},{"$nulls":8},{"$f":"H60","v":"M"},"M",{"$f":"IF(P36=\"X\",1,0)","v":0},null,{"$f":"INDEX(SensorPricing[],MATCH(D36,SensorPricing[Sensor],0),MATCH($M$1,SensorPricing[#Headers],0))*2","v":0},{"$f":"IFERROR(IF($H$90=\"2Y\",0,ROUNDUP(INDEX(SensorPricing[],MATCH(D36,SensorPricing[Sensor],0),MATCH($M$1,SensorPricing[#Headers],0))*0.2777777,0)),0)","v":0},null,{"$f":"IFERROR(ROUNDUP(INDEX(SensorPricing[],MATCH(P36,SensorPricing[Sensor],0),MATCH($M$1,SensorPricing[#Headers],0))*0.2777777*2,0),\"\")","v":0},null,{"$f":"IFERROR(ROUNDUP(INDEX(SensorPricing[],MATCH(P36,SensorPricing[Sensor],0),MATCH($M$1,SensorPricing[#Headers],0))*IF(H$90=\"2Y\",2.5,3),0),\"\")","v":0}]
[{"$nulls":11},"+",null,null,{"$f":"H81","v":"O"},"O",{"$f":"IF(P37=\"X\",1,0)","v":0},{"$nulls":4},{"$f":"IFERROR(ROUNDUP(INDEX(SensorPricing[],MATCH(P37,SensorPricing[Sensor],0),MATCH($M$1,SensorPricing[#Headers],0))*0.2777777*2,0),\"\")","v":0},null,{"$f":"IFERROR(ROUNDUP(INDEX(SensorPricing[],MATCH(P37,SensorPricing[Sensor],0),MATCH($M$1,SensorPricing[#Headers],0))*IF(H$90=\"2Y\",2.5,3),0),\"\")","v":0}]
[null,"Toxic Sensor #1",{"$nulls":14},{"$f":"H30&4-SUM(Q34:Q37)","v":"Q4"}]
[null,{"$f":"_xlfn.VSTACK(O39:O57)","v":"HF"},{"$f":"IF(B39=0,\"\",\"è\")","v":"è"},{"$f":"_xlfn.VSTACK(P39:P57)","v":"2"},{"$f":"IF(B39=0,\"\",\"=\")","v":"="},{"$f":"IFERROR(SUM(S39:T39),\"\")","v":{"v":840,"d":"$ 840"}},null,"H",{"$nulls":3},{"$f":"VLOOKUP(H39,D39:F57,3,FALSE)","v":{"v":0,"d":"$ 0"}},null,null,{"$f":"_xlfn.LET(\n_xlpm.Dtype,G7Sensors[Type1],_xlpm.Curr,G7Sensors[Currency],_xlpm.Stype,H30&1,_xlpm.SCurr,M1,\n_xlpm.myCalculation,_xlfn.VSTACK(_xlfn._xlws.FILTER(G7Sensors[],(_xlpm.Dtype=_xlpm.Stype)*(_xlpm.Curr=_xlpm.SCurr))),_xlpm.myCalculation)","v":"HF"},"2","Q1","USD",{"$f":"INDEX(SensorPricing[],MATCH(D39,SensorPricing[Sensor],0),MATCH($M$1,SensorPricing[#Headers],0))*2","v":840},{"$f":"IFERROR(IF($H$90=\"2Y\",0,ROUNDUP(INDEX(SensorPricing[],MATCH(D39,SensorPricing[Sensor],0),MATCH($M$1,SensorPricing[#Headers],0))*0.2777777,0)),0)","v":0}]
[null,"NH3","è","A","=",{"$f":"IFERROR(SUM(S40:T40),\"\")","v":{"v":120,"d":"$ 120"}},{"$nulls":8},"NH3","A","Q1","USD",{"$f":"INDEX(SensorPricing[],MATCH(D40,SensorPricing[Sensor],0),MATCH($M$1,SensorPricing[#Headers],0))*2","v":120},{"$f":"IFERROR(IF($H$90=\"2Y\",0,ROUNDUP(INDEX(SensorPricing[],MATCH(D40,SensorPricing[Sensor],0),MATCH($M$1,SensorPricing[#Headers],0))*0.2777777,0)),0)","v":0}]
[null,"High-range NH3 ","è","B","=",{"v":252,"d":"$ 252"},{"$nulls":8},"High-range NH3 ","B","Q1","USD",{"$f":"INDEX(SensorPricing[],MATCH(D41,SensorPricing[Sensor],0),MATCH($M$1,SensorPricing[#Headers],0))*2","v":252},{"$f":"IFERROR(IF($H$90=\"2Y\",0,ROUNDUP(INDEX(SensorPricing[],MATCH(D41,SensorPricing[Sensor],0),MATCH($M$1,SensorPricing[#Headers],0))*0.2777777,0)),0)","v":0}]
[null,"CO2","è","C","=",{"v":480,"d":"$ 480"},{"$nulls":8},"CO2","C","Q1","USD",{"$f":"INDEX(SensorPricing[],MATCH(D42,SensorPricing[Sensor],0),MATCH($M$1,SensorPricing[#Headers],0))*2","v":480},{"$f":"IFERROR(IF($H$90=\"2Y\",0,ROUNDUP(INDEX(SensorPricing[],MATCH(D42,SensorPricing[Sensor],0),MATCH($M$1,SensorPricing[#Headers],0))*0.2777777,0)),0)","v":0}]
[null,"O3","è","E","=",{"v":240,"d":"$ 240"},{"$nulls":8},"O3","E","Q1","USD",{"$f":"INDEX(SensorPricing[],MATCH(D43,SensorPricing[Sensor],0),MATCH($M$1,SensorPricing[#Headers],0))*2","v":240},{"$f":"IFERROR(IF($H$90=\"2Y\",0,ROUNDUP(INDEX(SensorPricing[],MATCH(D43,SensorPricing[Sensor],0),MATCH($M$1,SensorPricing[#Headers],0))*0.2777777,0)),0)","v":0}]
[null,"H2S","è","H","=",{"v":0,"d":"$ 0"},{"$nulls":8},"H2S","H","Q1","USD",{"$f":"INDEX(SensorPricing[],MATCH(D44,SensorPricing[Sensor],0),MATCH($M$1,SensorPricing[#Headers],0))*2","v":0},{"$f":"IFERROR(IF($H$90=\"2Y\",0,ROUNDUP(INDEX(SensorPricing[],MATCH(D44,SensorPricing[Sensor],0),MATCH($M$1,SensorPricing[#Headers],0))*0.2777777,0)),0)","v":0}]
[null,"High-range H2S ","è","J","=",{"v":240,"d":"$ 240"},{"$nulls":8},"High-range H2S ","J","Q1","USD",{"$f":"INDEX(SensorPricing[],MATCH(D45,SensorPricing[Sensor],0),MATCH($M$1,SensorPricing[#Headers],0))*2","v":240},{"$f":"IFERROR(IF($H$90=\"2Y\",0,ROUNDUP(INDEX(SensorPricing[],MATCH(D45,SensorPricing[Sensor],0),MATCH($M$1,SensorPricing[#Headers],0))*0.2777777,0)),0)","v":0}]
[null,"NO2 ","è","K","=",{"v":120,"d":"$ 120"},{"$nulls":8},"NO2 ","K","Q1","USD",{"$f":"INDEX(SensorPricing[],MATCH(D46,SensorPricing[Sensor],0),MATCH($M$1,SensorPricing[#Headers],0))*2","v":120},{"$f":"IFERROR(IF($H$90=\"2Y\",0,ROUNDUP(INDEX(SensorPricing[],MATCH(D46,SensorPricing[Sensor],0),MATCH($M$1,SensorPricing[#Headers],0))*0.2777777,0)),0)","v":0}]
[null,"Cl2","è","L","=",{"v":120,"d":"$ 120"},{"$nulls":8},"Cl2","L","Q1","USD",{"$f":"INDEX(SensorPricing[],MATCH(D47,SensorPricing[Sensor],0),MATCH($M$1,SensorPricing[#Headers],0))*2","v":120},{"$f":"IFERROR(IF($H$90=\"2Y\",0,ROUNDUP(INDEX(SensorPricing[],MATCH(D47,SensorPricing[Sensor],0),MATCH($M$1,SensorPricing[#Headers],0))*0.2777777,0)),0)","v":0}]
[null,"CO ","è","M","=",{"v":0,"d":"$ 0"},{"$nulls":8},"CO ","M","Q1","USD",{"$f":"INDEX(SensorPricing[],MATCH(D48,SensorPricing[Sensor],0),MATCH($M$1,SensorPricing[#Headers],0))*2","v":0},{"$f":"IFERROR(IF($H$90=\"2Y\",0,ROUNDUP(INDEX(SensorPricing[],MATCH(D48,SensorPricing[Sensor],0),MATCH($M$1,SensorPricing[#Headers],0))*0.2777777,0)),0)","v":0}]
[null,"HCN","è","N","=",{"v":120,"d":"$ 120"},{"$nulls":8},"HCN","N","Q1","USD",{"$f":"INDEX(SensorPricing[],MATCH(D49,SensorPricing[Sensor],0),MATCH($M$1,SensorPricing[#Headers],0))*2","v":120},{"$f":"IFERROR(IF($H$90=\"2Y\",0,ROUNDUP(INDEX(SensorPricing[],MATCH(D49,SensorPricing[Sensor],0),MATCH($M$1,SensorPricing[#Headers],0))*0.2777777,0)),0)","v":0}]
[null,"CO-H ","è","R","=",{"v":0,"d":"$ 0"},{"$nulls":8},"CO-H ","R","Q1","USD",{"$f":"INDEX(SensorPricing[],MATCH(D50,SensorPricing[Sensor],0),MATCH($M$1,SensorPricing[#Headers],0))*2","v":0},{"$f":"IFERROR(IF($H$90=\"2Y\",0,ROUNDUP(INDEX(SensorPricing[],MATCH(D50,SensorPricing[Sensor],0),MATCH($M$1,SensorPricing[#Headers],0))*0.2777777,0)),0)","v":0}]
[null,"SO2","è","S","=",{"v":0,"d":"$ 0"},{"$nulls":8},"SO2","S","Q1","USD",{"$f":"INDEX(SensorPricing[],MATCH(D51,SensorPricing[Sensor],0),MATCH($M$1,SensorPricing[#Headers],0))*2","v":0},{"$f":"IFERROR(IF($H$90=\"2Y\",0,ROUNDUP(INDEX(SensorPricing[],MATCH(D51,SensorPricing[Sensor],0),MATCH($M$1,SensorPricing[#Headers],0))*0.2777777,0)),0)","v":0}]
[null,"High-range CO ","è","T","=",{"v":240,"d":"$ 240"},{"$nulls":8},"High-range CO ","T","Q1","USD",{"$f":"INDEX(SensorPricing[],MATCH(D52,SensorPricing[Sensor],0),MATCH($M$1,SensorPricing[#Headers],0))*2","v":240},{"$f":"IFERROR(IF($H$90=\"2Y\",0,ROUNDUP(INDEX(SensorPricing[],MATCH(D52,SensorPricing[Sensor],0),MATCH($M$1,SensorPricing[#Headers],0))*0.2777777,0)),0)","v":0}]
[null,"PID","è","V","=",{"v":966,"d":"$ 966"},{"$nulls":8},"PID","V","Q1","USD",{"$f":"INDEX(SensorPricing[],MATCH(D53,SensorPricing[Sensor],0),MATCH($M$1,SensorPricing[#Headers],0))*2","v":966},{"$f":"IFERROR(IF($H$90=\"2Y\",0,ROUNDUP(INDEX(SensorPricing[],MATCH(D53,SensorPricing[Sensor],0),MATCH($M$1,SensorPricing[#Headers],0))*0.2777777,0)),0)","v":0}]
[null,"ClO2","è","W","=",{"v":120,"d":"$ 120"},{"$nulls":8},"ClO2","W","Q1","USD",{"$f":"INDEX(SensorPricing[],MATCH(D54,SensorPricing[Sensor],0),MATCH($M$1,SensorPricing[#Headers],0))*2","v":120},{"$f":"IFERROR(IF($H$90=\"2Y\",0,ROUNDUP(INDEX(SensorPricing[],MATCH(D54,SensorPricing[Sensor],0),MATCH($M$1,SensorPricing[#Headers],0))*0.2777777,0)),0)","v":0}]
[null,"No Sensor ","è","X","=",{"v":0,"d":"$ 0"},{"$nulls":8},"No Sensor ","X","Q1","USD",{"$f":"INDEX(SensorPricing[],MATCH(D55,SensorPricing[Sensor],0),MATCH($M$1,SensorPricing[#Headers],0))*2","v":0},{"$f":"IFERROR(IF($H$90=\"2Y\",0,ROUNDUP(INDEX(SensorPricing[],MATCH(D55,SensorPricing[Sensor],0),MATCH($M$1,SensorPricing[#Headers],0))*0.2777777,0)),0)","v":0}]
[null,0,{"$f":"IF(B56=0,\"\",\"è\")","v":""},0,{"$f":"IF(B56=0,\"\",\"=\")","v":""},"",{"$nulls":12},{"$f":"INDEX(SensorPricing[],MATCH(D56,SensorPricing[Sensor],0),MATCH($M$1,SensorPricing[#Headers],0))*2","v":{"$error":"#N/A"}},{"$f":"IFERROR(IF($H$90=\"2Y\",0,ROUNDUP(INDEX(SensorPricing[],MATCH(D56,SensorPricing[Sensor],0),MATCH($M$1,SensorPricing[#Headers],0))*0.2777777,0)),0)","v":0}]
[null,0,{"$f":"IF(B57=0,\"\",\"è\")","v":""},0,{"$f":"IF(B57=0,\"\",\"=\")","v":""},"",{"$nulls":12},{"$f":"INDEX(SensorPricing[],MATCH(D57,SensorPricing[Sensor],0),MATCH($M$1,SensorPricing[#Headers],0))*2","v":{"$error":"#N/A"}},{"$f":"IFERROR(IF($H$90=\"2Y\",0,ROUNDUP(INDEX(SensorPricing[],MATCH(D57,SensorPricing[Sensor],0),MATCH($M$1,SensorPricing[#Headers],0))*0.2777777,0)),0)","v":0}]
[{"$nulls":11},"+"]
[null,"Toxic Sensor #2"]
[null,{"$f":"_xlfn.VSTACK(O60:O78)","v":"HF"},{"$f":"IF(B60=0,\"\",\"è\")","v":"è"},{"$f":"_xlfn.VSTACK(P60:P78)","v":"2"},{"$f":"IF(B60=0,\"\",\"=\")","v":"="},{"$f":"IFERROR(SUM(S60:T60),\"\")","v":{"v":840,"d":"$ 840"}},null,"M",{"$nulls":3},{"$f":"VLOOKUP(H60,D60:F78,3,FALSE)","v":{"v":0,"d":"$ 0"}},null,null,{"$f":"_xlfn.LET(\n_xlpm.Dtype,G7Sensors[Type1],_xlpm.Curr,G7Sensors[Currency],_xlpm.Stype,H30&2,_xlpm.SCurr,M1,\n_xlpm.myCalculation,_xlfn.VSTACK(_xlfn._xlws.FILTER(G7Sensors[],(_xlpm.Dtype=_xlpm.Stype)*(_xlpm.Curr=_xlpm.SCurr))),_xlpm.myCalculation)","v":"HF"},"2","Q2","USD",{"$f":"INDEX(SensorPricing[],MATCH(D60,SensorPricing[Sensor],0),MATCH($M$1,SensorPricing[#Headers],0))*2","v":840},{"$f":"IFERROR(IF($H$90=\"2Y\",0,ROUNDUP(INDEX(SensorPricing[],MATCH(D60,SensorPricing[Sensor],0),MATCH($M$1,SensorPricing[#Headers],0))*0.2777777,0)),0)","v":0}]
[null,"NH3","è","A","=",{"v":120,"d":"$ 120"},{"$nulls":8},"NH3","A","Q2","USD",{"$f":"INDEX(SensorPricing[],MATCH(D61,SensorPricing[Sensor],0),MATCH($M$1,SensorPricing[#Headers],0))*2","v":120},{"$f":"IFERROR(IF($H$90=\"2Y\",0,ROUNDUP(INDEX(SensorPricing[],MATCH(D61,SensorPricing[Sensor],0),MATCH($M$1,SensorPricing[#Headers],0))*0.2777777,0)),0)","v":0}]
[null,"High-range NH3 ","è","B","=",{"v":252,"d":"$ 252"},{"$nulls":8},"High-range NH3 ","B","Q2","USD",{"$f":"INDEX(SensorPricing[],MATCH(D62,SensorPricing[Sensor],0),MATCH($M$1,SensorPricing[#Headers],0))*2","v":252},{"$f":"IFERROR(IF($H$90=\"2Y\",0,ROUNDUP(INDEX(SensorPricing[],MATCH(D62,SensorPricing[Sensor],0),MATCH($M$1,SensorPricing[#Headers],0))*0.2777777,0)),0)","v":0}]
[null,"COSH","è","D","=",{"v":120,"d":"$ 120"},{"$nulls":8},"COSH","D","Q2","USD",{"$f":"INDEX(SensorPricing[],MATCH(D63,SensorPricing[Sensor],0),MATCH($M$1,SensorPricing[#Headers],0))*2","v":120},{"$f":"IFERROR(IF($H$90=\"2Y\",0,ROUNDUP(INDEX(SensorPricing[],MATCH(D63,SensorPricing[Sensor],0),MATCH($M$1,SensorPricing[#Headers],0))*0.2777777,0)),0)","v":0}]
[null,"O3","è","E","=",{"v":240,"d":"$ 240"},{"$nulls":8},"O3","E","Q2","USD",{"$f":"INDEX(SensorPricing[],MATCH(D64,SensorPricing[Sensor],0),MATCH($M$1,SensorPricing[#Headers],0))*2","v":240},{"$f":"IFERROR(IF($H$90=\"2Y\",0,ROUNDUP(INDEX(SensorPricing[],MATCH(D64,SensorPricing[Sensor],0),MATCH($M$1,SensorPricing[#Headers],0))*0.2777777,0)),0)","v":0}]
[null,"H2S","è","H","=",{"v":0,"d":"$ 0"},{"$nulls":8},"H2S","H","Q2","USD",{"$f":"INDEX(SensorPricing[],MATCH(D65,SensorPricing[Sensor],0),MATCH($M$1,SensorPricing[#Headers],0))*2","v":0},{"$f":"IFERROR(IF($H$90=\"2Y\",0,ROUNDUP(INDEX(SensorPricing[],MATCH(D65,SensorPricing[Sensor],0),MATCH($M$1,SensorPricing[#Headers],0))*0.2777777,0)),0)","v":0}]
[null,"High-range H2S ","è","J","=",{"v":240,"d":"$ 240"},{"$nulls":8},"High-range H2S ","J","Q2","USD",{"$f":"INDEX(SensorPricing[],MATCH(D66,SensorPricing[Sensor],0),MATCH($M$1,SensorPricing[#Headers],0))*2","v":240},{"$f":"IFERROR(IF($H$90=\"2Y\",0,ROUNDUP(INDEX(SensorPricing[],MATCH(D66,SensorPricing[Sensor],0),MATCH($M$1,SensorPricing[#Headers],0))*0.2777777,0)),0)","v":0}]
[null,"NO2 ","è","K","=",{"v":120,"d":"$ 120"},{"$nulls":8},"NO2 ","K","Q2","USD",{"$f":"INDEX(SensorPricing[],MATCH(D67,SensorPricing[Sensor],0),MATCH($M$1,SensorPricing[#Headers],0))*2","v":120},{"$f":"IFERROR(IF($H$90=\"2Y\",0,ROUNDUP(INDEX(SensorPricing[],MATCH(D67,SensorPricing[Sensor],0),MATCH($M$1,SensorPricing[#Headers],0))*0.2777777,0)),0)","v":0}]
[null,"Cl2","è","L","=",{"v":120,"d":"$ 120"},{"$nulls":8},"Cl2","L","Q2","USD",{"$f":"INDEX(SensorPricing[],MATCH(D68,SensorPricing[Sensor],0),MATCH($M$1,SensorPricing[#Headers],0))*2","v":120},{"$f":"IFERROR(IF($H$90=\"2Y\",0,ROUNDUP(INDEX(SensorPricing[],MATCH(D68,SensorPricing[Sensor],0),MATCH($M$1,SensorPricing[#Headers],0))*0.2777777,0)),0)","v":0}]
[null,"CO ","è","M","=",{"v":0,"d":"$ 0"},{"$nulls":8},"CO ","M","Q2","USD",{"$f":"INDEX(SensorPricing[],MATCH(D69,SensorPricing[Sensor],0),MATCH($M$1,SensorPricing[#Headers],0))*2","v":0},{"$f":"IFERROR(IF($H$90=\"2Y\",0,ROUNDUP(INDEX(SensorPricing[],MATCH(D69,SensorPricing[Sensor],0),MATCH($M$1,SensorPricing[#Headers],0))*0.2777777,0)),0)","v":0}]
[null,"HCN","è","N","=",{"v":120,"d":"$ 120"},{"$nulls":8},"HCN","N","Q2","USD",{"$f":"INDEX(SensorPricing[],MATCH(D70,SensorPricing[Sensor],0),MATCH($M$1,SensorPricing[#Headers],0))*2","v":120},{"$f":"IFERROR(IF($H$90=\"2Y\",0,ROUNDUP(INDEX(SensorPricing[],MATCH(D70,SensorPricing[Sensor],0),MATCH($M$1,SensorPricing[#Headers],0))*0.2777777,0)),0)","v":0}]
[null,"CO-H ","è","R","=",{"v":0,"d":"$ 0"},{"$nulls":8},"CO-H ","R","Q2","USD",{"$f":"INDEX(SensorPricing[],MATCH(D71,SensorPricing[Sensor],0),MATCH($M$1,SensorPricing[#Headers],0))*2","v":0},{"$f":"IFERROR(IF($H$90=\"2Y\",0,ROUNDUP(INDEX(SensorPricing[],MATCH(D71,SensorPricing[Sensor],0),MATCH($M$1,SensorPricing[#Headers],0))*0.2777777,0)),0)","v":0}]
[null,"SO2","è","S","=",{"v":0,"d":"$ 0"},{"$nulls":8},"SO2","S","Q2","USD",{"$f":"INDEX(SensorPricing[],MATCH(D72,SensorPricing[Sensor],0),MATCH($M$1,SensorPricing[#Headers],0))*2","v":0},{"$f":"IFERROR(IF($H$90=\"2Y\",0,ROUNDUP(INDEX(SensorPricing[],MATCH(D72,SensorPricing[Sensor],0),MATCH($M$1,SensorPricing[#Headers],0))*0.2777777,0)),0)","v":0}]
[null,"High-range CO ","è","T","=",{"v":240,"d":"$ 240"},{"$nulls":8},"High-range CO ","T","Q2","USD",{"$f":"INDEX(SensorPricing[],MATCH(D73,SensorPricing[Sensor],0),MATCH($M$1,SensorPricing[#Headers],0))*2","v":240},{"$f":"IFERROR(IF($H$90=\"2Y\",0,ROUNDUP(INDEX(SensorPricing[],MATCH(D73,SensorPricing[Sensor],0),MATCH($M$1,SensorPricing[#Headers],0))*0.2777777,0)),0)","v":0}]
[null,"ClO2","è","W","=",{"v":120,"d":"$ 120"},{"$nulls":8},"ClO2","W","Q2","USD",{"$f":"INDEX(SensorPricing[],MATCH(D74,SensorPricing[Sensor],0),MATCH($M$1,SensorPricing[#Headers],0))*2","v":120},{"$f":"IFERROR(IF($H$90=\"2Y\",0,ROUNDUP(INDEX(SensorPricing[],MATCH(D74,SensorPricing[Sensor],0),MATCH($M$1,SensorPricing[#Headers],0))*0.2777777,0)),0)","v":0}]
[null,"No Sensor ","è","X","=",{"v":0,"d":"$ 0"},{"$nulls":8},"No Sensor ","X","Q2","USD",{"$f":"INDEX(SensorPricing[],MATCH(D75,SensorPricing[Sensor],0),MATCH($M$1,SensorPricing[#Headers],0))*2","v":0},{"$f":"IFERROR(IF($H$90=\"2Y\",0,ROUNDUP(INDEX(SensorPricing[],MATCH(D75,SensorPricing[Sensor],0),MATCH($M$1,SensorPricing[#Headers],0))*0.2777777,0)),0)","v":0}]
[null,0,"",0,"","",{"$nulls":12},{"$f":"INDEX(SensorPricing[],MATCH(D76,SensorPricing[Sensor],0),MATCH($M$1,SensorPricing[#Headers],0))*2","v":{"$error":"#N/A"}},{"$f":"IFERROR(IF($H$90=\"2Y\",0,ROUNDUP(INDEX(SensorPricing[],MATCH(D76,SensorPricing[Sensor],0),MATCH($M$1,SensorPricing[#Headers],0))*0.2777777,0)),0)","v":0}]
[null,0,"",0,"","",{"$nulls":12},{"$f":"INDEX(SensorPricing[],MATCH(D77,SensorPricing[Sensor],0),MATCH($M$1,SensorPricing[#Headers],0))*2","v":{"$error":"#N/A"}},{"$f":"IFERROR(IF($H$90=\"2Y\",0,ROUNDUP(INDEX(SensorPricing[],MATCH(D77,SensorPricing[Sensor],0),MATCH($M$1,SensorPricing[#Headers],0))*0.2777777,0)),0)","v":0}]
[null,0,"",0,"","",{"$nulls":12},{"$f":"INDEX(SensorPricing[],MATCH(D78,SensorPricing[Sensor],0),MATCH($M$1,SensorPricing[#Headers],0))*2","v":{"$error":"#N/A"}},{"$f":"IFERROR(IF($H$90=\"2Y\",0,ROUNDUP(INDEX(SensorPricing[],MATCH(D78,SensorPricing[Sensor],0),MATCH($M$1,SensorPricing[#Headers],0))*0.2777777,0)),0)","v":0}]
[{"$nulls":11},"+"]
[null,"Oxygen Sensor"]
[null,{"$f":"_xlfn.VSTACK(O81:O82)","v":"O2"},{"$f":"IF(B81=0,\"\",\"è\")","v":"è"},{"$f":"_xlfn.VSTACK(P81:P82)","v":"O"},{"$f":"IF(B81=0,\"\",\"=\")","v":"="},{"$f":"IFERROR(SUM(S81:T81),\"\")","v":{"v":0,"d":"$ 0"}},null,"O",{"$nulls":3},{"$f":"VLOOKUP(H81,D81:F82,3,FALSE)","v":{"v":0,"d":"$ 0"}},null,null,{"$f":"_xlfn._xlws.FILTER(_xlfn._xlws.FILTER(Oxygen[],Oxygen[Type]=H34),{1,1,0})","v":"O2"},"O",null,null,{"$f":"INDEX(SensorPricing[],MATCH(D81,SensorPricing[Sensor],0),MATCH($M$1,SensorPricing[#Headers],0))*2","v":0},{"$f":"IFERROR(IF($H$90=\"2Y\",0,ROUNDUP(INDEX(SensorPricing[],MATCH(D81,SensorPricing[Sensor],0),MATCH($M$1,SensorPricing[#Headers],0))*0.2777777,0)),0)","v":0}]
[null,0,"",0,"",{"$f":"IFERROR(SUM(S82:T82),\"\")","v":""},{"$nulls":12},{"$f":"INDEX(SensorPricing[],MATCH(D82,SensorPricing[Sensor],0),MATCH($M$1,SensorPricing[#Headers],0))*2","v":{"$error":"#N/A"}},{"$f":"IFERROR(IF($H$90=\"2Y\",0,ROUNDUP(INDEX(SensorPricing[],MATCH(D82,SensorPricing[Sensor],0),MATCH($M$1,SensorPricing[#Headers],0))*0.2777777,0)),0)","v":0}]
[{"$nulls":7},"-"]
[null,"Country Code"]
[null,{"$f":"_xlfn.VSTACK(O85:O87)","v":"North America (3G/4G) - G7C"},{"$f":"IF(B85=\"\",\"\",\"è\")","v":"è"},{"$f":"IFERROR(VLOOKUP(B85,Lookup!$F$3:$G$12,2,FALSE),\"\")","v":"NA2"},{"$nulls":3},"NA2",{"$nulls":6},{"$f":"_xlfn.LET(\n_xlpm.Dtype,G7CountryCodes[Type],_xlpm.Curr,G7CountryCodes[Currency],_xlpm.SType,H26,_xlpm.SCurr,M1,\n_xlpm.myCalculation,_xlfn.VSTACK(_xlfn._xlws.FILTER(G7CountryCodes[],(_xlpm.Dtype=_xlpm.SType)*(_xlpm.Curr=_xlpm.SCurr))),_xlpm.myCalculation)","v":"North America (3G/4G) - G7C"},"NA2","C","USD"]
[null,"Outside of North America (3G/4G) - G7C",{"$f":"IF(B86=0,\"\",\"è\")","v":"è"},{"$f":"IFERROR(VLOOKUP(B86,Lookup!$F$3:$G$12,2,FALSE),\"\")","v":"EU2"},{"$nulls":10},"Outside of North America (3G/4G) - G7C","EU2","C","USD"]
[null,"Brazil (3G/4G) - G7C",{"$f":"IF(B87=0,\"\",\"è\")","v":"è"},{"$f":"IFERROR(VLOOKUP(B87,Lookup!$F$3:$G$12,2,FALSE),\"\")","v":"BR2"},{"$nulls":10},"Brazil (3G/4G) - G7C","BR2","C","USD"]
[{"$nulls":7},"-"]
[null,"Term"]
[null,"Two-Years","è","2Y",{"$nulls":3},"2Y"]
[null,"Three-Years","è","3Y"]

{"sheet":"G7 Purchase Optional Services","index":8,"n_rows":44,"n_cols":19,"rows_kept":44,"merged":[[1,1,1,7],[2,1,12,1],[7,7,7,9],[9,7,9,9],[11,7,11,9],[14,1,14,5],[15,7,15,9],[16,7,17,9],[17,1,17,5],[18,7,22,9],[18,11,22,11],[23,7,24,9],[24,1,24,5],[25,7,29,9],[32,1,32,5],[33,7,33,9],[34,7,35,9],[35,1,35,5],[36,7,36,9],[37,7,38,9],[38,1,38,5],[39,7,43,9]]}
[null,{"$error":"#VALUE!"},{"$nulls":10},{"$f":"Currency","v":"USD"},null,null,"G7 Purchase Optional Services"]
[null,"G7 Purchase Optional Services",{"$nulls":10},{"$f":"PBYear","v":2025},"Quick Links"]
[null,{"$error":"#VALUE!"},{"$nulls":10},{"$f":"Revision","v":"Effective February 2, 2026 Rev 2"},"Main Menu"]
[{"$nulls":12},"Blackline Safety Confidential","G7 Lone Worker Purchase"]
[{"$nulls":12},"All prices are an estimate - for a formal quote contact your local Blackline Safety representative","G7 Single-Gas Purchase"]
[{"$nulls":13},"G7 Multi-Gas Purchase"]
[{"$nulls":11},"Monthly","Term","Accessories"]
[{"$nulls":5},"Monitoring Service Plan",null,{"$f":"IF(H19=\"XX\",CONCATENATE(\"J-SYS-ACCESS-\",H26),CONCATENATE(H16,\"-\",H19,\"-\",H26))","v":"J-SER-SX-1Y"},{"$nulls":3},{"$f":"L19","v":{"v":19,"d":"$ 19"}},{"$f":"LEFT(H26,1)*12*L8","v":{"v":228,"d":"$ 228"}}]
[]
[{"$nulls":5},"Push-To-Talk (PTT)",null,{"$f":"CONCATENATE(H34,\"-\",H37,\"-\",H40)","v":"J-SER-PTT-1Y"},{"$nulls":3},{"$f":"L37","v":{"v":15,"d":"$ 15"}},{"$f":"LEFT(H40,1)*12*L10","v":{"v":180,"d":"$ 180"}}]
[]
[]
[]
[null,"Monitoring Service Plans"]
[null,"Buying Option"]
[null,"Purchase","è","J-SER",{"$nulls":3},{"$f":"D16","v":"J-SER"}]
[{"$nulls":7},"-"]
[null,"Service Plan (Monthly)"]
[null,"System Access (used for renewal)","è","XX",null,{"$f":"S19","v":{"v":15,"d":"$ 15"}},null,"SX",{"$nulls":3},{"$f":"VLOOKUP(H19,D19:F23,3,FALSE)","v":{"v":19,"d":"$ 19"}},{"$nulls":6},{"$f":"INDEX(ServicePrices[],MATCH(\"System Access\",ServicePrices[Type],0),MATCH($M$1,ServicePrices[#Headers],0))","v":15}]
[null,"Self-Monitored","è","SX",null,{"$f":"S20","v":{"v":19,"d":"$ 19"}},{"$nulls":12},{"$f":"INDEX(ServicePrices[],MATCH(\"Self-monitored\",ServicePrices[Type],0),MATCH($M$1,ServicePrices[#Headers],0))","v":19}]
[null,"Self-Monitored w/ Voice*","è","SV",null,{"$f":"S21","v":{"v":40,"d":"$ 40"}},{"$nulls":12},{"$f":"INDEX(ServicePrices[],MATCH(\"Self-monitored\",ServicePrices[Type],0),MATCH($M$1,ServicePrices[#Headers],0))+\nINDEX(ServicePrices[],MATCH(\"Voice\",ServicePrices[Type],0),MATCH($M$1,ServicePrices[#Headers],0))","v":40}]
[null,"Blackline Monitored","è","BX",null,{"$f":"S22","v":{"v":39,"d":"$ 39"}},{"$nulls":12},{"$f":"INDEX(ServicePrices[],MATCH(\"Blackline Monitored\",ServicePrices[Type],0),MATCH($M$1,ServicePrices[#Headers],0))","v":39}]
[null,"Blackline Monitored w/ Voice*",{"$f":"IF(B23=\"\",\"\",\"è\")","v":"è"},"BV",null,{"$f":"S23","v":{"v":60,"d":"$ 60"}},{"$nulls":12},{"$f":"INDEX(ServicePrices[],MATCH(\"Blackline Monitored\",ServicePrices[Type],0),MATCH($M$1,ServicePrices[#Headers],0))+\nINDEX(ServicePrices[],MATCH(\"Voice\",ServicePrices[Type],0),MATCH($M$1,ServicePrices[#Headers],0))","v":60}]
[{"$nulls":7},"-",{"$nulls":6},"*Voice only available on G7c models"]
[null,"Term"]
[null,"1-Year","è","1Y",{"$nulls":3},"1Y"]
[null,"2-years","è","2Y"]
[null,"3-Years","è","3Y"]
[null,"4-Years","è","4Y"]
[null,"5-Years","è","5Y"]
[]
[null,"Push-to-Talk (PTT)**",{"$nulls":12},"**Push-to-Talk only available on G7c models"]
[null,"Buying Option"]
[null,"Purchase","è","J-SER",{"$nulls":3},{"$f":"D34","v":"J-SER"}]
[{"$nulls":7},"-"]
[null,"Service Plan (Monthly)"]
[null,"Push-to-Talk","è","PTT",null,{"$f":"S37","v":{"v":15,"d":"$ 15"}},null,"PTT",{"$nulls":3},{"$f":"F37","v":{"v":15,"d":"$ 15"}},{"$nulls":6},{"$f":"INDEX(ServicePrices[],MATCH(\"Push-to-talk\",ServicePrices[Type],0),MATCH($M$1,ServicePrices[#Headers],0))","v":15}]
[{"$nulls":7},"-"]
[null,"Term"]
[null,"1-Year","è","1Y",{"$nulls":3},"1Y"]
[null,"2-years","è","2Y"]
[null,"3-Years","è","3Y"]
[null,"4-Years","è","4Y"]
[null,"5-Years","è","5Y"]

{"sheet":"G7 Lone Worker Blend","index":9,"n_rows":52,"n_cols":19,"rows_kept":52,"merged":[[1,1,1,7],[2,1,12,1],[7,7,7,9],[9,7,9,9],[11,7,11,9],[14,1,14,5],[15,7,16,9],[15,11,16,11],[18,1,18,5],[19,7,20,9],[21,7,22,9],[22,1,22,5],[23,7,23,9],[24,7,25,9],[25,1,25,5],[26,7,28,9],[31,1,31,5],[32,7,41,9],[32,11,41,11],[42,7,43,9],[42,11,43,11],[43,1,43,5],[44,7,44,9],[45,7,46,9],[46,1,46,5],[47,7,51,9]]}
[null,{"$error":"#VALUE!"},{"$nulls":10},{"$f":"Currency","v":"USD"},null,null,"G7 Lone Worker Blend"]
[null,"G7 Lone Worker Blend",{"$nulls":10},{"$f":"PBYear","v":2025},"Quick Links"]
[null,{"$error":"#VALUE!"},{"$nulls":10},{"$f":"Revision","v":"Effective February 2, 2026 Rev 2"},"Main Menu"]
[{"$nulls":12},"Blackline Safety Confidential","Accessories"]
[{"$nulls":12},"All prices are an estimate - for a formal quote contact your local Blackline Safety representative"]
[{"$nulls":12},"Buying option not available in all countries. Please confirm with your local Blackline representative"]
[]
[{"$nulls":5},"Device",null,{"$f":"CONCATENATE(H16,H20,\"-\",H24,\"-\",H27)","v":"G7C-Z-NA2"},{"$nulls":3},{"$f":"L16","v":{"v":677,"d":"$ 677"}},{"$f":"M1&\" upfront\"","v":"USD upfront"}]
[]
[{"$nulls":5},"Cartridge + Service",null,{"$f":"CONCATENATE(\"SER-\",H33,\"-\",H45,\"-\",H48)","v":"SER-XX-Z-1Y"},{"$nulls":3},{"$f":"ROUNDUP(SUM(L33:L45)*(1-VLOOKUP(LEFT(H48,1),R48:S52,2,FALSE)),0)","v":{"v":180,"d":"$ 180"}},{"$f":"M1&\" /year\"","v":"USD /year"}]
[]
[{"$nulls":11},{"$f":"L10*(LEFT(H48,1))","v":{"v":180,"d":"$ 180"}},{"$f":"M1&\" /term\"","v":"USD /term"}]
[]
[null,"Device"]
[null,"Buying Option",{"$nulls":16},"Price"]
[null,"Blend","è","G7",{"$nulls":3},{"$f":"D16","v":"G7"},{"$nulls":3},{"$f":"F17","v":{"v":677,"d":"$ 677"}}]
[1,null,null,"Device","=",{"$f":"SUM(S17:S17)","v":{"v":677,"d":"$ 677"}},{"$nulls":12},{"$f":"INDEX(BasePrices[],MATCH(\"G7 Blend Base Price\",BasePrices[Type],0),MATCH($M$1,BasePrices[#Headers],0))","v":677}]
[]
[null,"Connectivity"]
[null,"Cellular","è","C",{"$nulls":3},"C"]
[null,{"$f":"IF(OR(M1=\"EUR\",M1=\"GBP\"),\"\",\"Satellite (900 MHz)*\")","v":"Satellite (900 MHz)*"},{"$f":"IF(B21=\"\",\"\",\"è\")","v":"è"},{"$f":"IF(OR(M1=\"EUR\",M1=\"GBP\"),\"\",\"X\")","v":"X"}]
[{"$nulls":7},"-",{"$nulls":6},{"$f":"IF(OR(M1=\"EUR\",M1=\"GBP\"),\"\",\"*Bridge and satellite service plan required\")","v":"*Bridge and satellite service plan required"}]
[null,"Cartridge Type"]
[null,"Lone Worker","è","Z",{"$nulls":3},"Z"]
[{"$nulls":7},"-"]
[null,"Country Code"]
[null,{"$f":"_xlfn.VSTACK(O27:O29)","v":"North America (3G/4G) - G7C"},{"$f":"IF(B27=\"\",\"\",\"è\")","v":"è"},{"$f":"IFERROR(VLOOKUP(B27,Lookup!$F$3:$G$12,2,FALSE),\"\")","v":"NA2"},{"$nulls":3},"NA2",{"$nulls":6},{"$f":"_xlfn.LET(\n_xlpm.Dtype,G7CountryCodes[Type],_xlpm.Curr,G7CountryCodes[Currency],_xlpm.SType,H20,_xlpm.SCurr,M1,\n_xlpm.myCalculation,_xlfn.VSTACK(_xlfn._xlws.FILTER(G7CountryCodes[],(_xlpm.Dtype=_xlpm.SType)*(_xlpm.Curr=_xlpm.SCurr))),_xlpm.myCalculation)","v":"North America (3G/4G) - G7C"},"NA2","C","USD"]
[null,"Outside of North America (3G/4G) - G7C",{"$f":"IF(B28=0,\"\",\"è\")","v":"è"},{"$f":"IFERROR(VLOOKUP(B28,Lookup!$F$3:$G$12,2,FALSE),\"\")","v":"EU2"},{"$nulls":10},"Outside of North America (3G/4G) - G7C","EU2","C","USD"]
[null,"Brazil (3G/4G) - G7C",{"$f":"IF(B29=0,\"\",\"è\")","v":"è"},{"$f":"IFERROR(VLOOKUP(B29,Lookup!$F$3:$G$12,2,FALSE),\"\")","v":"BR2"},{"$nulls":10},"Brazil (3G/4G) - G7C","BR2","C","USD"]
[]
[null,"Cartridge + Service"]
[null,"Service Plan"]
[null,{"$f":"_xlfn.VSTACK(O33:O42)","v":"System Access"},{"$f":"IF(B33=0,\"\",\"è\")","v":"è"},{"$f":"IFERROR(VLOOKUP(B33,O33:P42,2,FALSE),\"\")","v":"XX"},{"$f":"IF(B33=0,\"\",\"=\")","v":"="},{"$f":"S33","v":{"v":0,"d":"$ 0"}},null,"XX",{"$nulls":3},{"$f":"VLOOKUP(H33,D33:F42,3,FALSE)","v":{"v":0,"d":"$ 0"}},null,null,{"$f":"_xlfn.LET(\n_xlpm.Dtype,G7ServicePlans[Type],_xlpm.Curr,G7ServicePlans[Currency],_xlpm.SType,H20,_xlpm.SCurr,M1,\n_xlpm.myCalculation,_xlfn.VSTACK(_xlfn._xlws.FILTER(G7ServicePlans[],(_xlpm.Dtype=_xlpm.SType)*(_xlpm.Curr=_xlpm.SCurr))),_xlpm.myCalculation)","v":"System Access"},"XX","C","USD",{"$f":"IFERROR(INDEX(BlendServicePrices[],MATCH(P33,BlendServicePrices[Blend Service Plans],0),MATCH($M$1,BlendServicePrices[#Headers],0)),\"\")","v":0}]
[null,"System Access + PTT","è",{"$f":"IFERROR(VLOOKUP(B34,O34:P43,2,FALSE),\"\")","v":"XXP"},"=",{"$f":"S34","v":{"v":180,"d":"$ 180"}},{"$nulls":8},"System Access + PTT","XXP","C","USD",{"$f":"IFERROR(INDEX(BlendServicePrices[],MATCH(P34,BlendServicePrices[Blend Service Plans],0),MATCH($M$1,BlendServicePrices[#Headers],0)),\"\")","v":180}]
[null,"Self-Monitored (no voice)","è",{"$f":"IFERROR(VLOOKUP(B35,O35:P44,2,FALSE),\"\")","v":"SX"},"=",{"v":228,"d":"$ 228"},{"$nulls":8},"Self-Monitored (no voice)","SX","C","USD",{"$f":"IFERROR(INDEX(BlendServicePrices[],MATCH(P35,BlendServicePrices[Blend Service Plans],0),MATCH($M$1,BlendServicePrices[#Headers],0)),\"\")","v":228}]
[null,"Self-Monitored (no voice) + PTT","è",{"$f":"IFERROR(VLOOKUP(B36,O36:P45,2,FALSE),\"\")","v":"SXP"},"=",{"v":408,"d":"$ 408"},{"$nulls":8},"Self-Monitored (no voice) + PTT","SXP","C","USD",{"$f":"IFERROR(INDEX(BlendServicePrices[],MATCH(P36,BlendServicePrices[Blend Service Plans],0),MATCH($M$1,BlendServicePrices[#Headers],0)),\"\")","v":408}]
[null,"Self-Monitored + Voice","è",{"$f":"IFERROR(VLOOKUP(B37,O37:P45,2,FALSE),\"\")","v":"SV"},"=",{"v":480,"d":"$ 480"},{"$nulls":8},"Self-Monitored + Voice","SV","C","USD",{"$f":"IFERROR(INDEX(BlendServicePrices[],MATCH(P37,BlendServicePrices[Blend Service Plans],0),MATCH($M$1,BlendServicePrices[#Headers],0)),\"\")","v":480}]
[null,"Self-Monitored + Voice + PTT","è",{"$f":"IFERROR(VLOOKUP(B38,O38:P45,2,FALSE),\"\")","v":"SVP"},"=",{"v":660,"d":"$ 660"},{"$nulls":8},"Self-Monitored + Voice + PTT","SVP","C","USD",{"$f":"IFERROR(INDEX(BlendServicePrices[],MATCH(P38,BlendServicePrices[Blend Service Plans],0),MATCH($M$1,BlendServicePrices[#Headers],0)),\"\")","v":660}]
[null,"Blackline 24/7 Monitored (no voice)","è",{"$f":"IFERROR(VLOOKUP(B39,O39:P45,2,FALSE),\"\")","v":"BX"},"=",{"v":468,"d":"$ 468"},{"$nulls":8},"Blackline 24/7 Monitored (no voice)","BX","C","USD",{"$f":"IFERROR(INDEX(BlendServicePrices[],MATCH(P39,BlendServicePrices[Blend Service Plans],0),MATCH($M$1,BlendServicePrices[#Headers],0)),\"\")","v":468}]
[null,"Blackline 24/7 Monitored (no voice) + PTT","è",{"$f":"IFERROR(VLOOKUP(B40,O40:P45,2,FALSE),\"\")","v":"BXP"},"=",{"v":648,"d":"$ 648"},{"$nulls":8},"Blackline 24/7 Monitored (no voice) + PTT","BXP","C","USD",{"$f":"IFERROR(INDEX(BlendServicePrices[],MATCH(P40,BlendServicePrices[Blend Service Plans],0),MATCH($M$1,BlendServicePrices[#Headers],0)),\"\")","v":648}]
[null,"Blackline 24/7 Monitored + Voice","è",{"$f":"IFERROR(VLOOKUP(B41,O41:P45,2,FALSE),\"\")","v":"BV"},"=",{"v":720,"d":"$ 720"},{"$nulls":8},"Blackline 24/7 Monitored + Voice","BV","C","USD",{"$f":"IFERROR(INDEX(BlendServicePrices[],MATCH(P41,BlendServicePrices[Blend Service Plans],0),MATCH($M$1,BlendServicePrices[#Headers],0)),\"\")","v":720}]
[null,"Blackline 24/7 Monitored + Voice + PTT","è",{"$f":"IFERROR(VLOOKUP(B42,O42:P45,2,FALSE),\"\")","v":"BVP"},"=",{"v":900,"d":"$ 900"},{"$nulls":8},"Blackline 24/7 Monitored + Voice + PTT","BVP","C","USD",{"$f":"IFERROR(INDEX(BlendServicePrices[],MATCH(P42,BlendServicePrices[Blend Service Plans],0),MATCH($M$1,BlendServicePrices[#Headers],0)),\"\")","v":900}]
[{"$nulls":7},"-",{"$nulls":3},"+",{"$nulls":6},{"$f":"IFERROR(INDEX(BlendServicePrices[],MATCH(P43,BlendServicePrices[Blend Service Plans],0),MATCH($M$1,BlendServicePrices[#Headers],0)),\"\")","v":""}]
[null,"Cartridge Type"]
[null,"Lone Worker","è","Z",null,{"$f":"S45","v":{"v":180,"d":"$ 180"}},null,{"$f":"D45","v":"Z"},{"$nulls":3},{"$f":"S45","v":{"v":180,"d":"$ 180"}},{"$nulls":6},{"$f":"INDEX(ServicePrices[],MATCH(\"Push-to-talk\",ServicePrices[Type],0),MATCH($M$1,ServicePrices[#Headers],0))*12","v":180}]
[{"$nulls":7},"-"]
[null,"Term"]
[null,"One-Year","è","1Y",{"$nulls":3},"1Y",{"$nulls":9},"1",{"v":0,"d":"0%"}]
[null,"Two-Years","è","2Y",{"$nulls":13},"2",{"v":0.02,"d":"2%"}]
[null,"Three-Years","è","3Y",{"$nulls":13},"3",{"v":0.03,"d":"3%"}]
[null,"Four-Years","è","4Y",{"$nulls":13},"4",{"v":0.04,"d":"4%"}]
[null,"Five-Years","è","5Y",{"$nulls":13},"5",{"v":0.05,"d":"5%"}]

{"sheet":"G7 Single-Gas Blend","index":10,"n_rows":76,"n_cols":19,"rows_kept":76,"merged":[[1,1,1,7],[2,1,12,1],[7,7,7,9],[9,7,9,9],[11,7,11,9],[14,1,14,5],[15,7,16,9],[15,11,16,11],[18,1,18,5],[19,7,20,9],[21,7,22,9],[22,1,22,5],[23,7,23,9],[24,7,25,9],[25,1,25,5],[26,7,28,9],[31,1,31,5],[32,7,41,9],[32,11,41,11],[42,7,46,9],[42,11,43,11],[43,1,43,5],[45,11,49,11],[46,1,46,5],[47,7,47,9],[48,7,49,9],[49,1,49,5],[50,7,68,9],[50,11,68,11],[69,7,70,9],[70,1,70,5],[71,7,75,9]]}
[null,{"$error":"#VALUE!"},{"$nulls":10},{"$f":"Currency","v":"USD"},null,null,"G7 Single-Gas Blend"]
[null,"G7 Single-Gas Blend",{"$nulls":10},{"$f":"PBYear","v":2025},"Quick Links"]
[null,{"$error":"#VALUE!"},{"$nulls":10},{"$f":"Revision","v":"Effective February 2, 2026 Rev 2"},"Main Menu"]
[{"$nulls":12},"Blackline Safety Confidential","Accessories"]
[{"$nulls":12},"All prices are an estimate - for a formal quote contact your local Blackline Safety representative"]
[{"$nulls":12},"Buying option not available in all countries. Please confirm with your local Blackline representative"]
[]
[{"$nulls":5},"Device",null,{"$f":"CONCATENATE(H16,H20,\"-\",H24,\"-\",H27)","v":"G7C-S-H-NA2"},{"$nulls":3},{"$f":"L16","v":{"v":677,"d":"$ 677"}},{"$f":"M1&\" upfront\"","v":"USD upfront"}]
[]
[{"$nulls":5},"Cartridge + Service",null,{"$f":"CONCATENATE(\"SER-\",H33,\"-\",H48,\"-\",H51,\"-\",H72)","v":"SER-XX-S-H-1Y"},{"$nulls":3},{"$f":"ROUNDUP(SUM(L33:L69)*(1-VLOOKUP(LEFT(H72,1),R72:S76,2,FALSE)),0)","v":{"v":253,"d":"$ 253"}},{"$f":"M1&\" /year\"","v":"USD /year"}]
[]
[{"$nulls":11},{"$f":"L10*LEFT(H72,1)","v":{"v":253,"d":"$ 253"}},{"$f":"M1&\" /term\"","v":"USD /term"}]
[]
[null,"Device"]
[null,"Buying Option",{"$nulls":16},"Price"]
[null,"Blend","è","G7",{"$nulls":3},{"$f":"D16","v":"G7"},{"$nulls":3},{"$f":"F17","v":{"v":677,"d":"$ 677"}}]
[1,null,null,"Device","=",{"$f":"SUM(S17:S17)","v":{"v":677,"d":"$ 677"}},{"$nulls":12},{"$f":"INDEX(BasePrices[],MATCH(\"G7 Blend Base Price\",BasePrices[Type],0),MATCH($M$1,BasePrices[#Headers],0))","v":677}]
[]
[null,"Connectivity"]
[null,"Cellular","è","C",{"$nulls":3},"C"]
[null,{"$f":"IF(OR(M1=\"EUR\",M1=\"GBP\"),\"\",\"Satellite (900 MHz)*\")","v":"Satellite (900 MHz)*"},{"$f":"IF(B21=\"\",\"\",\"è\")","v":"è"},{"$f":"IF(OR(M1=\"EUR\",M1=\"GBP\"),\"\",\"X\")","v":"X"}]
[{"$nulls":7},"-",{"$nulls":6},{"$f":"IF(OR(M1=\"EUR\",M1=\"GBP\"),\"\",\"*Bridge and satellite service plan required\")","v":"*Bridge and satellite service plan required"}]
[null,"Cartridge"]
[null,"Configured below",{"$nulls":5},{"$f":"CONCATENATE(H48,\"-\",H51)","v":"S-H"}]
[{"$nulls":7},"-"]
[null,"Country Code"]
[null,{"$f":"_xlfn.VSTACK(O27:O29)","v":"North America (3G/4G) - G7C"},{"$f":"IF(B27=\"\",\"\",\"è\")","v":"è"},{"$f":"IFERROR(VLOOKUP(B27,Lookup!$F$3:$G$12,2,FALSE),\"\")","v":"NA2"},{"$nulls":3},"NA2",{"$nulls":6},{"$f":"_xlfn.LET(\n_xlpm.Dtype,G7CountryCodes[Type],_xlpm.Curr,G7CountryCodes[Currency],_xlpm.SType,H20,_xlpm.SCurr,M1,\n_xlpm.myCalculation,_xlfn.VSTACK(_xlfn._xlws.FILTER(G7CountryCodes[],(_xlpm.Dtype=_xlpm.SType)*(_xlpm.Curr=_xlpm.SCurr))),_xlpm.myCalculation)","v":"North America (3G/4G) - G7C"},"NA2","C","USD"]
[null,"Outside of North America (3G/4G) - G7C",{"$f":"IF(B28=0,\"\",\"è\")","v":"è"},{"$f":"IFERROR(VLOOKUP(B28,Lookup!$F$3:$G$12,2,FALSE),\"\")","v":"EU2"},{"$nulls":10},"Outside of North America (3G/4G) - G7C","EU2","C","USD"]
[null,"Brazil (3G/4G) - G7C",{"$f":"IF(B29=0,\"\",\"è\")","v":"è"},{"$f":"IFERROR(VLOOKUP(B29,Lookup!$F$3:$G$12,2,FALSE),\"\")","v":"BR2"},{"$nulls":10},"Brazil (3G/4G) - G7C","BR2","C","USD"]
[]
[null,"Cartridge + Service"]
[null,"Service Plan"]
[null,{"$f":"_xlfn.VSTACK(O33:O42)","v":"System Access"},{"$f":"IF(B33=0,\"\",\"è\")","v":"è"},{"$f":"IFERROR(VLOOKUP(B33,O33:P42,2,FALSE),\"\")","v":"XX"},{"$f":"IF(B33=0,\"\",\"=\")","v":"="},{"$f":"S33","v":{"v":0,"d":"$ 0"}},null,"XX",{"$nulls":3},{"$f":"VLOOKUP(H33,D33:F42,3,FALSE)","v":{"v":0,"d":"$ 0"}},null,null,{"$f":"_xlfn.LET(\n_xlpm.Dtype,G7ServicePlans[Type],_xlpm.Curr,G7ServicePlans[Currency],_xlpm.Stype,H20,_xlpm.SCurr,M1,\n_xlpm.myCalculation,_xlfn.VSTACK(_xlfn._xlws.FILTER(G7ServicePlans[],(_xlpm.Dtype=_xlpm.Stype)*(_xlpm.Curr=_xlpm.SCurr))),_xlpm.myCalculation)","v":"System Access"},"XX","C","USD",{"$f":"IFERROR(INDEX(BlendServicePrices[],MATCH(P33,BlendServicePrices[Blend Service Plans],0),MATCH($M$1,BlendServicePrices[#Headers],0)),\"\")","v":0}]
[null,"System Access + PTT","è",{"$f":"IFERROR(VLOOKUP(B34,O34:P43,2,FALSE),\"\")","v":"XXP"},"=",{"$f":"S34","v":{"v":180,"d":"$ 180"}},{"$nulls":8},"System Access + PTT","XXP","C","USD",{"$f":"IFERROR(INDEX(BlendServicePrices[],MATCH(P34,BlendServicePrices[Blend Service Plans],0),MATCH($M$1,BlendServicePrices[#Headers],0)),\"\")","v":180}]
[null,"Self-Monitored (no voice)","è",{"$f":"IFERROR(VLOOKUP(B35,O35:P47,2,FALSE),\"\")","v":"SX"},"=",{"v":228,"d":"$ 228"},{"$nulls":8},"Self-Monitored (no voice)","SX","C","USD",{"$f":"IFERROR(INDEX(BlendServicePrices[],MATCH(P35,BlendServicePrices[Blend Service Plans],0),MATCH($M$1,BlendServicePrices[#Headers],0)),\"\")","v":228}]
[null,"Self-Monitored (no voice) + PTT","è",{"$f":"IFERROR(VLOOKUP(B36,O36:P48,2,FALSE),\"\")","v":"SXP"},"=",{"v":408,"d":"$ 408"},{"$nulls":8},"Self-Monitored (no voice) + PTT","SXP","C","USD",{"$f":"IFERROR(INDEX(BlendServicePrices[],MATCH(P36,BlendServicePrices[Blend Service Plans],0),MATCH($M$1,BlendServicePrices[#Headers],0)),\"\")","v":408}]
[null,"Self-Monitored + Voice","è",{"$f":"IFERROR(VLOOKUP(B37,O37:P48,2,FALSE),\"\")","v":"SV"},"=",{"v":480,"d":"$ 480"},{"$nulls":8},"Self-Monitored + Voice","SV","C","USD",{"$f":"IFERROR(INDEX(BlendServicePrices[],MATCH(P37,BlendServicePrices[Blend Service Plans],0),MATCH($M$1,BlendServicePrices[#Headers],0)),\"\")","v":480}]
[null,"Self-Monitored + Voice + PTT","è",{"$f":"IFERROR(VLOOKUP(B38,O38:P49,2,FALSE),\"\")","v":"SVP"},"=",{"v":660,"d":"$ 660"},{"$nulls":8},"Self-Monitored + Voice + PTT","SVP","C","USD",{"$f":"IFERROR(INDEX(BlendServicePrices[],MATCH(P38,BlendServicePrices[Blend Service Plans],0),MATCH($M$1,BlendServicePrices[#Headers],0)),\"\")","v":660}]
[null,"Blackline 24/7 Monitored (no voice)","è",{"$f":"IFERROR(VLOOKUP(B39,O39:P49,2,FALSE),\"\")","v":"BX"},"=",{"v":468,"d":"$ 468"},{"$nulls":8},"Blackline 24/7 Monitored (no voice)","BX","C","USD",{"$f":"IFERROR(INDEX(BlendServicePrices[],MATCH(P39,BlendServicePrices[Blend Service Plans],0),MATCH($M$1,BlendServicePrices[#Headers],0)),\"\")","v":468}]
[null,"Blackline 24/7 Monitored (no voice) + PTT","è",{"$f":"IFERROR(VLOOKUP(B40,O40:P49,2,FALSE),\"\")","v":"BXP"},"=",{"v":648,"d":"$ 648"},{"$nulls":8},"Blackline 24/7 Monitored (no voice) + PTT","BXP","C","USD",{"$f":"IFERROR(INDEX(BlendServicePrices[],MATCH(P40,BlendServicePrices[Blend Service Plans],0),MATCH($M$1,BlendServicePrices[#Headers],0)),\"\")","v":648}]
[null,"Blackline 24/7 Monitored + Voice","è",{"$f":"IFERROR(VLOOKUP(B41,O41:P49,2,FALSE),\"\")","v":"BV"},"=",{"v":720,"d":"$ 720"},{"$nulls":8},"Blackline 24/7 Monitored + Voice","BV","C","USD",{"$f":"IFERROR(INDEX(BlendServicePrices[],MATCH(P41,BlendServicePrices[Blend Service Plans],0),MATCH($M$1,BlendServicePrices[#Headers],0)),\"\")","v":720}]
[null,"Blackline 24/7 Monitored + Voice + PTT","è",{"$f":"IFERROR(VLOOKUP(B42,O42:P49,2,FALSE),\"\")","v":"BVP"},"=",{"v":900,"d":"$ 900"},{"$nulls":8},"Blackline 24/7 Monitored + Voice + PTT","BVP","C","USD",{"$f":"IFERROR(INDEX(BlendServicePrices[],MATCH(P42,BlendServicePrices[Blend Service Plans],0),MATCH($M$1,BlendServicePrices[#Headers],0)),\"\")","v":900}]
[{"$nulls":7},"-",{"$nulls":3},"+"]
[null,"Cartridge"]
[1,null,null,"Single Sensor","=",{"$f":"SUM(S45:T45)","v":{"v":253,"d":"$ 253"}},{"$nulls":5},{"$f":"S45","v":{"v":253,"d":"$ 253"}},{"$nulls":6},{"$f":"INDEX(BasePrices[],MATCH(\"1 Sensor Cartridge\",BasePrices[Type],0),MATCH($M$1,BasePrices[#Headers],0))+\nINDEX(ServicePrices[],MATCH(\"System Access\",ServicePrices[Type],0),MATCH($M$1,ServicePrices[#Headers],0))*12","v":253}]
[{"$nulls":11},"+"]
[null,"Cartridge Type"]
[null,"Single Sensor","è","S",{"$nulls":3},"S"]
[{"$nulls":7},"-"]
[null,"Toxic Sensor"]
[null,{"$f":"_xlfn.VSTACK(O51:O69)","v":"HF"},{"$f":"IF(B51=0,\"\",\"è\")","v":"è"},{"$f":"_xlfn.VSTACK(P51:P69)","v":"2"},{"$f":"IF(B51=0,\"\",\"=\")","v":"="},{"$f":"IFERROR(SUM(S51:S51),\"\")","v":{"v":420,"d":"$ 420"}},null,"H",{"$nulls":3},{"$f":"VLOOKUP(H51,D51:F69,3,FALSE)","v":{"v":0,"d":"$ 0"}},null,null,{"$f":"_xlfn.LET(\n_xlpm.Dtype,G7Sensors[Type1],_xlpm.Curr,G7Sensors[Currency],_xlpm.Stype,H48,_xlpm.SCurr,M1,\n_xlpm.myCalculation,_xlfn.VSTACK(_xlfn._xlws.FILTER(G7Sensors[],(_xlpm.Dtype=_xlpm.Stype)*(_xlpm.Curr=_xlpm.SCurr))),_xlpm.myCalculation)","v":"HF"},"2","S","USD",{"$f":"INDEX(SensorPricing[],MATCH(P51,SensorPricing[Sensor],0),MATCH($M$1,SensorPricing[#Headers],0))","v":420}]
[null,"NH3","è","A","=",{"v":60,"d":"$ 60"},{"$nulls":8},"NH3","A","S","USD",{"$f":"INDEX(SensorPricing[],MATCH(P52,SensorPricing[Sensor],0),MATCH($M$1,SensorPricing[#Headers],0))","v":60}]
[null,"High-range NH3 ","è","B","=",{"v":126,"d":"$ 126"},{"$nulls":8},"High-range NH3 ","B","S","USD",{"$f":"INDEX(SensorPricing[],MATCH(P53,SensorPricing[Sensor],0),MATCH($M$1,SensorPricing[#Headers],0))","v":126}]
[null,"CO2","è","C","=",{"v":240,"d":"$ 240"},{"$nulls":8},"CO2","C","S","USD",{"$f":"INDEX(SensorPricing[],MATCH(P54,SensorPricing[Sensor],0),MATCH($M$1,SensorPricing[#Headers],0))","v":240}]
[null,"O3","è","E","=",{"v":120,"d":"$ 120"},{"$nulls":8},"O3","E","S","USD",{"$f":"INDEX(SensorPricing[],MATCH(P55,SensorPricing[Sensor],0),MATCH($M$1,SensorPricing[#Headers],0))","v":120}]
[null,"H2S","è","H","=",{"v":0,"d":"$ 0"},{"$nulls":8},"H2S","H","S","USD",{"$f":"INDEX(SensorPricing[],MATCH(P56,SensorPricing[Sensor],0),MATCH($M$1,SensorPricing[#Headers],0))","v":0}]
[null,"High-range H2S ","è","J","=",{"v":120,"d":"$ 120"},{"$nulls":8},"High-range H2S ","J","S","USD",{"$f":"INDEX(SensorPricing[],MATCH(P57,SensorPricing[Sensor],0),MATCH($M$1,SensorPricing[#Headers],0))","v":120}]
[null,"NO2 ","è","K","=",{"v":60,"d":"$ 60"},{"$nulls":8},"NO2 ","K","S","USD",{"$f":"INDEX(SensorPricing[],MATCH(P58,SensorPricing[Sensor],0),MATCH($M$1,SensorPricing[#Headers],0))","v":60}]
[null,"Cl2","è","L","=",{"v":60,"d":"$ 60"},{"$nulls":8},"Cl2","L","S","USD",{"$f":"INDEX(SensorPricing[],MATCH(P59,SensorPricing[Sensor],0),MATCH($M$1,SensorPricing[#Headers],0))","v":60}]
[null,"CO ","è","M","=",{"v":0,"d":"$ 0"},{"$nulls":8},"CO ","M","S","USD",{"$f":"INDEX(SensorPricing[],MATCH(P60,SensorPricing[Sensor],0),MATCH($M$1,SensorPricing[#Headers],0))","v":0}]
[null,"HCN","è","N","=",{"v":60,"d":"$ 60"},{"$nulls":8},"HCN","N","S","USD",{"$f":"INDEX(SensorPricing[],MATCH(P61,SensorPricing[Sensor],0),MATCH($M$1,SensorPricing[#Headers],0))","v":60}]
[null,"O2","è","O","=",{"v":0,"d":"$ 0"},{"$nulls":8},"O2","O","S","USD",{"$f":"INDEX(SensorPricing[],MATCH(P62,SensorPricing[Sensor],0),MATCH($M$1,SensorPricing[#Headers],0))","v":0}]
[null,"CO-H ","è","R","=",{"v":0,"d":"$ 0"},{"$nulls":8},"CO-H ","R","S","USD",{"$f":"INDEX(SensorPricing[],MATCH(P63,SensorPricing[Sensor],0),MATCH($M$1,SensorPricing[#Headers],0))","v":0}]
[null,"SO2","è","S","=",{"v":0,"d":"$ 0"},{"$nulls":8},"SO2","S","S","USD",{"$f":"INDEX(SensorPricing[],MATCH(P64,SensorPricing[Sensor],0),MATCH($M$1,SensorPricing[#Headers],0))","v":0}]
[null,"High-range CO ","è","T","=",{"v":120,"d":"$ 120"},{"$nulls":8},"High-range CO ","T","S","USD",{"$f":"INDEX(SensorPricing[],MATCH(P65,SensorPricing[Sensor],0),MATCH($M$1,SensorPricing[#Headers],0))","v":120}]
[null,"PID","è","V","=",{"v":483,"d":"$ 483"},{"$nulls":8},"PID","V","S","USD",{"$f":"INDEX(SensorPricing[],MATCH(P66,SensorPricing[Sensor],0),MATCH($M$1,SensorPricing[#Headers],0))","v":483}]
[null,"ClO2","è","W","=",{"v":60,"d":"$ 60"},{"$nulls":8},"ClO2","W","S","USD",{"$f":"INDEX(SensorPricing[],MATCH(P67,SensorPricing[Sensor],0),MATCH($M$1,SensorPricing[#Headers],0))","v":60}]
[null,0,{"$f":"IF(B68=0,\"\",\"è\")","v":""},0,{"$f":"IF(B68=0,\"\",\"=\")","v":""},"",{"$nulls":12},{"$f":"INDEX(SensorPricing[],MATCH(P68,SensorPricing[Sensor],0),MATCH($M$1,SensorPricing[#Headers],0))","v":{"$error":"#N/A"}}]
[null,0,{"$f":"IF(B69=0,\"\",\"è\")","v":""},0,{"$f":"IF(B69=0,\"\",\"=\")","v":""},"",{"$nulls":12},{"$f":"INDEX(SensorPricing[],MATCH(P69,SensorPricing[Sensor],0),MATCH($M$1,SensorPricing[#Headers],0))","v":{"$error":"#N/A"}}]
[{"$nulls":7},"-"]
[null,"Term"]
[null,"One-Year","è","1Y",{"$nulls":3},"1Y",{"$nulls":9},"1",{"v":0,"d":"0%"}]
[null,"Two-Years","è","2Y",{"$nulls":13},"2",{"v":0.02,"d":"2%"}]
[null,"Three-Years","è","3Y",{"$nulls":13},"3",{"v":0.03,"d":"3%"}]
[null,"Four-Years","è","4Y",{"$nulls":13},"4",{"v":0.04,"d":"4%"}]
[null,"Five-Years","è","5Y",{"$nulls":13},"5",{"v":0.05,"d":"5%"}]

{"sheet":"G7 Multi-Gas Blend","index":11,"n_rows":114,"n_cols":19,"rows_kept":114,"merged":[[1,1,1,7],[2,1,12,1],[7,7,7,9],[9,7,9,9],[11,7,11,9],[14,1,14,5],[15,7,16,9],[15,11,16,11],[18,1,18,5],[19,7,20,9],[21,7,22,9],[22,1,22,5],[23,7,23,9],[24,7,25,9],[25,1,25,5],[26,7,28,9],[31,1,31,5],[32,7,41,9],[32,11,41,11],[42,7,53,9],[42,11,43,11],[43,1,43,5],[44,11,51,11],[44,21,47,21],[44,23,47,23],[52,11,57,11],[53,1,53,5],[54,7,55,9],[56,7,57,9],[57,1,57,5],[58,7,60,7],[58,9,106,9],[58,11,60,11],[61,11,62,11],[62,1,62,5],[63,7,81,7],[63,11,81,11],[82,11,83,11],[83,1,83,5],[84,7,102,7],[84,11,102,11],[103,11,104,11],[104,1,104,5],[105,7,106,7],[105,11,106,11],[107,7,108,9],[108,1,108,5],[109,7,113,9]]}
[null,{"$error":"#VALUE!"},{"$nulls":10},{"$f":"Currency","v":"USD"},null,null,"G7 Multi-Gas Blend"]
[null,"G7 Multi-Gas Blend",{"$nulls":10},{"$f":"PBYear","v":2025},"Quick Links"]
[null,{"$error":"#VALUE!"},{"$nulls":10},{"$f":"Revision","v":"Effective February 2, 2026 Rev 2"},"Main Menu"]
[{"$nulls":12},"Blackline Safety Confidential","Accessories"]
[{"$nulls":12},"All prices are an estimate - for a formal quote contact your local Blackline Safety representative"]
[{"$nulls":12},"Buying option not available in all countries. Please confirm with your local Blackline representative"]
[]
[{"$nulls":5},"Device",null,{"$f":"CONCATENATE(H16,H20,\"-\",H24,\"-\",H27)","v":"G7C-Q-FHMO-NA2"},{"$nulls":3},{"$f":"L16","v":{"v":677,"d":"$ 677"}},{"$f":"M1&\" upfront\"","v":"USD upfront"}]
[]
[{"$nulls":5},"Cartridge + Service",null,{"$f":"CONCATENATE(\"SER-\",H33,\"-\",H55,\"-\",J59,\"-\",H110)","v":"SER-XX-Q-FHMO-1Y"},{"$nulls":3},{"$f":"ROUNDUP(SUM(L33:L107)*(1-VLOOKUP(LEFT(H110,1),R110:S114,2,FALSE)),0)","v":{"v":380,"d":"$ 380"}},{"$f":"M1&\" /year\"","v":"USD /year"}]
[]
[{"$nulls":11},{"$f":"L10*(LEFT(H110,1))","v":{"v":380,"d":"$ 380"}},{"$f":"M1&\" /term\"","v":"USD /term"}]
[]
[null,"Device"]
[null,"Buying Option",{"$nulls":16},"Price"]
[null,"Blend","è","G7",{"$nulls":3},{"$f":"D16","v":"G7"},{"$nulls":3},{"$f":"F17","v":{"v":677,"d":"$ 677"}}]
[1,null,null,"Device","=",{"$f":"SUM(S17:S17)","v":{"v":677,"d":"$ 677"}},{"$nulls":12},{"$f":"INDEX(BasePrices[],MATCH(\"G7 Blend Base Price\",BasePrices[Type],0),MATCH($M$1,BasePrices[#Headers],0))","v":677}]
[]
[null,"Connectivity"]
[null,"Cellular","è","C",{"$nulls":3},"C"]
[null,{"$f":"IF(OR(M1=\"EUR\",M1=\"GBP\"),\"\",\"Satellite (900 MHz)*\")","v":"Satellite (900 MHz)*"},{"$f":"IF(B21=\"\",\"\",\"è\")","v":"è"},{"$f":"IF(OR(M1=\"EUR\",M1=\"GBP\"),\"\",\"X\")","v":"X"}]
[{"$nulls":7},"-",{"$nulls":6},{"$f":"IF(OR(M1=\"EUR\",M1=\"GBP\"),\"\",\"*Bridge and satellite service plan required\")","v":"*Bridge and satellite service plan required"}]
[null,"Cartridge"]
[null,"Configured below",{"$nulls":5},{"$f":"CONCATENATE(H55,\"-\",J59)","v":"Q-FHMO"}]
[{"$nulls":7},"-"]
[null,"Country Code"]
[null,{"$f":"_xlfn.VSTACK(O27:O29)","v":"North America (3G/4G) - G7C"},{"$f":"IF(B27=\"\",\"\",\"è\")","v":"è"},{"$f":"IFERROR(VLOOKUP(B27,Lookup!$F$3:$G$12,2,FALSE),\"\")","v":"NA2"},{"$nulls":3},"NA2",{"$nulls":6},{"$f":"_xlfn.LET(\n_xlpm.Dtype,G7CountryCodes[Type],_xlpm.Curr,G7CountryCodes[Currency],_xlpm.SType,H20,_xlpm.SCurr,M1,\n_xlpm.myCalculation,_xlfn.VSTACK(_xlfn._xlws.FILTER(G7CountryCodes[],(_xlpm.Dtype=_xlpm.SType)*(_xlpm.Curr=_xlpm.SCurr))),_xlpm.myCalculation)","v":"North America (3G/4G) - G7C"},"NA2","C","USD"]
[null,"Outside of North America (3G/4G) - G7C",{"$f":"IF(B28=0,\"\",\"è\")","v":"è"},{"$f":"IFERROR(VLOOKUP(B28,Lookup!$F$3:$G$12,2,FALSE),\"\")","v":"EU2"},{"$nulls":10},"Outside of North America (3G/4G) - G7C","EU2","C","USD"]
[null,"Brazil (3G/4G) - G7C",{"$f":"IF(B29=0,\"\",\"è\")","v":"è"},{"$f":"IFERROR(VLOOKUP(B29,Lookup!$F$3:$G$12,2,FALSE),\"\")","v":"BR2"},{"$nulls":10},"Brazil (3G/4G) - G7C","BR2","C","USD"]
[]
[null,"Cartridge + Service"]
[null,"Service Plan"]
[null,{"$f":"_xlfn.VSTACK(O33:O42)","v":"System Access"},{"$f":"IF(B33=0,\"\",\"è\")","v":"è"},{"$f":"IFERROR(VLOOKUP(B33,O33:P42,2,FALSE),\"\")","v":"XX"},{"$f":"IF(B33=0,\"\",\"=\")","v":"="},{"$f":"S33","v":{"v":0,"d":"$ 0"}},null,"XX",{"$nulls":3},{"$f":"VLOOKUP(H33,D33:F42,3,FALSE)","v":{"v":0,"d":"$ 0"}},null,null,{"$f":"_xlfn.LET(\n_xlpm.Dtype,G7ServicePlans[Type],_xlpm.Curr,G7ServicePlans[Currency],_xlpm.Stype,H20,_xlpm.SCurr,M1,\n_xlpm.myCalculation,_xlfn.VSTACK(_xlfn._xlws.FILTER(G7ServicePlans[],(_xlpm.Dtype=_xlpm.Stype)*(_xlpm.Curr=_xlpm.SCurr))),_xlpm.myCalculation)","v":"System Access"},"XX","C","USD",{"$f":"IFERROR(INDEX(BlendServicePrices[],MATCH(P33,BlendServicePrices[Blend Service Plans],0),MATCH($M$1,BlendServicePrices[#Headers],0)),\"\")","v":0}]
[null,"System Access + PTT","è",{"$f":"IFERROR(VLOOKUP(B34,O34:P43,2,FALSE),\"\")","v":"XXP"},"=",{"$f":"S34","v":{"v":180,"d":"$ 180"}},{"$nulls":8},"System Access + PTT","XXP","C","USD",{"$f":"IFERROR(INDEX(BlendServicePrices[],MATCH(P34,BlendServicePrices[Blend Service Plans],0),MATCH($M$1,BlendServicePrices[#Headers],0)),\"\")","v":180}]
[null,"Self-Monitored (no voice)","è",{"$f":"IFERROR(VLOOKUP(B35,O35:P54,2,FALSE),\"\")","v":"SX"},"=",{"v":228,"d":"$ 228"},{"$nulls":8},"Self-Monitored (no voice)","SX","C","USD",{"$f":"IFERROR(INDEX(BlendServicePrices[],MATCH(P35,BlendServicePrices[Blend Service Plans],0),MATCH($M$1,BlendServicePrices[#Headers],0)),\"\")","v":228}]
[null,"Self-Monitored (no voice) + PTT","è","SXP","=",{"v":408,"d":"$ 408"},{"$nulls":8},"Self-Monitored (no voice) + PTT","SXP","C","USD",{"$f":"IFERROR(INDEX(BlendServicePrices[],MATCH(P36,BlendServicePrices[Blend Service Plans],0),MATCH($M$1,BlendServicePrices[#Headers],0)),\"\")","v":408}]
[null,"Self-Monitored + Voice","è","SV","=",{"v":480,"d":"$ 480"},{"$nulls":8},"Self-Monitored + Voice","SV","C","USD",{"$f":"IFERROR(INDEX(BlendServicePrices[],MATCH(P37,BlendServicePrices[Blend Service Plans],0),MATCH($M$1,BlendServicePrices[#Headers],0)),\"\")","v":480}]
[null,"Self-Monitored + Voice + PTT","è","SVP","=",{"v":660,"d":"$ 660"},{"$nulls":8},"Self-Monitored + Voice + PTT","SVP","C","USD",{"$f":"IFERROR(INDEX(BlendServicePrices[],MATCH(P38,BlendServicePrices[Blend Service Plans],0),MATCH($M$1,BlendServicePrices[#Headers],0)),\"\")","v":660}]
[null,"Blackline 24/7 Monitored (no voice)","è","BX","=",{"v":468,"d":"$ 468"},{"$nulls":8},"Blackline 24/7 Monitored (no voice)","BX","C","USD",{"$f":"IFERROR(INDEX(BlendServicePrices[],MATCH(P39,BlendServicePrices[Blend Service Plans],0),MATCH($M$1,BlendServicePrices[#Headers],0)),\"\")","v":468}]
[null,"Blackline 24/7 Monitored (no voice) + PTT","è","BXP","=",{"v":648,"d":"$ 648"},{"$nulls":8},"Blackline 24/7 Monitored (no voice) + PTT","BXP","C","USD",{"$f":"IFERROR(INDEX(BlendServicePrices[],MATCH(P40,BlendServicePrices[Blend Service Plans],0),MATCH($M$1,BlendServicePrices[#Headers],0)),\"\")","v":648}]
[null,"Blackline 24/7 Monitored + Voice","è","BV","=",{"v":720,"d":"$ 720"},{"$nulls":8},"Blackline 24/7 Monitored + Voice","BV","C","USD",{"$f":"IFERROR(INDEX(BlendServicePrices[],MATCH(P41,BlendServicePrices[Blend Service Plans],0),MATCH($M$1,BlendServicePrices[#Headers],0)),\"\")","v":720}]
[null,"Blackline 24/7 Monitored + Voice + PTT","è","BVP","=",{"v":900,"d":"$ 900"},{"$nulls":8},"Blackline 24/7 Monitored + Voice + PTT","BVP","C","USD",{"$f":"IFERROR(INDEX(BlendServicePrices[],MATCH(P42,BlendServicePrices[Blend Service Plans],0),MATCH($M$1,BlendServicePrices[#Headers],0)),\"\")","v":900}]
[{"$nulls":7},"-",{"$nulls":3},"+"]
[null,"Cartridge"]
["Q1",null,null,"Multi 1-sensor","=",{"$f":"SUM(S45:S45)","v":{"v":253,"d":"$ 253"}},{"$nulls":5},{"$f":"VLOOKUP(Q63,A45:F52,6,FALSE)","v":{"v":380,"d":"$ 380"}},{"$nulls":5},1,{"$f":"INDEX(BasePrices[],MATCH(R45&\" Sensor Cartridge\",BasePrices[Type],0),MATCH($M$1,BasePrices[#Headers],0))+\nINDEX(ServicePrices[],MATCH(\"System Access\",ServicePrices[Type],0),MATCH($M$1,ServicePrices[#Headers],0))*12","v":253}]
["Q2",null,null,"Multi 2-sensor","=",{"$f":"SUM(S46:S46)","v":{"v":306,"d":"$ 306"}},{"$nulls":11},2,{"$f":"INDEX(BasePrices[],MATCH(R46&\" Sensor Cartridge\",BasePrices[Type],0),MATCH($M$1,BasePrices[#Headers],0))+\nINDEX(ServicePrices[],MATCH(\"System Access\",ServicePrices[Type],0),MATCH($M$1,ServicePrices[#Headers],0))*12","v":306}]
["Q3",null,null,"Multi 3-sensor","=",{"v":345,"d":"$ 345"},{"$nulls":11},3,{"$f":"INDEX(BasePrices[],MATCH(R47&\" Sensor Cartridge\",BasePrices[Type],0),MATCH($M$1,BasePrices[#Headers],0))+\nINDEX(ServicePrices[],MATCH(\"System Access\",ServicePrices[Type],0),MATCH($M$1,ServicePrices[#Headers],0))*12","v":345}]
["Q4",null,null,"Multi 4-sensor","=",{"v":380,"d":"$ 380"},{"$nulls":11},4,{"$f":"INDEX(BasePrices[],MATCH(R48&\" Sensor Cartridge\",BasePrices[Type],0),MATCH($M$1,BasePrices[#Headers],0))+\nINDEX(ServicePrices[],MATCH(\"System Access\",ServicePrices[Type],0),MATCH($M$1,ServicePrices[#Headers],0))*12","v":380}]
["P1",null,null,"Multi 1-sensor pump","=",{"v":435,"d":"$ 435"},{"$nulls":11},1,{"$f":"INDEX(BasePrices[],MATCH(R49&\" Sensor Cartridge\",BasePrices[Type],0),MATCH($M$1,BasePrices[#Headers],0))+\nINDEX(BasePrices[],MATCH(\"G7 Pump\",BasePrices[Type],0),MATCH($M$1,BasePrices[#Headers],0))+\nINDEX(ServicePrices[],MATCH(\"System Access\",ServicePrices[Type],0),MATCH($M$1,ServicePrices[#Headers],0))*12","v":435}]
["P2",null,null,"Multi 2-sensor pump","=",{"v":488,"d":"$ 488"},{"$nulls":11},2,{"$f":"INDEX(BasePrices[],MATCH(R50&\" Sensor Cartridge\",BasePrices[Type],0),MATCH($M$1,BasePrices[#Headers],0))+\nINDEX(BasePrices[],MATCH(\"G7 Pump\",BasePrices[Type],0),MATCH($M$1,BasePrices[#Headers],0))+\nINDEX(ServicePrices[],MATCH(\"System Access\",ServicePrices[Type],0),MATCH($M$1,ServicePrices[#Headers],0))*12","v":488}]
["P3",null,null,"Multi 3-sensor pump","=",{"v":527,"d":"$ 527"},{"$nulls":11},3,{"$f":"INDEX(BasePrices[],MATCH(R51&\" Sensor Cartridge\",BasePrices[Type],0),MATCH($M$1,BasePrices[#Headers],0))+\nINDEX(BasePrices[],MATCH(\"G7 Pump\",BasePrices[Type],0),MATCH($M$1,BasePrices[#Headers],0))+\nINDEX(ServicePrices[],MATCH(\"System Access\",ServicePrices[Type],0),MATCH($M$1,ServicePrices[#Headers],0))*12","v":527}]
["P4",null,null,"Multi 4-sensor pump","=",{"v":562,"d":"$ 562"},{"$nulls":11},4,{"$f":"INDEX(BasePrices[],MATCH(R52&\" Sensor Cartridge\",BasePrices[Type],0),MATCH($M$1,BasePrices[#Headers],0))+\nINDEX(BasePrices[],MATCH(\"G7 Pump\",BasePrices[Type],0),MATCH($M$1,BasePrices[#Headers],0))+\nINDEX(ServicePrices[],MATCH(\"System Access\",ServicePrices[Type],0),MATCH($M$1,ServicePrices[#Headers],0))*12","v":562}]
[{"$nulls":11},"+"]
[null,"Cartridge Type"]
[null,"Diffusion","è","Q",{"$nulls":3},"Q"]
[null,"Pump","è","P"]
[{"$nulls":7},"-"]
[null,"Combustible Sensor"]
[null,"LEL-IR","è","I","=",{"$f":"SUM(S59:S59)","v":{"v":60,"d":"$ 60"}},null,"F",null,{"$f":"CONCATENATE(P59,P60,P61,P62)","v":"FHMO"},null,{"$f":"VLOOKUP(H59,D59:F61,3,FALSE)","v":{"v":0,"d":"$ 0"}},null,null,{"$f":"H59","v":"F"},{"$f":"_xlfn._xlws.SORT(O59:O62)","v":"F"},{"$f":"IF(P59=\"X\",1,0)","v":0},null,{"$f":"INDEX(SensorPricing[],MATCH(D59,SensorPricing[Sensor],0),MATCH($M$1,SensorPricing[#Headers],0))","v":60}]
[null,"LEL-MPS","è","F","=",{"$f":"SUM(S60:S60)","v":{"v":0,"d":"$ 0"}},{"$nulls":8},{"$f":"H64","v":"H"},"H",{"$f":"IF(P60=\"X\",1,0)","v":0},null,{"$f":"INDEX(SensorPricing[],MATCH(D60,SensorPricing[Sensor],0),MATCH($M$1,SensorPricing[#Headers],0))","v":0}]
[null,"None","è","X","=",{"$f":"SUM(S61:S61)","v":{"v":0,"d":"$ 0"}},{"$nulls":8},{"$f":"H85","v":"M"},"M",{"$f":"IF(P61=\"X\",1,0)","v":0},null,{"$f":"INDEX(SensorPricing[],MATCH(D61,SensorPricing[Sensor],0),MATCH($M$1,SensorPricing[#Headers],0))","v":0}]
[{"$nulls":11},"+",null,null,{"$f":"H106","v":"O"},"O",{"$f":"IF(P62=\"X\",1,0)","v":0}]
[null,"Toxic Sensor #1",{"$nulls":14},{"$f":"H55&4-SUM(Q59:Q62)","v":"Q4"}]
[null,{"$f":"_xlfn.VSTACK(O64:O82)","v":"HF"},{"$f":"IF(B64=0,\"\",\"è\")","v":"è"},{"$f":"_xlfn.VSTACK(P64:P82)","v":"2"},{"$f":"IF(B64=0,\"\",\"=\")","v":"="},{"$f":"IFERROR(SUM(S64:S64),\"\")","v":{"v":420,"d":"$ 420"}},null,"H",{"$nulls":3},{"$f":"VLOOKUP(H64,D64:F82,3,FALSE)","v":{"v":0,"d":"$ 0"}},null,null,{"$f":"_xlfn.LET(\n_xlpm.Dtype,G7Sensors[Type1],_xlpm.Curr,G7Sensors[Currency],_xlpm.Stype,H55&1,_xlpm.SCurr,M1,\n_xlpm.myCalculation,_xlfn.VSTACK(_xlfn._xlws.FILTER(G7Sensors[],(_xlpm.Dtype=_xlpm.Stype)*(_xlpm.Curr=_xlpm.SCurr))),_xlpm.myCalculation)","v":"HF"},"2","Q1","USD",{"$f":"INDEX(SensorPricing[],MATCH(D64,SensorPricing[Sensor],0),MATCH($M$1,SensorPricing[#Headers],0))","v":420}]
[null,"NH3","è","A","=",{"v":60,"d":"$ 60"},{"$nulls":8},"NH3","A","Q1","USD",{"$f":"INDEX(SensorPricing[],MATCH(D65,SensorPricing[Sensor],0),MATCH($M$1,SensorPricing[#Headers],0))","v":60}]
[null,"High-range NH3 ","è","B","=",{"v":126,"d":"$ 126"},{"$nulls":8},"High-range NH3 ","B","Q1","USD",{"$f":"INDEX(SensorPricing[],MATCH(D66,SensorPricing[Sensor],0),MATCH($M$1,SensorPricing[#Headers],0))","v":126}]
[null,"CO2","è","C","=",{"v":240,"d":"$ 240"},{"$nulls":8},"CO2","C","Q1","USD",{"$f":"INDEX(SensorPricing[],MATCH(D67,SensorPricing[Sensor],0),MATCH($M$1,SensorPricing[#Headers],0))","v":240}]
[null,"O3","è","E","=",{"v":120,"d":"$ 120"},{"$nulls":8},"O3","E","Q1","USD",{"$f":"INDEX(SensorPricing[],MATCH(D68,SensorPricing[Sensor],0),MATCH($M$1,SensorPricing[#Headers],0))","v":120}]
[null,"H2S","è","H","=",{"v":0,"d":"$ 0"},{"$nulls":8},"H2S","H","Q1","USD",{"$f":"INDEX(SensorPricing[],MATCH(D69,SensorPricing[Sensor],0),MATCH($M$1,SensorPricing[#Headers],0))","v":0}]
[null,"High-range H2S ","è","J","=",{"v":120,"d":"$ 120"},{"$nulls":8},"High-range H2S ","J","Q1","USD",{"$f":"INDEX(SensorPricing[],MATCH(D70,SensorPricing[Sensor],0),MATCH($M$1,SensorPricing[#Headers],0))","v":120}]
[null,"NO2 ","è","K","=",{"v":60,"d":"$ 60"},{"$nulls":8},"NO2 ","K","Q1","USD",{"$f":"INDEX(SensorPricing[],MATCH(D71,SensorPricing[Sensor],0),MATCH($M$1,SensorPricing[#Headers],0))","v":60}]
[null,"Cl2","è","L","=",{"v":60,"d":"$ 60"},{"$nulls":8},"Cl2","L","Q1","USD",{"$f":"INDEX(SensorPricing[],MATCH(D72,SensorPricing[Sensor],0),MATCH($M$1,SensorPricing[#Headers],0))","v":60}]
[null,"CO ","è","M","=",{"v":0,"d":"$ 0"},{"$nulls":8},"CO ","M","Q1","USD",{"$f":"INDEX(SensorPricing[],MATCH(D73,SensorPricing[Sensor],0),MATCH($M$1,SensorPricing[#Headers],0))","v":0}]
[null,"HCN","è","N","=",{"v":60,"d":"$ 60"},{"$nulls":8},"HCN","N","Q1","USD",{"$f":"INDEX(SensorPricing[],MATCH(D74,SensorPricing[Sensor],0),MATCH($M$1,SensorPricing[#Headers],0))","v":60}]
[null,"CO-H ","è","R","=",{"v":0,"d":"$ 0"},{"$nulls":8},"CO-H ","R","Q1","USD",{"$f":"INDEX(SensorPricing[],MATCH(D75,SensorPricing[Sensor],0),MATCH($M$1,SensorPricing[#Headers],0))","v":0}]
[null,"SO2","è","S","=",{"v":0,"d":"$ 0"},{"$nulls":8},"SO2","S","Q1","USD",{"$f":"INDEX(SensorPricing[],MATCH(D76,SensorPricing[Sensor],0),MATCH($M$1,SensorPricing[#Headers],0))","v":0}]
[null,"High-range CO ","è","T","=",{"v":120,"d":"$ 120"},{"$nulls":8},"High-range CO ","T","Q1","USD",{"$f":"INDEX(SensorPricing[],MATCH(D77,SensorPricing[Sensor],0),MATCH($M$1,SensorPricing[#Headers],0))","v":120}]
[null,"PID","è","V","=",{"v":483,"d":"$ 483"},{"$nulls":8},"PID","V","Q1","USD",{"$f":"INDEX(SensorPricing[],MATCH(D78,SensorPricing[Sensor],0),MATCH($M$1,SensorPricing[#Headers],0))","v":483}]
[null,"ClO2","è","W","=",{"v":60,"d":"$ 60"},{"$nulls":8},"ClO2","W","Q1","USD",{"$f":"INDEX(SensorPricing[],MATCH(D79,SensorPricing[Sensor],0),MATCH($M$1,SensorPricing[#Headers],0))","v":60}]
[null,"No Sensor ","è","X","=",{"v":0,"d":"$ 0"},{"$nulls":8},"No Sensor ","X","Q1","USD",{"$f":"INDEX(SensorPricing[],MATCH(D80,SensorPricing[Sensor],0),MATCH($M$1,SensorPricing[#Headers],0))","v":0}]
[null,0,{"$f":"IF(B81=0,\"\",\"è\")","v":""},0,{"$f":"IF(B81=0,\"\",\"=\")","v":""},"",{"$nulls":12},{"$f":"INDEX(SensorPricing[],MATCH(D81,SensorPricing[Sensor],0),MATCH($M$1,SensorPricing[#Headers],0))","v":{"$error":"#N/A"}}]
[null,0,{"$f":"IF(B82=0,\"\",\"è\")","v":""},0,{"$f":"IF(B82=0,\"\",\"=\")","v":""},"",{"$nulls":12},{"$f":"INDEX(SensorPricing[],MATCH(D82,SensorPricing[Sensor],0),MATCH($M$1,SensorPricing[#Headers],0))","v":{"$error":"#N/A"}}]
[{"$nulls":11},"+"]
[null,"Toxic Sensor #2"]
[null,{"$f":"_xlfn.VSTACK(O85:O103)","v":"HF"},{"$f":"IF(B85=0,\"\",\"è\")","v":"è"},{"$f":"_xlfn.VSTACK(P85:P103)","v":"2"},{"$f":"IF(B85=0,\"\",\"=\")","v":"="},{"$f":"IFERROR(SUM(S85:S85),\"\")","v":{"v":420,"d":"$ 420"}},null,"M",{"$nulls":3},{"$f":"VLOOKUP(H85,D85:F103,3,FALSE)","v":{"v":0,"d":"$ 0"}},null,null,{"$f":"_xlfn.LET(\n_xlpm.Dtype,G7Sensors[Type1],_xlpm.Curr,G7Sensors[Currency],_xlpm.Stype,H55&2,_xlpm.SCurr,M1,\n_xlpm.myCalculation,_xlfn.VSTACK(_xlfn._xlws.FILTER(G7Sensors[],(_xlpm.Dtype=_xlpm.Stype)*(_xlpm.Curr=_xlpm.SCurr))),_xlpm.myCalculation)","v":"HF"},"2","Q2","USD",{"$f":"INDEX(SensorPricing[],MATCH(D85,SensorPricing[Sensor],0),MATCH($M$1,SensorPricing[#Headers],0))","v":420}]
[null,"NH3","è","A","=",{"v":60,"d":"$ 60"},{"$nulls":8},"NH3","A","Q2","USD",{"$f":"INDEX(SensorPricing[],MATCH(D86,SensorPricing[Sensor],0),MATCH($M$1,SensorPricing[#Headers],0))","v":60}]
[null,"High-range NH3 ","è","B","=",{"v":126,"d":"$ 126"},{"$nulls":8},"High-range NH3 ","B","Q2","USD",{"$f":"INDEX(SensorPricing[],MATCH(D87,SensorPricing[Sensor],0),MATCH($M$1,SensorPricing[#Headers],0))","v":126}]
[null,"COSH","è","D","=",{"v":60,"d":"$ 60"},{"$nulls":8},"COSH","D","Q2","USD",{"$f":"INDEX(SensorPricing[],MATCH(D88,SensorPricing[Sensor],0),MATCH($M$1,SensorPricing[#Headers],0))","v":60}]
[null,"O3","è","E","=",{"v":120,"d":"$ 120"},{"$nulls":8},"O3","E","Q2","USD",{"$f":"INDEX(SensorPricing[],MATCH(D89,SensorPricing[Sensor],0),MATCH($M$1,SensorPricing[#Headers],0))","v":120}]
[null,"H2S","è","H","=",{"v":0,"d":"$ 0"},{"$nulls":8},"H2S","H","Q2","USD",{"$f":"INDEX(SensorPricing[],MATCH(D90,SensorPricing[Sensor],0),MATCH($M$1,SensorPricing[#Headers],0))","v":0}]
[null,"High-range H2S ","è","J","=",{"v":120,"d":"$ 120"},{"$nulls":8},"High-range H2S ","J","Q2","USD",{"$f":"INDEX(SensorPricing[],MATCH(D91,SensorPricing[Sensor],0),MATCH($M$1,SensorPricing[#Headers],0))","v":120}]
[null,"NO2 ","è","K","=",{"v":60,"d":"$ 60"},{"$nulls":8},"NO2 ","K","Q2","USD",{"$f":"INDEX(SensorPricing[],MATCH(D92,SensorPricing[Sensor],0),MATCH($M$1,SensorPricing[#Headers],0))","v":60}]
[null,"Cl2","è","L","=",{"v":60,"d":"$ 60"},{"$nulls":8},"Cl2","L","Q2","USD",{"$f":"INDEX(SensorPricing[],MATCH(D93,SensorPricing[Sensor],0),MATCH($M$1,SensorPricing[#Headers],0))","v":60}]
[null,"CO ","è","M","=",{"v":0,"d":"$ 0"},{"$nulls":8},"CO ","M","Q2","USD",{"$f":"INDEX(SensorPricing[],MATCH(D94,SensorPricing[Sensor],0),MATCH($M$1,SensorPricing[#Headers],0))","v":0}]
[null,"HCN","è","N","=",{"v":60,"d":"$ 60"},{"$nulls":8},"HCN","N","Q2","USD",{"$f":"INDEX(SensorPricing[],MATCH(D95,SensorPricing[Sensor],0),MATCH($M$1,SensorPricing[#Headers],0))","v":60}]
[null,"CO-H ",{"$f":"IF($B$96=0,\"\",\"è\")","v":"è"},"R",{"$f":"IF($B$96=0,\"\",\"=\")","v":"="},{"v":0,"d":"$ 0"},{"$nulls":8},"CO-H ","R","Q2","USD",{"$f":"INDEX(SensorPricing[],MATCH(D96,SensorPricing[Sensor],0),MATCH($M$1,SensorPricing[#Headers],0))","v":0}]
[null,"SO2","è","S","=",{"v":0,"d":"$ 0"},{"$nulls":8},"SO2","S","Q2","USD",{"$f":"INDEX(SensorPricing[],MATCH(D97,SensorPricing[Sensor],0),MATCH($M$1,SensorPricing[#Headers],0))","v":0}]
[null,"High-range CO ","è","T","=",{"v":120,"d":"$ 120"},{"$nulls":8},"High-range CO ","T","Q2","USD",{"$f":"INDEX(SensorPricing[],MATCH(D98,SensorPricing[Sensor],0),MATCH($M$1,SensorPricing[#Headers],0))","v":120}]
[null,"ClO2","è","W","=",{"v":60,"d":"$ 60"},{"$nulls":8},"ClO2","W","Q2","USD",{"$f":"INDEX(SensorPricing[],MATCH(D99,SensorPricing[Sensor],0),MATCH($M$1,SensorPricing[#Headers],0))","v":60}]
[null,"No Sensor ","è","X","=",{"v":0,"d":"$ 0"},{"$nulls":8},"No Sensor ","X","Q2","USD",{"$f":"INDEX(SensorPricing[],MATCH(D100,SensorPricing[Sensor],0),MATCH($M$1,SensorPricing[#Headers],0))","v":0}]
[null,0,"",0,"","",{"$nulls":12},{"$f":"INDEX(SensorPricing[],MATCH(D101,SensorPricing[Sensor],0),MATCH($M$1,SensorPricing[#Headers],0))","v":{"$error":"#N/A"}}]
[null,0,"",0,"","",{"$nulls":12},{"$f":"INDEX(SensorPricing[],MATCH(D102,SensorPricing[Sensor],0),MATCH($M$1,SensorPricing[#Headers],0))","v":{"$error":"#N/A"}}]
[null,0,"",0,"","",{"$nulls":12},{"$f":"INDEX(SensorPricing[],MATCH(D103,SensorPricing[Sensor],0),MATCH($M$1,SensorPricing[#Headers],0))","v":{"$error":"#N/A"}}]
[{"$nulls":11},"+"]
[null,"Oxygen Sensor"]
[null,{"$f":"_xlfn.VSTACK(O106:O107)","v":"O2"},{"$f":"IF(B106=0,\"\",\"è\")","v":"è"},{"$f":"_xlfn.VSTACK(P106:P107)","v":"O"},{"$f":"IF(B106=0,\"\",\"=\")","v":"="},{"$f":"IFERROR(SUM(S106:T106),\"\")","v":{"v":0,"d":"$ 0"}},null,"O",{"$nulls":3},{"$f":"VLOOKUP(H106,D106:F107,3,FALSE)","v":{"v":0,"d":"$ 0"}},null,null,{"$f":"_xlfn._xlws.FILTER(_xlfn._xlws.FILTER(Oxygen[],Oxygen[Type]=H59),{1,1,0})","v":"O2"},"O",null,null,{"$f":"INDEX(SensorPricing[],MATCH(D106,SensorPricing[Sensor],0),MATCH($M$1,SensorPricing[#Headers],0))","v":0}]
[null,0,"",0,"",{"$f":"IFERROR(SUM(S107:T107),\"\")","v":""},{"$nulls":12},{"$f":"INDEX(SensorPricing[],MATCH(D107,SensorPricing[Sensor],0),MATCH($M$1,SensorPricing[#Headers],0))","v":{"$error":"#N/A"}}]
[{"$nulls":7},"-"]
[null,"Term"]
[null,"One-Year","è","1Y",{"$nulls":3},"1Y",{"$nulls":9},"1",{"v":0,"d":"0%"}]
[null,"Two-Years","è","2Y",{"$nulls":13},"2",{"v":0.02,"d":"2%"}]
[null,"Three-Years","è","3Y",{"$nulls":13},"3",{"v":0.03,"d":"3%"}]
[null,"Four-Years","è","4Y",{"$nulls":13},"4",{"v":0.04,"d":"4%"}]
[null,"Five-Years","è","5Y",{"$nulls":13},"5",{"v":0.05,"d":"5%"}]

{"sheet":"G7 Lone Worker Lease","index":12,"n_rows":46,"n_cols":20,"rows_kept":46,"merged":[[1,1,1,7],[2,1,12,1],[7,5,7,9],[9,7,9,9],[11,7,11,9],[13,1,13,5],[14,7,14,9],[15,7,16,9],[16,1,16,5],[17,7,26,9],[17,11,26,11],[27,7,28,9],[28,1,28,5],[29,7,29,9],[30,11,35,11],[31,1,31,5],[32,7,33,9],[34,7,35,9],[35,1,35,5],[36,7,36,9],[37,7,38,9],[38,1,38,5],[39,7,41,9],[42,7,43,9],[43,1,43,5],[44,7,45,9]]}
[null,{"$error":"#VALUE!"},{"$nulls":10},{"$f":"Currency","v":"USD"},null,null,"G7 Lone Worker Lease"]
[null,"G7 Lone Worker Lease",{"$nulls":10},{"$f":"PBYear","v":2025},"Quick Links"]
[null,{"$error":"#VALUE!"},{"$nulls":10},{"$f":"Revision","v":"Effective February 2, 2026 Rev 2"},"Main Menu"]
[{"$nulls":12},"Blackline Safety Confidential","Accessories"]
[{"$nulls":12},"All prices are an estimate - for a formal quote contact your local Blackline Safety representative"]
[{"$nulls":12},"Buying option not available in all countries. Please confirm with your local Blackline representative"]
[]
[{"$nulls":5},{"$f":"CONCATENATE(H15,\"-\",H18,\"-\",H30,H33,\"-\",H37,\"-\",H40,\"-\",H45)","v":"CMP-XX-G7C-Z-NA2-4Y"},{"$nulls":5},{"$f":"L18+L37","v":{"v":33,"d":"$ 33"}},{"$f":"M1&\" / mo\"","v":"USD / mo"}]
[]
[]
[]
[{"$nulls":5},"Additional Cartridge",null,{"$f":"CONCATENATE(H15,\"-CART-\",H37,\"-\",H45,\"-R\")","v":"CMP-CART-Z-4Y-R"},{"$nulls":3},{"$f":"T39","v":{"v":4,"d":"$ 4"}},{"$f":"M1&\" / mo\"","v":"USD / mo"}]
[]
[null,"Buying Option",{"$nulls":16},"Price","Addl Cart"]
[null,"Lease","è","CMP",{"$nulls":3},{"$f":"D15","v":"CMP"}]
[{"$nulls":7},"-"]
[null,"Service Plan"]
[null,{"$f":"_xlfn.VSTACK(O18:O27)","v":"System Access"},{"$f":"IF(B18=0,\"\",\"è\")","v":"è"},{"$f":"IFERROR(VLOOKUP(B18,O18:P27,2,FALSE),\"\")","v":"XX"},{"$f":"IF(B18=0,\"\",\"=\")","v":"="},{"$f":"S18","v":{"v":0,"d":"$ 0"}},null,"XX",{"$nulls":3},{"$f":"VLOOKUP(H18,D18:F27,3,FALSE)","v":{"v":0,"d":"$ 0"}},null,null,{"$f":"_xlfn.LET(\n_xlpm.Dtype,G7ServicePlans[Type],_xlpm.Curr,G7ServicePlans[Currency],_xlpm.Stype,H33,_xlpm.SCurr,M1,\n_xlpm.myCalculation,_xlfn.VSTACK(_xlfn._xlws.FILTER(G7ServicePlans[],(_xlpm.Dtype=_xlpm.Stype)*(_xlpm.Curr=_xlpm.SCurr))),_xlpm.myCalculation)","v":"System Access"},"XX","C","USD",{"$f":"IFERROR(INDEX(LeaseServicePrices[],MATCH(P18,LeaseServicePrices[Lease Service Plans],0),MATCH($M$1,LeaseServicePrices[#Headers],0)),\"\")","v":0}]
[null,"System Access + PTT","è",{"$f":"IFERROR(VLOOKUP(B19,O19:P27,2,FALSE),\"\")","v":"XXP"},"=",{"$f":"S19","v":{"v":18,"d":"$ 18"}},{"$nulls":8},"System Access + PTT","XXP","C","USD",{"$f":"IFERROR(INDEX(LeaseServicePrices[],MATCH(P19,LeaseServicePrices[Lease Service Plans],0),MATCH($M$1,LeaseServicePrices[#Headers],0)),\"\")","v":18}]
[null,"Self-Monitored (no voice)","è",{"$f":"IFERROR(VLOOKUP(B20,O20:P36,2,FALSE),\"\")","v":"SX"},"=",{"v":23,"d":"$ 23"},{"$nulls":8},"Self-Monitored (no voice)","SX","C","USD",{"$f":"IFERROR(INDEX(LeaseServicePrices[],MATCH(P20,LeaseServicePrices[Lease Service Plans],0),MATCH($M$1,LeaseServicePrices[#Headers],0)),\"\")","v":23}]
[null,"Self-Monitored (no voice) + PTT","è",{"$f":"IFERROR(VLOOKUP(B21,O21:P37,2,FALSE),\"\")","v":"SXP"},"=",{"v":41,"d":"$ 41"},{"$nulls":8},"Self-Monitored (no voice) + PTT","SXP","C","USD",{"$f":"IFERROR(INDEX(LeaseServicePrices[],MATCH(P21,LeaseServicePrices[Lease Service Plans],0),MATCH($M$1,LeaseServicePrices[#Headers],0)),\"\")","v":41}]
[null,"Self-Monitored + Voice","è",{"$f":"IFERROR(VLOOKUP(B22,O22:P37,2,FALSE),\"\")","v":"SV"},"=",{"v":48,"d":"$ 48"},{"$nulls":8},"Self-Monitored + Voice","SV","C","USD",{"$f":"IFERROR(INDEX(LeaseServicePrices[],MATCH(P22,LeaseServicePrices[Lease Service Plans],0),MATCH($M$1,LeaseServicePrices[#Headers],0)),\"\")","v":48}]
[null,"Self-Monitored + Voice + PTT","è",{"$f":"IFERROR(VLOOKUP(B23,O23:P38,2,FALSE),\"\")","v":"SVP"},"=",{"v":66,"d":"$ 66"},{"$nulls":8},"Self-Monitored + Voice + PTT","SVP","C","USD",{"$f":"IFERROR(INDEX(LeaseServicePrices[],MATCH(P23,LeaseServicePrices[Lease Service Plans],0),MATCH($M$1,LeaseServicePrices[#Headers],0)),\"\")","v":66}]
[null,"Blackline 24/7 Monitored (no voice)","è",{"$f":"IFERROR(VLOOKUP(B24,O24:P38,2,FALSE),\"\")","v":"BX"},"=",{"v":47,"d":"$ 47"},{"$nulls":8},"Blackline 24/7 Monitored (no voice)","BX","C","USD",{"$f":"IFERROR(INDEX(LeaseServicePrices[],MATCH(P24,LeaseServicePrices[Lease Service Plans],0),MATCH($M$1,LeaseServicePrices[#Headers],0)),\"\")","v":47}]
[null,"Blackline 24/7 Monitored (no voice) + PTT","è",{"$f":"IFERROR(VLOOKUP(B25,O25:P38,2,FALSE),\"\")","v":"BXP"},"=",{"v":65,"d":"$ 65"},{"$nulls":8},"Blackline 24/7 Monitored (no voice) + PTT","BXP","C","USD",{"$f":"IFERROR(INDEX(LeaseServicePrices[],MATCH(P25,LeaseServicePrices[Lease Service Plans],0),MATCH($M$1,LeaseServicePrices[#Headers],0)),\"\")","v":65}]
[null,"Blackline 24/7 Monitored + Voice","è",{"$f":"IFERROR(VLOOKUP(B26,O26:P38,2,FALSE),\"\")","v":"BV"},"=",{"v":72,"d":"$ 72"},{"$nulls":8},"Blackline 24/7 Monitored + Voice","BV","C","USD",{"$f":"IFERROR(INDEX(LeaseServicePrices[],MATCH(P26,LeaseServicePrices[Lease Service Plans],0),MATCH($M$1,LeaseServicePrices[#Headers],0)),\"\")","v":72}]
[null,"Blackline 24/7 Monitored + Voice + PTT","è",{"$f":"IFERROR(VLOOKUP(B27,O27:P38,2,FALSE),\"\")","v":"BVP"},"=",{"v":90,"d":"$ 90"},{"$nulls":8},"Blackline 24/7 Monitored + Voice + PTT","BVP","C","USD",{"$f":"IFERROR(INDEX(LeaseServicePrices[],MATCH(P27,LeaseServicePrices[Lease Service Plans],0),MATCH($M$1,LeaseServicePrices[#Headers],0)),\"\")","v":90}]
[{"$nulls":7},"-"]
[null,"Device Type"]
[null,"G7 Device","è","G7",{"$nulls":3},{"$f":"D30","v":"G7"}]
[]
[null,"Connectivity"]
[null,"Cellular","è","C",{"$nulls":3},"C"]
[null,{"$f":"IF(OR(M1=\"EUR\",M1=\"GBP\"),\"\",\"Satellite (900 MHz)*\")","v":"Satellite (900 MHz)*"},{"$f":"IF(B34=\"\",\"\",\"è\")","v":"è"},{"$f":"IF(OR(M1=\"EUR\",M1=\"GBP\"),\"\",\"X\")","v":"X"}]
[{"$nulls":7},"-",{"$nulls":6},{"$f":"IF(OR(M1=\"EUR\",M1=\"GBP\"),\"\",\"*Bridge and satellite service plan required\")","v":"*Bridge and satellite service plan required"}]
[null,"Cartridge Type"]
[null,"Lone Worker","è","Z",{"$nulls":3},"Z",{"$nulls":3},{"$f":"S37","v":{"v":33,"d":"$ 33"}},{"$nulls":6},{"$f":"ROUND(\n(INDEX(BasePrices[],MATCH(\"G7 Purchase Base Price\",BasePrices[Type],0),MATCH($M$1,BasePrices[#Headers],0))+\nINDEX(ServicePrices[],MATCH(\"System Access\",ServicePrices[Type],0),MATCH($M$1,ServicePrices[#Headers],0))*12*LeaseYears+\nINDEX(BasePrices[],MATCH(\"G7 Warranty Base Price\",BasePrices[Type],0),MATCH($M$1,BasePrices[#Headers],0))*(LeaseYears-2))*\nLease_Factor/LeaseMonths,0)","v":33},{"$f":"INDEX(BasePrices[],MATCH(\"Standard Cartridge\",BasePrices[Type],0),MATCH($M$1,BasePrices[#Headers],0))","v":47}]
[{"$nulls":7},"-",{"$nulls":11},{"$f":"IF(H45=\"3Y\",3,3.5)","v":3.5}]
[null,"Country Code",{"$nulls":17},{"$f":"ROUND(T37*T38*Lease_Factor/LeaseMonths,0)","v":4}]
[null,{"$f":"_xlfn.VSTACK(O40:O42)","v":"North America (3G/4G) - G7C"},{"$f":"IF(B40=\"\",\"\",\"è\")","v":"è"},{"$f":"IFERROR(VLOOKUP(B40,Lookup!$F$3:$G$12,2,FALSE),\"\")","v":"NA2"},{"$nulls":3},"NA2",{"$nulls":6},{"$f":"_xlfn.LET(\n_xlpm.Dtype,G7CountryCodes[Type],_xlpm.Curr,G7CountryCodes[Currency],_xlpm.SType,H33,_xlpm.SCurr,M1,\n_xlpm.myCalculation,_xlfn.VSTACK(_xlfn._xlws.FILTER(G7CountryCodes[],(_xlpm.Dtype=_xlpm.SType)*(_xlpm.Curr=_xlpm.SCurr))),_xlpm.myCalculation)","v":"North America (3G/4G) - G7C"},"NA2","C","USD"]
[null,"Outside of North America (3G/4G) - G7C",{"$f":"IF(B41=0,\"\",\"è\")","v":"è"},{"$f":"IFERROR(VLOOKUP(B41,Lookup!$F$3:$G$12,2,FALSE),\"\")","v":"EU2"},{"$nulls":10},"Outside of North America (3G/4G) - G7C","EU2","C","USD"]
[null,"Brazil (3G/4G) - G7C",{"$f":"IF(B42=0,\"\",\"è\")","v":"è"},{"$f":"IFERROR(VLOOKUP(B42,Lookup!$F$3:$G$12,2,FALSE),\"\")","v":"BR2"},{"$nulls":10},"Brazil (3G/4G) - G7C","BR2","C","USD"]
[{"$nulls":7},"-"]
[null,"Term"]
[null,"Three-Years","è","3Y",{"$nulls":3},"4Y",{"$nulls":9},{"$f":"LEFT(H45,1)","v":"4"},{"$f":"LEFT(H45,1)*12","v":48}]
[null,"Four-Years","è","4Y"]

{"sheet":"G7 Single-Gas Lease","index":13,"n_rows":67,"n_cols":22,"rows_kept":67,"merged":[[1,1,1,7],[2,1,12,1],[7,5,7,9],[9,7,9,9],[11,7,11,9],[13,1,13,5],[14,7,14,9],[15,7,16,9],[16,1,16,5],[17,7,26,9],[17,11,26,11],[27,7,28,9],[27,11,35,11],[28,1,28,5],[29,7,29,9],[31,1,31,5],[32,7,33,9],[34,7,35,9],[35,1,35,5],[36,7,36,9],[37,7,38,9],[37,11,38,11],[38,1,38,5],[39,7,57,9],[39,11,57,11],[58,7,59,9],[59,1,59,5],[60,7,62,9],[63,7,64,9],[64,1,64,5],[65,7,66,9]]}
[null,{"$error":"#VALUE!"},{"$nulls":10},{"$f":"Currency","v":"USD"},null,null,"G7 Single-Gas Lease"]
[null,"G7 Single-Gas Lease",{"$nulls":10},{"$f":"PBYear","v":2025},"Quick Links"]
[null,{"$error":"#VALUE!"},{"$nulls":10},{"$f":"Revision","v":"Effective February 2, 2026 Rev 2"},"Main Menu"]
[{"$nulls":12},"Blackline Safety Confidential","Accessories"]
[{"$nulls":12},"All prices are an estimate - for a formal quote contact your local Blackline Safety representative"]
[{"$nulls":12},"Buying option not available in all countries. Please confirm with your local Blackline representative"]
[]
[{"$nulls":5},{"$f":"CONCATENATE(H15,\"-\",H18,\"-\",H30,H33,\"-\",H37,\"-\",H40,\"-\",H61,\"-\",H66)","v":"CMP-XX-G7C-S-H-NA2-4Y"},{"$nulls":5},{"$f":"L18+L37+L40","v":{"v":38,"d":"$ 38"}},{"$f":"M1&\" / mo\"","v":"USD / mo"}]
[]
[]
[]
[{"$nulls":5},"Additional Cartridge",null,{"$f":"CONCATENATE(H15,\"-CART-\",H37,\"-\",H40,\"-\",H66,\"-R\")","v":"CMP-CART-S-H-4Y-R"},{"$nulls":3},{"$f":"T40","v":{"v":6,"d":"$ 6"}},{"$f":"M1&\" / mo\"","v":"USD / mo"}]
[]
[null,"Buying Option",{"$nulls":16},"Price","Addl Cart"]
[null,"Lease","è","CMP",{"$nulls":3},{"$f":"D15","v":"CMP"}]
[{"$nulls":7},"-"]
[null,"Service Plan"]
[null,{"$f":"_xlfn.VSTACK(O18:O27)","v":"System Access"},{"$f":"IF(B18=0,\"\",\"è\")","v":"è"},{"$f":"IFERROR(VLOOKUP(B18,O18:P27,2,FALSE),\"\")","v":"XX"},{"$f":"IF(B18=0,\"\",\"=\")","v":"="},{"$f":"S18","v":{"v":0,"d":"$ 0"}},null,"XX",{"$nulls":3},{"$f":"VLOOKUP(H18,D18:F27,3,FALSE)","v":{"v":0,"d":"$ 0"}},null,null,{"$f":"_xlfn.LET(\n_xlpm.Dtype,G7ServicePlans[Type],_xlpm.Curr,G7ServicePlans[Currency],_xlpm.SType,H33,_xlpm.SCurr,M1,\n_xlpm.myCalculation,_xlfn.VSTACK(_xlfn._xlws.FILTER(G7ServicePlans[],(_xlpm.Dtype=_xlpm.SType)*(_xlpm.Curr=_xlpm.SCurr))),_xlpm.myCalculation)","v":"System Access"},"XX","C","USD",{"$f":"IFERROR(INDEX(LeaseServicePrices[],MATCH(P18,LeaseServicePrices[Lease Service Plans],0),MATCH($M$1,LeaseServicePrices[#Headers],0)),\"\")","v":0}]
[null,"System Access + PTT","è",{"$f":"IFERROR(VLOOKUP(B19,O19:P28,2,FALSE),\"\")","v":"XXP"},"=",{"$f":"S19","v":{"v":18,"d":"$ 18"}},{"$nulls":8},"System Access + PTT","XXP","C","USD",{"$f":"IFERROR(INDEX(LeaseServicePrices[],MATCH(P19,LeaseServicePrices[Lease Service Plans],0),MATCH($M$1,LeaseServicePrices[#Headers],0)),\"\")","v":18}]
[null,"Self-Monitored (no voice)","è",{"$f":"IFERROR(VLOOKUP(B20,O20:P36,2,FALSE),\"\")","v":"SX"},"=",{"v":23,"d":"$ 23"},{"$nulls":8},"Self-Monitored (no voice)","SX","C","USD",{"$f":"IFERROR(INDEX(LeaseServicePrices[],MATCH(P20,LeaseServicePrices[Lease Service Plans],0),MATCH($M$1,LeaseServicePrices[#Headers],0)),\"\")","v":23}]
[null,"Self-Monitored (no voice) + PTT","è",{"$f":"IFERROR(VLOOKUP(B21,O21:P37,2,FALSE),\"\")","v":"SXP"},"=",{"v":41,"d":"$ 41"},{"$nulls":8},"Self-Monitored (no voice) + PTT","SXP","C","USD",{"$f":"IFERROR(INDEX(LeaseServicePrices[],MATCH(P21,LeaseServicePrices[Lease Service Plans],0),MATCH($M$1,LeaseServicePrices[#Headers],0)),\"\")","v":41}]
[null,"Self-Monitored + Voice","è",{"$f":"IFERROR(VLOOKUP(B22,O22:P37,2,FALSE),\"\")","v":"SV"},"=",{"v":48,"d":"$ 48"},{"$nulls":8},"Self-Monitored + Voice","SV","C","USD",{"$f":"IFERROR(INDEX(LeaseServicePrices[],MATCH(P22,LeaseServicePrices[Lease Service Plans],0),MATCH($M$1,LeaseServicePrices[#Headers],0)),\"\")","v":48}]
[null,"Self-Monitored + Voice + PTT","è",{"$f":"IFERROR(VLOOKUP(B23,O23:P38,2,FALSE),\"\")","v":"SVP"},"=",{"v":66,"d":"$ 66"},{"$nulls":8},"Self-Monitored + Voice + PTT","SVP","C","USD",{"$f":"IFERROR(INDEX(LeaseServicePrices[],MATCH(P23,LeaseServicePrices[Lease Service Plans],0),MATCH($M$1,LeaseServicePrices[#Headers],0)),\"\")","v":66}]
[null,"Blackline 24/7 Monitored (no voice)","è",{"$f":"IFERROR(VLOOKUP(B24,O24:P38,2,FALSE),\"\")","v":"BX"},"=",{"v":47,"d":"$ 47"},{"$nulls":8},"Blackline 24/7 Monitored (no voice)","BX","C","USD",{"$f":"IFERROR(INDEX(LeaseServicePrices[],MATCH(P24,LeaseServicePrices[Lease Service Plans],0),MATCH($M$1,LeaseServicePrices[#Headers],0)),\"\")","v":47}]
[null,"Blackline 24/7 Monitored (no voice) + PTT","è",{"$f":"IFERROR(VLOOKUP(B25,O25:P38,2,FALSE),\"\")","v":"BXP"},"=",{"v":65,"d":"$ 65"},{"$nulls":8},"Blackline 24/7 Monitored (no voice) + PTT","BXP","C","USD",{"$f":"IFERROR(INDEX(LeaseServicePrices[],MATCH(P25,LeaseServicePrices[Lease Service Plans],0),MATCH($M$1,LeaseServicePrices[#Headers],0)),\"\")","v":65}]
[null,"Blackline 24/7 Monitored + Voice","è",{"$f":"IFERROR(VLOOKUP(B26,O26:P38,2,FALSE),\"\")","v":"BV"},"=",{"v":72,"d":"$ 72"},{"$nulls":8},"Blackline 24/7 Monitored + Voice","BV","C","USD",{"$f":"IFERROR(INDEX(LeaseServicePrices[],MATCH(P26,LeaseServicePrices[Lease Service Plans],0),MATCH($M$1,LeaseServicePrices[#Headers],0)),\"\")","v":72}]
[null,"Blackline 24/7 Monitored + Voice + PTT","è",{"$f":"IFERROR(VLOOKUP(B27,O27:P38,2,FALSE),\"\")","v":"BVP"},"=",{"v":90,"d":"$ 90"},{"$nulls":8},"Blackline 24/7 Monitored + Voice + PTT","BVP","C","USD",{"$f":"IFERROR(INDEX(LeaseServicePrices[],MATCH(P27,LeaseServicePrices[Lease Service Plans],0),MATCH($M$1,LeaseServicePrices[#Headers],0)),\"\")","v":90}]
[{"$nulls":7},"-",{"$nulls":3},"+"]
[null,"Device Type"]
[1,"G7 Device","è","G7",{"$nulls":3},{"$f":"D30","v":"G7"}]
[]
[null,"Connectivity"]
[null,"Cellular","è","C",{"$nulls":3},"C"]
[null,{"$f":"IF(OR(M1=\"EUR\",M1=\"GBP\"),\"\",\"Satellite (900 MHz)*\")","v":"Satellite (900 MHz)*"},{"$f":"IF(B34=\"\",\"\",\"è\")","v":"è"},{"$f":"IF(OR(M1=\"EUR\",M1=\"GBP\"),\"\",\"X\")","v":"X"}]
[{"$nulls":7},"-",{"$nulls":6},{"$f":"IF(OR(M1=\"EUR\",M1=\"GBP\"),\"\",\"*Bridge and satellite service plan required\")","v":"*Bridge and satellite service plan required"}]
[null,"Cartridge Type"]
[null,"Single Sensor","è","S",{"$nulls":3},"S",{"$nulls":3},{"$f":"S37","v":{"v":38,"d":"$ 38"}},{"$nulls":6},{"$f":"ROUND(\n(INDEX(BasePrices[],MATCH(\"G7 Purchase Base Price\",BasePrices[Type],0),MATCH($M$1,BasePrices[#Headers],0))+\nINDEX(ServicePrices[],MATCH(\"System Access\",ServicePrices[Type],0),MATCH($M$1,ServicePrices[#Headers],0))*12*LeaseYears+\nINDEX(BasePrices[],MATCH(\"G7 Warranty Base Price\",BasePrices[Type],0),MATCH($M$1,BasePrices[#Headers],0))*(LeaseYears-2))*\nLease_Factor/LeaseMonths,0)+\nROUND(\n(INDEX(BasePrices[],MATCH(\"1 Sensor Cartridge\",BasePrices[Type],0),MATCH($M$1,BasePrices[#Headers],0))*2+\nINDEX(BasePrices[],MATCH(\"1 Sensor Cartridge\",BasePrices[Type],0),MATCH($M$1,BasePrices[#Headers],0))*(LeaseYears-2)*0.2777777)*\nLease_Factor/LeaseMonths,0)","v":38},{"$f":"INDEX(BasePrices[],MATCH(\"1 Sensor Cartridge\",BasePrices[Type],0),MATCH($M$1,BasePrices[#Headers],0))","v":73},null,{"$f":"ROUND(\n(INDEX(BasePrices[],MATCH(\"1 Sensor Cartridge\",BasePrices[Type],0),MATCH($M$1,BasePrices[#Headers],0))*2+\nINDEX(BasePrices[],MATCH(\"1 Sensor Cartridge\",BasePrices[Type],0),MATCH($M$1,BasePrices[#Headers],0))*(LeaseYears-2)*0.2777777)*\nLease_Factor/LeaseMonths,0)","v":5}]
[{"$nulls":7},"-",{"$nulls":3},"+",{"$nulls":7},{"$f":"INDEX(SensorPricing[],MATCH(H40,SensorPricing[Sensor],0),MATCH($M$1,SensorPricing[#Headers],0))","v":0}]
[null,"Toxic Sensor",{"$nulls":17},{"$f":"IF(H66=\"3Y\",3,3.5)","v":3.5}]
[null,{"$f":"_xlfn.VSTACK(O40:O58)","v":"HF"},{"$f":"IF(B40=0,\"\",\"è\")","v":"è"},{"$f":"_xlfn.VSTACK(P40:P58)","v":"2"},{"$f":"IF(B40=0,\"\",\"=\")","v":"="},{"$f":"IFERROR(SUM(S40:S40),\"\")","v":{"v":27,"d":"$ 27"}},null,"H",{"$nulls":3},{"$f":"VLOOKUP(H40,D40:F58,3,FALSE)","v":{"v":0,"d":"$ 0"}},null,null,{"$f":"_xlfn.LET(\n_xlpm.Dtype,G7Sensors[Type1],_xlpm.Curr,G7Sensors[Currency],_xlpm.Stype,H37,_xlpm.SCurr,M1,\n_xlpm.myCalculation,_xlfn.VSTACK(_xlfn._xlws.FILTER(G7Sensors[],(_xlpm.Dtype=_xlpm.Stype)*(_xlpm.Curr=_xlpm.SCurr))),_xlpm.myCalculation)","v":"HF"},"2","S","USD",{"$f":"ROUNDUP(\n(INDEX(SensorPricing[],MATCH(D40,SensorPricing[Sensor],0),MATCH($M$1,SensorPricing[#Headers],0))*2+\nINDEX(SensorPricing[],MATCH(D40,SensorPricing[Sensor],0),MATCH($M$1,SensorPricing[#Headers],0))*(LeaseYears-2)*0.2777777)*\nLease_Factor/LeaseMonths,0)","v":27},{"$f":"ROUND(SUM(T37:T38)*T39*Lease_Factor/LeaseMonths,0)","v":6}]
[null,"NH3","è","A","=",{"v":4,"d":"$ 4"},{"$nulls":8},"NH3","A","S","USD",{"$f":"ROUNDUP(\n(INDEX(SensorPricing[],MATCH(D41,SensorPricing[Sensor],0),MATCH($M$1,SensorPricing[#Headers],0))*2+\nINDEX(SensorPricing[],MATCH(D41,SensorPricing[Sensor],0),MATCH($M$1,SensorPricing[#Headers],0))*(LeaseYears-2)*0.2777777)*\nLease_Factor/LeaseMonths,0)","v":4}]
[null,"High-range NH3 ","è","B","=",{"v":9,"d":"$ 9"},{"$nulls":8},"High-range NH3 ","B","S","USD",{"$f":"ROUNDUP(\n(INDEX(SensorPricing[],MATCH(D42,SensorPricing[Sensor],0),MATCH($M$1,SensorPricing[#Headers],0))*2+\nINDEX(SensorPricing[],MATCH(D42,SensorPricing[Sensor],0),MATCH($M$1,SensorPricing[#Headers],0))*(LeaseYears-2)*0.2777777)*\nLease_Factor/LeaseMonths,0)","v":9}]
[null,"CO2","è","C","=",{"v":16,"d":"$ 16"},{"$nulls":8},"CO2","C","S","USD",{"$f":"ROUNDUP(\n(INDEX(SensorPricing[],MATCH(D43,SensorPricing[Sensor],0),MATCH($M$1,SensorPricing[#Headers],0))*2+\nINDEX(SensorPricing[],MATCH(D43,SensorPricing[Sensor],0),MATCH($M$1,SensorPricing[#Headers],0))*(LeaseYears-2)*0.2777777)*\nLease_Factor/LeaseMonths,0)","v":16}]
[null,"O3","è","E","=",{"v":8,"d":"$ 8"},{"$nulls":8},"O3","E","S","USD",{"$f":"ROUNDUP(\n(INDEX(SensorPricing[],MATCH(D44,SensorPricing[Sensor],0),MATCH($M$1,SensorPricing[#Headers],0))*2+\nINDEX(SensorPricing[],MATCH(D44,SensorPricing[Sensor],0),MATCH($M$1,SensorPricing[#Headers],0))*(LeaseYears-2)*0.2777777)*\nLease_Factor/LeaseMonths,0)","v":8}]
[null,"H2S","è","H","=",{"v":0,"d":"$ 0"},{"$nulls":8},"H2S","H","S","USD",{"$f":"ROUNDUP(\n(INDEX(SensorPricing[],MATCH(D45,SensorPricing[Sensor],0),MATCH($M$1,SensorPricing[#Headers],0))*2+\nINDEX(SensorPricing[],MATCH(D45,SensorPricing[Sensor],0),MATCH($M$1,SensorPricing[#Headers],0))*(LeaseYears-2)*0.2777777)*\nLease_Factor/LeaseMonths,0)","v":0}]
[null,"High-range H2S ","è","J","=",{"v":8,"d":"$ 8"},{"$nulls":8},"High-range H2S ","J","S","USD",{"$f":"ROUNDUP(\n(INDEX(SensorPricing[],MATCH(D46,SensorPricing[Sensor],0),MATCH($M$1,SensorPricing[#Headers],0))*2+\nINDEX(SensorPricing[],MATCH(D46,SensorPricing[Sensor],0),MATCH($M$1,SensorPricing[#Headers],0))*(LeaseYears-2)*0.2777777)*\nLease_Factor/LeaseMonths,0)","v":8}]
[null,"NO2 ","è","K","=",{"v":4,"d":"$ 4"},{"$nulls":8},"NO2 ","K","S","USD",{"$f":"ROUNDUP(\n(INDEX(SensorPricing[],MATCH(D47,SensorPricing[Sensor],0),MATCH($M$1,SensorPricing[#Headers],0))*2+\nINDEX(SensorPricing[],MATCH(D47,SensorPricing[Sensor],0),MATCH($M$1,SensorPricing[#Headers],0))*(LeaseYears-2)*0.2777777)*\nLease_Factor/LeaseMonths,0)","v":4}]
[null,"Cl2","è","L","=",{"v":4,"d":"$ 4"},{"$nulls":8},"Cl2","L","S","USD",{"$f":"ROUNDUP(\n(INDEX(SensorPricing[],MATCH(D48,SensorPricing[Sensor],0),MATCH($M$1,SensorPricing[#Headers],0))*2+\nINDEX(SensorPricing[],MATCH(D48,SensorPricing[Sensor],0),MATCH($M$1,SensorPricing[#Headers],0))*(LeaseYears-2)*0.2777777)*\nLease_Factor/LeaseMonths,0)","v":4}]
[null,"CO ","è","M","=",{"v":0,"d":"$ 0"},{"$nulls":8},"CO ","M","S","USD",{"$f":"ROUNDUP(\n(INDEX(SensorPricing[],MATCH(D49,SensorPricing[Sensor],0),MATCH($M$1,SensorPricing[#Headers],0))*2+\nINDEX(SensorPricing[],MATCH(D49,SensorPricing[Sensor],0),MATCH($M$1,SensorPricing[#Headers],0))*(LeaseYears-2)*0.2777777)*\nLease_Factor/LeaseMonths,0)","v":0}]
[null,"HCN","è","N","=",{"v":4,"d":"$ 4"},{"$nulls":8},"HCN","N","S","USD",{"$f":"ROUNDUP(\n(INDEX(SensorPricing[],MATCH(D50,SensorPricing[Sensor],0),MATCH($M$1,SensorPricing[#Headers],0))*2+\nINDEX(SensorPricing[],MATCH(D50,SensorPricing[Sensor],0),MATCH($M$1,SensorPricing[#Headers],0))*(LeaseYears-2)*0.2777777)*\nLease_Factor/LeaseMonths,0)","v":4}]
[null,"O2","è","O","=",{"v":0,"d":"$ 0"},{"$nulls":8},"O2","O","S","USD",{"$f":"ROUNDUP(\n(INDEX(SensorPricing[],MATCH(D51,SensorPricing[Sensor],0),MATCH($M$1,SensorPricing[#Headers],0))*2+\nINDEX(SensorPricing[],MATCH(D51,SensorPricing[Sensor],0),MATCH($M$1,SensorPricing[#Headers],0))*(LeaseYears-2)*0.2777777)*\nLease_Factor/LeaseMonths,0)","v":0}]
[null,"CO-H ","è","R","=",{"v":0,"d":"$ 0"},{"$nulls":8},"CO-H ","R","S","USD",{"$f":"ROUNDUP(\n(INDEX(SensorPricing[],MATCH(D52,SensorPricing[Sensor],0),MATCH($M$1,SensorPricing[#Headers],0))*2+\nINDEX(SensorPricing[],MATCH(D52,SensorPricing[Sensor],0),MATCH($M$1,SensorPricing[#Headers],0))*(LeaseYears-2)*0.2777777)*\nLease_Factor/LeaseMonths,0)","v":0}]
[null,"SO2","è","S","=",{"v":0,"d":"$ 0"},{"$nulls":8},"SO2","S","S","USD",{"$f":"ROUNDUP(\n(INDEX(SensorPricing[],MATCH(D53,SensorPricing[Sensor],0),MATCH($M$1,SensorPricing[#Headers],0))*2+\nINDEX(SensorPricing[],MATCH(D53,SensorPricing[Sensor],0),MATCH($M$1,SensorPricing[#Headers],0))*(LeaseYears-2)*0.2777777)*\nLease_Factor/LeaseMonths,0)","v":0}]
[null,"High-range CO ","è","T","=",{"v":8,"d":"$ 8"},{"$nulls":8},"High-range CO ","T","S","USD",{"$f":"ROUNDUP(\n(INDEX(SensorPricing[],MATCH(D54,SensorPricing[Sensor],0),MATCH($M$1,SensorPricing[#Headers],0))*2+\nINDEX(SensorPricing[],MATCH(D54,SensorPricing[Sensor],0),MATCH($M$1,SensorPricing[#Headers],0))*(LeaseYears-2)*0.2777777)*\nLease_Factor/LeaseMonths,0)","v":8}]
[null,"PID","è","V","=",{"v":31,"d":"$ 31"},{"$nulls":8},"PID","V","S","USD",{"$f":"ROUNDUP(\n(INDEX(SensorPricing[],MATCH(D55,SensorPricing[Sensor],0),MATCH($M$1,SensorPricing[#Headers],0))*2+\nINDEX(SensorPricing[],MATCH(D55,SensorPricing[Sensor],0),MATCH($M$1,SensorPricing[#Headers],0))*(LeaseYears-2)*0.2777777)*\nLease_Factor/LeaseMonths,0)","v":31}]
[null,"ClO2","è","W","=",{"v":4,"d":"$ 4"},{"$nulls":8},"ClO2","W","S","USD",{"$f":"ROUNDUP(\n(INDEX(SensorPricing[],MATCH(D56,SensorPricing[Sensor],0),MATCH($M$1,SensorPricing[#Headers],0))*2+\nINDEX(SensorPricing[],MATCH(D56,SensorPricing[Sensor],0),MATCH($M$1,SensorPricing[#Headers],0))*(LeaseYears-2)*0.2777777)*\nLease_Factor/LeaseMonths,0)","v":4}]
[null,0,{"$f":"IF(B57=0,\"\",\"è\")","v":""},0,{"$f":"IF(B57=0,\"\",\"=\")","v":""},"",{"$nulls":12},{"$f":"ROUNDUP(\n(INDEX(SensorPricing[],MATCH(D57,SensorPricing[Sensor],0),MATCH($M$1,SensorPricing[#Headers],0))*2+\nINDEX(SensorPricing[],MATCH(D57,SensorPricing[Sensor],0),MATCH($M$1,SensorPricing[#Headers],0))*(LeaseYears-2)*0.2777777)*\nLease_Factor/LeaseMonths,0)","v":{"$error":"#N/A"}}]
[null,0,{"$f":"IF(B58=0,\"\",\"è\")","v":""},0,{"$f":"IF(B58=0,\"\",\"=\")","v":""},"",{"$nulls":12},{"$f":"ROUNDUP(\n(INDEX(SensorPricing[],MATCH(D58,SensorPricing[Sensor],0),MATCH($M$1,SensorPricing[#Headers],0))*2+\nINDEX(SensorPricing[],MATCH(D58,SensorPricing[Sensor],0),MATCH($M$1,SensorPricing[#Headers],0))*(LeaseYears-2)*0.2777777)*\nLease_Factor/LeaseMonths,0)","v":{"$error":"#N/A"}}]
[{"$nulls":7},"-"]
[null,"Country Code"]
[null,{"$f":"_xlfn.VSTACK(O61:O63)","v":"North America (3G/4G) - G7C"},{"$f":"IF(B61=\"\",\"\",\"è\")","v":"è"},{"$f":"IFERROR(VLOOKUP(B61,Lookup!$F$3:$G$12,2,FALSE),\"\")","v":"NA2"},{"$nulls":3},"NA2",{"$nulls":6},{"$f":"_xlfn.LET(\n_xlpm.Dtype,G7CountryCodes[Type],_xlpm.Curr,G7CountryCodes[Currency],_xlpm.SType,H33,_xlpm.SCurr,M1,\n_xlpm.myCalculation,_xlfn.VSTACK(_xlfn._xlws.FILTER(G7CountryCodes[],(_xlpm.Dtype=_xlpm.SType)*(_xlpm.Curr=_xlpm.SCurr))),_xlpm.myCalculation)","v":"North America (3G/4G) - G7C"},"NA2","C","USD"]
[null,"Outside of North America (3G/4G) - G7C",{"$f":"IF(B62=0,\"\",\"è\")","v":"è"},{"$f":"IFERROR(VLOOKUP(B62,Lookup!$F$3:$G$12,2,FALSE),\"\")","v":"EU2"},{"$nulls":10},"Outside of North America (3G/4G) - G7C","EU2","C","USD"]
[null,"Brazil (3G/4G) - G7C",{"$f":"IF(B63=0,\"\",\"è\")","v":"è"},{"$f":"IFERROR(VLOOKUP(B63,Lookup!$F$3:$G$12,2,FALSE),\"\")","v":"BR2"},{"$nulls":10},"Brazil (3G/4G) - G7C","BR2","C","USD"]
[{"$nulls":7},"-"]
[null,"Term"]
[null,"Three-Years","è","3Y",{"$nulls":3},"4Y",{"$nulls":9},{"$f":"LEFT(H66,1)","v":"4"},{"$f":"LEFT(H66,1)*12","v":48}]
[null,"Four-Years","è","4Y"]

{"sheet":"G7 Multi-Gas Lease","index":14,"n_rows":105,"n_cols":20,"rows_kept":105,"merged":[[1,1,1,7],[2,1,12,1],[7,5,7,9],[9,7,9,9],[11,7,11,9],[13,1,13,5],[14,7,14,9],[15,7,16,9],[16,1,16,5],[17,7,26,9],[17,11,26,11],[27,7,28,9],[27,11,28,11],[28,1,28,5],[29,7,36,9],[29,11,36,11],[29,21,32,21],[29,23,32,23],[37,11,46,11],[38,1,38,5],[39,7,40,9],[41,7,42,9],[42,1,42,5],[43,7,44,9],[45,7,46,9],[46,1,46,5],[47,7,49,7],[47,9,95,9],[47,11,49,11],[50,11,51,11],[51,1,51,5],[52,7,70,7],[52,11,70,11],[71,11,72,11],[72,1,72,5],[73,7,91,7],[73,11,91,11],[92,11,93,11],[93,1,93,5],[94,7,95,7],[94,11,95,11],[96,7,97,9],[97,1,97,5],[98,7,100,9],[101,7,102,9],[102,1,102,5],[103,7,104,9]]}
[null,{"$error":"#VALUE!"},{"$nulls":10},{"$f":"Currency","v":"USD"},null,null,"G7 Multi-Gas Lease"]
[null,"G7 Multi-Gas Lease",{"$nulls":10},{"$f":"PBYear","v":2025},"Quick Links"]
[null,{"$error":"#VALUE!"},{"$nulls":10},{"$f":"Revision","v":"Effective February 2, 2026 Rev 2"},"Main Menu"]
[{"$nulls":12},"Blackline Safety Confidential","Accessories"]
[{"$nulls":12},"All prices are an estimate - for a formal quote contact your local Blackline Safety representative"]
[{"$nulls":12},"Buying option not available in all countries. Please confirm with your local Blackline representative"]
[]
[{"$nulls":5},{"$f":"CONCATENATE(H15,\"-\",H18,\"-\",H30,H40,\"-\",H44,\"-\",J48,\"-\",H99,\"-\",H104)","v":"CMP-XX-G7C-Q-FHMO-NA2-4Y"},{"$nulls":5},{"$f":"L18+L30+L44+L48+L53+L74+L95","v":{"v":46,"d":"$ 46"}},{"$f":"M1&\" / mo\"","v":"USD / mo"}]
[]
[]
[]
[{"$nulls":5},"Additional Cartridge",null,{"$f":"CONCATENATE(H15,\"-CART-\",H44,\"-\",J48,\"-\",H104,\"-R\")","v":"CMP-CART-Q-FHMO-4Y-R"},{"$nulls":3},{"$f":"T53","v":{"v":18,"d":"$ 18"}},{"$f":"M1&\" / mo\"","v":"USD / mo"}]
[]
[null,"Buying Option",{"$nulls":16},"Price","Addl Cart"]
[null,"Lease","è","CMP",{"$nulls":3},{"$f":"D15","v":"CMP"}]
[{"$nulls":7},"-"]
[null,"Service Plan"]
[null,{"$f":"_xlfn.VSTACK(O18:O27)","v":"System Access"},{"$f":"IF(B18=0,\"\",\"è\")","v":"è"},{"$f":"IFERROR(VLOOKUP(B18,O18:P27,2,FALSE),\"\")","v":"XX"},{"$f":"IF(B18=0,\"\",\"=\")","v":"="},{"$f":"S18","v":{"v":0,"d":"$ 0"}},null,"XX",{"$nulls":3},{"$f":"VLOOKUP(H18,D18:F27,3,FALSE)","v":{"v":0,"d":"$ 0"}},null,null,{"$f":"_xlfn.LET(\n_xlpm.Dtype,G7ServicePlans[Type],_xlpm.Curr,G7ServicePlans[Currency],_xlpm.Stype,H40,_xlpm.SCurr,M1,\n_xlpm.myCalculation,_xlfn.VSTACK(_xlfn._xlws.FILTER(G7ServicePlans[],(_xlpm.Dtype=_xlpm.Stype)*(_xlpm.Curr=_xlpm.SCurr))),_xlpm.myCalculation)","v":"System Access"},"XX","C","USD",{"$f":"IFERROR(INDEX(LeaseServicePrices[],MATCH(P18,LeaseServicePrices[Lease Service Plans],0),MATCH($M$1,LeaseServicePrices[#Headers],0)),\"\")","v":0}]
[null,"System Access + PTT","è",{"$f":"IFERROR(VLOOKUP(B19,O19:P28,2,FALSE),\"\")","v":"XXP"},"=",{"$f":"S19","v":{"v":18,"d":"$ 18"}},{"$nulls":8},"System Access + PTT","XXP","C","USD",{"$f":"IFERROR(INDEX(LeaseServicePrices[],MATCH(P19,LeaseServicePrices[Lease Service Plans],0),MATCH($M$1,LeaseServicePrices[#Headers],0)),\"\")","v":18}]
[null,"Self-Monitored (no voice)","è",{"$f":"IFERROR(VLOOKUP(B20,O20:P43,2,FALSE),\"\")","v":"SX"},"=",{"v":23,"d":"$ 23"},{"$nulls":8},"Self-Monitored (no voice)","SX","C","USD",{"$f":"IFERROR(INDEX(LeaseServicePrices[],MATCH(P20,LeaseServicePrices[Lease Service Plans],0),MATCH($M$1,LeaseServicePrices[#Headers],0)),\"\")","v":23}]
[null,"Self-Monitored (no voice) + PTT","è","SXP","=",{"v":41,"d":"$ 41"},{"$nulls":8},"Self-Monitored (no voice) + PTT","SXP","C","USD",{"$f":"IFERROR(INDEX(LeaseServicePrices[],MATCH(P21,LeaseServicePrices[Lease Service Plans],0),MATCH($M$1,LeaseServicePrices[#Headers],0)),\"\")","v":41}]
[null,"Self-Monitored + Voice","è","SV","=",{"v":48,"d":"$ 48"},{"$nulls":8},"Self-Monitored + Voice","SV","C","USD",{"$f":"IFERROR(INDEX(LeaseServicePrices[],MATCH(P22,LeaseServicePrices[Lease Service Plans],0),MATCH($M$1,LeaseServicePrices[#Headers],0)),\"\")","v":48}]
[null,"Self-Monitored + Voice + PTT","è","SVP","=",{"v":66,"d":"$ 66"},{"$nulls":8},"Self-Monitored + Voice + PTT","SVP","C","USD",{"$f":"IFERROR(INDEX(LeaseServicePrices[],MATCH(P23,LeaseServicePrices[Lease Service Plans],0),MATCH($M$1,LeaseServicePrices[#Headers],0)),\"\")","v":66}]
[null,"Blackline 24/7 Monitored (no voice)","è","BX","=",{"v":47,"d":"$ 47"},{"$nulls":8},"Blackline 24/7 Monitored (no voice)","BX","C","USD",{"$f":"IFERROR(INDEX(LeaseServicePrices[],MATCH(P24,LeaseServicePrices[Lease Service Plans],0),MATCH($M$1,LeaseServicePrices[#Headers],0)),\"\")","v":47}]
[null,"Blackline 24/7 Monitored (no voice) + PTT","è","BXP","=",{"v":65,"d":"$ 65"},{"$nulls":8},"Blackline 24/7 Monitored (no voice) + PTT","BXP","C","USD",{"$f":"IFERROR(INDEX(LeaseServicePrices[],MATCH(P25,LeaseServicePrices[Lease Service Plans],0),MATCH($M$1,LeaseServicePrices[#Headers],0)),\"\")","v":65}]
[null,"Blackline 24/7 Monitored + Voice","è","BV","=",{"v":72,"d":"$ 72"},{"$nulls":8},"Blackline 24/7 Monitored + Voice","BV","C","USD",{"$f":"IFERROR(INDEX(LeaseServicePrices[],MATCH(P26,LeaseServicePrices[Lease Service Plans],0),MATCH($M$1,LeaseServicePrices[#Headers],0)),\"\")","v":72}]
[null,"Blackline 24/7 Monitored + Voice + PTT","è","BVP","=",{"v":90,"d":"$ 90"},{"$nulls":8},"Blackline 24/7 Monitored + Voice + PTT","BVP","C","USD",{"$f":"IFERROR(INDEX(LeaseServicePrices[],MATCH(P27,LeaseServicePrices[Lease Service Plans],0),MATCH($M$1,LeaseServicePrices[#Headers],0)),\"\")","v":90}]
[{"$nulls":7},"-",{"$nulls":3},"+"]
[null,"Cartridge"]
["Q1",null,null,"Multi 1-sensor","=",{"$f":"SUM(S30:T30)","v":{"v":38,"d":"$ 38"}},null,"G7",{"$nulls":3},{"$f":"VLOOKUP(Q52,A30:F37,6,FALSE)","v":{"v":46,"d":"$ 46"}},{"$nulls":5},1,{"$f":"ROUND(\n(INDEX(BasePrices[],MATCH(\"G7 Purchase Base Price\",BasePrices[Type],0),MATCH($M$1,BasePrices[#Headers],0))+\nINDEX(ServicePrices[],MATCH(\"System Access\",ServicePrices[Type],0),MATCH($M$1,ServicePrices[#Headers],0))*12*LeaseYears+\nINDEX(BasePrices[],MATCH(\"G7 Warranty Base Price\",BasePrices[Type],0),MATCH($M$1,BasePrices[#Headers],0))*(LeaseYears-2))*\nLease_Factor/LeaseMonths,0)+\nROUND(\n(INDEX(BasePrices[],MATCH(R30&\" Sensor Cartridge\",BasePrices[Type],0),MATCH($M$1,BasePrices[#Headers],0))*2+\nINDEX(BasePrices[],MATCH(R30&\" Sensor Cartridge\",BasePrices[Type],0),MATCH($M$1,BasePrices[#Headers],0))*(LeaseYears-2)*0.2777777)*\nLease_Factor/LeaseMonths,0)","v":38}]
["Q2",null,null,"Multi 2-sensor","=",{"$f":"SUM(S31:T31)","v":{"v":41,"d":"$ 41"}},{"$nulls":11},2,{"$f":"ROUND(\n(INDEX(BasePrices[],MATCH(\"G7 Purchase Base Price\",BasePrices[Type],0),MATCH($M$1,BasePrices[#Headers],0))+\nINDEX(ServicePrices[],MATCH(\"System Access\",ServicePrices[Type],0),MATCH($M$1,ServicePrices[#Headers],0))*12*LeaseYears+\nINDEX(BasePrices[],MATCH(\"G7 Warranty Base Price\",BasePrices[Type],0),MATCH($M$1,BasePrices[#Headers],0))*(LeaseYears-2))*\nLease_Factor/LeaseMonths,0)+\nROUND(\n(INDEX(BasePrices[],MATCH(R31&\" Sensor Cartridge\",BasePrices[Type],0),MATCH($M$1,BasePrices[#Headers],0))*2+\nINDEX(BasePrices[],MATCH(R31&\" Sensor Cartridge\",BasePrices[Type],0),MATCH($M$1,BasePrices[#Headers],0))*(LeaseYears-2)*0.2777777)*\nLease_Factor/LeaseMonths,0)","v":41}]
["Q3",null,null,"Multi 3-sensor","=",{"$f":"SUM(S32:T32)","v":{"v":44,"d":"$ 44"}},{"$nulls":11},3,{"$f":"ROUND(\n(INDEX(BasePrices[],MATCH(\"G7 Purchase Base Price\",BasePrices[Type],0),MATCH($M$1,BasePrices[#Headers],0))+\nINDEX(ServicePrices[],MATCH(\"System Access\",ServicePrices[Type],0),MATCH($M$1,ServicePrices[#Headers],0))*12*LeaseYears+\nINDEX(BasePrices[],MATCH(\"G7 Warranty Base Price\",BasePrices[Type],0),MATCH($M$1,BasePrices[#Headers],0))*(LeaseYears-2))*\nLease_Factor/LeaseMonths,0)+\nROUND(\n(INDEX(BasePrices[],MATCH(R32&\" Sensor Cartridge\",BasePrices[Type],0),MATCH($M$1,BasePrices[#Headers],0))*2+\nINDEX(BasePrices[],MATCH(R32&\" Sensor Cartridge\",BasePrices[Type],0),MATCH($M$1,BasePrices[#Headers],0))*(LeaseYears-2)*0.2777777)*\nLease_Factor/LeaseMonths,0)","v":44}]
["Q4",null,null,"Multi 4-sensor","=",{"$f":"SUM(S33:T33)","v":{"v":46,"d":"$ 46"}},{"$nulls":11},4,{"$f":"ROUND(\n(INDEX(BasePrices[],MATCH(\"G7 Purchase Base Price\",BasePrices[Type],0),MATCH($M$1,BasePrices[#Headers],0))+\nINDEX(ServicePrices[],MATCH(\"System Access\",ServicePrices[Type],0),MATCH($M$1,ServicePrices[#Headers],0))*12*LeaseYears+\nINDEX(BasePrices[],MATCH(\"G7 Warranty Base Price\",BasePrices[Type],0),MATCH($M$1,BasePrices[#Headers],0))*(LeaseYears-2))*\nLease_Factor/LeaseMonths,0)+\nROUND(\n(INDEX(BasePrices[],MATCH(R33&\" Sensor Cartridge\",BasePrices[Type],0),MATCH($M$1,BasePrices[#Headers],0))*2+\nINDEX(BasePrices[],MATCH(R33&\" Sensor Cartridge\",BasePrices[Type],0),MATCH($M$1,BasePrices[#Headers],0))*(LeaseYears-2)*0.2777777)*\nLease_Factor/LeaseMonths,0)","v":46}]
["P1",null,null,"Multi 1-sensor pump","=",{"$f":"SUM(S34:T34)","v":{"v":50,"d":"$ 50"}},{"$nulls":11},1,{"$f":"ROUND(\n(INDEX(BasePrices[],MATCH(\"G7 Purchase Base Price\",BasePrices[Type],0),MATCH($M$1,BasePrices[#Headers],0))+\nINDEX(ServicePrices[],MATCH(\"System Access\",ServicePrices[Type],0),MATCH($M$1,ServicePrices[#Headers],0))*12*LeaseYears+\nINDEX(BasePrices[],MATCH(\"G7 Warranty Base Price\",BasePrices[Type],0),MATCH($M$1,BasePrices[#Headers],0))*(LeaseYears-2))*\nLease_Factor/LeaseMonths,0)+\nROUND(\n(INDEX(BasePrices[],MATCH(R34&\" Sensor Cartridge\",BasePrices[Type],0),MATCH($M$1,BasePrices[#Headers],0))*2+\nINDEX(BasePrices[],MATCH(R34&\" Sensor Cartridge\",BasePrices[Type],0),MATCH($M$1,BasePrices[#Headers],0))*(LeaseYears-2)*0.2777777)*\nLease_Factor/LeaseMonths,0)+\nROUND(\n(INDEX(BasePrices[],MATCH(\"G7 Pump\",BasePrices[Type],0),MATCH($M$1,BasePrices[#Headers],0))*2+\nINDEX(BasePrices[],MATCH(\"G7 Pump\",BasePrices[Type],0),MATCH($M$1,BasePrices[#Headers],0))*(LeaseYears-2)*0.2777777)*\nLease_Factor/LeaseMonths,0)","v":50}]
["P2",null,null,"Multi 2-sensor pump","=",{"v":53,"d":"$ 53"},{"$nulls":11},2,{"$f":"ROUND(\n(INDEX(BasePrices[],MATCH(\"G7 Purchase Base Price\",BasePrices[Type],0),MATCH($M$1,BasePrices[#Headers],0))+\nINDEX(ServicePrices[],MATCH(\"System Access\",ServicePrices[Type],0),MATCH($M$1,ServicePrices[#Headers],0))*12*LeaseYears+\nINDEX(BasePrices[],MATCH(\"G7 Warranty Base Price\",BasePrices[Type],0),MATCH($M$1,BasePrices[#Headers],0))*(LeaseYears-2))*\nLease_Factor/LeaseMonths,0)+\nROUND(\n(INDEX(BasePrices[],MATCH(R35&\" Sensor Cartridge\",BasePrices[Type],0),MATCH($M$1,BasePrices[#Headers],0))*2+\nINDEX(BasePrices[],MATCH(R35&\" Sensor Cartridge\",BasePrices[Type],0),MATCH($M$1,BasePrices[#Headers],0))*(LeaseYears-2)*0.2777777)*\nLease_Factor/LeaseMonths,0)+\nROUND(\n(INDEX(BasePrices[],MATCH(\"G7 Pump\",BasePrices[Type],0),MATCH($M$1,BasePrices[#Headers],0))*2+\nINDEX(BasePrices[],MATCH(\"G7 Pump\",BasePrices[Type],0),MATCH($M$1,BasePrices[#Headers],0))*(LeaseYears-2)*0.2777777)*\nLease_Factor/LeaseMonths,0)","v":53}]
["P3",null,null,"Multi 3-sensor pump","=",{"v":56,"d":"$ 56"},{"$nulls":11},3,{"$f":"ROUND(\n(INDEX(BasePrices[],MATCH(\"G7 Purchase Base Price\",BasePrices[Type],0),MATCH($M$1,BasePrices[#Headers],0))+\nINDEX(ServicePrices[],MATCH(\"System Access\",ServicePrices[Type],0),MATCH($M$1,ServicePrices[#Headers],0))*12*LeaseYears+\nINDEX(BasePrices[],MATCH(\"G7 Warranty Base Price\",BasePrices[Type],0),MATCH($M$1,BasePrices[#Headers],0))*(LeaseYears-2))*\nLease_Factor/LeaseMonths,0)+\nROUND(\n(INDEX(BasePrices[],MATCH(R36&\" Sensor Cartridge\",BasePrices[Type],0),MATCH($M$1,BasePrices[#Headers],0))*2+\nINDEX(BasePrices[],MATCH(R36&\" Sensor Cartridge\",BasePrices[Type],0),MATCH($M$1,BasePrices[#Headers],0))*(LeaseYears-2)*0.2777777)*\nLease_Factor/LeaseMonths,0)+\nROUND(\n(INDEX(BasePrices[],MATCH(\"G7 Pump\",BasePrices[Type],0),MATCH($M$1,BasePrices[#Headers],0))*2+\nINDEX(BasePrices[],MATCH(\"G7 Pump\",BasePrices[Type],0),MATCH($M$1,BasePrices[#Headers],0))*(LeaseYears-2)*0.2777777)*\nLease_Factor/LeaseMonths,0)","v":56}]
["P4",null,null,"Multi 4-sensor pump","=",{"v":58,"d":"$ 58"},{"$nulls":11},4,{"$f":"ROUND(\n(INDEX(BasePrices[],MATCH(\"G7 Purchase Base Price\",BasePrices[Type],0),MATCH($M$1,BasePrices[#Headers],0))+\nINDEX(ServicePrices[],MATCH(\"System Access\",ServicePrices[Type],0),MATCH($M$1,ServicePrices[#Headers],0))*12*LeaseYears+\nINDEX(BasePrices[],MATCH(\"G7 Warranty Base Price\",BasePrices[Type],0),MATCH($M$1,BasePrices[#Headers],0))*(LeaseYears-2))*\nLease_Factor/LeaseMonths,0)+\nROUND(\n(INDEX(BasePrices[],MATCH(R37&\" Sensor Cartridge\",BasePrices[Type],0),MATCH($M$1,BasePrices[#Headers],0))*2+\nINDEX(BasePrices[],MATCH(R37&\" Sensor Cartridge\",BasePrices[Type],0),MATCH($M$1,BasePrices[#Headers],0))*(LeaseYears-2)*0.2777777)*\nLease_Factor/LeaseMonths,0)+\nROUND(\n(INDEX(BasePrices[],MATCH(\"G7 Pump\",BasePrices[Type],0),MATCH($M$1,BasePrices[#Headers],0))*2+\nINDEX(BasePrices[],MATCH(\"G7 Pump\",BasePrices[Type],0),MATCH($M$1,BasePrices[#Headers],0))*(LeaseYears-2)*0.2777777)*\nLease_Factor/LeaseMonths,0)","v":58}]
[{"$nulls":11},"+"]
[null,"Connectivity"]
[null,"Cellular","è","C",{"$nulls":3},"C"]
[null,{"$f":"IF(OR(M1=\"EUR\",M1=\"GBP\"),\"\",\"Satellite (900 MHz)*\")","v":"Satellite (900 MHz)*"},{"$f":"IF(B41=\"\",\"\",\"è\")","v":"è"},{"$f":"IF(OR(M1=\"EUR\",M1=\"GBP\"),\"\",\"X\")","v":"X"}]
[{"$nulls":7},"-",{"$nulls":6},{"$f":"IF(OR(M4=\"EUR\",M4=\"GBP\"),\"\",\"*Bridge and satellite service plan required\")","v":"*Bridge and satellite service plan required"}]
[null,"Cartridge Type"]
[null,"Diffusion","è","Q",{"$nulls":3},"Q"]
[null,"Pump","è","P"]
[{"$nulls":7},"-"]
[null,"Combustible Sensor",{"$nulls":17},{"$f":"INDEX(BasePrices[],MATCH(R52&\" Sensor Cartridge\",BasePrices[Type],0),MATCH($M$1,BasePrices[#Headers],0))+\nIF(H44=\"P\",INDEX(BasePrices[],MATCH(\"G7 Pump\",BasePrices[Type],0),MATCH($M$1,BasePrices[#Headers],0)),0)","v":200}]
[null,"LEL-IR","è","I","=",{"$f":"SUM(S48:S48)","v":{"v":4,"d":"$ 4"}},null,"F",null,{"$f":"CONCATENATE(P48,P49,P50,P51)","v":"FHMO"},null,{"$f":"VLOOKUP(H48,D48:F50,3,FALSE)","v":{"v":0,"d":"$ 0"}},null,null,{"$f":"H48","v":"F"},{"$f":"_xlfn._xlws.SORT(O48:O51)","v":"F"},{"$f":"IF(P48=\"X\",1,0)","v":0},null,{"$f":"ROUNDUP(\n(INDEX(SensorPricing[],MATCH(D48,SensorPricing[Sensor],0),MATCH($M$1,SensorPricing[#Headers],0))*2+\nINDEX(SensorPricing[],MATCH(D48,SensorPricing[Sensor],0),MATCH($M$1,SensorPricing[#Headers],0))*(LeaseYears-2)*0.2777777)*\nLease_Factor/LeaseMonths,0)","v":4},{"$f":"INDEX(SensorPricing[],MATCH(P48,SensorPricing[Sensor],0),MATCH($M$1,SensorPricing[#Headers],0))","v":0}]
[null,"LEL-MPS","è","F","=",{"$f":"SUM(S49:S49)","v":{"v":0,"d":"$ 0"}},{"$nulls":8},{"$f":"H53","v":"H"},"H",{"$f":"IF(P49=\"X\",1,0)","v":0},null,{"$f":"ROUNDUP(\n(INDEX(SensorPricing[],MATCH(D49,SensorPricing[Sensor],0),MATCH($M$1,SensorPricing[#Headers],0))*2+\nINDEX(SensorPricing[],MATCH(D49,SensorPricing[Sensor],0),MATCH($M$1,SensorPricing[#Headers],0))*(LeaseYears-2)*0.2777777)*\nLease_Factor/LeaseMonths,0)","v":0},{"$f":"INDEX(SensorPricing[],MATCH(P49,SensorPricing[Sensor],0),MATCH($M$1,SensorPricing[#Headers],0))","v":0}]
[null,"None","è","X","=",{"$f":"SUM(S50:S50)","v":{"v":0,"d":"$ 0"}},{"$nulls":8},{"$f":"H74","v":"M"},"M",{"$f":"IF(P50=\"X\",1,0)","v":0},null,{"$f":"ROUNDUP(\n(INDEX(SensorPricing[],MATCH(D50,SensorPricing[Sensor],0),MATCH($M$1,SensorPricing[#Headers],0))*2+\nINDEX(SensorPricing[],MATCH(D50,SensorPricing[Sensor],0),MATCH($M$1,SensorPricing[#Headers],0))*(LeaseYears-2)*0.2777777)*\nLease_Factor/LeaseMonths,0)","v":0},{"$f":"INDEX(SensorPricing[],MATCH(P50,SensorPricing[Sensor],0),MATCH($M$1,SensorPricing[#Headers],0))","v":0}]
[{"$nulls":11},"+",null,null,{"$f":"H95","v":"O"},"O",{"$f":"IF(P51=\"X\",1,0)","v":0},null,null,{"$f":"INDEX(SensorPricing[],MATCH(P51,SensorPricing[Sensor],0),MATCH($M$1,SensorPricing[#Headers],0))","v":0}]
[null,"Toxic Sensor #1",{"$nulls":14},{"$f":"H44&4-SUM(Q48:Q51)","v":"Q4"},{"$f":"4-SUM(Q48:Q51)","v":4},null,{"$f":"IF(H104=\"3Y\",3,3.5)","v":3.5}]
[null,{"$f":"_xlfn.VSTACK(O53:O71)","v":"HF"},{"$f":"IF(B53=0,\"\",\"è\")","v":"è"},{"$f":"_xlfn.VSTACK(P53:P71)","v":"2"},{"$f":"IF(B53=0,\"\",\"=\")","v":"="},{"$f":"IFERROR(SUM(S53:S53),\"\")","v":{"v":27,"d":"$ 27"}},null,"H",{"$nulls":3},{"$f":"VLOOKUP(H53,D53:F71,3,FALSE)","v":{"v":0,"d":"$ 0"}},null,null,{"$f":"_xlfn.LET(\n_xlpm.Dtype,G7Sensors[Type1],_xlpm.Curr,G7Sensors[Currency],_xlpm.Stype,H44&1,_xlpm.SCurr,M1,\n_xlpm.myCalculation,_xlfn.VSTACK(_xlfn._xlws.FILTER(G7Sensors[],(_xlpm.Dtype=_xlpm.Stype)*(_xlpm.Curr=_xlpm.SCurr))),_xlpm.myCalculation)","v":"HF"},"2","Q1","USD",{"$f":"ROUNDUP(\n(INDEX(SensorPricing[],MATCH(D53,SensorPricing[Sensor],0),MATCH($M$1,SensorPricing[#Headers],0))*2+\nINDEX(SensorPricing[],MATCH(D53,SensorPricing[Sensor],0),MATCH($M$1,SensorPricing[#Headers],0))*(LeaseYears-2)*0.2777777)*\nLease_Factor/LeaseMonths,0)","v":27},{"$f":"ROUND(SUM(T47:T51)*T52*Lease_Factor/LeaseMonths,0)","v":18}]
[null,"NH3","è","A","=",{"v":4,"d":"$ 4"},{"$nulls":8},"NH3","A","Q1","USD",{"$f":"ROUNDUP(\n(INDEX(SensorPricing[],MATCH(D54,SensorPricing[Sensor],0),MATCH($M$1,SensorPricing[#Headers],0))*2+\nINDEX(SensorPricing[],MATCH(D54,SensorPricing[Sensor],0),MATCH($M$1,SensorPricing[#Headers],0))*(LeaseYears-2)*0.2777777)*\nLease_Factor/LeaseMonths,0)","v":4}]
[null,"High-range NH3 ","è","B","=",{"v":9,"d":"$ 9"},{"$nulls":8},"High-range NH3 ","B","Q1","USD",{"$f":"ROUNDUP(\n(INDEX(SensorPricing[],MATCH(D55,SensorPricing[Sensor],0),MATCH($M$1,SensorPricing[#Headers],0))*2+\nINDEX(SensorPricing[],MATCH(D55,SensorPricing[Sensor],0),MATCH($M$1,SensorPricing[#Headers],0))*(LeaseYears-2)*0.2777777)*\nLease_Factor/LeaseMonths,0)","v":9}]
[null,"CO2","è","C","=",{"v":16,"d":"$ 16"},{"$nulls":8},"CO2","C","Q1","USD",{"$f":"ROUNDUP(\n(INDEX(SensorPricing[],MATCH(D56,SensorPricing[Sensor],0),MATCH($M$1,SensorPricing[#Headers],0))*2+\nINDEX(SensorPricing[],MATCH(D56,SensorPricing[Sensor],0),MATCH($M$1,SensorPricing[#Headers],0))*(LeaseYears-2)*0.2777777)*\nLease_Factor/LeaseMonths,0)","v":16}]
[null,"O3","è","E","=",{"v":8,"d":"$ 8"},{"$nulls":8},"O3","E","Q1","USD",{"$f":"ROUNDUP(\n(INDEX(SensorPricing[],MATCH(D57,SensorPricing[Sensor],0),MATCH($M$1,SensorPricing[#Headers],0))*2+\nINDEX(SensorPricing[],MATCH(D57,SensorPricing[Sensor],0),MATCH($M$1,SensorPricing[#Headers],0))*(LeaseYears-2)*0.2777777)*\nLease_Factor/LeaseMonths,0)","v":8}]
[null,"H2S","è","H","=",{"v":0,"d":"$ 0"},{"$nulls":8},"H2S","H","Q1","USD",{"$f":"ROUNDUP(\n(INDEX(SensorPricing[],MATCH(D58,SensorPricing[Sensor],0),MATCH($M$1,SensorPricing[#Headers],0))*2+\nINDEX(SensorPricing[],MATCH(D58,SensorPricing[Sensor],0),MATCH($M$1,SensorPricing[#Headers],0))*(LeaseYears-2)*0.2777777)*\nLease_Factor/LeaseMonths,0)","v":0}]
[null,"High-range H2S ","è","J","=",{"v":8,"d":"$ 8"},{"$nulls":8},"High-range H2S ","J","Q1","USD",{"$f":"ROUNDUP(\n(INDEX(SensorPricing[],MATCH(D59,SensorPricing[Sensor],0),MATCH($M$1,SensorPricing[#Headers],0))*2+\nINDEX(SensorPricing[],MATCH(D59,SensorPricing[Sensor],0),MATCH($M$1,SensorPricing[#Headers],0))*(LeaseYears-2)*0.2777777)*\nLease_Factor/LeaseMonths,0)","v":8}]
[null,"NO2 ","è","K","=",{"v":4,"d":"$ 4"},{"$nulls":8},"NO2 ","K","Q1","USD",{"$f":"ROUNDUP(\n(INDEX(SensorPricing[],MATCH(D60,SensorPricing[Sensor],0),MATCH($M$1,SensorPricing[#Headers],0))*2+\nINDEX(SensorPricing[],MATCH(D60,SensorPricing[Sensor],0),MATCH($M$1,SensorPricing[#Headers],0))*(LeaseYears-2)*0.2777777)*\nLease_Factor/LeaseMonths,0)","v":4}]
[null,"Cl2","è","L","=",{"v":4,"d":"$ 4"},{"$nulls":8},"Cl2","L","Q1","USD",{"$f":"ROUNDUP(\n(INDEX(SensorPricing[],MATCH(D61,SensorPricing[Sensor],0),MATCH($M$1,SensorPricing[#Headers],0))*2+\nINDEX(SensorPricing[],MATCH(D61,SensorPricing[Sensor],0),MATCH($M$1,SensorPricing[#Headers],0))*(LeaseYears-2)*0.2777777)*\nLease_Factor/LeaseMonths,0)","v":4}]
[null,"CO ","è","M","=",{"v":0,"d":"$ 0"},{"$nulls":8},"CO ","M","Q1","USD",{"$f":"ROUNDUP(\n(INDEX(SensorPricing[],MATCH(D62,SensorPricing[Sensor],0),MATCH($M$1,SensorPricing[#Headers],0))*2+\nINDEX(SensorPricing[],MATCH(D62,SensorPricing[Sensor],0),MATCH($M$1,SensorPricing[#Headers],0))*(LeaseYears-2)*0.2777777)*\nLease_Factor/LeaseMonths,0)","v":0}]
[null,"HCN","è","N","=",{"v":4,"d":"$ 4"},{"$nulls":8},"HCN","N","Q1","USD",{"$f":"ROUNDUP(\n(INDEX(SensorPricing[],MATCH(D63,SensorPricing[Sensor],0),MATCH($M$1,SensorPricing[#Headers],0))*2+\nINDEX(SensorPricing[],MATCH(D63,SensorPricing[Sensor],0),MATCH($M$1,SensorPricing[#Headers],0))*(LeaseYears-2)*0.2777777)*\nLease_Factor/LeaseMonths,0)","v":4}]
[null,"CO-H ","è","R","=",{"v":0,"d":"$ 0"},{"$nulls":8},"CO-H ","R","Q1","USD",{"$f":"ROUNDUP(\n(INDEX(SensorPricing[],MATCH(D64,SensorPricing[Sensor],0),MATCH($M$1,SensorPricing[#Headers],0))*2+\nINDEX(SensorPricing[],MATCH(D64,SensorPricing[Sensor],0),MATCH($M$1,SensorPricing[#Headers],0))*(LeaseYears-2)*0.2777777)*\nLease_Factor/LeaseMonths,0)","v":0}]
[null,"SO2","è","S","=",{"v":0,"d":"$ 0"},{"$nulls":8},"SO2","S","Q1","USD",{"$f":"ROUNDUP(\n(INDEX(SensorPricing[],MATCH(D65,SensorPricing[Sensor],0),MATCH($M$1,SensorPricing[#Headers],0))*2+\nINDEX(SensorPricing[],MATCH(D65,SensorPricing[Sensor],0),MATCH($M$1,SensorPricing[#Headers],0))*(LeaseYears-2)*0.2777777)*\nLease_Factor/LeaseMonths,0)","v":0}]
[null,"High-range CO ","è","T","=",{"v":8,"d":"$ 8"},{"$nulls":8},"High-range CO ","T","Q1","USD",{"$f":"ROUNDUP(\n(INDEX(SensorPricing[],MATCH(D66,SensorPricing[Sensor],0),MATCH($M$1,SensorPricing[#Headers],0))*2+\nINDEX(SensorPricing[],MATCH(D66,SensorPricing[Sensor],0),MATCH($M$1,SensorPricing[#Headers],0))*(LeaseYears-2)*0.2777777)*\nLease_Factor/LeaseMonths,0)","v":8}]
[null,"PID","è","V","=",{"v":31,"d":"$ 31"},{"$nulls":8},"PID","V","Q1","USD",{"$f":"ROUNDUP(\n(INDEX(SensorPricing[],MATCH(D67,SensorPricing[Sensor],0),MATCH($M$1,SensorPricing[#Headers],0))*2+\nINDEX(SensorPricing[],MATCH(D67,SensorPricing[Sensor],0),MATCH($M$1,SensorPricing[#Headers],0))*(LeaseYears-2)*0.2777777)*\nLease_Factor/LeaseMonths,0)","v":31}]
[null,"ClO2","è","W","=",{"v":4,"d":"$ 4"},{"$nulls":8},"ClO2","W","Q1","USD",{"$f":"ROUNDUP(\n(INDEX(SensorPricing[],MATCH(D68,SensorPricing[Sensor],0),MATCH($M$1,SensorPricing[#Headers],0))*2+\nINDEX(SensorPricing[],MATCH(D68,SensorPricing[Sensor],0),MATCH($M$1,SensorPricing[#Headers],0))*(LeaseYears-2)*0.2777777)*\nLease_Factor/LeaseMonths,0)","v":4}]
[null,"No Sensor ","è","X","=",{"v":0,"d":"$ 0"},{"$nulls":8},"No Sensor ","X","Q1","USD",{"$f":"ROUNDUP(\n(INDEX(SensorPricing[],MATCH(D69,SensorPricing[Sensor],0),MATCH($M$1,SensorPricing[#Headers],0))*2+\nINDEX(SensorPricing[],MATCH(D69,SensorPricing[Sensor],0),MATCH($M$1,SensorPricing[#Headers],0))*(LeaseYears-2)*0.2777777)*\nLease_Factor/LeaseMonths,0)","v":0}]
[null,0,{"$f":"IF(B70=0,\"\",\"è\")","v":""},0,{"$f":"IF(B70=0,\"\",\"=\")","v":""},"",{"$nulls":12},{"$f":"ROUNDUP(\n(INDEX(SensorPricing[],MATCH(D70,SensorPricing[Sensor],0),MATCH($M$1,SensorPricing[#Headers],0))*2+\nINDEX(SensorPricing[],MATCH(D70,SensorPricing[Sensor],0),MATCH($M$1,SensorPricing[#Headers],0))*(LeaseYears-2)*0.2777777)*\nLease_Factor/LeaseMonths,0)","v":{"$error":"#N/A"}}]
[null,0,{"$f":"IF(B71=0,\"\",\"è\")","v":""},0,{"$f":"IF(B71=0,\"\",\"=\")","v":""},"",{"$nulls":12},{"$f":"ROUNDUP(\n(INDEX(SensorPricing[],MATCH(D71,SensorPricing[Sensor],0),MATCH($M$1,SensorPricing[#Headers],0))*2+\nINDEX(SensorPricing[],MATCH(D71,SensorPricing[Sensor],0),MATCH($M$1,SensorPricing[#Headers],0))*(LeaseYears-2)*0.2777777)*\nLease_Factor/LeaseMonths,0)","v":{"$error":"#N/A"}}]
[{"$nulls":11},"+"]
[null,"Toxic Sensor #2"]
[null,{"$f":"_xlfn.VSTACK(O74:O92)","v":"HF"},{"$f":"IF(B74=0,\"\",\"è\")","v":"è"},{"$f":"_xlfn.VSTACK(P74:P92)","v":"2"},{"$f":"IF(B74=0,\"\",\"=\")","v":"="},{"$f":"IFERROR(SUM(S74:S74),\"\")","v":{"v":27,"d":"$ 27"}},null,"M",{"$nulls":3},{"$f":"VLOOKUP(H74,D74:F92,3,FALSE)","v":{"v":0,"d":"$ 0"}},null,null,{"$f":"_xlfn.LET(\n_xlpm.Dtype,G7Sensors[Type1],_xlpm.Curr,G7Sensors[Currency],_xlpm.Stype,H44&2,_xlpm.SCurr,M1,\n_xlpm.myCalculation,_xlfn.VSTACK(_xlfn._xlws.FILTER(G7Sensors[],(_xlpm.Dtype=_xlpm.Stype)*(_xlpm.Curr=_xlpm.SCurr))),_xlpm.myCalculation)","v":"HF"},"2","Q2","USD",{"$f":"ROUNDUP(\n(INDEX(SensorPricing[],MATCH(D74,SensorPricing[Sensor],0),MATCH($M$1,SensorPricing[#Headers],0))*2+\nINDEX(SensorPricing[],MATCH(D74,SensorPricing[Sensor],0),MATCH($M$1,SensorPricing[#Headers],0))*(LeaseYears-2)*0.2777777)*\nLease_Factor/LeaseMonths,0)","v":27}]
[null,"NH3","è","A","=",{"v":4,"d":"$ 4"},{"$nulls":8},"NH3","A","Q2","USD",{"$f":"ROUNDUP(\n(INDEX(SensorPricing[],MATCH(D75,SensorPricing[Sensor],0),MATCH($M$1,SensorPricing[#Headers],0))*2+\nINDEX(SensorPricing[],MATCH(D75,SensorPricing[Sensor],0),MATCH($M$1,SensorPricing[#Headers],0))*(LeaseYears-2)*0.2777777)*\nLease_Factor/LeaseMonths,0)","v":4}]
[null,"High-range NH3 ","è","B","=",{"v":9,"d":"$ 9"},{"$nulls":8},"High-range NH3 ","B","Q2","USD",{"$f":"ROUNDUP(\n(INDEX(SensorPricing[],MATCH(D76,SensorPricing[Sensor],0),MATCH($M$1,SensorPricing[#Headers],0))*2+\nINDEX(SensorPricing[],MATCH(D76,SensorPricing[Sensor],0),MATCH($M$1,SensorPricing[#Headers],0))*(LeaseYears-2)*0.2777777)*\nLease_Factor/LeaseMonths,0)","v":9}]
[null,"COSH","è","D","=",{"v":4,"d":"$ 4"},{"$nulls":8},"COSH","D","Q2","USD",{"$f":"ROUNDUP(\n(INDEX(SensorPricing[],MATCH(D77,SensorPricing[Sensor],0),MATCH($M$1,SensorPricing[#Headers],0))*2+\nINDEX(SensorPricing[],MATCH(D77,SensorPricing[Sensor],0),MATCH($M$1,SensorPricing[#Headers],0))*(LeaseYears-2)*0.2777777)*\nLease_Factor/LeaseMonths,0)","v":4}]
[null,"O3","è","E","=",{"v":8,"d":"$ 8"},{"$nulls":8},"O3","E","Q2","USD",{"$f":"ROUNDUP(\n(INDEX(SensorPricing[],MATCH(D78,SensorPricing[Sensor],0),MATCH($M$1,SensorPricing[#Headers],0))*2+\nINDEX(SensorPricing[],MATCH(D78,SensorPricing[Sensor],0),MATCH($M$1,SensorPricing[#Headers],0))*(LeaseYears-2)*0.2777777)*\nLease_Factor/LeaseMonths,0)","v":8}]
[null,"H2S","è","H","=",{"v":0,"d":"$ 0"},{"$nulls":8},"H2S","H","Q2","USD",{"$f":"ROUNDUP(\n(INDEX(SensorPricing[],MATCH(D79,SensorPricing[Sensor],0),MATCH($M$1,SensorPricing[#Headers],0))*2+\nINDEX(SensorPricing[],MATCH(D79,SensorPricing[Sensor],0),MATCH($M$1,SensorPricing[#Headers],0))*(LeaseYears-2)*0.2777777)*\nLease_Factor/LeaseMonths,0)","v":0}]
[null,"High-range H2S ","è","J","=",{"v":8,"d":"$ 8"},{"$nulls":8},"High-range H2S ","J","Q2","USD",{"$f":"ROUNDUP(\n(INDEX(SensorPricing[],MATCH(D80,SensorPricing[Sensor],0),MATCH($M$1,SensorPricing[#Headers],0))*2+\nINDEX(SensorPricing[],MATCH(D80,SensorPricing[Sensor],0),MATCH($M$1,SensorPricing[#Headers],0))*(LeaseYears-2)*0.2777777)*\nLease_Factor/LeaseMonths,0)","v":8}]
[null,"NO2 ","è","K","=",{"v":4,"d":"$ 4"},{"$nulls":8},"NO2 ","K","Q2","USD",{"$f":"ROUNDUP(\n(INDEX(SensorPricing[],MATCH(D81,SensorPricing[Sensor],0),MATCH($M$1,SensorPricing[#Headers],0))*2+\nINDEX(SensorPricing[],MATCH(D81,SensorPricing[Sensor],0),MATCH($M$1,SensorPricing[#Headers],0))*(LeaseYears-2)*0.2777777)*\nLease_Factor/LeaseMonths,0)","v":4}]
[null,"Cl2","è","L","=",{"v":4,"d":"$ 4"},{"$nulls":8},"Cl2","L","Q2","USD",{"$f":"ROUNDUP(\n(INDEX(SensorPricing[],MATCH(D82,SensorPricing[Sensor],0),MATCH($M$1,SensorPricing[#Headers],0))*2+\nINDEX(SensorPricing[],MATCH(D82,SensorPricing[Sensor],0),MATCH($M$1,SensorPricing[#Headers],0))*(LeaseYears-2)*0.2777777)*\nLease_Factor/LeaseMonths,0)","v":4}]
[null,"CO ","è","M","=",{"v":0,"d":"$ 0"},{"$nulls":8},"CO ","M","Q2","USD",{"$f":"ROUNDUP(\n(INDEX(SensorPricing[],MATCH(D83,SensorPricing[Sensor],0),MATCH($M$1,SensorPricing[#Headers],0))*2+\nINDEX(SensorPricing[],MATCH(D83,SensorPricing[Sensor],0),MATCH($M$1,SensorPricing[#Headers],0))*(LeaseYears-2)*0.2777777)*\nLease_Factor/LeaseMonths,0)","v":0}]
[null,"HCN","è","N","=",{"v":4,"d":"$ 4"},{"$nulls":8},"HCN","N","Q2","USD",{"$f":"ROUNDUP(\n(INDEX(SensorPricing[],MATCH(D84,SensorPricing[Sensor],0),MATCH($M$1,SensorPricing[#Headers],0))*2+\nINDEX(SensorPricing[],MATCH(D84,SensorPricing[Sensor],0),MATCH($M$1,SensorPricing[#Headers],0))*(LeaseYears-2)*0.2777777)*\nLease_Factor/LeaseMonths,0)","v":4}]
[null,"CO-H ","è","R","=",{"v":0,"d":"$ 0"},{"$nulls":8},"CO-H ","R","Q2","USD",{"$f":"ROUNDUP(\n(INDEX(SensorPricing[],MATCH(D85,SensorPricing[Sensor],0),MATCH($M$1,SensorPricing[#Headers],0))*2+\nINDEX(SensorPricing[],MATCH(D85,SensorPricing[Sensor],0),MATCH($M$1,SensorPricing[#Headers],0))*(LeaseYears-2)*0.2777777)*\nLease_Factor/LeaseMonths,0)","v":0}]
[null,"SO2","è","S","=",{"v":0,"d":"$ 0"},{"$nulls":8},"SO2","S","Q2","USD",{"$f":"ROUNDUP(\n(INDEX(SensorPricing[],MATCH(D86,SensorPricing[Sensor],0),MATCH($M$1,SensorPricing[#Headers],0))*2+\nINDEX(SensorPricing[],MATCH(D86,SensorPricing[Sensor],0),MATCH($M$1,SensorPricing[#Headers],0))*(LeaseYears-2)*0.2777777)*\nLease_Factor/LeaseMonths,0)","v":0}]
[null,"High-range CO ","è","T","=",{"v":8,"d":"$ 8"},{"$nulls":8},"High-range CO ","T","Q2","USD",{"$f":"ROUNDUP(\n(INDEX(SensorPricing[],MATCH(D87,SensorPricing[Sensor],0),MATCH($M$1,SensorPricing[#Headers],0))*2+\nINDEX(SensorPricing[],MATCH(D87,SensorPricing[Sensor],0),MATCH($M$1,SensorPricing[#Headers],0))*(LeaseYears-2)*0.2777777)*\nLease_Factor/LeaseMonths,0)","v":8}]
[null,"ClO2","è","W","=",{"v":4,"d":"$ 4"},{"$nulls":8},"ClO2","W","Q2","USD",{"$f":"ROUNDUP(\n(INDEX(SensorPricing[],MATCH(D88,SensorPricing[Sensor],0),MATCH($M$1,SensorPricing[#Headers],0))*2+\nINDEX(SensorPricing[],MATCH(D88,SensorPricing[Sensor],0),MATCH($M$1,SensorPricing[#Headers],0))*(LeaseYears-2)*0.2777777)*\nLease_Factor/LeaseMonths,0)","v":4}]
[null,"No Sensor ","è","X","=",{"v":0,"d":"$ 0"},{"$nulls":8},"No Sensor ","X","Q2","USD",{"$f":"ROUNDUP(\n(INDEX(SensorPricing[],MATCH(D89,SensorPricing[Sensor],0),MATCH($M$1,SensorPricing[#Headers],0))*2+\nINDEX(SensorPricing[],MATCH(D89,SensorPricing[Sensor],0),MATCH($M$1,SensorPricing[#Headers],0))*(LeaseYears-2)*0.2777777)*\nLease_Factor/LeaseMonths,0)","v":0}]
[null,0,"",0,"","",{"$nulls":12},{"$f":"ROUNDUP(\n(INDEX(SensorPricing[],MATCH(D90,SensorPricing[Sensor],0),MATCH($M$1,SensorPricing[#Headers],0))*2+\nINDEX(SensorPricing[],MATCH(D90,SensorPricing[Sensor],0),MATCH($M$1,SensorPricing[#Headers],0))*(LeaseYears-2)*0.2777777)*\nLease_Factor/LeaseMonths,0)","v":{"$error":"#N/A"}}]
[null,0,"",0,"","",{"$nulls":12},{"$f":"ROUNDUP(\n(INDEX(SensorPricing[],MATCH(D91,SensorPricing[Sensor],0),MATCH($M$1,SensorPricing[#Headers],0))*2+\nINDEX(SensorPricing[],MATCH(D91,SensorPricing[Sensor],0),MATCH($M$1,SensorPricing[#Headers],0))*(LeaseYears-2)*0.2777777)*\nLease_Factor/LeaseMonths,0)","v":{"$error":"#N/A"}}]
[null,0,"",0,"","",{"$nulls":12},{"$f":"ROUNDUP(\n(INDEX(SensorPricing[],MATCH(D92,SensorPricing[Sensor],0),MATCH($M$1,SensorPricing[#Headers],0))*2+\nINDEX(SensorPricing[],MATCH(D92,SensorPricing[Sensor],0),MATCH($M$1,SensorPricing[#Headers],0))*(LeaseYears-2)*0.2777777)*\nLease_Factor/LeaseMonths,0)","v":{"$error":"#N/A"}}]
[{"$nulls":11},"+"]
[null,"Oxygen Sensor"]
[null,{"$f":"_xlfn.VSTACK(O95:O96)","v":"O2"},{"$f":"IF(B95=0,\"\",\"è\")","v":"è"},{"$f":"_xlfn.VSTACK(P95:P96)","v":"O"},{"$f":"IF(B95=0,\"\",\"=\")","v":"="},{"$f":"IFERROR(SUM(S95:T95),\"\")","v":{"v":0,"d":"$ 0"}},null,"O",{"$nulls":3},{"$f":"VLOOKUP(H95,D95:F96,3,FALSE)","v":{"v":0,"d":"$ 0"}},null,null,{"$f":"_xlfn._xlws.FILTER(_xlfn._xlws.FILTER(Oxygen[],Oxygen[Type]=H48),{1,1,0})","v":"O2"},"O",null,null,{"$f":"ROUNDUP(\n(INDEX(SensorPricing[],MATCH(D95,SensorPricing[Sensor],0),MATCH($M$1,SensorPricing[#Headers],0))*2+\nINDEX(SensorPricing[],MATCH(D95,SensorPricing[Sensor],0),MATCH($M$1,SensorPricing[#Headers],0))*(LeaseYears-2)*0.2777777)*\nLease_Factor/LeaseMonths,0)","v":0}]
[null,0,"",0,"",{"$f":"IFERROR(SUM(S96:T96),\"\")","v":""},{"$nulls":12},{"$f":"ROUNDUP(\n(INDEX(SensorPricing[],MATCH(D96,SensorPricing[Sensor],0),MATCH($M$1,SensorPricing[#Headers],0))*2+\nINDEX(SensorPricing[],MATCH(D96,SensorPricing[Sensor],0),MATCH($M$1,SensorPricing[#Headers],0))*(LeaseYears-2)*0.2777777)*\nLease_Factor/LeaseMonths,0)","v":{"$error":"#N/A"}}]
[{"$nulls":7},"-"]
[null,"Country Code"]
[null,{"$f":"_xlfn.VSTACK(O99:O101)","v":"North America (3G/4G) - G7C"},{"$f":"IF(B99=\"\",\"\",\"è\")","v":"è"},{"$f":"IFERROR(VLOOKUP(B99,Lookup!$F$3:$G$12,2,FALSE),\"\")","v":"NA2"},{"$nulls":3},"NA2",{"$nulls":6},{"$f":"_xlfn.LET(\n_xlpm.Dtype,G7CountryCodes[Type],_xlpm.Curr,G7CountryCodes[Currency],_xlpm.SType,H40,_xlpm.SCurr,M1,\n_xlpm.myCalculation,_xlfn.VSTACK(_xlfn._xlws.FILTER(G7CountryCodes[],(_xlpm.Dtype=_xlpm.SType)*(_xlpm.Curr=_xlpm.SCurr))),_xlpm.myCalculation)","v":"North America (3G/4G) - G7C"},"NA2","C","USD"]
[null,"Outside of North America (3G/4G) - G7C",{"$f":"IF(B100=0,\"\",\"è\")","v":"è"},{"$f":"IFERROR(VLOOKUP(B100,Lookup!$F$3:$G$12,2,FALSE),\"\")","v":"EU2"},{"$nulls":10},"Outside of North America (3G/4G) - G7C","EU2","C","USD"]
[null,"Brazil (3G/4G) - G7C",{"$f":"IF(B101=0,\"\",\"è\")","v":"è"},{"$f":"IFERROR(VLOOKUP(B101,Lookup!$F$3:$G$12,2,FALSE),\"\")","v":"BR2"},{"$nulls":10},"Brazil (3G/4G) - G7C","BR2","C","USD"]
[{"$nulls":7},"-"]
[null,"Term"]
[null,"Three-Years","è","3Y",{"$nulls":3},"4Y",{"$nulls":9},{"$f":"LEFT(H104,1)","v":"4"},{"$f":"LEFT(H104,1)*12","v":48}]
[null,"Four-Years","è","4Y"]

{"sheet":"G7 Bridge & Satellite Plans","index":15,"n_rows":45,"n_cols":18,"rows_kept":45,"merged":[[1,1,1,7],[2,1,12,1],[7,7,7,9],[9,7,9,9],[11,7,11,9],[14,1,14,5],[15,7,15,9],[16,7,17,9],[17,1,17,5],[18,7,18,9],[21,1,21,5],[22,7,22,9],[23,7,24,9],[24,1,24,5],[25,7,29,9],[25,11,29,11],[33,1,33,5],[34,7,34,9],[35,7,36,9],[36,1,36,5],[37,7,37,9],[38,7,39,9],[39,1,39,5],[40,7,44,9],[40,11,44,11]]}
[null,{"$error":"#VALUE!"},{"$nulls":10},{"$f":"Currency","v":"USD"},null,null,"G7 Bridge & Satellite Plans"]
[null,"G7 Bridge and Satellite Plans",{"$nulls":10},{"$f":"PBYear","v":2025},"Quick Links"]
[null,{"$error":"#VALUE!"},{"$nulls":10},{"$f":"Revision","v":"Effective February 2, 2026 Rev 2"},"Main Menu"]
[{"$nulls":12},"Blackline Safety Confidential","G7 Multi-Gas Purchase"]
[{"$nulls":12},"All prices are an estimate - for a formal quote contact your local Blackline Safety representative","G7 Multi-Gas Blend"]
[{"$nulls":12},"Lease buying option not available in all countries. Please confirm with your local Blackline representative","G7 Multi-Gas Lease"]
[{"$nulls":13},"Accessories"]
[{"$nulls":5},"Bridge",null,{"$f":"IF(OR(M1=\"AUD\",M1=\"CAD\",M1=\"USD\"),CONCATENATE(H16,\"-\",H19),\"\")","v":"BRIDGE-NA2"},{"$nulls":3},{"$f":"L16","v":{"v":1332,"d":"$ 1,332"}},"upfront"]
[]
[{"$nulls":5},"Satellite Service",null,{"$f":"IF(OR(M1=\"AUD\",M1=\"CAD\",M1=\"USD\"),CONCATENATE(H23,\"-\",H26),\"\")","v":"SER-BRIDGE-1Y"},{"$nulls":3},{"$f":"L26","v":{"v":801,"d":"$ 801"}},"per year"]
[]
[{"$nulls":5},"Lease w/ Service",null,{"$f":"IF(OR(M1=\"AUD\",M1=\"CAD\",M1=\"USD\"),CONCATENATE(H35,\"-\",H38,\"-\",H41),\"\")","v":"CMP-BRIDGE-NA2-4Y"},{"$nulls":3},{"$f":"L41","v":{"v":113,"d":"$ 113"}},"per month"]
[]
[null,"Bridge (Purchase)"]
[null,"Buying Option"]
[null,"Purchase",{"$nulls":3},{"$f":"R16","v":{"v":1332,"d":"$ 1,332"}},null,"BRIDGE",{"$nulls":3},{"$f":"F16","v":{"v":1332,"d":"$ 1,332"}},{"$nulls":5},{"$f":"INDEX(BridgePricing[],MATCH(\"Bridge\",BridgePricing[Type],0),MATCH($M$1,BridgePricing[#Headers],0))","v":1332}]
[{"$nulls":7},"-"]
[null,"Region"]
[null,{"$f":"IFERROR(O19,\"Not Available\")","v":"North America"},"è",{"$f":"IF(P19=0,\"\",P19)","v":"NA2"},{"$nulls":3},{"$f":"D19","v":"NA2"},{"$nulls":6},{"$f":"_xlfn.LET(\n_xlpm.Curr,BridgeCountryCodes[Currency],_xlpm.SCurr,M1,\n_xlpm.myCalculation,_xlfn.VSTACK(_xlfn._xlws.FILTER(BridgeCountryCodes[],(_xlpm.Curr=_xlpm.SCurr))),_xlpm.myCalculation)","v":"North America"},"NA2",0,"USD"]
[]
[null,"Bridge Service Plans"]
[null,"Buying Option"]
[null,"Purchase",{"$nulls":5},"SER-BRIDGE"]
[{"$nulls":7},"-"]
[null,"Purchase Term"]
[null,"1-Year","è","1Y",null,{"$f":"R26","v":{"v":801,"d":"$ 801"}},null,"1Y",{"$nulls":3},{"$f":"VLOOKUP(H26,D26:F30,3,FALSE)","v":{"v":801,"d":"$ 801"}},{"$nulls":5},{"$f":"INDEX(BridgePricing[],MATCH(\"1Y Service\",BridgePricing[Type],0),MATCH($M$1,BridgePricing[#Headers],0))","v":801}]
[null,"2-Years","è","2Y",null,{"$f":"R27","v":{"v":785,"d":"$ 785"}},{"$nulls":11},{"$f":"INDEX(BridgePricing[],MATCH(\"2Y Service\",BridgePricing[Type],0),MATCH($M$1,BridgePricing[#Headers],0))","v":785}]
[null,"3-Years","è","3Y",null,{"v":777,"d":"$ 777"},{"$nulls":11},{"$f":"INDEX(BridgePricing[],MATCH(\"3Y Service\",BridgePricing[Type],0),MATCH($M$1,BridgePricing[#Headers],0))","v":777}]
[null,"4-Years","è","4Y",null,{"v":769,"d":"$ 769"},{"$nulls":11},{"$f":"INDEX(BridgePricing[],MATCH(\"4Y Service\",BridgePricing[Type],0),MATCH($M$1,BridgePricing[#Headers],0))","v":769}]
[null,"5-Years","è","5Y",null,{"v":761,"d":"$ 761"},{"$nulls":11},{"$f":"INDEX(BridgePricing[],MATCH(\"5Y Service\",BridgePricing[Type],0),MATCH($M$1,BridgePricing[#Headers],0))","v":761}]
[]
[]
[null,"Bridge (Lease) - Includes Service Plan"]
[null,"Buying Option"]
[null,"Lease",{"$nulls":5},"CMP-BRIDGE"]
[{"$nulls":7},"-"]
[null,"Region"]
[null,{"$f":"IFERROR(O38,\"Not Available\")","v":"North America"},"è",{"$f":"IF(P38=0,\"\",P38)","v":"NA2"},{"$nulls":3},{"$f":"D38","v":"NA2"},{"$nulls":6},{"$f":"_xlfn.LET(\n_xlpm.Curr,BridgeCountryCodes[Currency],_xlpm.SCurr,M1,\n_xlpm.myCalculation,_xlfn.VSTACK(_xlfn._xlws.FILTER(BridgeCountryCodes[],(_xlpm.Curr=_xlpm.SCurr))),_xlpm.myCalculation)","v":"North America"},"NA2",0,"USD"]
[{"$nulls":7},"-"]
[null,"Lease Term"]
[null,"1-Year","è","1Y",null,{"$f":"IFERROR(R41,\"N/A\")","v":{"v":213,"d":"$ 213"}},null,"4Y",{"$nulls":3},{"$f":"VLOOKUP(H41,D41:F45,3,FALSE)","v":{"v":113,"d":"$ 113"}},{"$nulls":5},{"$f":"ROUND(($R$16/12+$R$26/12)*Lease_Factor,0)","v":213}]
[null,"2-years","è","2Y",null,{"$f":"IFERROR(R42,\"N/A\")","v":{"v":147,"d":"$ 147"}},{"$nulls":11},{"$f":"ROUND(($R$16/24+$R$26/12)*Lease_Factor,0)","v":147}]
[null,"3-Years","è","3Y",null,{"v":125,"d":"$ 125"},{"$nulls":11},{"$f":"ROUND(($R$16/36+$R$26/12)*Lease_Factor,0)","v":125}]
[null,"4-Years","è","4Y",null,{"v":113,"d":"$ 113"},{"$nulls":11},{"$f":"ROUND(($R$16/48+$R$26/12)*Lease_Factor,0)","v":113}]
[null,"5-Years","è","5Y",null,{"v":107,"d":"$ 107"},{"$nulls":11},{"$f":"ROUND(($R$16/60+$R$26/12)*Lease_Factor,0)","v":107}]

{"sheet":"G8 Lone Worker Purchase","index":16,"n_rows":65,"n_cols":24,"rows_kept":65,"merged":[[1,1,1,7],[2,1,12,1],[7,5,7,9],[9,7,9,9],[11,7,11,9],[13,1,13,5],[14,7,15,9],[14,11,15,11],[16,11,31,11],[17,1,17,5],[18,7,18,9],[19,7,20,9],[20,1,20,5],[21,7,21,9],[22,7,23,9],[23,1,23,5],[24,7,26,9],[27,7,28,9],[28,1,28,5],[29,7,29,9],[30,7,31,9],[31,1,31,5],[32,7,35,9],[32,11,35,11],[36,7,37,9],[36,11,37,11],[37,1,37,5],[38,7,40,9],[38,11,40,11],[41,11,42,11],[42,1,42,5],[43,7,45,9],[43,11,45,11],[46,11,47,11],[47,1,47,5],[48,7,49,9],[48,11,49,11],[50,11,51,11],[51,1,51,5],[52,7,53,9],[52,11,53,11],[54,11,55,11],[55,1,55,5],[56,7,57,9],[56,11,57,11],[58,7,59,9],[59,1,59,5],[60,7,64,9]]}
[null,{"$error":"#VALUE!"},{"$nulls":10},{"$f":"Currency","v":"USD"},null,null,"G8 Lone Worker Purchase"]
[null,"G8 Lone Worker Purchase",{"$nulls":10},{"$f":"PBYear","v":2025},"Quick Links"]
[null,{"$error":"#VALUE!"},{"$nulls":10},{"$f":"Revision","v":"Effective February 2, 2026 Rev 2"},"Main Menu"]
[{"$nulls":12},"Blackline Safety Confidential","Accessories"]
[{"$nulls":12},"All prices are an estimate - for a formal quote contact your local Blackline Safety representative"]
[]
[]
[{"$nulls":5},{"$f":"CONCATENATE(H15,H19,H20,H22,H23,H25,H28,H30,H31,H33,H37,ServicePlans,H44,H49,H53,H57,H59,H61)","v":"J-G8C-01-NA2-Z-2Y-SXXXX-2Y"},{"$nulls":5},{"$f":"IFERROR(L15+L33+L39+L44+L49+L53+L57,\"Error\")","v":{"v":1002,"d":"$ 1,002"}},{"$f":"M1&\" List\"","v":"USD List"}]
[]
[]
[]
[{"$nulls":5},"Additional Cartridge",null,{"$f":"_xlfn.LET(_xlpm.trm,IF(H33=\"2Y\",\"2Y\",\"3Y\"),\nCONCATENATE(\"J-CART-\",H30,\"-\",_xlpm.trm,\"-R\"))","v":"J-CART-Z-2Y-R"},{"$nulls":3},{"$f":"X16","v":{"v":118,"d":"$ 118"}},{"$f":"M1&\" List\"","v":"USD List"}]
[]
[null,"Buying Option",{"$nulls":16},"Price",{"$nulls":3},"Additional CART"]
[null,"Purchase","è","J-G8",{"$nulls":3},{"$f":"D15","v":"J-G8"},{"$nulls":3},{"$f":"F16","v":{"v":594,"d":"$ 594"}},{"$nulls":11},{"$f":"IF(H33=\"2Y\",2.5,3)","v":2.5}]
[1,null,null,"Lone Worker","=",{"$f":"SUM(S16:T16)","v":{"v":594,"d":"$ 594"}},{"$nulls":11},1,{"$f":"INDEX(BasePrices[],MATCH(\"G8 Purchase Base Price\",BasePrices[Type],0),MATCH($M$1,BasePrices[#Headers],0))","v":594},{"$nulls":4},{"$f":"ROUNDUP(INDEX(BasePrices[],MATCH(\"Standard Cartridge\",BasePrices[Type],0),MATCH($M$1,BasePrices[#Headers],0))*$X$15,0)","v":118}]
[{"$nulls":11},"+"]
[null,"Connectivity"]
[null,"Cellular","è","C",{"$nulls":3},"C"]
[{"$nulls":7},"-"]
[null,"SIM Card"]
[null,"Standard (Telenor)","è","01",{"$nulls":3},{"$f":"D22","v":"01"}]
[{"$nulls":7},"-"]
[null,"Country Code"]
[null,{"$f":"_xlfn.VSTACK(O25:O27)","v":"North America (4G/LTE) - G8C"},{"$f":"IF(B25=\"\",\"\",\"è\")","v":"è"},{"$f":"IFERROR(_xlfn.VSTACK(P25:P27),\"\")","v":"NA2"},{"$nulls":3},"NA2",{"$nulls":6},{"$f":"_xlfn.LET(\n_xlpm.Dtype,G8CountryCodes[Type],_xlpm.Curr,G8CountryCodes[Currency],_xlpm.SType,H19,_xlpm.SCurr,M1,\n_xlpm.myCalculation,_xlfn.VSTACK(_xlfn._xlws.FILTER(G8CountryCodes[],(_xlpm.Dtype=_xlpm.SType)*(_xlpm.Curr=_xlpm.SCurr))),_xlpm.myCalculation)","v":"North America (4G/LTE) - G8C"},"NA2","C","USD"]
[null,"Outside of North America (4G/LTE) - G8C",{"$f":"IF(B26=0,\"\",\"è\")","v":"è"},"EU2",{"$nulls":10},"Outside of North America (4G/LTE) - G8C","EU2","C","USD"]
[null,0,{"$f":"IF(B27=0,\"\",\"è\")","v":""},0]
[{"$nulls":7},"-"]
[null,"Cartridge Type"]
[null,"Lone Worker","è","Z",{"$nulls":3},{"$f":"D30","v":"Z"}]
[{"$nulls":7},"-"]
[null,"Warranty Term"]
[null,{"$f":"_xlfn.VSTACK(O33:O36)","v":"2-Years"},"è",{"$f":"_xlfn.VSTACK(P33:P36)","v":"2Y"},{"$nulls":3},"2Y",{"$nulls":3},{"$f":"S33","v":{"v":0,"d":"$ 0"}},null,null,{"$f":"_xlfn.VSTACK(G8PurWarr[])","v":"2-Years"},"2Y","2Y",null,{"$f":"INDEX(BasePrices[],MATCH(\"G7 Warranty Base Price\",BasePrices[Type],0),MATCH($M$1,BasePrices[#Headers],0))*MAX(0,LEFT(H33,1)-2)","v":0}]
[null,"3-Years","è","3Y",{"$nulls":10},"3-Years","3Y","3Y"]
[null,"4-Years","è","4Y",{"$nulls":10},"4-Years","4Y","4Y"]
[null,"5-Years","è","5Y",{"$nulls":10},"5-Years","5Y","5Y"]
[{"$nulls":7},"-",{"$nulls":3},"+"]
[null,"Service Plan"]
[null,{"$f":"_xlfn.VSTACK(O39:O41)","v":"Standard"},{"$f":"IF(B39=0,\"\",\"è\")","v":"è"},{"$f":"_xlfn.VSTACK(P39:P41)","v":"S"},{"$f":"IF(B39=0,\"\",\"=\")","v":"="},{"$f":"IFERROR(S39,\"\")","v":{"v":408,"d":"$ 408"}},null,"S",{"$nulls":3},{"$f":"VLOOKUP(H39,D39:F41,3,FALSE)","v":{"v":408,"d":"$ 408"}},null,null,{"$f":"_xlfn.VSTACK(G8ServicePlans[])","v":"Standard"},"S",null,null,{"$f":"INDEX(G8ServicePrices[],MATCH(D39,G8ServicePrices[Code],0),MATCH($M$1,G8ServicePrices[#Headers],0))*PurhcaseTerm","v":408}]
[null,"Pro","è","K","=",{"v":768,"d":"$ 768"},{"$nulls":8},"Pro","K",null,null,{"$f":"INDEX(G8ServicePrices[],MATCH(D40,G8ServicePrices[Code],0),MATCH($M$1,G8ServicePrices[#Headers],0))*PurhcaseTerm","v":768}]
[null,0,"",0,"","",{"$nulls":12},{"$f":"INDEX(G8ServicePrices[],MATCH(D41,G8ServicePrices[Code],0),MATCH($M$1,G8ServicePrices[#Headers],0))*PurhcaseTerm","v":{"$error":"#N/A"}}]
[{"$nulls":11},"+"]
[null,"Monitoring Services"]
[null,{"$f":"_xlfn.VSTACK(O44:O46)","v":"None"},{"$f":"IF(B44=0,\"\",\"è\")","v":"è"},{"$f":"_xlfn.VSTACK(P44:P46)","v":"X"},{"$f":"IF(B44=0,\"\",\"=\")","v":"="},{"$f":"IFERROR(S44,\"\")","v":{"v":0,"d":"$ 0"}},null,"X",{"$nulls":3},{"$f":"VLOOKUP(H44,D44:F46,3,FALSE)","v":{"v":0,"d":"$ 0"}},null,null,{"$f":"_xlfn._xlws.FILTER(_xlfn._xlws.FILTER(G8Monitoring[],G8Monitoring[Type]=ServicePlans),{1,1,0})","v":"None"},"X",null,null,{"$f":"IF(P44=\"X\",0,INDEX(G8ServicePrices[],MATCH(D44,G8ServicePrices[Code],0),MATCH($M$1,G8ServicePrices[#Headers],0))*PurhcaseTerm)","v":0}]
[null,0,"",0,"",{"$f":"IFERROR(S45,\"\")","v":""},{"$nulls":12},{"$f":"IF(P45=\"X\",0,INDEX(G8ServicePrices[],MATCH(D45,G8ServicePrices[Code],0),MATCH($M$1,G8ServicePrices[#Headers],0))*PurhcaseTerm)","v":{"$error":"#N/A"}}]
[null,0,"",0,"",{"$f":"IFERROR(S46,\"\")","v":""},{"$nulls":12},{"$f":"IF(P46=\"X\",0,INDEX(G8ServicePrices[],MATCH(D46,G8ServicePrices[Code],0),MATCH($M$1,G8ServicePrices[#Headers],0))*PurhcaseTerm)","v":{"$error":"#N/A"}}]
[{"$nulls":11},"+"]
[null,"Voice"]
[null,{"$f":"_xlfn.VSTACK(O49:O50)","v":"None"},{"$f":"IF(B49=0,\"\",\"è\")","v":"è"},{"$f":"_xlfn.VSTACK(P49:P50)","v":"X"},{"$f":"IF(B49=0,\"\",\"=\")","v":"="},{"$f":"IFERROR(S49,\"\")","v":{"v":0,"d":"$ 0"}},null,"X",{"$nulls":3},{"$f":"VLOOKUP(H49,D49:F50,3,FALSE)","v":{"v":0,"d":"$ 0"}},null,null,{"$f":"_xlfn._xlws.FILTER(_xlfn._xlws.FILTER(G8Voice[],G8Voice[Type]=ServicePlans),{1,1,0})","v":"None"},"X",null,null,{"$f":"IF(P49=\"X\",0,INDEX(G8ServicePrices[],MATCH(D49,G8ServicePrices[Code],0),MATCH($M$1,G8ServicePrices[#Headers],0))*PurhcaseTerm)","v":0}]
[null,0,"",0,"",{"$f":"IFERROR(S50,\"\")","v":""},{"$nulls":12},{"$f":"IF(P50=\"X\",0,INDEX(G8ServicePrices[],MATCH(D50,G8ServicePrices[Code],0),MATCH($M$1,G8ServicePrices[#Headers],0))*PurhcaseTerm)","v":{"$error":"#N/A"}}]
[{"$nulls":11},"+"]
[null,"Push-to-Talk"]
[null,{"$f":"_xlfn.VSTACK(O53:O54)","v":"None"},{"$f":"IF(B53=0,\"\",\"è\")","v":"è"},{"$f":"_xlfn.VSTACK(P53:P54)","v":"X"},{"$f":"IF(B53=0,\"\",\"=\")","v":"="},{"$f":"IFERROR(S53,\"\")","v":{"v":0,"d":"$ 0"}},null,"X",{"$nulls":3},{"$f":"VLOOKUP(H53,D53:F54,3,FALSE)","v":{"v":0,"d":"$ 0"}},null,null,{"$f":"_xlfn._xlws.FILTER(_xlfn._xlws.FILTER(G8PTT[],G8PTT[Type]=ServicePlans),{1,1,0})","v":"None"},"X",null,null,{"$f":"IF(P53=\"X\",0,INDEX(G8ServicePrices[],MATCH(D53,G8ServicePrices[Code],0),MATCH($M$1,G8ServicePrices[#Headers],0))*PurhcaseTerm)","v":0}]
[null,"Included","è","P","=",{"$f":"IFERROR(S54,\"\")","v":{"v":456,"d":"$ 456"}},{"$nulls":8},"Included","P",null,null,{"$f":"IF(P54=\"X\",0,INDEX(G8ServicePrices[],MATCH(D54,G8ServicePrices[Code],0),MATCH($M$1,G8ServicePrices[#Headers],0))*PurhcaseTerm)","v":456}]
[{"$nulls":11},"+"]
[null,"Future Service Option"]
[null,{"$f":"_xlfn.VSTACK(O57:O58)","v":"None"},{"$f":"IF(B57=0,\"\",\"è\")","v":"è"},{"$f":"_xlfn.VSTACK(P57:P58)","v":"X"},{"$f":"IF(B57=0,\"\",\"=\")","v":"="},{"$f":"IFERROR(S57,\"\")","v":{"v":0,"d":"$ 0"}},null,"X",{"$nulls":3},{"$f":"VLOOKUP(H57,D57:F58,3,FALSE)","v":{"v":0,"d":"$ 0"}},null,null,{"$f":"_xlfn._xlws.FILTER(_xlfn._xlws.FILTER(G8TeamCalling[],G8TeamCalling[Type]=ServicePlans),{1,1,0})","v":"None"},"X",null,null,{"$f":"IF(P57=\"X\",0,INDEX(G8ServicePrices[],MATCH(D57,G8ServicePrices[Code],0),MATCH($M$1,G8ServicePrices[#Headers],0))*PurhcaseTerm)","v":0}]
[null,0,"",0,"",{"$f":"IFERROR(S58,\"\")","v":""},{"$nulls":12},{"$f":"IF(P58=\"X\",0,INDEX(G8ServicePrices[],MATCH(D58,G8ServicePrices[Code],0),MATCH($M$1,G8ServicePrices[#Headers],0))*PurhcaseTerm)","v":{"$error":"#N/A"}}]
[{"$nulls":7},"-"]
[null,"Term"]
[null,"One-Year","è","1Y",{"$nulls":3},"2Y",{"$nulls":10},{"$f":"LEFT(H61,1)*12","v":24}]
[null,"Two-Years","è","2Y"]
[null,"Three-Years","è","3Y"]
[null,"Four-Years","è","4Y"]
[null,"Five-Years","è","5Y"]

{"sheet":"G8 Single-Gas Purchase","index":17,"n_rows":86,"n_cols":24,"rows_kept":86,"merged":[[1,1,1,7],[2,1,12,1],[7,5,7,9],[9,7,9,9],[11,7,11,9],[13,1,13,5],[14,7,15,9],[14,11,15,11],[16,11,28,11],[17,1,17,5],[18,7,18,9],[19,7,20,9],[20,1,20,5],[21,7,21,9],[22,7,23,9],[23,1,23,5],[24,7,26,9],[27,7,28,9],[28,1,28,5],[29,7,29,9],[30,7,31,9],[30,11,31,11],[31,1,31,5],[32,7,50,9],[32,11,50,11],[51,7,52,9],[51,11,52,11],[52,1,52,5],[53,7,56,9],[53,11,56,11],[57,7,58,9],[57,11,58,11],[58,1,58,5],[59,7,61,9],[59,11,61,11],[62,11,63,11],[63,1,63,5],[64,7,66,9],[64,11,66,11],[67,11,68,11],[68,1,68,5],[69,7,70,9],[69,11,70,11],[71,11,72,11],[72,1,72,5],[73,7,74,9],[73,11,74,11],[75,11,76,11],[76,1,76,5],[77,7,78,9],[77,11,78,11],[79,7,80,9],[80,1,80,5],[81,7,85,9]]}
[null,{"$error":"#VALUE!"},{"$nulls":10},{"$f":"Currency","v":"USD"},null,null,"G8 Single-Gas Purchase"]
[null,"G8 Single-Gas Purchase",{"$nulls":10},{"$f":"PBYear","v":2025},"Quick Links"]
[null,{"$error":"#VALUE!"},{"$nulls":10},{"$f":"Revision","v":"Effective February 2, 2026 Rev 2"},"Main Menu"]
[{"$nulls":12},"Blackline Safety Confidential","Accessories"]
[{"$nulls":12},"All prices are an estimate - for a formal quote contact your local Blackline Safety representative"]
[]
[]
[{"$nulls":5},{"$f":"CONCATENATE(H15,H19,H20,H22,H23,H25,H28,H30,H31,H33,H52,H54,H58,ServicePlans,H65,H70,H74,H78,H80,H82)","v":"J-G8C-01-EU2-S-H-2Y-SXXXX-2Y"},{"$nulls":5},{"$f":"IFERROR(L15+L30+L33+L54+L60+L65+L70+L74+L78,\"Error\")","v":{"v":1148,"d":"$ 1,148"}},{"$f":"M1&\" List\"","v":"USD List"}]
[]
[]
[]
[{"$nulls":5},"Additional Cartridge",null,{"$f":"_xlfn.LET(_xlpm.trm,IF(H54=\"2Y\",\"2Y\",\"3Y\"),\nCONCATENATE(\"J-CART-\",H30,\"-\",H33,\"-\",_xlpm.trm,\"-R\"))","v":"J-CART-S-H-2Y-R"},{"$nulls":3},{"$f":"SUM(X16:X32)","v":{"v":183,"d":"$ 183"}},{"$f":"M1&\" List\"","v":"USD List"}]
[]
[null,"Buying Option",{"$nulls":16},"Price","EWAR",null,null,"Additional CART"]
[null,"Purchase","è","J-G8",{"$nulls":3},{"$f":"D15","v":"J-G8"},{"$nulls":3},{"$f":"S16","v":{"v":594,"d":"$ 594"}},{"$nulls":11},{"$f":"IF(H54=\"2Y\",2.5,3)","v":2.5}]
[1,null,null,"Single-sensor","=",{"$f":"SUM(S16:T16)","v":{"v":594,"d":"$ 594"}},{"$nulls":11},1,{"$f":"INDEX(BasePrices[],MATCH(\"G8 Purchase Base Price\",BasePrices[Type],0),MATCH($M$1,BasePrices[#Headers],0))","v":594},{"$f":"INDEX(BasePrices[],MATCH(\"G7 Warranty Base Price\",BasePrices[Type],0),MATCH($M$1,BasePrices[#Headers],0))*MAX(0,LEFT(H54,1)-2)","v":0},{"$nulls":3},{"$f":"ROUNDUP(INDEX(BasePrices[],MATCH(R16&\" Sensor Cartridge\",BasePrices[Type],0),MATCH($M$1,BasePrices[#Headers],0))*$X$15,0)","v":183}]
[{"$nulls":11},"+"]
[null,"Connectivity"]
[null,"Cellular","è","C",{"$nulls":3},"C"]
[{"$nulls":7},"-"]
[null,"SIM Card"]
[null,"Standard (Telenor)","è","01",{"$nulls":3},{"$f":"D22","v":"01"}]
[{"$nulls":7},"-"]
[null,"Country Code"]
[null,{"$f":"_xlfn.VSTACK(O25:O27)","v":"North America (4G/LTE) - G8C"},{"$f":"IF(B25=\"\",\"\",\"è\")","v":"è"},{"$f":"IFERROR(_xlfn.VSTACK(P25:P27),\"\")","v":"NA2"},{"$nulls":3},"EU2",{"$nulls":6},{"$f":"_xlfn.LET(\n_xlpm.Dtype,G8CountryCodes[Type],_xlpm.Curr,G8CountryCodes[Currency],_xlpm.SType,H19,_xlpm.SCurr,M1,\n_xlpm.myCalculation,_xlfn.VSTACK(_xlfn._xlws.FILTER(G8CountryCodes[],(_xlpm.Dtype=_xlpm.SType)*(_xlpm.Curr=_xlpm.SCurr))),_xlpm.myCalculation)","v":"North America (4G/LTE) - G8C"},"NA2","C","USD"]
[null,"Outside of North America (4G/LTE) - G8C",{"$f":"IF(B26=0,\"\",\"è\")","v":"è"},"EU2",{"$nulls":10},"Outside of North America (4G/LTE) - G8C","EU2","C","USD"]
[null,0,{"$f":"IF(B27=0,\"\",\"è\")","v":""},0]
[{"$nulls":7},"-"]
[null,"Cartridge Type"]
[null,"Single Sensor","è","S","=",{"$f":"SUM(S30:T30)","v":{"v":146,"d":"$ 146"}},null,{"$f":"D30","v":"S"},{"$nulls":3},{"$f":"S30","v":{"v":146,"d":"$ 146"}},{"$nulls":6},{"$f":"INDEX(BasePrices[],MATCH(R16&\" Sensor Cartridge\",BasePrices[Type],0),MATCH($M$1,BasePrices[#Headers],0))*2","v":146},{"$f":"ROUNDUP(INDEX(BasePrices[],MATCH(R16&\" Sensor Cartridge\",BasePrices[Type],0),MATCH($M$1,BasePrices[#Headers],0))*0.2777777,0)*MAX(0,LEFT(H54,1)-2)","v":0}]
[{"$nulls":7},"-",{"$nulls":3},"+"]
[null,"Toxic Sensor",{"$nulls":21},{"$f":"VLOOKUP(H33,D33:W51,20,FALSE)","v":0}]
[null,{"$f":"_xlfn.VSTACK(O33:O51)","v":"HF"},{"$f":"IF(B33=0,\"\",\"è\")","v":"è"},{"$f":"_xlfn.VSTACK(P33:P51)","v":"2"},{"$f":"IF(B33=0,\"\",\"=\")","v":"="},{"$f":"IFERROR(S33,\"\")","v":{"v":840,"d":"$ 840"}},null,"H",{"$nulls":3},{"$f":"VLOOKUP(H33,D33:F51,3,FALSE)","v":{"v":0,"d":"$ 0"}},null,null,{"$f":"_xlfn.LET(\n_xlpm.Dtype,G7Sensors[Type1],_xlpm.Curr,G7Sensors[Currency],_xlpm.Stype,H30,_xlpm.SCurr,M1,\n_xlpm.myCalculation,_xlfn.VSTACK(_xlfn._xlws.FILTER(G7Sensors[],(_xlpm.Dtype=_xlpm.Stype)*(_xlpm.Curr=_xlpm.SCurr))),_xlpm.myCalculation)","v":"HF"},"2","S","USD",{"$f":"INDEX(SensorPricing[],MATCH(D33,SensorPricing[Sensor],0),MATCH($M$1,SensorPricing[#Headers],0))*2","v":840},{"$f":"ROUNDUP(INDEX(SensorPricing[],MATCH(H33,SensorPricing[Sensor],0),MATCH($M$1,SensorPricing[#Headers],0))*0.2777777,0)*MAX(0,LEFT(H54,1)-2)","v":0},null,null,{"$f":"INDEX(SensorPricing[],MATCH(D33,SensorPricing[Sensor],0),MATCH($M$1,SensorPricing[#Headers],0))*$X$15","v":1050}]
[null,"NH3","è","A","=",{"$f":"IFERROR(S34,\"\")","v":{"v":120,"d":"$ 120"}},{"$nulls":8},"NH3","A","S","USD",{"$f":"INDEX(SensorPricing[],MATCH(D34,SensorPricing[Sensor],0),MATCH($M$1,SensorPricing[#Headers],0))*2","v":120},{"$nulls":3},{"$f":"INDEX(SensorPricing[],MATCH(D34,SensorPricing[Sensor],0),MATCH($M$1,SensorPricing[#Headers],0))*$X$15","v":150}]
[null,"High-range NH3 ","è","B","=",{"v":252,"d":"$ 252"},{"$nulls":8},"High-range NH3 ","B","S","USD",{"$f":"INDEX(SensorPricing[],MATCH(D35,SensorPricing[Sensor],0),MATCH($M$1,SensorPricing[#Headers],0))*2","v":252},{"$nulls":3},{"$f":"INDEX(SensorPricing[],MATCH(D35,SensorPricing[Sensor],0),MATCH($M$1,SensorPricing[#Headers],0))*$X$15","v":315}]
[null,"CO2","è","C","=",{"v":480,"d":"$ 480"},{"$nulls":8},"CO2","C","S","USD",{"$f":"INDEX(SensorPricing[],MATCH(D36,SensorPricing[Sensor],0),MATCH($M$1,SensorPricing[#Headers],0))*2","v":480},{"$nulls":3},{"$f":"INDEX(SensorPricing[],MATCH(D36,SensorPricing[Sensor],0),MATCH($M$1,SensorPricing[#Headers],0))*$X$15","v":600}]
[null,"O3","è","E","=",{"v":240,"d":"$ 240"},{"$nulls":8},"O3","E","S","USD",{"$f":"INDEX(SensorPricing[],MATCH(D37,SensorPricing[Sensor],0),MATCH($M$1,SensorPricing[#Headers],0))*2","v":240},{"$nulls":3},{"$f":"INDEX(SensorPricing[],MATCH(D37,SensorPricing[Sensor],0),MATCH($M$1,SensorPricing[#Headers],0))*$X$15","v":300}]
[null,"H2S","è","H","=",{"v":0,"d":"$ 0"},{"$nulls":8},"H2S","H","S","USD",{"$f":"INDEX(SensorPricing[],MATCH(D38,SensorPricing[Sensor],0),MATCH($M$1,SensorPricing[#Headers],0))*2","v":0},{"$nulls":3},{"$f":"INDEX(SensorPricing[],MATCH(D38,SensorPricing[Sensor],0),MATCH($M$1,SensorPricing[#Headers],0))*$X$15","v":0}]
[null,"High-range H2S ","è","J","=",{"v":240,"d":"$ 240"},{"$nulls":8},"High-range H2S ","J","S","USD",{"$f":"INDEX(SensorPricing[],MATCH(D39,SensorPricing[Sensor],0),MATCH($M$1,SensorPricing[#Headers],0))*2","v":240},{"$nulls":3},{"$f":"INDEX(SensorPricing[],MATCH(D39,SensorPricing[Sensor],0),MATCH($M$1,SensorPricing[#Headers],0))*$X$15","v":300}]
[null,"NO2 ","è","K","=",{"v":120,"d":"$ 120"},{"$nulls":8},"NO2 ","K","S","USD",{"$f":"INDEX(SensorPricing[],MATCH(D40,SensorPricing[Sensor],0),MATCH($M$1,SensorPricing[#Headers],0))*2","v":120},{"$nulls":3},{"$f":"INDEX(SensorPricing[],MATCH(D40,SensorPricing[Sensor],0),MATCH($M$1,SensorPricing[#Headers],0))*$X$15","v":150}]
[null,"Cl2","è","L","=",{"v":120,"d":"$ 120"},{"$nulls":8},"Cl2","L","S","USD",{"$f":"INDEX(SensorPricing[],MATCH(D41,SensorPricing[Sensor],0),MATCH($M$1,SensorPricing[#Headers],0))*2","v":120},{"$nulls":3},{"$f":"INDEX(SensorPricing[],MATCH(D41,SensorPricing[Sensor],0),MATCH($M$1,SensorPricing[#Headers],0))*$X$15","v":150}]
[null,"CO ","è","M","=",{"v":0,"d":"$ 0"},{"$nulls":8},"CO ","M","S","USD",{"$f":"INDEX(SensorPricing[],MATCH(D42,SensorPricing[Sensor],0),MATCH($M$1,SensorPricing[#Headers],0))*2","v":0},{"$nulls":3},{"$f":"INDEX(SensorPricing[],MATCH(D42,SensorPricing[Sensor],0),MATCH($M$1,SensorPricing[#Headers],0))*$X$15","v":0}]
[null,"HCN","è","N","=",{"v":120,"d":"$ 120"},{"$nulls":8},"HCN","N","S","USD",{"$f":"INDEX(SensorPricing[],MATCH(D43,SensorPricing[Sensor],0),MATCH($M$1,SensorPricing[#Headers],0))*2","v":120},{"$nulls":3},{"$f":"INDEX(SensorPricing[],MATCH(D43,SensorPricing[Sensor],0),MATCH($M$1,SensorPricing[#Headers],0))*$X$15","v":150}]
[null,"O2","è","O","=",{"v":0,"d":"$ 0"},{"$nulls":8},"O2","O","S","USD",{"$f":"INDEX(SensorPricing[],MATCH(D44,SensorPricing[Sensor],0),MATCH($M$1,SensorPricing[#Headers],0))*2","v":0},{"$nulls":3},{"$f":"INDEX(SensorPricing[],MATCH(D44,SensorPricing[Sensor],0),MATCH($M$1,SensorPricing[#Headers],0))*$X$15","v":0}]
[null,"CO-H ","è","R","=",{"v":0,"d":"$ 0"},{"$nulls":8},"CO-H ","R","S","USD",{"$f":"INDEX(SensorPricing[],MATCH(D45,SensorPricing[Sensor],0),MATCH($M$1,SensorPricing[#Headers],0))*2","v":0},{"$nulls":3},{"$f":"INDEX(SensorPricing[],MATCH(D45,SensorPricing[Sensor],0),MATCH($M$1,SensorPricing[#Headers],0))*$X$15","v":0}]
[null,"SO2","è","S","=",{"v":0,"d":"$ 0"},{"$nulls":8},"SO2","S","S","USD",{"$f":"INDEX(SensorPricing[],MATCH(D46,SensorPricing[Sensor],0),MATCH($M$1,SensorPricing[#Headers],0))*2","v":0},{"$nulls":3},{"$f":"INDEX(SensorPricing[],MATCH(D46,SensorPricing[Sensor],0),MATCH($M$1,SensorPricing[#Headers],0))*$X$15","v":0}]
[null,"High-range CO ","è","T","=",{"v":240,"d":"$ 240"},{"$nulls":8},"High-range CO ","T","S","USD",{"$f":"INDEX(SensorPricing[],MATCH(D47,SensorPricing[Sensor],0),MATCH($M$1,SensorPricing[#Headers],0))*2","v":240},{"$nulls":3},{"$f":"INDEX(SensorPricing[],MATCH(D47,SensorPricing[Sensor],0),MATCH($M$1,SensorPricing[#Headers],0))*$X$15","v":300}]
[null,"PID","è","V","=",{"v":966,"d":"$ 966"},{"$nulls":8},"PID","V","S","USD",{"$f":"INDEX(SensorPricing[],MATCH(D48,SensorPricing[Sensor],0),MATCH($M$1,SensorPricing[#Headers],0))*2","v":966},{"$nulls":3},{"$f":"INDEX(SensorPricing[],MATCH(D48,SensorPricing[Sensor],0),MATCH($M$1,SensorPricing[#Headers],0))*$X$15","v":1207.5}]
[null,"ClO2","è","W","=",{"v":120,"d":"$ 120"},{"$nulls":8},"ClO2","W","S","USD",{"$f":"INDEX(SensorPricing[],MATCH(D49,SensorPricing[Sensor],0),MATCH($M$1,SensorPricing[#Headers],0))*2","v":120},{"$nulls":3},{"$f":"INDEX(SensorPricing[],MATCH(D49,SensorPricing[Sensor],0),MATCH($M$1,SensorPricing[#Headers],0))*$X$15","v":150}]
[null,0,{"$f":"IF(B50=0,\"\",\"è\")","v":""},0,{"$f":"IF(B50=0,\"\",\"=\")","v":""},"",{"$nulls":12},{"$f":"INDEX(SensorPricing[],MATCH(D50,SensorPricing[Sensor],0),MATCH($M$1,SensorPricing[#Headers],0))*2","v":{"$error":"#N/A"}},{"$nulls":3},{"$f":"INDEX(SensorPricing[],MATCH(D50,SensorPricing[Sensor],0),MATCH($M$1,SensorPricing[#Headers],0))*$X$15","v":{"$error":"#N/A"}}]
[null,0,{"$f":"IF(B51=0,\"\",\"è\")","v":""},0,{"$f":"IF(B51=0,\"\",\"=\")","v":""},"",{"$nulls":12},{"$f":"INDEX(SensorPricing[],MATCH(D51,SensorPricing[Sensor],0),MATCH($M$1,SensorPricing[#Headers],0))*2","v":{"$error":"#N/A"}},{"$nulls":3},{"$f":"INDEX(SensorPricing[],MATCH(D51,SensorPricing[Sensor],0),MATCH($M$1,SensorPricing[#Headers],0))*$X$15","v":{"$error":"#N/A"}}]
[{"$nulls":7},"-",{"$nulls":3},"+"]
[null,"Warranty Term"]
[null,{"$f":"_xlfn.VSTACK(O54:O57)","v":"2-Years"},"è",{"$f":"_xlfn.VSTACK(P54:P57)","v":"2Y"},{"$nulls":3},"2Y",{"$nulls":3},{"$f":"S54","v":{"v":0,"d":"$ 0"}},null,null,{"$f":"_xlfn.VSTACK(G8PurWarr[])","v":"2-Years"},"2Y","2Y",null,{"$f":"SUM(T16:T33)","v":0}]
[null,"3-Years","è","3Y",{"$nulls":10},"3-Years","3Y","3Y"]
[null,"4-Years","è","4Y",{"$nulls":10},"4-Years","4Y","4Y"]
[null,"5-Years","è","5Y",{"$nulls":10},"5-Years","5Y","5Y"]
[{"$nulls":7},"-",{"$nulls":3},"+"]
[null,"Service Plan"]
[null,{"$f":"_xlfn.VSTACK(O60:O62)","v":"Standard"},{"$f":"IF(B60=0,\"\",\"è\")","v":"è"},{"$f":"_xlfn.VSTACK(P60:P62)","v":"S"},{"$f":"IF(B60=0,\"\",\"=\")","v":"="},{"$f":"IFERROR(S60,\"\")","v":{"v":408,"d":"$ 408"}},null,"S",{"$nulls":3},{"$f":"VLOOKUP(H60,D60:F62,3,FALSE)","v":{"v":408,"d":"$ 408"}},null,null,{"$f":"_xlfn.VSTACK(G8ServicePlans[])","v":"Standard"},"S",null,null,{"$f":"INDEX(G8ServicePrices[],MATCH(D60,G8ServicePrices[Code],0),MATCH($M$1,G8ServicePrices[#Headers],0))*PurhcaseTerm","v":408}]
[null,"Pro","è","K","=",{"v":768,"d":"$ 768"},{"$nulls":8},"Pro","K",null,null,{"$f":"INDEX(G8ServicePrices[],MATCH(D61,G8ServicePrices[Code],0),MATCH($M$1,G8ServicePrices[#Headers],0))*PurhcaseTerm","v":768}]
[null,0,"",0,"","",{"$nulls":12},{"$f":"INDEX(G8ServicePrices[],MATCH(D62,G8ServicePrices[Code],0),MATCH($M$1,G8ServicePrices[#Headers],0))*PurhcaseTerm","v":{"$error":"#N/A"}}]
[{"$nulls":11},"+"]
[null,"Monitoring Services"]
[null,{"$f":"_xlfn.VSTACK(O65:O67)","v":"None"},{"$f":"IF(B65=0,\"\",\"è\")","v":"è"},{"$f":"_xlfn.VSTACK(P65:P67)","v":"X"},{"$f":"IF(B65=0,\"\",\"=\")","v":"="},{"$f":"IFERROR(S65,\"\")","v":{"v":0,"d":"$ 0"}},null,"X",{"$nulls":3},{"$f":"VLOOKUP(H65,D65:F67,3,FALSE)","v":{"v":0,"d":"$ 0"}},null,null,{"$f":"_xlfn._xlws.FILTER(_xlfn._xlws.FILTER(G8Monitoring[],G8Monitoring[Type]=ServicePlans),{1,1,0})","v":"None"},"X",null,null,{"$f":"IF(P65=\"X\",0,INDEX(G8ServicePrices[],MATCH(D65,G8ServicePrices[Code],0),MATCH($M$1,G8ServicePrices[#Headers],0))*PurhcaseTerm)","v":0}]
[null,0,"",0,"",{"$f":"IFERROR(S66,\"\")","v":""},{"$nulls":12},{"$f":"IF(P66=\"X\",0,INDEX(G8ServicePrices[],MATCH(D66,G8ServicePrices[Code],0),MATCH($M$1,G8ServicePrices[#Headers],0))*PurhcaseTerm)","v":{"$error":"#N/A"}}]
[null,0,"",0,"",{"$f":"IFERROR(S67,\"\")","v":""},{"$nulls":12},{"$f":"IF(P67=\"X\",0,INDEX(G8ServicePrices[],MATCH(D67,G8ServicePrices[Code],0),MATCH($M$1,G8ServicePrices[#Headers],0))*PurhcaseTerm)","v":{"$error":"#N/A"}}]
[{"$nulls":11},"+"]
[null,"Voice"]
[null,{"$f":"_xlfn.VSTACK(O70:O71)","v":"None"},{"$f":"IF(B70=0,\"\",\"è\")","v":"è"},{"$f":"_xlfn.VSTACK(P70:P71)","v":"X"},{"$f":"IF(B70=0,\"\",\"=\")","v":"="},{"$f":"IFERROR(S70,\"\")","v":{"v":0,"d":"$ 0"}},null,"X",{"$nulls":3},{"$f":"VLOOKUP(H70,D70:F71,3,FALSE)","v":{"v":0,"d":"$ 0"}},null,null,{"$f":"_xlfn._xlws.FILTER(_xlfn._xlws.FILTER(G8Voice[],G8Voice[Type]=ServicePlans),{1,1,0})","v":"None"},"X",null,null,{"$f":"IF(P70=\"X\",0,INDEX(G8ServicePrices[],MATCH(D70,G8ServicePrices[Code],0),MATCH($M$1,G8ServicePrices[#Headers],0))*PurhcaseTerm)","v":0}]
[null,0,"",0,"",{"$f":"IFERROR(S71,\"\")","v":""},{"$nulls":12},{"$f":"IF(P71=\"X\",0,INDEX(G8ServicePrices[],MATCH(D71,G8ServicePrices[Code],0),MATCH($M$1,G8ServicePrices[#Headers],0))*PurhcaseTerm)","v":{"$error":"#N/A"}}]
[{"$nulls":11},"+"]
[null,"Push-to-Talk"]
[null,{"$f":"_xlfn.VSTACK(O74:O75)","v":"None"},{"$f":"IF(B74=0,\"\",\"è\")","v":"è"},{"$f":"_xlfn.VSTACK(P74:P75)","v":"X"},{"$f":"IF(B74=0,\"\",\"=\")","v":"="},{"$f":"IFERROR(S74,\"\")","v":{"v":0,"d":"$ 0"}},null,"X",{"$nulls":3},{"$f":"VLOOKUP(H74,D74:F75,3,FALSE)","v":{"v":0,"d":"$ 0"}},null,null,{"$f":"_xlfn._xlws.FILTER(_xlfn._xlws.FILTER(G8PTT[],G8PTT[Type]=ServicePlans),{1,1,0})","v":"None"},"X",null,null,{"$f":"IF(P74=\"X\",0,INDEX(G8ServicePrices[],MATCH(D74,G8ServicePrices[Code],0),MATCH($M$1,G8ServicePrices[#Headers],0))*PurhcaseTerm)","v":0}]
[null,"Included","è","P","=",{"$f":"IFERROR(S75,\"\")","v":{"v":456,"d":"$ 456"}},{"$nulls":8},"Included","P",null,null,{"$f":"IF(P75=\"X\",0,INDEX(G8ServicePrices[],MATCH(D75,G8ServicePrices[Code],0),MATCH($M$1,G8ServicePrices[#Headers],0))*PurhcaseTerm)","v":456}]
[{"$nulls":11},"+"]
[null,"Future Service Option"]
[null,{"$f":"_xlfn.VSTACK(O78:O79)","v":"None"},{"$f":"IF(B78=0,\"\",\"è\")","v":"è"},{"$f":"_xlfn.VSTACK(P78:P79)","v":"X"},{"$f":"IF(B78=0,\"\",\"=\")","v":"="},{"$f":"IFERROR(S78,\"\")","v":{"v":0,"d":"$ 0"}},null,"X",{"$nulls":3},{"$f":"VLOOKUP(H78,D78:F79,3,FALSE)","v":{"v":0,"d":"$ 0"}},null,null,{"$f":"_xlfn._xlws.FILTER(_xlfn._xlws.FILTER(G8TeamCalling[],G8TeamCalling[Type]=ServicePlans),{1,1,0})","v":"None"},"X",null,null,{"$f":"IF(P78=\"X\",0,INDEX(G8ServicePrices[],MATCH(D78,G8ServicePrices[Code],0),MATCH($M$1,G8ServicePrices[#Headers],0))*PurhcaseTerm)","v":0}]
[null,0,"",0,"",{"$f":"IFERROR(S79,\"\")","v":""},{"$nulls":12},{"$f":"IF(P79=\"X\",0,INDEX(G8ServicePrices[],MATCH(D79,G8ServicePrices[Code],0),MATCH($M$1,G8ServicePrices[#Headers],0))*PurhcaseTerm)","v":{"$error":"#N/A"}}]
[{"$nulls":7},"-"]
[null,"Term"]
[null,"One-Year","è","1Y",{"$nulls":3},"2Y",{"$nulls":10},{"$f":"LEFT(H82,1)*12","v":24}]
[null,"Two-Years","è","2Y"]
[null,"Three-Years","è","3Y"]
[null,"Four-Years","è","4Y"]
[null,"Five-Years","è","5Y"]

{"sheet":"G8 Multi-Gas Purchase","index":18,"n_rows":124,"n_cols":24,"rows_kept":124,"merged":[[1,1,1,7],[2,1,12,1],[7,5,7,9],[9,7,9,9],[11,7,11,9],[13,1,13,5],[14,7,22,9],[14,11,22,11],[15,21,18,21],[15,23,22,23],[23,11,39,11],[24,1,24,5],[25,7,25,9],[26,7,27,9],[27,1,27,5],[28,7,28,9],[29,7,30,9],[30,1,30,5],[31,7,33,9],[34,7,35,9],[35,1,35,5],[36,7,37,9],[38,7,39,9],[39,1,39,5],[40,7,42,7],[40,9,88,9],[40,11,42,11],[43,11,44,11],[44,1,44,5],[45,7,63,7],[45,11,63,11],[64,11,65,11],[65,1,65,5],[66,7,84,7],[66,11,84,11],[85,11,86,11],[86,1,86,5],[87,7,88,7],[87,11,88,11],[89,7,90,9],[89,11,90,11],[90,1,90,5],[91,7,94,9],[91,11,94,11],[95,7,96,9],[95,11,96,11],[96,1,96,5],[97,7,99,9],[97,11,99,11],[100,11,101,11],[101,1,101,5],[102,7,104,9],[102,11,104,11],[105,11,106,11],[106,1,106,5],[107,7,108,9],[107,11,108,11],[109,11,110,11],[110,1,110,5],[111,7,112,9],[111,11,112,11],[113,11,114,11],[114,1,114,5],[115,7,116,9],[115,11,116,11],[117,7,118,9],[118,1,118,5],[119,7,123,9]]}
[null,{"$error":"#VALUE!"},{"$nulls":10},{"$f":"Currency","v":"USD"},null,null,"G8 Multi-Gas Purchase"]
[null,"G8 Multi-Gas Purchase",{"$nulls":10},{"$f":"PBYear","v":2025},"Quick Links"]
[null,{"$error":"#VALUE!"},{"$nulls":10},{"$f":"Revision","v":"Effective February 2, 2026 Rev 2"},"Main Menu"]
[{"$nulls":12},"Blackline Safety Confidential","Accessories"]
[{"$nulls":12},"All prices are an estimate - for a formal quote contact your local Blackline Safety representative"]
[]
[]
[{"$nulls":5},{"$f":"CONCATENATE(H15,H26,H27,H29,H30,H32,H35,H37,H39,J41,H90,H92,H96,H98,H103,H108,H112,H116,H118,H120)","v":"J-G8C-01-NA2-Q-FHMO-2Y-SXXXX-2Y"},{"$nulls":5},{"$f":"IFERROR(L15+L41+L46+L67+L88+L92+L98+L103+L108+L112+L116,\"Error\")","v":{"v":1402,"d":"$ 1,402"}},{"$f":"M1&\" List\"","v":"USD List"}]
[]
[]
[]
[{"$nulls":5},"Additional Cartridge",null,{"$f":"_xlfn.LET(_xlpm.trm,IF(H92=\"2Y\",\"2Y\",\"3Y\"),\nCONCATENATE(\"J-CART-\",H37,\"-\",J41,\"-\",_xlpm.trm,\"-R\"))","v":"J-CART-Q-FHMO-2Y-R"},{"$nulls":3},{"$f":"SUM(X16:X44)","v":{"v":500,"d":"$ 500"}},{"$f":"M1&\" List\"","v":"USD List"}]
[]
[null,"Buying Option",{"$nulls":16},"Price","EWAR",null,null,"Additional CART"]
[null,"Purchase","è","J-G8",{"$nulls":3},{"$f":"D15","v":"J-G8"},{"$nulls":3},{"$f":"VLOOKUP(P40,A16:F23,6,FALSE)","v":{"v":994,"d":"$ 994"}},{"$nulls":11},{"$f":"IF(H92=\"2Y\",2.5,3)","v":2.5}]
["Q1",null,null,"Multi 1-sensor","=",{"$f":"S16","v":{"v":740,"d":"$ 740"}},{"$nulls":11},1,{"$f":"INDEX(BasePrices[],MATCH(\"G8 Purchase Base Price\",BasePrices[Type],0),MATCH($M$1,BasePrices[#Headers],0))+INDEX(BasePrices[],MATCH(R16&\" Sensor Cartridge\",BasePrices[Type],0),MATCH($M$1,BasePrices[#Headers],0))*2","v":740},{"$f":"INDEX(BasePrices[],MATCH(\"G7 Warranty Base Price\",BasePrices[Type],0),MATCH($M$1,BasePrices[#Headers],0))*MAX(0,LEFT($H$92,1)-2)+\nROUNDUP(INDEX(BasePrices[],MATCH(R16&\" Sensor Cartridge\",BasePrices[Type],0),MATCH($M$1,BasePrices[#Headers],0))*0.2777777,0)*MAX(0,LEFT($H$92,1)-2)","v":0},null,null,{"$f":"ROUNDUP(INDEX(BasePrices[],MATCH(R16&\" Sensor Cartridge\",BasePrices[Type],0),MATCH($M$1,BasePrices[#Headers],0))*$X$15,0)","v":183},{"$f":"VLOOKUP(P40,A16:W23,COLUMN()-1,FALSE)","v":500}]
["Q2",null,null,"Multi 2-sensor","=",{"$f":"S17","v":{"v":846,"d":"$ 846"}},{"$nulls":11},2,{"$f":"INDEX(BasePrices[],MATCH(\"G8 Purchase Base Price\",BasePrices[Type],0),MATCH($M$1,BasePrices[#Headers],0))+INDEX(BasePrices[],MATCH(R17&\" Sensor Cartridge\",BasePrices[Type],0),MATCH($M$1,BasePrices[#Headers],0))*2","v":846},{"$f":"INDEX(BasePrices[],MATCH(\"G7 Warranty Base Price\",BasePrices[Type],0),MATCH($M$1,BasePrices[#Headers],0))*MAX(0,LEFT($H$92,1)-2)+\nROUNDUP(INDEX(BasePrices[],MATCH(R17&\" Sensor Cartridge\",BasePrices[Type],0),MATCH($M$1,BasePrices[#Headers],0))*0.2777777,0)*MAX(0,LEFT($H$92,1)-2)","v":0},null,null,{"$f":"ROUNDUP(INDEX(BasePrices[],MATCH(R17&\" Sensor Cartridge\",BasePrices[Type],0),MATCH($M$1,BasePrices[#Headers],0))*$X$15,0)","v":315}]
["Q3",null,null,"Multi 3-sensor","=",{"v":924,"d":"$ 924"},{"$nulls":11},3,{"$f":"INDEX(BasePrices[],MATCH(\"G8 Purchase Base Price\",BasePrices[Type],0),MATCH($M$1,BasePrices[#Headers],0))+INDEX(BasePrices[],MATCH(R18&\" Sensor Cartridge\",BasePrices[Type],0),MATCH($M$1,BasePrices[#Headers],0))*2","v":924},{"$f":"INDEX(BasePrices[],MATCH(\"G7 Warranty Base Price\",BasePrices[Type],0),MATCH($M$1,BasePrices[#Headers],0))*MAX(0,LEFT($H$92,1)-2)+\nROUNDUP(INDEX(BasePrices[],MATCH(R18&\" Sensor Cartridge\",BasePrices[Type],0),MATCH($M$1,BasePrices[#Headers],0))*0.2777777,0)*MAX(0,LEFT($H$92,1)-2)","v":0},null,null,{"$f":"ROUNDUP(INDEX(BasePrices[],MATCH(R18&\" Sensor Cartridge\",BasePrices[Type],0),MATCH($M$1,BasePrices[#Headers],0))*$X$15,0)","v":413}]
["Q4",null,null,"Multi 4-sensor","=",{"v":994,"d":"$ 994"},{"$nulls":11},4,{"$f":"INDEX(BasePrices[],MATCH(\"G8 Purchase Base Price\",BasePrices[Type],0),MATCH($M$1,BasePrices[#Headers],0))+INDEX(BasePrices[],MATCH(R19&\" Sensor Cartridge\",BasePrices[Type],0),MATCH($M$1,BasePrices[#Headers],0))*2","v":994},{"$f":"INDEX(BasePrices[],MATCH(\"G7 Warranty Base Price\",BasePrices[Type],0),MATCH($M$1,BasePrices[#Headers],0))*MAX(0,LEFT($H$92,1)-2)+\nROUNDUP(INDEX(BasePrices[],MATCH(R19&\" Sensor Cartridge\",BasePrices[Type],0),MATCH($M$1,BasePrices[#Headers],0))*0.2777777,0)*MAX(0,LEFT($H$92,1)-2)","v":0},null,null,{"$f":"ROUNDUP(INDEX(BasePrices[],MATCH(R19&\" Sensor Cartridge\",BasePrices[Type],0),MATCH($M$1,BasePrices[#Headers],0))*$X$15,0)","v":500}]
["P1",null,null,"Multi 1-sensor pump","=",{"v":1104,"d":"$ 1,104"},{"$nulls":11},1,{"$f":"INDEX(BasePrices[],MATCH(\"G8 Purchase Base Price\",BasePrices[Type],0),MATCH($M$1,BasePrices[#Headers],0))+\nINDEX(BasePrices[],MATCH(R20&\" Sensor Cartridge\",BasePrices[Type],0),MATCH($M$1,BasePrices[#Headers],0))*2+\nINDEX(BasePrices[],MATCH(\"G7 Pump\",BasePrices[Type],0),MATCH($M$1,BasePrices[#Headers],0))*2","v":1104},{"$f":"INDEX(BasePrices[],MATCH(\"G7 Warranty Base Price\",BasePrices[Type],0),MATCH($M$1,BasePrices[#Headers],0))*MAX(0,LEFT($H$92,1)-2)+\nROUNDUP(INDEX(BasePrices[],MATCH(R20&\" Sensor Cartridge\",BasePrices[Type],0),MATCH($M$1,BasePrices[#Headers],0))*0.2777777+INDEX(BasePrices[],MATCH(\"G7 Pump\",BasePrices[Type],0),MATCH($M$1,BasePrices[#Headers],0))*0.2777777,0)*MAX(0,LEFT($H$92,1)-2)","v":0},null,null,{"$f":"ROUNDUP(INDEX(BasePrices[],MATCH(R20&\" Sensor Cartridge\",BasePrices[Type],0),MATCH($M$1,BasePrices[#Headers],0))*$X$15,0)+\nROUNDUP(INDEX(BasePrices[],MATCH(\"G7 Pump\",BasePrices[Type],0),MATCH($M$1,BasePrices[#Headers],0))*$X$15,0)","v":638}]
["P2",null,null,"Multi 2-sensor pump","=",{"v":1210,"d":"$ 1,210"},{"$nulls":11},2,{"$f":"INDEX(BasePrices[],MATCH(\"G8 Purchase Base Price\",BasePrices[Type],0),MATCH($M$1,BasePrices[#Headers],0))+\nINDEX(BasePrices[],MATCH(R21&\" Sensor Cartridge\",BasePrices[Type],0),MATCH($M$1,BasePrices[#Headers],0))*2+\nINDEX(BasePrices[],MATCH(\"G7 Pump\",BasePrices[Type],0),MATCH($M$1,BasePrices[#Headers],0))*2","v":1210},{"$f":"INDEX(BasePrices[],MATCH(\"G7 Warranty Base Price\",BasePrices[Type],0),MATCH($M$1,BasePrices[#Headers],0))*MAX(0,LEFT($H$92,1)-2)+\nROUNDUP(INDEX(BasePrices[],MATCH(R21&\" Sensor Cartridge\",BasePrices[Type],0),MATCH($M$1,BasePrices[#Headers],0))*0.2777777+INDEX(BasePrices[],MATCH(\"G7 Pump\",BasePrices[Type],0),MATCH($M$1,BasePrices[#Headers],0))*0.2777777,0)*MAX(0,LEFT($H$92,1)-2)","v":0},null,null,{"$f":"ROUNDUP(INDEX(BasePrices[],MATCH(R21&\" Sensor Cartridge\",BasePrices[Type],0),MATCH($M$1,BasePrices[#Headers],0))*$X$15,0)+\nROUNDUP(INDEX(BasePrices[],MATCH(\"G7 Pump\",BasePrices[Type],0),MATCH($M$1,BasePrices[#Headers],0))*$X$15,0)","v":770}]
["P3",null,null,"Multi 3-sensor pump","=",{"v":1288,"d":"$ 1,288"},{"$nulls":11},3,{"$f":"INDEX(BasePrices[],MATCH(\"G8 Purchase Base Price\",BasePrices[Type],0),MATCH($M$1,BasePrices[#Headers],0))+\nINDEX(BasePrices[],MATCH(R22&\" Sensor Cartridge\",BasePrices[Type],0),MATCH($M$1,BasePrices[#Headers],0))*2+\nINDEX(BasePrices[],MATCH(\"G7 Pump\",BasePrices[Type],0),MATCH($M$1,BasePrices[#Headers],0))*2","v":1288},{"$f":"INDEX(BasePrices[],MATCH(\"G7 Warranty Base Price\",BasePrices[Type],0),MATCH($M$1,BasePrices[#Headers],0))*MAX(0,LEFT($H$92,1)-2)+\nROUNDUP(INDEX(BasePrices[],MATCH(R22&\" Sensor Cartridge\",BasePrices[Type],0),MATCH($M$1,BasePrices[#Headers],0))*0.2777777+INDEX(BasePrices[],MATCH(\"G7 Pump\",BasePrices[Type],0),MATCH($M$1,BasePrices[#Headers],0))*0.2777777,0)*MAX(0,LEFT($H$92,1)-2)","v":0},null,null,{"$f":"ROUNDUP(INDEX(BasePrices[],MATCH(R22&\" Sensor Cartridge\",BasePrices[Type],0),MATCH($M$1,BasePrices[#Headers],0))*$X$15,0)+\nROUNDUP(INDEX(BasePrices[],MATCH(\"G7 Pump\",BasePrices[Type],0),MATCH($M$1,BasePrices[#Headers],0))*$X$15,0)","v":868}]
["P4",null,null,"Multi 4-sensor pump","=",{"v":1358,"d":"$ 1,358"},{"$nulls":11},4,{"$f":"INDEX(BasePrices[],MATCH(\"G8 Purchase Base Price\",BasePrices[Type],0),MATCH($M$1,BasePrices[#Headers],0))+\nINDEX(BasePrices[],MATCH(R23&\" Sensor Cartridge\",BasePrices[Type],0),MATCH($M$1,BasePrices[#Headers],0))*2+\nINDEX(BasePrices[],MATCH(\"G7 Pump\",BasePrices[Type],0),MATCH($M$1,BasePrices[#Headers],0))*2","v":1358},{"$f":"INDEX(BasePrices[],MATCH(\"G7 Warranty Base Price\",BasePrices[Type],0),MATCH($M$1,BasePrices[#Headers],0))*MAX(0,LEFT($H$92,1)-2)+\nROUNDUP(INDEX(BasePrices[],MATCH(R23&\" Sensor Cartridge\",BasePrices[Type],0),MATCH($M$1,BasePrices[#Headers],0))*0.2777777+INDEX(BasePrices[],MATCH(\"G7 Pump\",BasePrices[Type],0),MATCH($M$1,BasePrices[#Headers],0))*0.2777777,0)*MAX(0,LEFT($H$92,1)-2)","v":0},null,null,{"$f":"ROUNDUP(INDEX(BasePrices[],MATCH(R23&\" Sensor Cartridge\",BasePrices[Type],0),MATCH($M$1,BasePrices[#Headers],0))*$X$15,0)+\nROUNDUP(INDEX(BasePrices[],MATCH(\"G7 Pump\",BasePrices[Type],0),MATCH($M$1,BasePrices[#Headers],0))*$X$15,0)","v":955}]
[{"$nulls":11},"+",{"$nulls":7},{"$f":"VLOOKUP(P40,A16:T23,20,FALSE)","v":0}]
[null,"Connectivity"]
[null,"Cellular","è","C",{"$nulls":3},"C"]
[{"$nulls":7},"-"]
[null,"SIM Card"]
[null,"Standard (Telenor)","è","01",{"$nulls":3},{"$f":"D29","v":"01"}]
[{"$nulls":7},"-"]
[null,"Country Code"]
[null,{"$f":"_xlfn.VSTACK(O32:O34)","v":"North America (4G/LTE) - G8C"},{"$f":"IF(B32=\"\",\"\",\"è\")","v":"è"},{"$f":"IFERROR(_xlfn.VSTACK(P32:P34),\"\")","v":"NA2"},{"$nulls":3},"NA2",{"$nulls":6},{"$f":"_xlfn.LET(\n_xlpm.Dtype,G8CountryCodes[Type],_xlpm.Curr,G8CountryCodes[Currency],_xlpm.SType,H26,_xlpm.SCurr,M1,\n_xlpm.myCalculation,_xlfn.VSTACK(_xlfn._xlws.FILTER(G8CountryCodes[],(_xlpm.Dtype=_xlpm.SType)*(_xlpm.Curr=_xlpm.SCurr))),_xlpm.myCalculation)","v":"North America (4G/LTE) - G8C"},"NA2","C","USD"]
[null,"Outside of North America (4G/LTE) - G8C",{"$f":"IF(B33=0,\"\",\"è\")","v":"è"},"EU2",{"$nulls":10},"Outside of North America (4G/LTE) - G8C","EU2","C","USD"]
[null,0,{"$f":"IF(B34=0,\"\",\"è\")","v":""},0]
[{"$nulls":7},"-"]
[null,"Cartridge Type",{"$nulls":12},{"$f":"H41","v":"F"},{"$f":"_xlfn._xlws.SORT(O36:O39)","v":"F"},{"$f":"IF(P36=\"X\",1,0)","v":0}]
[null,"Diffusion","è","Q",{"$nulls":3},"Q",{"$nulls":6},{"$f":"H46","v":"H"},"H",{"$f":"IF(P37=\"X\",1,0)","v":0}]
[null,"Pump","è","P",{"$nulls":10},{"$f":"H67","v":"M"},"M",{"$f":"IF(P38=\"X\",1,0)","v":0}]
[{"$nulls":7},"-",{"$nulls":6},{"$f":"H88","v":"O"},"O",{"$f":"IF(P39=\"X\",1,0)","v":0}]
[null,"Combustible Sensor",{"$nulls":13},{"$f":"H37&Q40","v":"Q4"},{"$f":"4-SUM(Q36:Q39)","v":4},null,"Price"]
[null,{"$f":"_xlfn.CHOOSECOLS(_xlfn.VSTACK(_xlfn.ANCHORARRAY(O41)),1)","v":"LEL-IR"},{"$f":"IF(B41=0,\"\",\"è\")","v":"è"},{"$f":"_xlfn.CHOOSECOLS(_xlfn.VSTACK(_xlfn.ANCHORARRAY(O41)),2)","v":"I"},{"$f":"IF(B41=0,\"\",\"=\")","v":"="},{"$f":"IFERROR(S41,\"\")","v":{"v":120,"d":"$ 120"}},null,"F",null,{"$f":"CONCATENATE(P36,P37,P38,P39)","v":"FHMO"},null,{"$f":"VLOOKUP(H41,D41:F43,3,FALSE)","v":{"v":0,"d":"$ 0"}},null,null,{"$f":"_xlfn.LET(\n_xlpm.Dtype,CombSensors[Type1],_xlpm.Curr,CombSensors[Currency],_xlpm.Stype,H37&1,_xlpm.SCurr,M1,\n_xlpm.myCalculation,_xlfn.VSTACK(_xlfn._xlws.FILTER(CombSensors[],(_xlpm.Dtype=_xlpm.Stype)*(_xlpm.Curr=_xlpm.SCurr))),_xlpm.myCalculation)","v":"LEL-IR"},"I","Q1","USD",{"$f":"INDEX(SensorPricing[],MATCH(D41,SensorPricing[Sensor],0),MATCH($M$1,SensorPricing[#Headers],0))*2","v":120},{"$f":"ROUNDUP(INDEX(SensorPricing[],MATCH(H41,SensorPricing[Sensor],0),MATCH($M$1,SensorPricing[#Headers],0))*0.2777777,0)*MAX(0,LEFT($H$92,1)-2)","v":0},{"$nulls":3},{"$f":"IFERROR(ROUNDUP(INDEX(SensorPricing[],MATCH(P36,SensorPricing[Sensor],0),MATCH($M$1,SensorPricing[#Headers],0))*$X$15,0),\"\")","v":0}]
[null,"LEL-MPS","è","F","=",{"$f":"IFERROR(S42,\"\")","v":{"v":0,"d":"$ 0"}},{"$nulls":8},"LEL-MPS","F","Q1","USD",{"$f":"INDEX(SensorPricing[],MATCH(D42,SensorPricing[Sensor],0),MATCH($M$1,SensorPricing[#Headers],0))*2","v":0},{"$nulls":4},{"$f":"IFERROR(ROUNDUP(INDEX(SensorPricing[],MATCH(P37,SensorPricing[Sensor],0),MATCH($M$1,SensorPricing[#Headers],0))*$X$15,0),\"\")","v":0}]
[null,"None","è","X","=",{"v":0,"d":"$ 0"},{"$nulls":8},"None","X","Q1","USD",{"$f":"INDEX(SensorPricing[],MATCH(D43,SensorPricing[Sensor],0),MATCH($M$1,SensorPricing[#Headers],0))*2","v":0},{"$nulls":4},{"$f":"IFERROR(ROUNDUP(INDEX(SensorPricing[],MATCH(P38,SensorPricing[Sensor],0),MATCH($M$1,SensorPricing[#Headers],0))*$X$15,0),\"\")","v":0}]
[{"$nulls":11},"+",{"$nulls":11},{"$f":"IFERROR(ROUNDUP(INDEX(SensorPricing[],MATCH(P39,SensorPricing[Sensor],0),MATCH($M$1,SensorPricing[#Headers],0))*$X$15,0),\"\")","v":0}]
[null,"Toxic Sensor #1"]
[null,{"$f":"_xlfn.VSTACK(O46:O64)","v":"HF"},{"$f":"IF(B46=0,\"\",\"è\")","v":"è"},{"$f":"_xlfn.VSTACK(P46:P64)","v":"2"},{"$f":"IF(B46=0,\"\",\"=\")","v":"="},{"$f":"IFERROR(S46,\"\")","v":{"v":840,"d":"$ 840"}},null,"H",{"$nulls":3},{"$f":"VLOOKUP(H46,D46:F64,3,FALSE)","v":{"v":0,"d":"$ 0"}},null,null,{"$f":"_xlfn.LET(\n_xlpm.Dtype,G7Sensors[Type1],_xlpm.Curr,G7Sensors[Currency],_xlpm.Stype,H37&1,_xlpm.SCurr,M1,\n_xlpm.myCalculation,_xlfn.VSTACK(_xlfn._xlws.FILTER(G7Sensors[],(_xlpm.Dtype=_xlpm.Stype)*(_xlpm.Curr=_xlpm.SCurr))),_xlpm.myCalculation)","v":"HF"},"2","Q1","USD",{"$f":"INDEX(SensorPricing[],MATCH(D46,SensorPricing[Sensor],0),MATCH($M$1,SensorPricing[#Headers],0))*2","v":840},{"$f":"ROUNDUP(INDEX(SensorPricing[],MATCH(H46,SensorPricing[Sensor],0),MATCH($M$1,SensorPricing[#Headers],0))*0.2777777,0)*MAX(0,LEFT($H$92,1)-2)","v":0}]
[null,"NH3","è","A","=",{"v":120,"d":"$ 120"},{"$nulls":8},"NH3","A","Q1","USD",{"$f":"INDEX(SensorPricing[],MATCH(D47,SensorPricing[Sensor],0),MATCH($M$1,SensorPricing[#Headers],0))*2","v":120}]
[null,"High-range NH3 ","è","B","=",{"v":252,"d":"$ 252"},{"$nulls":8},"High-range NH3 ","B","Q1","USD",{"$f":"INDEX(SensorPricing[],MATCH(D48,SensorPricing[Sensor],0),MATCH($M$1,SensorPricing[#Headers],0))*2","v":252}]
[null,"CO2","è","C","=",{"v":480,"d":"$ 480"},{"$nulls":8},"CO2","C","Q1","USD",{"$f":"INDEX(SensorPricing[],MATCH(D49,SensorPricing[Sensor],0),MATCH($M$1,SensorPricing[#Headers],0))*2","v":480}]
[null,"O3","è","E","=",{"v":240,"d":"$ 240"},{"$nulls":8},"O3","E","Q1","USD",{"$f":"INDEX(SensorPricing[],MATCH(D50,SensorPricing[Sensor],0),MATCH($M$1,SensorPricing[#Headers],0))*2","v":240}]
[null,"H2S","è","H","=",{"v":0,"d":"$ 0"},{"$nulls":8},"H2S","H","Q1","USD",{"$f":"INDEX(SensorPricing[],MATCH(D51,SensorPricing[Sensor],0),MATCH($M$1,SensorPricing[#Headers],0))*2","v":0}]
[null,"High-range H2S ","è","J","=",{"v":240,"d":"$ 240"},{"$nulls":8},"High-range H2S ","J","Q1","USD",{"$f":"INDEX(SensorPricing[],MATCH(D52,SensorPricing[Sensor],0),MATCH($M$1,SensorPricing[#Headers],0))*2","v":240}]
[null,"NO2 ","è","K","=",{"v":120,"d":"$ 120"},{"$nulls":8},"NO2 ","K","Q1","USD",{"$f":"INDEX(SensorPricing[],MATCH(D53,SensorPricing[Sensor],0),MATCH($M$1,SensorPricing[#Headers],0))*2","v":120}]
[null,"Cl2","è","L","=",{"v":120,"d":"$ 120"},{"$nulls":8},"Cl2","L","Q1","USD",{"$f":"INDEX(SensorPricing[],MATCH(D54,SensorPricing[Sensor],0),MATCH($M$1,SensorPricing[#Headers],0))*2","v":120}]
[null,"CO ","è","M","=",{"v":0,"d":"$ 0"},{"$nulls":8},"CO ","M","Q1","USD",{"$f":"INDEX(SensorPricing[],MATCH(D55,SensorPricing[Sensor],0),MATCH($M$1,SensorPricing[#Headers],0))*2","v":0}]
[null,"HCN","è","N","=",{"v":120,"d":"$ 120"},{"$nulls":8},"HCN","N","Q1","USD",{"$f":"INDEX(SensorPricing[],MATCH(D56,SensorPricing[Sensor],0),MATCH($M$1,SensorPricing[#Headers],0))*2","v":120}]
[null,"CO-H ","è","R","=",{"v":0,"d":"$ 0"},{"$nulls":8},"CO-H ","R","Q1","USD",{"$f":"INDEX(SensorPricing[],MATCH(D57,SensorPricing[Sensor],0),MATCH($M$1,SensorPricing[#Headers],0))*2","v":0}]
[null,"SO2","è","S","=",{"v":0,"d":"$ 0"},{"$nulls":8},"SO2","S","Q1","USD",{"$f":"INDEX(SensorPricing[],MATCH(D58,SensorPricing[Sensor],0),MATCH($M$1,SensorPricing[#Headers],0))*2","v":0}]
[null,"High-range CO ","è","T","=",{"v":240,"d":"$ 240"},{"$nulls":8},"High-range CO ","T","Q1","USD",{"$f":"INDEX(SensorPricing[],MATCH(D59,SensorPricing[Sensor],0),MATCH($M$1,SensorPricing[#Headers],0))*2","v":240}]
[null,"PID","è","V","=",{"v":966,"d":"$ 966"},{"$nulls":8},"PID","V","Q1","USD",{"$f":"INDEX(SensorPricing[],MATCH(D60,SensorPricing[Sensor],0),MATCH($M$1,SensorPricing[#Headers],0))*2","v":966}]
[null,"ClO2","è","W","=",{"v":120,"d":"$ 120"},{"$nulls":8},"ClO2","W","Q1","USD",{"$f":"INDEX(SensorPricing[],MATCH(D61,SensorPricing[Sensor],0),MATCH($M$1,SensorPricing[#Headers],0))*2","v":120}]
[null,"No Sensor ","è","X","=",{"v":0,"d":"$ 0"},{"$nulls":8},"No Sensor ","X","Q1","USD",{"$f":"INDEX(SensorPricing[],MATCH(D62,SensorPricing[Sensor],0),MATCH($M$1,SensorPricing[#Headers],0))*2","v":0}]
[null,0,{"$f":"IF(B63=0,\"\",\"è\")","v":""},0,{"$f":"IF(B63=0,\"\",\"=\")","v":""},"",{"$nulls":12},{"$f":"INDEX(SensorPricing[],MATCH(D63,SensorPricing[Sensor],0),MATCH($M$1,SensorPricing[#Headers],0))*2","v":{"$error":"#N/A"}}]
[null,0,{"$f":"IF(B64=0,\"\",\"è\")","v":""},0,{"$f":"IF(B64=0,\"\",\"=\")","v":""},"",{"$nulls":12},{"$f":"INDEX(SensorPricing[],MATCH(D64,SensorPricing[Sensor],0),MATCH($M$1,SensorPricing[#Headers],0))*2","v":{"$error":"#N/A"}}]
[{"$nulls":11},"+"]
[null,"Toxic Sensor #2"]
[null,{"$f":"_xlfn.VSTACK(O67:O85)","v":"HF"},{"$f":"IF(B67=0,\"\",\"è\")","v":"è"},{"$f":"_xlfn.VSTACK(P67:P85)","v":"2"},{"$f":"IF(B67=0,\"\",\"=\")","v":"="},{"$f":"IFERROR(S67,\"\")","v":{"v":840,"d":"$ 840"}},null,"M",{"$nulls":3},{"$f":"VLOOKUP(H67,D67:F85,3,FALSE)","v":{"v":0,"d":"$ 0"}},null,null,{"$f":"_xlfn.LET(\n_xlpm.Dtype,G7Sensors[Type1],_xlpm.Curr,G7Sensors[Currency],_xlpm.Stype,H37&2,_xlpm.SCurr,M1,\n_xlpm.myCalculation,_xlfn.VSTACK(_xlfn._xlws.FILTER(G7Sensors[],(_xlpm.Dtype=_xlpm.Stype)*(_xlpm.Curr=_xlpm.SCurr))),_xlpm.myCalculation)","v":"HF"},"2","Q2","USD",{"$f":"INDEX(SensorPricing[],MATCH(D67,SensorPricing[Sensor],0),MATCH($M$1,SensorPricing[#Headers],0))*2","v":840},{"$f":"ROUNDUP(INDEX(SensorPricing[],MATCH(H67,SensorPricing[Sensor],0),MATCH($M$1,SensorPricing[#Headers],0))*0.2777777,0)*MAX(0,LEFT($H$92,1)-2)","v":0}]
[null,"NH3","è","A","=",{"v":120,"d":"$ 120"},{"$nulls":8},"NH3","A","Q2","USD",{"$f":"INDEX(SensorPricing[],MATCH(D68,SensorPricing[Sensor],0),MATCH($M$1,SensorPricing[#Headers],0))*2","v":120}]
[null,"High-range NH3 ","è","B","=",{"v":252,"d":"$ 252"},{"$nulls":8},"High-range NH3 ","B","Q2","USD",{"$f":"INDEX(SensorPricing[],MATCH(D69,SensorPricing[Sensor],0),MATCH($M$1,SensorPricing[#Headers],0))*2","v":252}]
[null,"COSH","è","D","=",{"v":120,"d":"$ 120"},{"$nulls":8},"COSH","D","Q2","USD",{"$f":"INDEX(SensorPricing[],MATCH(D70,SensorPricing[Sensor],0),MATCH($M$1,SensorPricing[#Headers],0))*2","v":120}]
[null,"O3","è","E","=",{"v":240,"d":"$ 240"},{"$nulls":8},"O3","E","Q2","USD",{"$f":"INDEX(SensorPricing[],MATCH(D71,SensorPricing[Sensor],0),MATCH($M$1,SensorPricing[#Headers],0))*2","v":240}]
[null,"H2S","è","H","=",{"v":0,"d":"$ 0"},{"$nulls":8},"H2S","H","Q2","USD",{"$f":"INDEX(SensorPricing[],MATCH(D72,SensorPricing[Sensor],0),MATCH($M$1,SensorPricing[#Headers],0))*2","v":0}]
[null,"High-range H2S ","è","J","=",{"v":240,"d":"$ 240"},{"$nulls":8},"High-range H2S ","J","Q2","USD",{"$f":"INDEX(SensorPricing[],MATCH(D73,SensorPricing[Sensor],0),MATCH($M$1,SensorPricing[#Headers],0))*2","v":240}]
[null,"NO2 ","è","K","=",{"v":120,"d":"$ 120"},{"$nulls":8},"NO2 ","K","Q2","USD",{"$f":"INDEX(SensorPricing[],MATCH(D74,SensorPricing[Sensor],0),MATCH($M$1,SensorPricing[#Headers],0))*2","v":120}]
[null,"Cl2","è","L","=",{"v":120,"d":"$ 120"},{"$nulls":8},"Cl2","L","Q2","USD",{"$f":"INDEX(SensorPricing[],MATCH(D75,SensorPricing[Sensor],0),MATCH($M$1,SensorPricing[#Headers],0))*2","v":120}]
[null,"CO ","è","M","=",{"v":0,"d":"$ 0"},{"$nulls":8},"CO ","M","Q2","USD",{"$f":"INDEX(SensorPricing[],MATCH(D76,SensorPricing[Sensor],0),MATCH($M$1,SensorPricing[#Headers],0))*2","v":0}]
[null,"HCN","è","N","=",{"v":120,"d":"$ 120"},{"$nulls":8},"HCN","N","Q2","USD",{"$f":"INDEX(SensorPricing[],MATCH(D77,SensorPricing[Sensor],0),MATCH($M$1,SensorPricing[#Headers],0))*2","v":120}]
[null,"CO-H ","è","R","=",{"v":0,"d":"$ 0"},{"$nulls":8},"CO-H ","R","Q2","USD",{"$f":"INDEX(SensorPricing[],MATCH(D78,SensorPricing[Sensor],0),MATCH($M$1,SensorPricing[#Headers],0))*2","v":0}]
[null,"SO2","è","S","=",{"v":0,"d":"$ 0"},{"$nulls":8},"SO2","S","Q2","USD",{"$f":"INDEX(SensorPricing[],MATCH(D79,SensorPricing[Sensor],0),MATCH($M$1,SensorPricing[#Headers],0))*2","v":0}]
[null,"High-range CO ","è","T","=",{"v":240,"d":"$ 240"},{"$nulls":8},"High-range CO ","T","Q2","USD",{"$f":"INDEX(SensorPricing[],MATCH(D80,SensorPricing[Sensor],0),MATCH($M$1,SensorPricing[#Headers],0))*2","v":240}]
[null,"ClO2","è","W","=",{"v":120,"d":"$ 120"},{"$nulls":8},"ClO2","W","Q2","USD",{"$f":"INDEX(SensorPricing[],MATCH(D81,SensorPricing[Sensor],0),MATCH($M$1,SensorPricing[#Headers],0))*2","v":120}]
[null,"No Sensor ","è","X","=",{"v":0,"d":"$ 0"},{"$nulls":8},"No Sensor ","X","Q2","USD",{"$f":"INDEX(SensorPricing[],MATCH(D82,SensorPricing[Sensor],0),MATCH($M$1,SensorPricing[#Headers],0))*2","v":0}]
[null,0,"",0,"","",{"$nulls":12},{"$f":"INDEX(SensorPricing[],MATCH(D83,SensorPricing[Sensor],0),MATCH($M$1,SensorPricing[#Headers],0))*2","v":{"$error":"#N/A"}}]
[null,0,"",0,"","",{"$nulls":12},{"$f":"INDEX(SensorPricing[],MATCH(D84,SensorPricing[Sensor],0),MATCH($M$1,SensorPricing[#Headers],0))*2","v":{"$error":"#N/A"}}]
[null,0,"",0,"","",{"$nulls":12},{"$f":"INDEX(SensorPricing[],MATCH(D85,SensorPricing[Sensor],0),MATCH($M$1,SensorPricing[#Headers],0))*2","v":{"$error":"#N/A"}}]
[{"$nulls":11},"+"]
[null,"Oxygen Sensor"]
[null,{"$f":"_xlfn.VSTACK(O88:O89)","v":"O2"},{"$f":"IF(B88=0,\"\",\"è\")","v":"è"},{"$f":"_xlfn.VSTACK(P88:P89)","v":"O"},{"$f":"IF(B88=0,\"\",\"=\")","v":"="},{"$f":"IFERROR(S88,\"\")","v":{"v":0,"d":"$ 0"}},null,"O",{"$nulls":3},{"$f":"VLOOKUP(H88,D88:F89,3,FALSE)","v":{"v":0,"d":"$ 0"}},null,null,{"$f":"_xlfn._xlws.FILTER(_xlfn._xlws.FILTER(Oxygen[],Oxygen[Type]=H41),{1,1,0})","v":"O2"},"O",null,null,{"$f":"INDEX(SensorPricing[],MATCH(D88,SensorPricing[Sensor],0),MATCH($M$1,SensorPricing[#Headers],0))*2","v":0},{"$f":"ROUNDUP(INDEX(SensorPricing[],MATCH(H88,SensorPricing[Sensor],0),MATCH($M$1,SensorPricing[#Headers],0))*0.2777777,0)*MAX(0,LEFT($H$92,1)-2)","v":0}]
[null,0,"",0,"","",{"$nulls":12},{"$f":"INDEX(SensorPricing[],MATCH(D89,SensorPricing[Sensor],0),MATCH($M$1,SensorPricing[#Headers],0))*2","v":{"$error":"#N/A"}}]
[{"$nulls":7},"-",{"$nulls":3},"+"]
[null,"Warranty Term"]
[null,{"$f":"_xlfn.VSTACK(O92:O95)","v":"2-Years"},"è",{"$f":"_xlfn.VSTACK(P92:P95)","v":"2Y"},{"$nulls":3},"2Y",{"$nulls":3},{"$f":"S92","v":{"v":0,"d":"$ 0"}},null,null,{"$f":"_xlfn.VSTACK(G8PurWarr[])","v":"2-Years"},"2Y","2Y",null,{"$f":"SUM(T24:T88)","v":0}]
[null,"3-Years","è","3Y",{"$nulls":10},"3-Years","3Y","3Y"]
[null,"4-Years","è","4Y",{"$nulls":10},"4-Years","4Y","4Y"]
[null,"5-Years","è","5Y",{"$nulls":10},"5-Years","5Y","5Y"]
[{"$nulls":7},"-",{"$nulls":3},"+"]
[null,"Service Plan"]
[null,{"$f":"_xlfn.VSTACK(O98:O100)","v":"Standard"},{"$f":"IF(B98=0,\"\",\"è\")","v":"è"},{"$f":"_xlfn.VSTACK(P98:P100)","v":"S"},{"$f":"IF(B98=0,\"\",\"=\")","v":"="},{"$f":"IFERROR(S98,\"\")","v":{"v":408,"d":"$ 408"}},null,"S",{"$nulls":3},{"$f":"VLOOKUP(H98,D98:F100,3,FALSE)","v":{"v":408,"d":"$ 408"}},null,null,{"$f":"_xlfn.VSTACK(G8ServicePlans[])","v":"Standard"},"S",null,null,{"$f":"INDEX(G8ServicePrices[],MATCH(D98,G8ServicePrices[Code],0),MATCH($M$1,G8ServicePrices[#Headers],0))*PurhcaseTerm","v":408}]
[null,"Pro","è","K","=",{"v":768,"d":"$ 768"},{"$nulls":8},"Pro","K",null,null,{"$f":"INDEX(G8ServicePrices[],MATCH(D99,G8ServicePrices[Code],0),MATCH($M$1,G8ServicePrices[#Headers],0))*PurhcaseTerm","v":768}]
[null,0,{"$f":"IF(B100=0,\"\",\"è\")","v":""},0,{"$f":"IF(B100=0,\"\",\"=\")","v":""},"",{"$nulls":12},{"$f":"INDEX(G8ServicePrices[],MATCH(D100,G8ServicePrices[Code],0),MATCH($M$1,G8ServicePrices[#Headers],0))*PurhcaseTerm","v":{"$error":"#N/A"}}]
[{"$nulls":11},"+"]
[null,"Monitoring Services"]
[null,{"$f":"_xlfn.VSTACK(O103:O105)","v":"None"},{"$f":"IF(B103=0,\"\",\"è\")","v":"è"},{"$f":"_xlfn.VSTACK(P103:P105)","v":"X"},{"$f":"IF(B103=0,\"\",\"=\")","v":"="},{"$f":"IFERROR(S103,\"\")","v":{"v":0,"d":"$ 0"}},null,"X",{"$nulls":3},{"$f":"VLOOKUP(H103,D103:F105,3,FALSE)","v":{"v":0,"d":"$ 0"}},null,null,{"$f":"_xlfn._xlws.FILTER(_xlfn._xlws.FILTER(G8Monitoring[],G8Monitoring[Type]=ServicePlans),{1,1,0})","v":"None"},"X",null,null,{"$f":"IF(P103=\"X\",0,INDEX(G8ServicePrices[],MATCH(D103,G8ServicePrices[Code],0),MATCH($M$1,G8ServicePrices[#Headers],0))*PurhcaseTerm)","v":0}]
[null,0,"",0,"",{"$f":"IFERROR(S104,\"\")","v":""},{"$nulls":12},{"$f":"IF(P104=\"X\",0,INDEX(G8ServicePrices[],MATCH(D104,G8ServicePrices[Code],0),MATCH($M$1,G8ServicePrices[#Headers],0))*PurhcaseTerm)","v":{"$error":"#N/A"}}]
[null,0,"",0,"",{"$f":"IFERROR(S105,\"\")","v":""},{"$nulls":12},{"$f":"IF(P105=\"X\",0,INDEX(G8ServicePrices[],MATCH(D105,G8ServicePrices[Code],0),MATCH($M$1,G8ServicePrices[#Headers],0))*PurhcaseTerm)","v":{"$error":"#N/A"}}]
[{"$nulls":11},"+"]
[null,"Voice"]
[null,{"$f":"_xlfn.VSTACK(O108:O109)","v":"None"},{"$f":"IF(B108=0,\"\",\"è\")","v":"è"},{"$f":"_xlfn.VSTACK(P108:P109)","v":"X"},{"$f":"IF(B108=0,\"\",\"=\")","v":"="},{"$f":"IFERROR(S108,\"\")","v":{"v":0,"d":"$ 0"}},null,"X",{"$nulls":3},{"$f":"VLOOKUP(H108,D108:F109,3,FALSE)","v":{"v":0,"d":"$ 0"}},null,null,{"$f":"_xlfn._xlws.FILTER(_xlfn._xlws.FILTER(G8Voice[],G8Voice[Type]=ServicePlans),{1,1,0})","v":"None"},"X",null,null,{"$f":"IF(P108=\"X\",0,INDEX(G8ServicePrices[],MATCH(D108,G8ServicePrices[Code],0),MATCH($M$1,G8ServicePrices[#Headers],0))*PurhcaseTerm)","v":0}]
[null,0,"",0,"",{"$f":"IFERROR(S109,\"\")","v":""},{"$nulls":12},{"$f":"IF(P109=\"X\",0,INDEX(G8ServicePrices[],MATCH(D109,G8ServicePrices[Code],0),MATCH($M$1,G8ServicePrices[#Headers],0))*PurhcaseTerm)","v":{"$error":"#N/A"}}]
[{"$nulls":11},"+"]
[null,"Push-to-Talk"]
[null,{"$f":"_xlfn.VSTACK(O112:O113)","v":"None"},{"$f":"IF(B112=0,\"\",\"è\")","v":"è"},{"$f":"_xlfn.VSTACK(P112:P113)","v":"X"},{"$f":"IF(B112=0,\"\",\"=\")","v":"="},{"$f":"IFERROR(S112,\"\")","v":{"v":0,"d":"$ 0"}},null,"X",{"$nulls":3},{"$f":"VLOOKUP(H112,D112:F113,3,FALSE)","v":{"v":0,"d":"$ 0"}},null,null,{"$f":"_xlfn._xlws.FILTER(_xlfn._xlws.FILTER(G8PTT[],G8PTT[Type]=ServicePlans),{1,1,0})","v":"None"},"X",null,null,{"$f":"IF(P112=\"X\",0,INDEX(G8ServicePrices[],MATCH(D112,G8ServicePrices[Code],0),MATCH($M$1,G8ServicePrices[#Headers],0))*PurhcaseTerm)","v":0}]
[null,"Included","è","P","=",{"$f":"IFERROR(S113,\"\")","v":{"v":456,"d":"$ 456"}},{"$nulls":8},"Included","P",null,null,{"$f":"IF(P113=\"X\",0,INDEX(G8ServicePrices[],MATCH(D113,G8ServicePrices[Code],0),MATCH($M$1,G8ServicePrices[#Headers],0))*PurhcaseTerm)","v":456}]
[{"$nulls":11},"+"]
[null,"Future Service Option"]
[null,{"$f":"_xlfn.VSTACK(O116:O117)","v":"None"},{"$f":"IF(B116=0,\"\",\"è\")","v":"è"},{"$f":"_xlfn.VSTACK(P116:P117)","v":"X"},{"$f":"IF(B116=0,\"\",\"=\")","v":"="},{"$f":"IFERROR(S116,\"\")","v":{"v":0,"d":"$ 0"}},null,"X",{"$nulls":3},{"$f":"VLOOKUP(H116,D116:F117,3,FALSE)","v":{"v":0,"d":"$ 0"}},null,null,{"$f":"_xlfn._xlws.FILTER(_xlfn._xlws.FILTER(G8TeamCalling[],G8TeamCalling[Type]=ServicePlans),{1,1,0})","v":"None"},"X",null,null,{"$f":"IF(P116=\"X\",0,INDEX(G8ServicePrices[],MATCH(D116,G8ServicePrices[Code],0),MATCH($M$1,G8ServicePrices[#Headers],0))*PurhcaseTerm)","v":0}]
[null,0,"",0,"",{"$f":"IFERROR(S117,\"\")","v":""},{"$nulls":12},{"$f":"IF(P117=\"X\",0,INDEX(G8ServicePrices[],MATCH(D117,G8ServicePrices[Code],0),MATCH($M$1,G8ServicePrices[#Headers],0))*PurhcaseTerm)","v":{"$error":"#N/A"}}]
[{"$nulls":7},"-"]
[null,"Term"]
[null,"One-Year","è","1Y",{"$nulls":3},"2Y",{"$nulls":10},{"$f":"LEFT(H120,1)*12","v":24}]
[null,"Two-Years","è","2Y"]
[null,"Three-Years","è","3Y"]
[null,"Four-Years","è","4Y"]
[null,"Five-Years","è","5Y"]

{"sheet":"G8 Lone Worker Combination","index":19,"n_rows":66,"n_cols":24,"rows_kept":66,"merged":[[1,1,1,7],[2,1,12,1],[7,7,7,9],[9,7,9,9],[11,7,11,9],[13,1,13,5],[14,3,14,5],[14,7,15,9],[14,11,15,11],[16,11,31,11],[17,1,17,5],[18,7,18,9],[19,7,20,9],[20,1,20,5],[21,7,21,9],[22,7,23,9],[23,1,23,5],[24,7,26,9],[27,7,28,9],[28,1,28,5],[29,7,29,9],[30,7,31,9],[31,1,31,5],[32,7,35,9],[32,11,35,11],[38,1,38,5],[39,7,41,9],[39,11,41,11],[42,11,43,11],[43,1,43,5],[44,7,46,9],[44,11,46,11],[47,11,48,11],[48,1,48,5],[49,7,50,9],[49,11,50,11],[51,11,52,11],[52,1,52,5],[53,7,54,9],[53,11,54,11],[55,11,56,11],[56,1,56,5],[57,7,58,9],[57,11,58,11],[59,7,60,9],[60,1,60,5],[61,7,65,9]]}
[null,{"$error":"#VALUE!"},{"$nulls":10},{"$f":"Currency","v":"USD"},null,null,"G8 Lone Worker Combination"]
[null,"G8 Lone Worker Combination",{"$nulls":10},{"$f":"PBYear","v":2025},"Quick Links"]
[null,{"$error":"#VALUE!"},{"$nulls":10},{"$f":"Revision","v":"Effective February 2, 2026 Rev 2"},"Main Menu"]
[{"$nulls":12},"Blackline Safety Confidential","Accessories"]
[{"$nulls":12},"All prices are an estimate - for a formal quote contact your local Blackline Safety representative"]
[]
[]
[{"$nulls":5},"Hardware",null,{"$f":"CONCATENATE(H15,H19,H20,H22,H23,H25,H28,H30,H31,H33)","v":"CMB-G8C-01-NA2-Z-2Y"},{"$nulls":3},{"$f":"IFERROR(L15+L33,\"Error\")","v":{"v":594,"d":"$ 594"}},{"$f":"M1&\" List\"","v":"USD List"}]
[]
[{"$nulls":5},"Service (Annual/Term)",null,{"$f":"CONCATENATE(\"SER-\",D15,H19,H20,ServicePlans,H45,H50,H54,H58,H60,H62)","v":"SER-CMB-G8C-SXXXX-2Y"},{"$nulls":3},{"$f":"L40+L45+L50+L54+L58","v":{"v":204,"d":"$ 204"}},{"$f":"L10*S63","v":{"v":408,"d":"$ 408"}}]
[]
[{"$nulls":5},"Additional Cartridge",null,{"$f":"_xlfn.LET(_xlpm.trm,IF(H33=\"2Y\",\"2Y\",\"3Y\"),\nCONCATENATE(\"J-CART-\",H30,\"-\",_xlpm.trm,\"-R\"))","v":"J-CART-Z-2Y-R"},{"$nulls":3},{"$f":"X16","v":{"v":118,"d":"$ 118"}},{"$f":"M1&\" List\"","v":"USD List"}]
[]
[null,"Buying Option",{"$nulls":16},"Price",{"$nulls":3},"Additional CART"]
[null,"Combination","è","CMB-G8",{"$nulls":3},{"$f":"D15","v":"CMB-G8"},{"$nulls":3},{"$f":"F16","v":{"v":594,"d":"$ 594"}},{"$nulls":11},{"$f":"IF(H33=\"2Y\",2.5,3)","v":2.5}]
[1,null,null,"Lone Worker","=",{"$f":"SUM(S16:T16)","v":{"v":594,"d":"$ 594"}},{"$nulls":11},1,{"$f":"INDEX(BasePrices[],MATCH(\"G8 Purchase Base Price\",BasePrices[Type],0),MATCH($M$1,BasePrices[#Headers],0))","v":594},{"$nulls":4},{"$f":"ROUNDUP(INDEX(BasePrices[],MATCH(\"Standard Cartridge\",BasePrices[Type],0),MATCH($M$1,BasePrices[#Headers],0))*$X$15,0)","v":118}]
[{"$nulls":11},"+"]
[null,"Connectivity"]
[null,"Cellular","è","C",{"$nulls":3},"C"]
[{"$nulls":7},"-"]
[null,"SIM Card"]
[null,"Standard (Telenor)","è","01",{"$nulls":3},{"$f":"D22","v":"01"}]
[{"$nulls":7},"-"]
[null,"Country Code"]
[null,{"$f":"_xlfn.VSTACK(O25:O27)","v":"North America (4G/LTE) - G8C"},{"$f":"IF(B25=\"\",\"\",\"è\")","v":"è"},{"$f":"IFERROR(_xlfn.VSTACK(P25:P27),\"\")","v":"NA2"},{"$nulls":3},"NA2",{"$nulls":6},{"$f":"_xlfn.LET(\n_xlpm.Dtype,G8CountryCodes[Type],_xlpm.Curr,G8CountryCodes[Currency],_xlpm.SType,H19,_xlpm.SCurr,M1,\n_xlpm.myCalculation,_xlfn.VSTACK(_xlfn._xlws.FILTER(G8CountryCodes[],(_xlpm.Dtype=_xlpm.SType)*(_xlpm.Curr=_xlpm.SCurr))),_xlpm.myCalculation)","v":"North America (4G/LTE) - G8C"},"NA2","C","USD"]
[null,"Outside of North America (4G/LTE) - G8C",{"$f":"IF(B26=0,\"\",\"è\")","v":"è"},"EU2",{"$nulls":10},"Outside of North America (4G/LTE) - G8C","EU2","C","USD"]
[null,0,{"$f":"IF(B27=0,\"\",\"è\")","v":""},0]
[{"$nulls":7},"-"]
[null,"Cartridge Type"]
[null,"Lone Worker","è","Z",{"$nulls":3},{"$f":"D30","v":"Z"}]
[{"$nulls":7},"-"]
[null,"Warranty Term"]
[null,{"$f":"_xlfn.VSTACK(O33:O36)","v":"2-Years"},"è",{"$f":"_xlfn.VSTACK(P33:P36)","v":"2Y"},{"$nulls":3},"2Y",{"$nulls":3},{"$f":"S33","v":{"v":0,"d":"$ 0"}},null,null,{"$f":"_xlfn.VSTACK(G8PurWarr[])","v":"2-Years"},"2Y","2Y",null,{"$f":"INDEX(BasePrices[],MATCH(\"G7 Warranty Base Price\",BasePrices[Type],0),MATCH($M$1,BasePrices[#Headers],0))*MAX(0,LEFT(H33,1)-2)","v":0}]
[null,"3-Years","è","3Y",{"$nulls":10},"3-Years","3Y","3Y"]
[null,"4-Years","è","4Y",{"$nulls":10},"4-Years","4Y","4Y"]
[null,"5-Years","è","5Y",{"$nulls":10},"5-Years","5Y","5Y"]
[]
[null,"Service (Annually)"]
[null,"Service Plan"]
[null,{"$f":"_xlfn.VSTACK(O40:O42)","v":"Standard"},{"$f":"IF(B40=0,\"\",\"è\")","v":"è"},{"$f":"_xlfn.VSTACK(P40:P42)","v":"S"},{"$f":"IF(B40=0,\"\",\"=\")","v":"="},{"$f":"IFERROR(S40,\"\")","v":{"v":204,"d":"$ 204"}},null,"S",{"$nulls":3},{"$f":"VLOOKUP(H40,D40:F42,3,FALSE)","v":{"v":204,"d":"$ 204"}},null,null,{"$f":"_xlfn.VSTACK(G8ServicePlans[])","v":"Standard"},"S",null,null,{"$f":"INDEX(G8ServicePrices[],MATCH(D40,G8ServicePrices[Code],0),MATCH($M$1,G8ServicePrices[#Headers],0))*PurhcaseTerm","v":204}]
[null,"Pro","è","K","=",{"v":384,"d":"$ 384"},{"$nulls":8},"Pro","K",null,null,{"$f":"INDEX(G8ServicePrices[],MATCH(D41,G8ServicePrices[Code],0),MATCH($M$1,G8ServicePrices[#Headers],0))*PurhcaseTerm","v":384}]
[null,0,"",0,"","",{"$nulls":12},{"$f":"INDEX(G8ServicePrices[],MATCH(D42,G8ServicePrices[Code],0),MATCH($M$1,G8ServicePrices[#Headers],0))*PurhcaseTerm","v":{"$error":"#N/A"}}]
[{"$nulls":11},"+"]
[null,"Monitoring Services"]
[null,{"$f":"_xlfn.VSTACK(O45:O47)","v":"None"},{"$f":"IF(B45=0,\"\",\"è\")","v":"è"},{"$f":"_xlfn.VSTACK(P45:P47)","v":"X"},{"$f":"IF(B45=0,\"\",\"=\")","v":"="},{"$f":"IFERROR(S45,\"\")","v":{"v":0,"d":"$ 0"}},null,"X",{"$nulls":3},{"$f":"VLOOKUP(H45,D45:F47,3,FALSE)","v":{"v":0,"d":"$ 0"}},null,null,{"$f":"_xlfn._xlws.FILTER(_xlfn._xlws.FILTER(G8Monitoring[],G8Monitoring[Type]=ServicePlans),{1,1,0})","v":"None"},"X",null,null,{"$f":"IF(P45=\"X\",0,INDEX(G8ServicePrices[],MATCH(D45,G8ServicePrices[Code],0),MATCH($M$1,G8ServicePrices[#Headers],0))*PurhcaseTerm)","v":0}]
[null,0,"",0,"",{"$f":"IFERROR(S46,\"\")","v":""},{"$nulls":12},{"$f":"IF(P46=\"X\",0,INDEX(G8ServicePrices[],MATCH(D46,G8ServicePrices[Code],0),MATCH($M$1,G8ServicePrices[#Headers],0))*PurhcaseTerm)","v":{"$error":"#N/A"}}]
[null,0,"",0,"",{"$f":"IFERROR(S47,\"\")","v":""},{"$nulls":12},{"$f":"IF(P47=\"X\",0,INDEX(G8ServicePrices[],MATCH(D47,G8ServicePrices[Code],0),MATCH($M$1,G8ServicePrices[#Headers],0))*PurhcaseTerm)","v":{"$error":"#N/A"}}]
[{"$nulls":11},"+"]
[null,"Voice"]
[null,{"$f":"_xlfn.VSTACK(O50:O51)","v":"None"},{"$f":"IF(B50=0,\"\",\"è\")","v":"è"},{"$f":"_xlfn.VSTACK(P50:P51)","v":"X"},{"$f":"IF(B50=0,\"\",\"=\")","v":"="},{"$f":"IFERROR(S50,\"\")","v":{"v":0,"d":"$ 0"}},null,"X",{"$nulls":3},{"$f":"VLOOKUP(H50,D50:F51,3,FALSE)","v":{"v":0,"d":"$ 0"}},null,null,{"$f":"_xlfn._xlws.FILTER(_xlfn._xlws.FILTER(G8Voice[],G8Voice[Type]=ServicePlans),{1,1,0})","v":"None"},"X",null,null,{"$f":"IF(P50=\"X\",0,INDEX(G8ServicePrices[],MATCH(D50,G8ServicePrices[Code],0),MATCH($M$1,G8ServicePrices[#Headers],0))*PurhcaseTerm)","v":0}]
[null,0,"",0,"",{"$f":"IFERROR(S51,\"\")","v":""},{"$nulls":12},{"$f":"IF(P51=\"X\",0,INDEX(G8ServicePrices[],MATCH(D51,G8ServicePrices[Code],0),MATCH($M$1,G8ServicePrices[#Headers],0))*PurhcaseTerm)","v":{"$error":"#N/A"}}]
[{"$nulls":11},"+"]
[null,"Push-to-Talk"]
[null,{"$f":"_xlfn.VSTACK(O54:O55)","v":"None"},{"$f":"IF(B54=0,\"\",\"è\")","v":"è"},{"$f":"_xlfn.VSTACK(P54:P55)","v":"X"},{"$f":"IF(B54=0,\"\",\"=\")","v":"="},{"$f":"IFERROR(S54,\"\")","v":{"v":0,"d":"$ 0"}},null,"X",{"$nulls":3},{"$f":"VLOOKUP(H54,D54:F55,3,FALSE)","v":{"v":0,"d":"$ 0"}},null,null,{"$f":"_xlfn._xlws.FILTER(_xlfn._xlws.FILTER(G8PTT[],G8PTT[Type]=ServicePlans),{1,1,0})","v":"None"},"X",null,null,{"$f":"IF(P54=\"X\",0,INDEX(G8ServicePrices[],MATCH(D54,G8ServicePrices[Code],0),MATCH($M$1,G8ServicePrices[#Headers],0))*PurhcaseTerm)","v":0}]
[null,"Included","è","P","=",{"$f":"IFERROR(S55,\"\")","v":{"v":228,"d":"$ 228"}},{"$nulls":8},"Included","P",null,null,{"$f":"IF(P55=\"X\",0,INDEX(G8ServicePrices[],MATCH(D55,G8ServicePrices[Code],0),MATCH($M$1,G8ServicePrices[#Headers],0))*PurhcaseTerm)","v":228}]
[{"$nulls":11},"+"]
[null,"Future Service Option"]
[null,{"$f":"_xlfn.VSTACK(O58:O59)","v":"None"},{"$f":"IF(B58=0,\"\",\"è\")","v":"è"},{"$f":"_xlfn.VSTACK(P58:P59)","v":"X"},{"$f":"IF(B58=0,\"\",\"=\")","v":"="},{"$f":"IFERROR(S58,\"\")","v":{"v":0,"d":"$ 0"}},null,"X",{"$nulls":3},{"$f":"VLOOKUP(H58,D58:F59,3,FALSE)","v":{"v":0,"d":"$ 0"}},null,null,{"$f":"_xlfn._xlws.FILTER(_xlfn._xlws.FILTER(G8TeamCalling[],G8TeamCalling[Type]=ServicePlans),{1,1,0})","v":"None"},"X",null,null,{"$f":"IF(P58=\"X\",0,INDEX(G8ServicePrices[],MATCH(D58,G8ServicePrices[Code],0),MATCH($M$1,G8ServicePrices[#Headers],0))*PurhcaseTerm)","v":0}]
[null,0,"",0,"",{"$f":"IFERROR(S59,\"\")","v":""},{"$nulls":12},{"$f":"IF(P59=\"X\",0,INDEX(G8ServicePrices[],MATCH(D59,G8ServicePrices[Code],0),MATCH($M$1,G8ServicePrices[#Headers],0))*PurhcaseTerm)","v":{"$error":"#N/A"}}]
[{"$nulls":7},"-"]
[null,"Term"]
[null,"One-Year","è","1Y",{"$nulls":3},"2Y",{"$nulls":10},12]
[null,"Two-Years","è","2Y",{"$nulls":14},{"$f":"LEFT(H62,1)","v":"2"}]
[null,"Three-Years","è","3Y"]
[null,"Four-Years","è","4Y"]
[null,"Five-Years","è","5Y"]

{"sheet":"G8 Single-Gas Combination","index":20,"n_rows":87,"n_cols":24,"rows_kept":87,"merged":[[1,1,1,7],[2,1,12,1],[7,7,7,9],[9,7,9,9],[11,7,11,9],[13,1,13,5],[14,3,14,5],[14,7,15,9],[14,11,15,11],[16,11,28,11],[17,1,17,5],[18,7,18,9],[19,7,20,9],[20,1,20,5],[21,7,21,9],[22,7,23,9],[23,1,23,5],[24,7,26,9],[27,7,28,9],[28,1,28,5],[29,7,29,9],[30,7,31,9],[30,11,31,11],[31,1,31,5],[32,7,50,9],[32,11,50,11],[51,7,52,9],[51,11,52,11],[52,1,52,5],[53,7,56,9],[53,11,56,11],[59,1,59,5],[60,7,62,9],[60,11,62,11],[63,11,64,11],[64,1,64,5],[65,7,67,9],[65,11,67,11],[68,11,69,11],[69,1,69,5],[70,7,71,9],[70,11,71,11],[72,11,73,11],[73,1,73,5],[74,7,75,9],[74,11,75,11],[76,11,77,11],[77,1,77,5],[78,7,79,9],[78,11,79,11],[80,7,81,9],[81,1,81,5],[82,7,86,9]]}
[null,{"$error":"#VALUE!"},{"$nulls":10},{"$f":"Currency","v":"USD"},null,null,"G8 Single-Gas Combination"]
[null,"G8 Single-Gas Combination",{"$nulls":10},{"$f":"PBYear","v":2025},"Quick Links"]
[null,{"$error":"#VALUE!"},{"$nulls":10},{"$f":"Revision","v":"Effective February 2, 2026 Rev 2"},"Main Menu"]
[{"$nulls":12},"Blackline Safety Confidential","Accessories"]
[{"$nulls":12},"All prices are an estimate - for a formal quote contact your local Blackline Safety representative"]
[]
[]
[{"$nulls":5},"Hardware",null,{"$f":"CONCATENATE(H15,H19,H20,H22,H23,H25,H28,H30,H31,H33,H52,H54)","v":"CMB-G8C-01-NA2-S-H-2Y"},{"$nulls":3},{"$f":"IFERROR(L15+L30+L33+L54,\"Error\")","v":{"v":740,"d":"$ 740"}},{"$f":"M1&\" List\"","v":"USD List"}]
[]
[{"$nulls":5},"Service (Annual/Term)",null,{"$f":"CONCATENATE(\"SER-CMB-G8\",H19,H20,ServicePlans,H66,H71,H75,H79,H81,H83)","v":"SER-CMB-G8C-SXXXX-2Y"},{"$nulls":3},{"$f":"L61+L66+L71+L75+L79","v":{"v":204,"d":"$ 204"}},{"$f":"L10*ComboYears","v":{"v":408,"d":"$ 408"}}]
[]
[{"$nulls":5},"Additional Cartridge",null,{"$f":"_xlfn.LET(_xlpm.trm,IF(H54=\"2Y\",\"2Y\",\"3Y\"),\nCONCATENATE(\"J-CART-\",H30,\"-\",H33,\"-\",_xlpm.trm,\"-R\"))","v":"J-CART-S-H-2Y-R"},{"$nulls":3},{"$f":"SUM(X16:X32)","v":{"v":183,"d":"$ 183"}},{"$f":"M1&\" List\"","v":"USD List"}]
[]
[null,"Buying Option",{"$nulls":16},"Price","EWAR",null,null,"Additional CART"]
[null,"Combination","è","CMB-G8",{"$nulls":3},{"$f":"D15","v":"CMB-G8"},{"$nulls":3},{"$f":"S16","v":{"v":594,"d":"$ 594"}},{"$nulls":11},{"$f":"IF(H54=\"2Y\",2.5,3)","v":2.5}]
[1,null,null,"Single-sensor","=",{"$f":"SUM(S16:T16)","v":{"v":594,"d":"$ 594"}},{"$nulls":11},1,{"$f":"INDEX(BasePrices[],MATCH(\"G8 Purchase Base Price\",BasePrices[Type],0),MATCH($M$1,BasePrices[#Headers],0))","v":594},{"$f":"INDEX(BasePrices[],MATCH(\"G7 Warranty Base Price\",BasePrices[Type],0),MATCH($M$1,BasePrices[#Headers],0))*MAX(0,LEFT(H54,1)-2)","v":0},{"$nulls":3},{"$f":"ROUNDUP(INDEX(BasePrices[],MATCH(R16&\" Sensor Cartridge\",BasePrices[Type],0),MATCH($M$1,BasePrices[#Headers],0))*$X$15,0)","v":183}]
[{"$nulls":11},"+"]
[null,"Connectivity"]
[null,"Cellular","è","C",{"$nulls":3},"C"]
[{"$nulls":7},"-"]
[null,"SIM Card"]
[null,"Standard (Telenor)","è","01",{"$nulls":3},{"$f":"D22","v":"01"}]
[{"$nulls":7},"-"]
[null,"Country Code"]
[null,{"$f":"_xlfn.VSTACK(O25:O27)","v":"North America (4G/LTE) - G8C"},{"$f":"IF(B25=\"\",\"\",\"è\")","v":"è"},{"$f":"IFERROR(_xlfn.VSTACK(P25:P27),\"\")","v":"NA2"},{"$nulls":3},"NA2",{"$nulls":6},{"$f":"_xlfn.LET(\n_xlpm.Dtype,G8CountryCodes[Type],_xlpm.Curr,G8CountryCodes[Currency],_xlpm.SType,H19,_xlpm.SCurr,M1,\n_xlpm.myCalculation,_xlfn.VSTACK(_xlfn._xlws.FILTER(G8CountryCodes[],(_xlpm.Dtype=_xlpm.SType)*(_xlpm.Curr=_xlpm.SCurr))),_xlpm.myCalculation)","v":"North America (4G/LTE) - G8C"},"NA2","C","USD"]
[null,"Outside of North America (4G/LTE) - G8C",{"$f":"IF(B26=0,\"\",\"è\")","v":"è"},"EU2",{"$nulls":10},"Outside of North America (4G/LTE) - G8C","EU2","C","USD"]
[null,0,{"$f":"IF(B27=0,\"\",\"è\")","v":""},0]
[{"$nulls":7},"-"]
[null,"Cartridge Type"]
[null,"Single Sensor","è","S","=",{"$f":"S30","v":{"v":146,"d":"$ 146"}},null,{"$f":"D30","v":"S"},{"$nulls":3},{"$f":"S30","v":{"v":146,"d":"$ 146"}},{"$nulls":6},{"$f":"INDEX(BasePrices[],MATCH(R16&\" Sensor Cartridge\",BasePrices[Type],0),MATCH($M$1,BasePrices[#Headers],0))*2","v":146},{"$f":"ROUNDUP(INDEX(BasePrices[],MATCH(R16&\" Sensor Cartridge\",BasePrices[Type],0),MATCH($M$1,BasePrices[#Headers],0))*0.2777777,0)*MAX(0,LEFT(H54,1)-2)","v":0}]
[{"$nulls":7},"-",{"$nulls":3},"+"]
[null,"Toxic Sensor",{"$nulls":21},{"$f":"VLOOKUP(H33,D33:W51,20,FALSE)","v":0}]
[null,{"$f":"_xlfn.VSTACK(O33:O51)","v":"HF"},{"$f":"IF(B33=0,\"\",\"è\")","v":"è"},{"$f":"_xlfn.VSTACK(P33:P51)","v":"2"},{"$f":"IF(B33=0,\"\",\"=\")","v":"="},{"$f":"IFERROR(S33,\"\")","v":{"v":840,"d":"$ 840"}},null,"H",{"$nulls":3},{"$f":"VLOOKUP(H33,D33:F51,3,FALSE)","v":{"v":0,"d":"$ 0"}},null,null,{"$f":"_xlfn.LET(\n_xlpm.Dtype,G7Sensors[Type1],_xlpm.Curr,G7Sensors[Currency],_xlpm.Stype,H30,_xlpm.SCurr,M1,\n_xlpm.myCalculation,_xlfn.VSTACK(_xlfn._xlws.FILTER(G7Sensors[],(_xlpm.Dtype=_xlpm.Stype)*(_xlpm.Curr=_xlpm.SCurr))),_xlpm.myCalculation)","v":"HF"},"2","S","USD",{"$f":"INDEX(SensorPricing[],MATCH(D33,SensorPricing[Sensor],0),MATCH($M$1,SensorPricing[#Headers],0))*2","v":840},{"$f":"ROUNDUP(INDEX(SensorPricing[],MATCH(H33,SensorPricing[Sensor],0),MATCH($M$1,SensorPricing[#Headers],0))*0.2777777,0)*MAX(0,LEFT(H54,1)-2)","v":0},null,null,{"$f":"INDEX(SensorPricing[],MATCH(D33,SensorPricing[Sensor],0),MATCH($M$1,SensorPricing[#Headers],0))*$X$15","v":1050}]
[null,"NH3","è","A","=",{"$f":"IFERROR(S34,\"\")","v":{"v":120,"d":"$ 120"}},{"$nulls":8},"NH3","A","S","USD",{"$f":"INDEX(SensorPricing[],MATCH(D34,SensorPricing[Sensor],0),MATCH($M$1,SensorPricing[#Headers],0))*2","v":120},{"$nulls":3},{"$f":"INDEX(SensorPricing[],MATCH(D34,SensorPricing[Sensor],0),MATCH($M$1,SensorPricing[#Headers],0))*$X$15","v":150}]
[null,"High-range NH3 ","è","B","=",{"v":252,"d":"$ 252"},{"$nulls":8},"High-range NH3 ","B","S","USD",{"$f":"INDEX(SensorPricing[],MATCH(D35,SensorPricing[Sensor],0),MATCH($M$1,SensorPricing[#Headers],0))*2","v":252},{"$nulls":3},{"$f":"INDEX(SensorPricing[],MATCH(D35,SensorPricing[Sensor],0),MATCH($M$1,SensorPricing[#Headers],0))*$X$15","v":315}]
[null,"CO2","è","C","=",{"v":480,"d":"$ 480"},{"$nulls":8},"CO2","C","S","USD",{"$f":"INDEX(SensorPricing[],MATCH(D36,SensorPricing[Sensor],0),MATCH($M$1,SensorPricing[#Headers],0))*2","v":480},{"$nulls":3},{"$f":"INDEX(SensorPricing[],MATCH(D36,SensorPricing[Sensor],0),MATCH($M$1,SensorPricing[#Headers],0))*$X$15","v":600}]
[null,"O3","è","E","=",{"v":240,"d":"$ 240"},{"$nulls":8},"O3","E","S","USD",{"$f":"INDEX(SensorPricing[],MATCH(D37,SensorPricing[Sensor],0),MATCH($M$1,SensorPricing[#Headers],0))*2","v":240},{"$nulls":3},{"$f":"INDEX(SensorPricing[],MATCH(D37,SensorPricing[Sensor],0),MATCH($M$1,SensorPricing[#Headers],0))*$X$15","v":300}]
[null,"H2S","è","H","=",{"v":0,"d":"$ 0"},{"$nulls":8},"H2S","H","S","USD",{"$f":"INDEX(SensorPricing[],MATCH(D38,SensorPricing[Sensor],0),MATCH($M$1,SensorPricing[#Headers],0))*2","v":0},{"$nulls":3},{"$f":"INDEX(SensorPricing[],MATCH(D38,SensorPricing[Sensor],0),MATCH($M$1,SensorPricing[#Headers],0))*$X$15","v":0}]
[null,"High-range H2S ","è","J","=",{"v":240,"d":"$ 240"},{"$nulls":8},"High-range H2S ","J","S","USD",{"$f":"INDEX(SensorPricing[],MATCH(D39,SensorPricing[Sensor],0),MATCH($M$1,SensorPricing[#Headers],0))*2","v":240},{"$nulls":3},{"$f":"INDEX(SensorPricing[],MATCH(D39,SensorPricing[Sensor],0),MATCH($M$1,SensorPricing[#Headers],0))*$X$15","v":300}]
[null,"NO2 ","è","K","=",{"v":120,"d":"$ 120"},{"$nulls":8},"NO2 ","K","S","USD",{"$f":"INDEX(SensorPricing[],MATCH(D40,SensorPricing[Sensor],0),MATCH($M$1,SensorPricing[#Headers],0))*2","v":120},{"$nulls":3},{"$f":"INDEX(SensorPricing[],MATCH(D40,SensorPricing[Sensor],0),MATCH($M$1,SensorPricing[#Headers],0))*$X$15","v":150}]
[null,"Cl2","è","L","=",{"v":120,"d":"$ 120"},{"$nulls":8},"Cl2","L","S","USD",{"$f":"INDEX(SensorPricing[],MATCH(D41,SensorPricing[Sensor],0),MATCH($M$1,SensorPricing[#Headers],0))*2","v":120},{"$nulls":3},{"$f":"INDEX(SensorPricing[],MATCH(D41,SensorPricing[Sensor],0),MATCH($M$1,SensorPricing[#Headers],0))*$X$15","v":150}]
[null,"CO ","è","M","=",{"v":0,"d":"$ 0"},{"$nulls":8},"CO ","M","S","USD",{"$f":"INDEX(SensorPricing[],MATCH(D42,SensorPricing[Sensor],0),MATCH($M$1,SensorPricing[#Headers],0))*2","v":0},{"$nulls":3},{"$f":"INDEX(SensorPricing[],MATCH(D42,SensorPricing[Sensor],0),MATCH($M$1,SensorPricing[#Headers],0))*$X$15","v":0}]
[null,"HCN","è","N","=",{"v":120,"d":"$ 120"},{"$nulls":8},"HCN","N","S","USD",{"$f":"INDEX(SensorPricing[],MATCH(D43,SensorPricing[Sensor],0),MATCH($M$1,SensorPricing[#Headers],0))*2","v":120},{"$nulls":3},{"$f":"INDEX(SensorPricing[],MATCH(D43,SensorPricing[Sensor],0),MATCH($M$1,SensorPricing[#Headers],0))*$X$15","v":150}]
[null,"O2","è","O","=",{"v":0,"d":"$ 0"},{"$nulls":8},"O2","O","S","USD",{"$f":"INDEX(SensorPricing[],MATCH(D44,SensorPricing[Sensor],0),MATCH($M$1,SensorPricing[#Headers],0))*2","v":0},{"$nulls":3},{"$f":"INDEX(SensorPricing[],MATCH(D44,SensorPricing[Sensor],0),MATCH($M$1,SensorPricing[#Headers],0))*$X$15","v":0}]
[null,"CO-H ","è","R","=",{"v":0,"d":"$ 0"},{"$nulls":8},"CO-H ","R","S","USD",{"$f":"INDEX(SensorPricing[],MATCH(D45,SensorPricing[Sensor],0),MATCH($M$1,SensorPricing[#Headers],0))*2","v":0},{"$nulls":3},{"$f":"INDEX(SensorPricing[],MATCH(D45,SensorPricing[Sensor],0),MATCH($M$1,SensorPricing[#Headers],0))*$X$15","v":0}]
[null,"SO2","è","S","=",{"v":0,"d":"$ 0"},{"$nulls":8},"SO2","S","S","USD",{"$f":"INDEX(SensorPricing[],MATCH(D46,SensorPricing[Sensor],0),MATCH($M$1,SensorPricing[#Headers],0))*2","v":0},{"$nulls":3},{"$f":"INDEX(SensorPricing[],MATCH(D46,SensorPricing[Sensor],0),MATCH($M$1,SensorPricing[#Headers],0))*$X$15","v":0}]
[null,"High-range CO ","è","T","=",{"v":240,"d":"$ 240"},{"$nulls":8},"High-range CO ","T","S","USD",{"$f":"INDEX(SensorPricing[],MATCH(D47,SensorPricing[Sensor],0),MATCH($M$1,SensorPricing[#Headers],0))*2","v":240},{"$nulls":3},{"$f":"INDEX(SensorPricing[],MATCH(D47,SensorPricing[Sensor],0),MATCH($M$1,SensorPricing[#Headers],0))*$X$15","v":300}]
[null,"PID","è","V","=",{"v":966,"d":"$ 966"},{"$nulls":8},"PID","V","S","USD",{"$f":"INDEX(SensorPricing[],MATCH(D48,SensorPricing[Sensor],0),MATCH($M$1,SensorPricing[#Headers],0))*2","v":966},{"$nulls":3},{"$f":"INDEX(SensorPricing[],MATCH(D48,SensorPricing[Sensor],0),MATCH($M$1,SensorPricing[#Headers],0))*$X$15","v":1207.5}]
[null,"ClO2","è","W","=",{"v":120,"d":"$ 120"},{"$nulls":8},"ClO2","W","S","USD",{"$f":"INDEX(SensorPricing[],MATCH(D49,SensorPricing[Sensor],0),MATCH($M$1,SensorPricing[#Headers],0))*2","v":120},{"$nulls":3},{"$f":"INDEX(SensorPricing[],MATCH(D49,SensorPricing[Sensor],0),MATCH($M$1,SensorPricing[#Headers],0))*$X$15","v":150}]
[null,0,{"$f":"IF(B50=0,\"\",\"è\")","v":""},0,{"$f":"IF(B50=0,\"\",\"=\")","v":""},"",{"$nulls":12},{"$f":"INDEX(SensorPricing[],MATCH(D50,SensorPricing[Sensor],0),MATCH($M$1,SensorPricing[#Headers],0))*2","v":{"$error":"#N/A"}},{"$nulls":3},{"$f":"INDEX(SensorPricing[],MATCH(D50,SensorPricing[Sensor],0),MATCH($M$1,SensorPricing[#Headers],0))*$X$15","v":{"$error":"#N/A"}}]
[null,0,{"$f":"IF(B51=0,\"\",\"è\")","v":""},0,{"$f":"IF(B51=0,\"\",\"=\")","v":""},"",{"$nulls":12},{"$f":"INDEX(SensorPricing[],MATCH(D51,SensorPricing[Sensor],0),MATCH($M$1,SensorPricing[#Headers],0))*2","v":{"$error":"#N/A"}},{"$nulls":3},{"$f":"INDEX(SensorPricing[],MATCH(D51,SensorPricing[Sensor],0),MATCH($M$1,SensorPricing[#Headers],0))*$X$15","v":{"$error":"#N/A"}}]
[{"$nulls":7},"-",{"$nulls":3},"+"]
[null,"Warranty Term"]
[null,{"$f":"_xlfn.VSTACK(O54:O57)","v":"2-Years"},"è",{"$f":"_xlfn.VSTACK(P54:P57)","v":"2Y"},{"$nulls":3},"2Y",{"$nulls":3},{"$f":"S54","v":{"v":0,"d":"$ 0"}},null,null,{"$f":"_xlfn.VSTACK(G8PurWarr[])","v":"2-Years"},"2Y","2Y",null,{"$f":"SUM(T16:T33)","v":0}]
[null,"3-Years","è","3Y",{"$nulls":10},"3-Years","3Y","3Y"]
[null,"4-Years","è","4Y",{"$nulls":10},"4-Years","4Y","4Y"]
[null,"5-Years","è","5Y",{"$nulls":10},"5-Years","5Y","5Y"]
[]
[null,"Service (Annually)"]
[null,"Service Plan"]
[null,{"$f":"_xlfn.VSTACK(O61:O63)","v":"Standard"},{"$f":"IF(B61=0,\"\",\"è\")","v":"è"},{"$f":"_xlfn.VSTACK(P61:P63)","v":"S"},{"$f":"IF(B61=0,\"\",\"=\")","v":"="},{"$f":"IFERROR(S61,\"\")","v":{"v":204,"d":"$ 204"}},null,"S",{"$nulls":3},{"$f":"VLOOKUP(H61,D61:F63,3,FALSE)","v":{"v":204,"d":"$ 204"}},null,null,{"$f":"_xlfn.VSTACK(G8ServicePlans[])","v":"Standard"},"S",null,null,{"$f":"INDEX(G8ServicePrices[],MATCH(D61,G8ServicePrices[Code],0),MATCH($M$1,G8ServicePrices[#Headers],0))*PurhcaseTerm","v":204}]
[null,"Pro","è","K","=",{"v":384,"d":"$ 384"},{"$nulls":8},"Pro","K",null,null,{"$f":"INDEX(G8ServicePrices[],MATCH(D62,G8ServicePrices[Code],0),MATCH($M$1,G8ServicePrices[#Headers],0))*PurhcaseTerm","v":384}]
[null,0,"",0,"","",{"$nulls":12},{"$f":"INDEX(G8ServicePrices[],MATCH(D63,G8ServicePrices[Code],0),MATCH($M$1,G8ServicePrices[#Headers],0))*PurhcaseTerm","v":{"$error":"#N/A"}}]
[{"$nulls":11},"+"]
[null,"Monitoring Services"]
[null,{"$f":"_xlfn.VSTACK(O66:O68)","v":"None"},{"$f":"IF(B66=0,\"\",\"è\")","v":"è"},{"$f":"_xlfn.VSTACK(P66:P68)","v":"X"},{"$f":"IF(B66=0,\"\",\"=\")","v":"="},{"$f":"IFERROR(S66,\"\")","v":{"v":0,"d":"$ 0"}},null,"X",{"$nulls":3},{"$f":"VLOOKUP(H66,D66:F68,3,FALSE)","v":{"v":0,"d":"$ 0"}},null,null,{"$f":"_xlfn._xlws.FILTER(_xlfn._xlws.FILTER(G8Monitoring[],G8Monitoring[Type]=ServicePlans),{1,1,0})","v":"None"},"X",null,null,{"$f":"IF(P66=\"X\",0,INDEX(G8ServicePrices[],MATCH(D66,G8ServicePrices[Code],0),MATCH($M$1,G8ServicePrices[#Headers],0))*PurhcaseTerm)","v":0}]
[null,0,"",0,"",{"$f":"IFERROR(S67,\"\")","v":""},{"$nulls":12},{"$f":"IF(P67=\"X\",0,INDEX(G8ServicePrices[],MATCH(D67,G8ServicePrices[Code],0),MATCH($M$1,G8ServicePrices[#Headers],0))*PurhcaseTerm)","v":{"$error":"#N/A"}}]
[null,0,"",0,"",{"$f":"IFERROR(S68,\"\")","v":""},{"$nulls":12},{"$f":"IF(P68=\"X\",0,INDEX(G8ServicePrices[],MATCH(D68,G8ServicePrices[Code],0),MATCH($M$1,G8ServicePrices[#Headers],0))*PurhcaseTerm)","v":{"$error":"#N/A"}}]
[{"$nulls":11},"+"]
[null,"Voice"]
[null,{"$f":"_xlfn.VSTACK(O71:O72)","v":"None"},{"$f":"IF(B71=0,\"\",\"è\")","v":"è"},{"$f":"_xlfn.VSTACK(P71:P72)","v":"X"},{"$f":"IF(B71=0,\"\",\"=\")","v":"="},{"$f":"IFERROR(S71,\"\")","v":{"v":0,"d":"$ 0"}},null,"X",{"$nulls":3},{"$f":"VLOOKUP(H71,D71:F72,3,FALSE)","v":{"v":0,"d":"$ 0"}},null,null,{"$f":"_xlfn._xlws.FILTER(_xlfn._xlws.FILTER(G8Voice[],G8Voice[Type]=ServicePlans),{1,1,0})","v":"None"},"X",null,null,{"$f":"IF(P71=\"X\",0,INDEX(G8ServicePrices[],MATCH(D71,G8ServicePrices[Code],0),MATCH($M$1,G8ServicePrices[#Headers],0))*PurhcaseTerm)","v":0}]
[null,0,"",0,"",{"$f":"IFERROR(S72,\"\")","v":""},{"$nulls":12},{"$f":"IF(P72=\"X\",0,INDEX(G8ServicePrices[],MATCH(D72,G8ServicePrices[Code],0),MATCH($M$1,G8ServicePrices[#Headers],0))*PurhcaseTerm)","v":{"$error":"#N/A"}}]
[{"$nulls":11},"+"]
[null,"Push-to-Talk"]
[null,{"$f":"_xlfn.VSTACK(O75:O76)","v":"None"},{"$f":"IF(B75=0,\"\",\"è\")","v":"è"},{"$f":"_xlfn.VSTACK(P75:P76)","v":"X"},{"$f":"IF(B75=0,\"\",\"=\")","v":"="},{"$f":"IFERROR(S75,\"\")","v":{"v":0,"d":"$ 0"}},null,"X",{"$nulls":3},{"$f":"VLOOKUP(H75,D75:F76,3,FALSE)","v":{"v":0,"d":"$ 0"}},null,null,{"$f":"_xlfn._xlws.FILTER(_xlfn._xlws.FILTER(G8PTT[],G8PTT[Type]=ServicePlans),{1,1,0})","v":"None"},"X",null,null,{"$f":"IF(P75=\"X\",0,INDEX(G8ServicePrices[],MATCH(D75,G8ServicePrices[Code],0),MATCH($M$1,G8ServicePrices[#Headers],0))*PurhcaseTerm)","v":0}]
[null,"Included","è","P","=",{"$f":"IFERROR(S76,\"\")","v":{"v":228,"d":"$ 228"}},{"$nulls":8},"Included","P",null,null,{"$f":"IF(P76=\"X\",0,INDEX(G8ServicePrices[],MATCH(D76,G8ServicePrices[Code],0),MATCH($M$1,G8ServicePrices[#Headers],0))*PurhcaseTerm)","v":228}]
[{"$nulls":11},"+"]
[null,"Future Service Option"]
[null,{"$f":"_xlfn.VSTACK(O79:O80)","v":"None"},{"$f":"IF(B79=0,\"\",\"è\")","v":"è"},{"$f":"_xlfn.VSTACK(P79:P80)","v":"X"},{"$f":"IF(B79=0,\"\",\"=\")","v":"="},{"$f":"IFERROR(S79,\"\")","v":{"v":0,"d":"$ 0"}},null,"X",{"$nulls":3},{"$f":"VLOOKUP(H79,D79:F80,3,FALSE)","v":{"v":0,"d":"$ 0"}},null,null,{"$f":"_xlfn._xlws.FILTER(_xlfn._xlws.FILTER(G8TeamCalling[],G8TeamCalling[Type]=ServicePlans),{1,1,0})","v":"None"},"X",null,null,{"$f":"IF(P79=\"X\",0,INDEX(G8ServicePrices[],MATCH(D79,G8ServicePrices[Code],0),MATCH($M$1,G8ServicePrices[#Headers],0))*PurhcaseTerm)","v":0}]
[null,0,"",0,"",{"$f":"IFERROR(S80,\"\")","v":""},{"$nulls":12},{"$f":"IF(P80=\"X\",0,INDEX(G8ServicePrices[],MATCH(D80,G8ServicePrices[Code],0),MATCH($M$1,G8ServicePrices[#Headers],0))*PurhcaseTerm)","v":{"$error":"#N/A"}}]
[{"$nulls":7},"-"]
[null,"Term"]
[null,"One-Year","è","1Y",{"$nulls":3},"2Y",{"$nulls":10},12]
[null,"Two-Years","è","2Y",{"$nulls":14},{"$f":"LEFT(H83,1)","v":"2"}]
[null,"Three-Years","è","3Y"]
[null,"Four-Years","è","4Y"]
[null,"Five-Years","è","5Y"]

{"sheet":"G8 Multi-Gas Combination","index":21,"n_rows":125,"n_cols":24,"rows_kept":125,"merged":[[1,1,1,7],[2,1,12,1],[7,7,7,9],[9,7,9,9],[11,7,11,9],[13,1,13,5],[14,3,14,5],[14,7,22,9],[14,11,22,11],[15,21,18,21],[15,23,22,23],[23,11,39,11],[24,1,24,5],[25,7,25,9],[26,7,27,9],[27,1,27,5],[28,7,28,9],[29,7,30,9],[30,1,30,5],[31,7,33,9],[34,7,35,9],[35,1,35,5],[36,7,37,9],[36,23,37,23],[38,7,39,9],[39,1,39,5],[40,7,42,7],[40,9,88,9],[40,11,42,11],[43,11,44,11],[44,1,44,5],[45,7,63,7],[45,11,63,11],[64,11,65,11],[65,1,65,5],[66,7,84,7],[66,11,84,11],[85,11,86,11],[86,1,86,5],[87,7,88,7],[87,11,88,11],[89,7,90,9],[89,11,90,11],[90,1,90,5],[91,7,94,9],[91,11,94,11],[97,1,97,5],[98,7,100,9],[98,11,100,11],[101,11,102,11],[102,1,102,5],[103,7,105,9],[103,11,105,11],[106,11,107,11],[107,1,107,5],[108,7,109,9],[108,11,109,11],[110,11,111,11],[111,1,111,5],[112,7,113,9],[112,11,113,11],[114,11,115,11],[115,1,115,5],[116,7,117,9],[116,11,117,11],[118,7,119,9],[119,1,119,5],[120,7,124,9]]}
[null,{"$error":"#VALUE!"},{"$nulls":10},{"$f":"Currency","v":"USD"},null,null,"G8 Multi-Gas Combination"]
[null,"G8 Multi-Gas Combination",{"$nulls":10},{"$f":"PBYear","v":2025},"Quick Links"]
[null,{"$error":"#VALUE!"},{"$nulls":10},{"$f":"Revision","v":"Effective February 2, 2026 Rev 2"},"Main Menu"]
[{"$nulls":12},"Blackline Safety Confidential","Accessories"]
[{"$nulls":12},"All prices are an estimate - for a formal quote contact your local Blackline Safety representative"]
[]
[]
[{"$nulls":5},"Hardware",null,{"$f":"CONCATENATE(H15,H26,H27,H29,H30,H32,H35,H37,H39,J41,H90,H92)","v":"CMB-G8C-01-NA2-Q-FHMO-2Y"},{"$nulls":3},{"$f":"IFERROR(L15+L37+L41+L46+L67+L88+L92,\"Error\")","v":{"v":994,"d":"$ 994"}},{"$f":"M1&\" List\"","v":"USD List"}]
[]
[{"$nulls":5},"Service (Annual/Term)",null,{"$f":"CONCATENATE(\"SER-CMB-G8\",H26,H27,ServicePlans,H104,H109,H113,H117,H119,H121)","v":"SER-CMB-G8C-SXXXX-2Y"},{"$nulls":3},{"$f":"IFERROR(L99+L104+L109+L113+L117,\"Error\")","v":{"v":204,"d":"$ 204"}},{"$f":"L10*ComboYears","v":{"v":408,"d":"$ 408"}}]
[]
[{"$nulls":5},"Additional Cartridge",null,{"$f":"_xlfn.LET(_xlpm.trm,IF(H92=\"2Y\",\"2Y\",\"3Y\"),\nCONCATENATE(\"J-CART-\",H37,\"-\",J41,\"-\",_xlpm.trm,\"-R\"))","v":"J-CART-Q-FHMO-2Y-R"},{"$nulls":3},{"$f":"SUM(X16:X44)","v":{"v":500,"d":"$ 500"}},{"$f":"M1&\" List\"","v":"USD List"}]
[]
[null,"Buying Option",{"$nulls":16},"Price","EWAR",null,null,"Additional CART"]
[null,"Combination","è","CMB-G8",{"$nulls":3},{"$f":"D15","v":"CMB-G8"},{"$nulls":3},{"$f":"VLOOKUP(P39,A16:F23,6,FALSE)","v":{"v":994,"d":"$ 994"}},{"$nulls":11},{"$f":"IF(H92=\"2Y\",2.5,3)","v":2.5}]
["Q1",null,null,"Multi 1-sensor","=",{"$f":"S16","v":{"v":740,"d":"$ 740"}},{"$nulls":11},1,{"$f":"INDEX(BasePrices[],MATCH(\"G8 Purchase Base Price\",BasePrices[Type],0),MATCH($M$1,BasePrices[#Headers],0))+INDEX(BasePrices[],MATCH(R16&\" Sensor Cartridge\",BasePrices[Type],0),MATCH($M$1,BasePrices[#Headers],0))*2","v":740},{"$f":"INDEX(BasePrices[],MATCH(\"G7 Warranty Base Price\",BasePrices[Type],0),MATCH($M$1,BasePrices[#Headers],0))*MAX(0,LEFT($H$92,1)-2)+\nROUNDUP(INDEX(BasePrices[],MATCH(R16&\" Sensor Cartridge\",BasePrices[Type],0),MATCH($M$1,BasePrices[#Headers],0))*0.2777777,0)*MAX(0,LEFT($H$92,1)-2)","v":0},null,null,{"$f":"ROUNDUP(INDEX(BasePrices[],MATCH(R16&\" Sensor Cartridge\",BasePrices[Type],0),MATCH($M$1,BasePrices[#Headers],0))*$X$15,0)","v":183},{"$f":"VLOOKUP(P39,A16:W23,COLUMN()-1,FALSE)","v":500}]
["Q2",null,null,"Multi 2-sensor","=",{"$f":"S17","v":{"v":846,"d":"$ 846"}},{"$nulls":11},2,{"$f":"INDEX(BasePrices[],MATCH(\"G8 Purchase Base Price\",BasePrices[Type],0),MATCH($M$1,BasePrices[#Headers],0))+INDEX(BasePrices[],MATCH(R17&\" Sensor Cartridge\",BasePrices[Type],0),MATCH($M$1,BasePrices[#Headers],0))*2","v":846},{"$f":"INDEX(BasePrices[],MATCH(\"G7 Warranty Base Price\",BasePrices[Type],0),MATCH($M$1,BasePrices[#Headers],0))*MAX(0,LEFT($H$92,1)-2)+\nROUNDUP(INDEX(BasePrices[],MATCH(R17&\" Sensor Cartridge\",BasePrices[Type],0),MATCH($M$1,BasePrices[#Headers],0))*0.2777777,0)*MAX(0,LEFT($H$92,1)-2)","v":0},null,null,{"$f":"ROUNDUP(INDEX(BasePrices[],MATCH(R17&\" Sensor Cartridge\",BasePrices[Type],0),MATCH($M$1,BasePrices[#Headers],0))*$X$15,0)","v":315}]
["Q3",null,null,"Multi 3-sensor","=",{"v":924,"d":"$ 924"},{"$nulls":11},3,{"$f":"INDEX(BasePrices[],MATCH(\"G8 Purchase Base Price\",BasePrices[Type],0),MATCH($M$1,BasePrices[#Headers],0))+INDEX(BasePrices[],MATCH(R18&\" Sensor Cartridge\",BasePrices[Type],0),MATCH($M$1,BasePrices[#Headers],0))*2","v":924},{"$f":"INDEX(BasePrices[],MATCH(\"G7 Warranty Base Price\",BasePrices[Type],0),MATCH($M$1,BasePrices[#Headers],0))*MAX(0,LEFT($H$92,1)-2)+\nROUNDUP(INDEX(BasePrices[],MATCH(R18&\" Sensor Cartridge\",BasePrices[Type],0),MATCH($M$1,BasePrices[#Headers],0))*0.2777777,0)*MAX(0,LEFT($H$92,1)-2)","v":0},null,null,{"$f":"ROUNDUP(INDEX(BasePrices[],MATCH(R18&\" Sensor Cartridge\",BasePrices[Type],0),MATCH($M$1,BasePrices[#Headers],0))*$X$15,0)","v":413}]
["Q4",null,null,"Multi 4-sensor","=",{"v":994,"d":"$ 994"},{"$nulls":11},4,{"$f":"INDEX(BasePrices[],MATCH(\"G8 Purchase Base Price\",BasePrices[Type],0),MATCH($M$1,BasePrices[#Headers],0))+INDEX(BasePrices[],MATCH(R19&\" Sensor Cartridge\",BasePrices[Type],0),MATCH($M$1,BasePrices[#Headers],0))*2","v":994},{"$f":"INDEX(BasePrices[],MATCH(\"G7 Warranty Base Price\",BasePrices[Type],0),MATCH($M$1,BasePrices[#Headers],0))*MAX(0,LEFT($H$92,1)-2)+\nROUNDUP(INDEX(BasePrices[],MATCH(R19&\" Sensor Cartridge\",BasePrices[Type],0),MATCH($M$1,BasePrices[#Headers],0))*0.2777777,0)*MAX(0,LEFT($H$92,1)-2)","v":0},null,null,{"$f":"ROUNDUP(INDEX(BasePrices[],MATCH(R19&\" Sensor Cartridge\",BasePrices[Type],0),MATCH($M$1,BasePrices[#Headers],0))*$X$15,0)","v":500}]
["P1",null,null,"Multi 1-sensor pump","=",{"v":1104,"d":"$ 1,104"},{"$nulls":11},1,{"$f":"INDEX(BasePrices[],MATCH(\"G8 Purchase Base Price\",BasePrices[Type],0),MATCH($M$1,BasePrices[#Headers],0))+\nINDEX(BasePrices[],MATCH(R20&\" Sensor Cartridge\",BasePrices[Type],0),MATCH($M$1,BasePrices[#Headers],0))*2+\nINDEX(BasePrices[],MATCH(\"G7 Pump\",BasePrices[Type],0),MATCH($M$1,BasePrices[#Headers],0))*2","v":1104},{"$f":"INDEX(BasePrices[],MATCH(\"G7 Warranty Base Price\",BasePrices[Type],0),MATCH($M$1,BasePrices[#Headers],0))*MAX(0,LEFT($H$92,1)-2)+\nROUNDUP(INDEX(BasePrices[],MATCH(R20&\" Sensor Cartridge\",BasePrices[Type],0),MATCH($M$1,BasePrices[#Headers],0))*0.2777777+INDEX(BasePrices[],MATCH(\"G7 Pump\",BasePrices[Type],0),MATCH($M$1,BasePrices[#Headers],0))*0.2777777,0)*MAX(0,LEFT($H$92,1)-2)","v":0},null,null,{"$f":"ROUNDUP(INDEX(BasePrices[],MATCH(R20&\" Sensor Cartridge\",BasePrices[Type],0),MATCH($M$1,BasePrices[#Headers],0))*$X$15,0)+\nROUNDUP(INDEX(BasePrices[],MATCH(\"G7 Pump\",BasePrices[Type],0),MATCH($M$1,BasePrices[#Headers],0))*$X$15,0)","v":638}]
["P2",null,null,"Multi 2-sensor pump","=",{"v":1210,"d":"$ 1,210"},{"$nulls":11},2,{"$f":"INDEX(BasePrices[],MATCH(\"G8 Purchase Base Price\",BasePrices[Type],0),MATCH($M$1,BasePrices[#Headers],0))+\nINDEX(BasePrices[],MATCH(R21&\" Sensor Cartridge\",BasePrices[Type],0),MATCH($M$1,BasePrices[#Headers],0))*2+\nINDEX(BasePrices[],MATCH(\"G7 Pump\",BasePrices[Type],0),MATCH($M$1,BasePrices[#Headers],0))*2","v":1210},{"$f":"INDEX(BasePrices[],MATCH(\"G7 Warranty Base Price\",BasePrices[Type],0),MATCH($M$1,BasePrices[#Headers],0))*MAX(0,LEFT($H$92,1)-2)+\nROUNDUP(INDEX(BasePrices[],MATCH(R21&\" Sensor Cartridge\",BasePrices[Type],0),MATCH($M$1,BasePrices[#Headers],0))*0.2777777+INDEX(BasePrices[],MATCH(\"G7 Pump\",BasePrices[Type],0),MATCH($M$1,BasePrices[#Headers],0))*0.2777777,0)*MAX(0,LEFT($H$92,1)-2)","v":0},null,null,{"$f":"ROUNDUP(INDEX(BasePrices[],MATCH(R21&\" Sensor Cartridge\",BasePrices[Type],0),MATCH($M$1,BasePrices[#Headers],0))*$X$15,0)+\nROUNDUP(INDEX(BasePrices[],MATCH(\"G7 Pump\",BasePrices[Type],0),MATCH($M$1,BasePrices[#Headers],0))*$X$15,0)","v":770}]
["P3",null,null,"Multi 3-sensor pump","=",{"v":1288,"d":"$ 1,288"},{"$nulls":11},3,{"$f":"INDEX(BasePrices[],MATCH(\"G8 Purchase Base Price\",BasePrices[Type],0),MATCH($M$1,BasePrices[#Headers],0))+\nINDEX(BasePrices[],MATCH(R22&\" Sensor Cartridge\",BasePrices[Type],0),MATCH($M$1,BasePrices[#Headers],0))*2+\nINDEX(BasePrices[],MATCH(\"G7 Pump\",BasePrices[Type],0),MATCH($M$1,BasePrices[#Headers],0))*2","v":1288},{"$f":"INDEX(BasePrices[],MATCH(\"G7 Warranty Base Price\",BasePrices[Type],0),MATCH($M$1,BasePrices[#Headers],0))*MAX(0,LEFT($H$92,1)-2)+\nROUNDUP(INDEX(BasePrices[],MATCH(R22&\" Sensor Cartridge\",BasePrices[Type],0),MATCH($M$1,BasePrices[#Headers],0))*0.2777777+INDEX(BasePrices[],MATCH(\"G7 Pump\",BasePrices[Type],0),MATCH($M$1,BasePrices[#Headers],0))*0.2777777,0)*MAX(0,LEFT($H$92,1)-2)","v":0},null,null,{"$f":"ROUNDUP(INDEX(BasePrices[],MATCH(R22&\" Sensor Cartridge\",BasePrices[Type],0),MATCH($M$1,BasePrices[#Headers],0))*$X$15,0)+\nROUNDUP(INDEX(BasePrices[],MATCH(\"G7 Pump\",BasePrices[Type],0),MATCH($M$1,BasePrices[#Headers],0))*$X$15,0)","v":868}]
["P4",null,null,"Multi 4-sensor pump","=",{"v":1358,"d":"$ 1,358"},{"$nulls":11},4,{"$f":"INDEX(BasePrices[],MATCH(\"G8 Purchase Base Price\",BasePrices[Type],0),MATCH($M$1,BasePrices[#Headers],0))+\nINDEX(BasePrices[],MATCH(R23&\" Sensor Cartridge\",BasePrices[Type],0),MATCH($M$1,BasePrices[#Headers],0))*2+\nINDEX(BasePrices[],MATCH(\"G7 Pump\",BasePrices[Type],0),MATCH($M$1,BasePrices[#Headers],0))*2","v":1358},{"$f":"INDEX(BasePrices[],MATCH(\"G7 Warranty Base Price\",BasePrices[Type],0),MATCH($M$1,BasePrices[#Headers],0))*MAX(0,LEFT($H$92,1)-2)+\nROUNDUP(INDEX(BasePrices[],MATCH(R23&\" Sensor Cartridge\",BasePrices[Type],0),MATCH($M$1,BasePrices[#Headers],0))*0.2777777+INDEX(BasePrices[],MATCH(\"G7 Pump\",BasePrices[Type],0),MATCH($M$1,BasePrices[#Headers],0))*0.2777777,0)*MAX(0,LEFT($H$92,1)-2)","v":0},null,null,{"$f":"ROUNDUP(INDEX(BasePrices[],MATCH(R23&\" Sensor Cartridge\",BasePrices[Type],0),MATCH($M$1,BasePrices[#Headers],0))*$X$15,0)+\nROUNDUP(INDEX(BasePrices[],MATCH(\"G7 Pump\",BasePrices[Type],0),MATCH($M$1,BasePrices[#Headers],0))*$X$15,0)","v":955}]
[{"$nulls":11},"+",{"$nulls":7},{"$f":"VLOOKUP(P39,A16:T23,20,FALSE)","v":0}]
[null,"Connectivity"]
[null,"Cellular","è","C",{"$nulls":3},"C"]
[{"$nulls":7},"-"]
[null,"SIM Card"]
[null,"Standard (Telenor)","è","01",{"$nulls":3},{"$f":"D29","v":"01"}]
[{"$nulls":7},"-"]
[null,"Country Code"]
[null,{"$f":"_xlfn.VSTACK(O32:O34)","v":"North America (4G/LTE) - G8C"},{"$f":"IF(B32=\"\",\"\",\"è\")","v":"è"},{"$f":"IFERROR(_xlfn.VSTACK(P32:P34),\"\")","v":"NA2"},{"$nulls":3},"NA2",{"$nulls":6},{"$f":"_xlfn.LET(\n_xlpm.Dtype,G8CountryCodes[Type],_xlpm.Curr,G8CountryCodes[Currency],_xlpm.SType,H26,_xlpm.SCurr,M1,\n_xlpm.myCalculation,_xlfn.VSTACK(_xlfn._xlws.FILTER(G8CountryCodes[],(_xlpm.Dtype=_xlpm.SType)*(_xlpm.Curr=_xlpm.SCurr))),_xlpm.myCalculation)","v":"North America (4G/LTE) - G8C"},"NA2","C","USD"]
[null,"Outside of North America (4G/LTE) - G8C",{"$f":"IF(B33=0,\"\",\"è\")","v":"è"},"EU2",{"$nulls":10},"Outside of North America (4G/LTE) - G8C","EU2","C","USD"]
[null,0,{"$f":"IF(B34=0,\"\",\"è\")","v":""},0]
[{"$nulls":7},"-",{"$nulls":6},{"$f":"H41","v":"F"},{"$f":"_xlfn._xlws.SORT(O35:O38)","v":"F"},{"$f":"IF(P35=\"X\",1,0)","v":0}]
[null,"Cartridge Type",{"$nulls":12},{"$f":"H46","v":"H"},"H",{"$f":"IF(P36=\"X\",1,0)","v":0}]
[null,"Diffusion","è","Q",{"$nulls":3},"Q",{"$nulls":6},{"$f":"H67","v":"M"},"M",{"$f":"IF(P37=\"X\",1,0)","v":0}]
[null,"Pump","è","P",{"$nulls":10},{"$f":"H88","v":"O"},"O",{"$f":"IF(P38=\"X\",1,0)","v":0}]
[{"$nulls":7},"-",{"$nulls":7},{"$f":"H37&Q39","v":"Q4"},{"$f":"4-SUM(Q35:Q38)","v":4}]
[null,"Combustible Sensor",{"$nulls":16},"Price",{"$nulls":4},{"$f":"IFERROR(ROUNDUP(INDEX(SensorPricing[],MATCH(P35,SensorPricing[Sensor],0),MATCH($M$1,SensorPricing[#Headers],0))*$X$15,0),\"\")","v":0}]
[null,{"$f":"_xlfn.CHOOSECOLS(_xlfn.VSTACK(_xlfn.ANCHORARRAY(O41)),1)","v":"LEL-IR"},{"$f":"IF(B41=0,\"\",\"è\")","v":"è"},{"$f":"_xlfn.CHOOSECOLS(_xlfn.VSTACK(_xlfn.ANCHORARRAY(O41)),2)","v":"I"},{"$f":"IF(B41=0,\"\",\"=\")","v":"="},{"$f":"IFERROR(S41,\"\")","v":{"v":120,"d":"$ 120"}},null,"F",null,{"$f":"CONCATENATE(P35,P36,P37,P38)","v":"FHMO"},null,{"$f":"VLOOKUP(H41,D41:F43,3,FALSE)","v":{"v":0,"d":"$ 0"}},null,null,{"$f":"_xlfn.LET(\n_xlpm.Dtype,CombSensors[Type1],_xlpm.Curr,CombSensors[Currency],_xlpm.Stype,H37&1,_xlpm.SCurr,M1,\n_xlpm.myCalculation,_xlfn.VSTACK(_xlfn._xlws.FILTER(CombSensors[],(_xlpm.Dtype=_xlpm.Stype)*(_xlpm.Curr=_xlpm.SCurr))),_xlpm.myCalculation)","v":"LEL-IR"},"I","Q1","USD",{"$f":"INDEX(SensorPricing[],MATCH(D41,SensorPricing[Sensor],0),MATCH($M$1,SensorPricing[#Headers],0))*2","v":120},{"$f":"ROUNDUP(INDEX(SensorPricing[],MATCH(H41,SensorPricing[Sensor],0),MATCH($M$1,SensorPricing[#Headers],0))*0.2777777,0)*MAX(0,LEFT($H$92,1)-2)","v":0},{"$nulls":3},{"$f":"IFERROR(ROUNDUP(INDEX(SensorPricing[],MATCH(P36,SensorPricing[Sensor],0),MATCH($M$1,SensorPricing[#Headers],0))*$X$15,0),\"\")","v":0}]
[null,"LEL-MPS","è","F","=",{"$f":"IFERROR(S42,\"\")","v":{"v":0,"d":"$ 0"}},{"$nulls":8},"LEL-MPS","F","Q1","USD",{"$f":"INDEX(SensorPricing[],MATCH(D42,SensorPricing[Sensor],0),MATCH($M$1,SensorPricing[#Headers],0))*2","v":0},{"$nulls":4},{"$f":"IFERROR(ROUNDUP(INDEX(SensorPricing[],MATCH(P37,SensorPricing[Sensor],0),MATCH($M$1,SensorPricing[#Headers],0))*$X$15,0),\"\")","v":0}]
[null,"None","è","X","=",{"v":0,"d":"$ 0"},{"$nulls":8},"None","X","Q1","USD",{"$f":"INDEX(SensorPricing[],MATCH(D43,SensorPricing[Sensor],0),MATCH($M$1,SensorPricing[#Headers],0))*2","v":0},{"$nulls":4},{"$f":"IFERROR(ROUNDUP(INDEX(SensorPricing[],MATCH(P38,SensorPricing[Sensor],0),MATCH($M$1,SensorPricing[#Headers],0))*$X$15,0),\"\")","v":0}]
[{"$nulls":11},"+",{"$nulls":11},{"$f":"IFERROR(ROUNDUP(INDEX(SensorPricing[],MATCH(P39,SensorPricing[Sensor],0),MATCH($M$1,SensorPricing[#Headers],0))*$X$15,0),\"\")","v":""}]
[null,"Toxic Sensor #1"]
[null,{"$f":"_xlfn.VSTACK(O46:O64)","v":"HF"},{"$f":"IF(B46=0,\"\",\"è\")","v":"è"},{"$f":"_xlfn.VSTACK(P46:P64)","v":"2"},{"$f":"IF(B46=0,\"\",\"=\")","v":"="},{"$f":"IFERROR(S46,\"\")","v":{"v":840,"d":"$ 840"}},null,"H",{"$nulls":3},{"$f":"VLOOKUP(H46,D46:F64,3,FALSE)","v":{"v":0,"d":"$ 0"}},null,null,{"$f":"_xlfn.LET(\n_xlpm.Dtype,G7Sensors[Type1],_xlpm.Curr,G7Sensors[Currency],_xlpm.Stype,H37&1,_xlpm.SCurr,M1,\n_xlpm.myCalculation,_xlfn.VSTACK(_xlfn._xlws.FILTER(G7Sensors[],(_xlpm.Dtype=_xlpm.Stype)*(_xlpm.Curr=_xlpm.SCurr))),_xlpm.myCalculation)","v":"HF"},"2","Q1","USD",{"$f":"INDEX(SensorPricing[],MATCH(D46,SensorPricing[Sensor],0),MATCH($M$1,SensorPricing[#Headers],0))*2","v":840},{"$f":"ROUNDUP(INDEX(SensorPricing[],MATCH(H46,SensorPricing[Sensor],0),MATCH($M$1,SensorPricing[#Headers],0))*0.2777777,0)*MAX(0,LEFT($H$92,1)-2)","v":0}]
[null,"NH3","è","A","=",{"v":120,"d":"$ 120"},{"$nulls":8},"NH3","A","Q1","USD",{"$f":"INDEX(SensorPricing[],MATCH(D47,SensorPricing[Sensor],0),MATCH($M$1,SensorPricing[#Headers],0))*2","v":120}]
[null,"High-range NH3 ","è","B","=",{"v":252,"d":"$ 252"},{"$nulls":8},"High-range NH3 ","B","Q1","USD",{"$f":"INDEX(SensorPricing[],MATCH(D48,SensorPricing[Sensor],0),MATCH($M$1,SensorPricing[#Headers],0))*2","v":252}]
[null,"CO2","è","C","=",{"v":480,"d":"$ 480"},{"$nulls":8},"CO2","C","Q1","USD",{"$f":"INDEX(SensorPricing[],MATCH(D49,SensorPricing[Sensor],0),MATCH($M$1,SensorPricing[#Headers],0))*2","v":480}]
[null,"O3","è","E","=",{"v":240,"d":"$ 240"},{"$nulls":8},"O3","E","Q1","USD",{"$f":"INDEX(SensorPricing[],MATCH(D50,SensorPricing[Sensor],0),MATCH($M$1,SensorPricing[#Headers],0))*2","v":240}]
[null,"H2S","è","H","=",{"v":0,"d":"$ 0"},{"$nulls":8},"H2S","H","Q1","USD",{"$f":"INDEX(SensorPricing[],MATCH(D51,SensorPricing[Sensor],0),MATCH($M$1,SensorPricing[#Headers],0))*2","v":0}]
[null,"High-range H2S ","è","J","=",{"v":240,"d":"$ 240"},{"$nulls":8},"High-range H2S ","J","Q1","USD",{"$f":"INDEX(SensorPricing[],MATCH(D52,SensorPricing[Sensor],0),MATCH($M$1,SensorPricing[#Headers],0))*2","v":240}]
[null,"NO2 ","è","K","=",{"v":120,"d":"$ 120"},{"$nulls":8},"NO2 ","K","Q1","USD",{"$f":"INDEX(SensorPricing[],MATCH(D53,SensorPricing[Sensor],0),MATCH($M$1,SensorPricing[#Headers],0))*2","v":120}]
[null,"Cl2","è","L","=",{"v":120,"d":"$ 120"},{"$nulls":8},"Cl2","L","Q1","USD",{"$f":"INDEX(SensorPricing[],MATCH(D54,SensorPricing[Sensor],0),MATCH($M$1,SensorPricing[#Headers],0))*2","v":120}]
[null,"CO ","è","M","=",{"v":0,"d":"$ 0"},{"$nulls":8},"CO ","M","Q1","USD",{"$f":"INDEX(SensorPricing[],MATCH(D55,SensorPricing[Sensor],0),MATCH($M$1,SensorPricing[#Headers],0))*2","v":0}]
[null,"HCN","è","N","=",{"v":120,"d":"$ 120"},{"$nulls":8},"HCN","N","Q1","USD",{"$f":"INDEX(SensorPricing[],MATCH(D56,SensorPricing[Sensor],0),MATCH($M$1,SensorPricing[#Headers],0))*2","v":120}]
[null,"CO-H ","è","R","=",{"v":0,"d":"$ 0"},{"$nulls":8},"CO-H ","R","Q1","USD",{"$f":"INDEX(SensorPricing[],MATCH(D57,SensorPricing[Sensor],0),MATCH($M$1,SensorPricing[#Headers],0))*2","v":0}]
[null,"SO2","è","S","=",{"v":0,"d":"$ 0"},{"$nulls":8},"SO2","S","Q1","USD",{"$f":"INDEX(SensorPricing[],MATCH(D58,SensorPricing[Sensor],0),MATCH($M$1,SensorPricing[#Headers],0))*2","v":0}]
[null,"High-range CO ","è","T","=",{"v":240,"d":"$ 240"},{"$nulls":8},"High-range CO ","T","Q1","USD",{"$f":"INDEX(SensorPricing[],MATCH(D59,SensorPricing[Sensor],0),MATCH($M$1,SensorPricing[#Headers],0))*2","v":240}]
[null,"PID","è","V","=",{"v":966,"d":"$ 966"},{"$nulls":8},"PID","V","Q1","USD",{"$f":"INDEX(SensorPricing[],MATCH(D60,SensorPricing[Sensor],0),MATCH($M$1,SensorPricing[#Headers],0))*2","v":966}]
[null,"ClO2","è","W","=",{"v":120,"d":"$ 120"},{"$nulls":8},"ClO2","W","Q1","USD",{"$f":"INDEX(SensorPricing[],MATCH(D61,SensorPricing[Sensor],0),MATCH($M$1,SensorPricing[#Headers],0))*2","v":120}]
[null,"No Sensor ","è","X","=",{"v":0,"d":"$ 0"},{"$nulls":8},"No Sensor ","X","Q1","USD",{"$f":"INDEX(SensorPricing[],MATCH(D62,SensorPricing[Sensor],0),MATCH($M$1,SensorPricing[#Headers],0))*2","v":0}]
[null,0,{"$f":"IF(B63=0,\"\",\"è\")","v":""},0,{"$f":"IF(B63=0,\"\",\"=\")","v":""},"",{"$nulls":12},{"$f":"INDEX(SensorPricing[],MATCH(D63,SensorPricing[Sensor],0),MATCH($M$1,SensorPricing[#Headers],0))*2","v":{"$error":"#N/A"}}]
[null,0,{"$f":"IF(B64=0,\"\",\"è\")","v":""},0,{"$f":"IF(B64=0,\"\",\"=\")","v":""},"",{"$nulls":12},{"$f":"INDEX(SensorPricing[],MATCH(D64,SensorPricing[Sensor],0),MATCH($M$1,SensorPricing[#Headers],0))*2","v":{"$error":"#N/A"}}]
[{"$nulls":11},"+"]
[null,"Toxic Sensor #2"]
[null,{"$f":"_xlfn.VSTACK(O67:O85)","v":"HF"},{"$f":"IF(B67=0,\"\",\"è\")","v":"è"},{"$f":"_xlfn.VSTACK(P67:P85)","v":"2"},{"$f":"IF(B67=0,\"\",\"=\")","v":"="},{"$f":"IFERROR(S67,\"\")","v":{"v":840,"d":"$ 840"}},null,"M",{"$nulls":3},{"$f":"VLOOKUP(H67,D67:F85,3,FALSE)","v":{"v":0,"d":"$ 0"}},null,null,{"$f":"_xlfn.LET(\n_xlpm.Dtype,G7Sensors[Type1],_xlpm.Curr,G7Sensors[Currency],_xlpm.Stype,H37&2,_xlpm.SCurr,M1,\n_xlpm.myCalculation,_xlfn.VSTACK(_xlfn._xlws.FILTER(G7Sensors[],(_xlpm.Dtype=_xlpm.Stype)*(_xlpm.Curr=_xlpm.SCurr))),_xlpm.myCalculation)","v":"HF"},"2","Q2","USD",{"$f":"INDEX(SensorPricing[],MATCH(D67,SensorPricing[Sensor],0),MATCH($M$1,SensorPricing[#Headers],0))*2","v":840},{"$f":"ROUNDUP(INDEX(SensorPricing[],MATCH(H67,SensorPricing[Sensor],0),MATCH($M$1,SensorPricing[#Headers],0))*0.2777777,0)*MAX(0,LEFT($H$92,1)-2)","v":0}]
[null,"NH3","è","A","=",{"v":120,"d":"$ 120"},{"$nulls":8},"NH3","A","Q2","USD",{"$f":"INDEX(SensorPricing[],MATCH(D68,SensorPricing[Sensor],0),MATCH($M$1,SensorPricing[#Headers],0))*2","v":120}]
[null,"High-range NH3 ","è","B","=",{"v":252,"d":"$ 252"},{"$nulls":8},"High-range NH3 ","B","Q2","USD",{"$f":"INDEX(SensorPricing[],MATCH(D69,SensorPricing[Sensor],0),MATCH($M$1,SensorPricing[#Headers],0))*2","v":252}]
[null,"COSH","è","D","=",{"v":120,"d":"$ 120"},{"$nulls":8},"COSH","D","Q2","USD",{"$f":"INDEX(SensorPricing[],MATCH(D70,SensorPricing[Sensor],0),MATCH($M$1,SensorPricing[#Headers],0))*2","v":120}]
[null,"O3","è","E","=",{"v":240,"d":"$ 240"},{"$nulls":8},"O3","E","Q2","USD",{"$f":"INDEX(SensorPricing[],MATCH(D71,SensorPricing[Sensor],0),MATCH($M$1,SensorPricing[#Headers],0))*2","v":240}]
[null,"H2S","è","H","=",{"v":0,"d":"$ 0"},{"$nulls":8},"H2S","H","Q2","USD",{"$f":"INDEX(SensorPricing[],MATCH(D72,SensorPricing[Sensor],0),MATCH($M$1,SensorPricing[#Headers],0))*2","v":0}]
[null,"High-range H2S ","è","J","=",{"v":240,"d":"$ 240"},{"$nulls":8},"High-range H2S ","J","Q2","USD",{"$f":"INDEX(SensorPricing[],MATCH(D73,SensorPricing[Sensor],0),MATCH($M$1,SensorPricing[#Headers],0))*2","v":240}]
[null,"NO2 ","è","K","=",{"v":120,"d":"$ 120"},{"$nulls":8},"NO2 ","K","Q2","USD",{"$f":"INDEX(SensorPricing[],MATCH(D74,SensorPricing[Sensor],0),MATCH($M$1,SensorPricing[#Headers],0))*2","v":120}]
[null,"Cl2","è","L","=",{"v":120,"d":"$ 120"},{"$nulls":8},"Cl2","L","Q2","USD",{"$f":"INDEX(SensorPricing[],MATCH(D75,SensorPricing[Sensor],0),MATCH($M$1,SensorPricing[#Headers],0))*2","v":120}]
[null,"CO ","è","M","=",{"v":0,"d":"$ 0"},{"$nulls":8},"CO ","M","Q2","USD",{"$f":"INDEX(SensorPricing[],MATCH(D76,SensorPricing[Sensor],0),MATCH($M$1,SensorPricing[#Headers],0))*2","v":0}]
[null,"HCN","è","N","=",{"v":120,"d":"$ 120"},{"$nulls":8},"HCN","N","Q2","USD",{"$f":"INDEX(SensorPricing[],MATCH(D77,SensorPricing[Sensor],0),MATCH($M$1,SensorPricing[#Headers],0))*2","v":120}]
[null,"CO-H ","è","R","=",{"v":0,"d":"$ 0"},{"$nulls":8},"CO-H ","R","Q2","USD",{"$f":"INDEX(SensorPricing[],MATCH(D78,SensorPricing[Sensor],0),MATCH($M$1,SensorPricing[#Headers],0))*2","v":0}]
[null,"SO2","è","S","=",{"v":0,"d":"$ 0"},{"$nulls":8},"SO2","S","Q2","USD",{"$f":"INDEX(SensorPricing[],MATCH(D79,SensorPricing[Sensor],0),MATCH($M$1,SensorPricing[#Headers],0))*2","v":0}]
[null,"High-range CO ","è","T","=",{"v":240,"d":"$ 240"},{"$nulls":8},"High-range CO ","T","Q2","USD",{"$f":"INDEX(SensorPricing[],MATCH(D80,SensorPricing[Sensor],0),MATCH($M$1,SensorPricing[#Headers],0))*2","v":240}]
[null,"ClO2","è","W","=",{"v":120,"d":"$ 120"},{"$nulls":8},"ClO2","W","Q2","USD",{"$f":"INDEX(SensorPricing[],MATCH(D81,SensorPricing[Sensor],0),MATCH($M$1,SensorPricing[#Headers],0))*2","v":120}]
[null,"No Sensor ","è","X","=",{"v":0,"d":"$ 0"},{"$nulls":8},"No Sensor ","X","Q2","USD",{"$f":"INDEX(SensorPricing[],MATCH(D82,SensorPricing[Sensor],0),MATCH($M$1,SensorPricing[#Headers],0))*2","v":0}]
[null,0,"",0,"","",{"$nulls":12},{"$f":"INDEX(SensorPricing[],MATCH(D83,SensorPricing[Sensor],0),MATCH($M$1,SensorPricing[#Headers],0))*2","v":{"$error":"#N/A"}}]
[null,0,"",0,"","",{"$nulls":12},{"$f":"INDEX(SensorPricing[],MATCH(D84,SensorPricing[Sensor],0),MATCH($M$1,SensorPricing[#Headers],0))*2","v":{"$error":"#N/A"}}]
[null,0,"",0,"","",{"$nulls":12},{"$f":"INDEX(SensorPricing[],MATCH(D85,SensorPricing[Sensor],0),MATCH($M$1,SensorPricing[#Headers],0))*2","v":{"$error":"#N/A"}}]
[{"$nulls":11},"+"]
[null,"Oxygen Sensor"]
[null,{"$f":"_xlfn.VSTACK(O88:O89)","v":"O2"},{"$f":"IF(B88=0,\"\",\"è\")","v":"è"},{"$f":"_xlfn.VSTACK(P88:P89)","v":"O"},{"$f":"IF(B88=0,\"\",\"=\")","v":"="},{"$f":"IFERROR(S88,\"\")","v":{"v":0,"d":"$ 0"}},null,"O",{"$nulls":3},{"$f":"VLOOKUP(H88,D88:F89,3,FALSE)","v":{"v":0,"d":"$ 0"}},null,null,{"$f":"_xlfn._xlws.FILTER(_xlfn._xlws.FILTER(Oxygen[],Oxygen[Type]=H41),{1,1,0})","v":"O2"},"O",null,null,{"$f":"INDEX(SensorPricing[],MATCH(D88,SensorPricing[Sensor],0),MATCH($M$1,SensorPricing[#Headers],0))*2","v":0},{"$f":"ROUNDUP(INDEX(SensorPricing[],MATCH(H88,SensorPricing[Sensor],0),MATCH($M$1,SensorPricing[#Headers],0))*0.2777777,0)*MAX(0,LEFT($H$92,1)-2)","v":0}]
[null,0,"",0,"","",{"$nulls":12},{"$f":"INDEX(SensorPricing[],MATCH(D89,SensorPricing[Sensor],0),MATCH($M$1,SensorPricing[#Headers],0))*2","v":{"$error":"#N/A"}}]
[{"$nulls":7},"-",{"$nulls":3},"+"]
[null,"Warranty Term"]
[null,{"$f":"_xlfn.VSTACK(O92:O95)","v":"2-Years"},"è",{"$f":"_xlfn.VSTACK(P92:P95)","v":"2Y"},{"$nulls":3},"2Y",{"$nulls":3},{"$f":"S92","v":{"v":0,"d":"$ 0"}},null,null,{"$f":"_xlfn.VSTACK(G8PurWarr[])","v":"2-Years"},"2Y","2Y",null,{"$f":"SUM(T24:T88)","v":0}]
[null,"3-Years","è","3Y",{"$nulls":10},"3-Years","3Y","3Y"]
[null,"4-Years","è","4Y",{"$nulls":10},"4-Years","4Y","4Y"]
[null,"5-Years","è","5Y",{"$nulls":10},"5-Years","5Y","5Y"]
[]
[null,"Service (Annually)"]
[null,"Service Plan"]
[null,{"$f":"_xlfn.VSTACK(O99:O101)","v":"Standard"},{"$f":"IF(B99=0,\"\",\"è\")","v":"è"},{"$f":"_xlfn.VSTACK(P99:P101)","v":"S"},{"$f":"IF(B99=0,\"\",\"=\")","v":"="},{"$f":"IFERROR(S99,\"\")","v":{"v":204,"d":"$ 204"}},null,"S",{"$nulls":3},{"$f":"VLOOKUP(H99,D99:F101,3,FALSE)","v":{"v":204,"d":"$ 204"}},null,null,{"$f":"_xlfn.VSTACK(G8ServicePlans[])","v":"Standard"},"S",null,null,{"$f":"INDEX(G8ServicePrices[],MATCH(D99,G8ServicePrices[Code],0),MATCH($M$1,G8ServicePrices[#Headers],0))*AnnualMonths","v":204}]
[null,"Pro","è","K","=",{"v":384,"d":"$ 384"},{"$nulls":8},"Pro","K",null,null,{"$f":"INDEX(G8ServicePrices[],MATCH(D100,G8ServicePrices[Code],0),MATCH($M$1,G8ServicePrices[#Headers],0))*AnnualMonths","v":384}]
[null,0,"",0,"","",{"$nulls":12},{"$f":"INDEX(G8ServicePrices[],MATCH(D101,G8ServicePrices[Code],0),MATCH($M$1,G8ServicePrices[#Headers],0))*AnnualMonths","v":{"$error":"#N/A"}}]
[{"$nulls":11},"+"]
[null,"Monitoring Services"]
[null,{"$f":"_xlfn.VSTACK(O104:O106)","v":"None"},{"$f":"IF(B104=0,\"\",\"è\")","v":"è"},{"$f":"_xlfn.VSTACK(P104:P106)","v":"X"},{"$f":"IF(B104=0,\"\",\"=\")","v":"="},{"$f":"IFERROR(S104,\"\")","v":{"v":0,"d":"$ 0"}},null,"X",{"$nulls":3},{"$f":"VLOOKUP(H104,D104:F106,3,FALSE)","v":{"v":0,"d":"$ 0"}},null,null,{"$f":"_xlfn._xlws.FILTER(_xlfn._xlws.FILTER(G8Monitoring[],G8Monitoring[Type]=ServicePlans),{1,1,0})","v":"None"},"X",null,null,{"$f":"IF(P104=\"X\",0,INDEX(G8ServicePrices[],MATCH(D104,G8ServicePrices[Code],0),MATCH($M$1,G8ServicePrices[#Headers],0))*AnnualMonths)","v":0}]
[null,0,"",0,"",{"$f":"IFERROR(S105,\"\")","v":""},{"$nulls":12},{"$f":"IF(P105=\"X\",0,INDEX(G8ServicePrices[],MATCH(D105,G8ServicePrices[Code],0),MATCH($M$1,G8ServicePrices[#Headers],0))*AnnualMonths)","v":{"$error":"#N/A"}}]
[null,0,"",0,"",{"$f":"IFERROR(S106,\"\")","v":""},{"$nulls":12},{"$f":"IF(P106=\"X\",0,INDEX(G8ServicePrices[],MATCH(D106,G8ServicePrices[Code],0),MATCH($M$1,G8ServicePrices[#Headers],0))*AnnualMonths)","v":{"$error":"#N/A"}}]
[{"$nulls":11},"+"]
[null,"Voice"]
[null,{"$f":"_xlfn.VSTACK(O109:O110)","v":"None"},{"$f":"IF(B109=0,\"\",\"è\")","v":"è"},{"$f":"_xlfn.VSTACK(P109:P110)","v":"X"},{"$f":"IF(B109=0,\"\",\"=\")","v":"="},{"$f":"IFERROR(S109,\"\")","v":{"v":0,"d":"$ 0"}},null,"X",{"$nulls":3},{"$f":"VLOOKUP(H109,D109:F110,3,FALSE)","v":{"v":0,"d":"$ 0"}},null,null,{"$f":"_xlfn._xlws.FILTER(_xlfn._xlws.FILTER(G8Voice[],G8Voice[Type]=ServicePlans),{1,1,0})","v":"None"},"X",null,null,{"$f":"IF(P109=\"X\",0,INDEX(G8ServicePrices[],MATCH(D109,G8ServicePrices[Code],0),MATCH($M$1,G8ServicePrices[#Headers],0))*AnnualMonths)","v":0}]
[null,0,"",0,"",{"$f":"IFERROR(S110,\"\")","v":""},{"$nulls":12},{"$f":"IF(P110=\"X\",0,INDEX(G8ServicePrices[],MATCH(D110,G8ServicePrices[Code],0),MATCH($M$1,G8ServicePrices[#Headers],0))*AnnualMonths)","v":{"$error":"#N/A"}}]
[{"$nulls":11},"+"]
[null,"Push-to-Talk"]
[null,{"$f":"_xlfn.VSTACK(O113:O114)","v":"None"},{"$f":"IF(B113=0,\"\",\"è\")","v":"è"},{"$f":"_xlfn.VSTACK(P113:P114)","v":"X"},{"$f":"IF(B113=0,\"\",\"=\")","v":"="},{"$f":"IFERROR(S113,\"\")","v":{"v":0,"d":"$ 0"}},null,"X",{"$nulls":3},{"$f":"VLOOKUP(H113,D113:F114,3,FALSE)","v":{"v":0,"d":"$ 0"}},null,null,{"$f":"_xlfn._xlws.FILTER(_xlfn._xlws.FILTER(G8PTT[],G8PTT[Type]=ServicePlans),{1,1,0})","v":"None"},"X",null,null,{"$f":"IF(P113=\"X\",0,INDEX(G8ServicePrices[],MATCH(D113,G8ServicePrices[Code],0),MATCH($M$1,G8ServicePrices[#Headers],0))*AnnualMonths)","v":0}]
[null,"Included","è","P","=",{"$f":"IFERROR(S114,\"\")","v":{"v":228,"d":"$ 228"}},{"$nulls":8},"Included","P",null,null,{"$f":"IF(P114=\"X\",0,INDEX(G8ServicePrices[],MATCH(D114,G8ServicePrices[Code],0),MATCH($M$1,G8ServicePrices[#Headers],0))*AnnualMonths)","v":228}]
[{"$nulls":11},"+"]
[null,"Future Service Option"]
[null,{"$f":"_xlfn.VSTACK(O117:O118)","v":"None"},{"$f":"IF(B117=0,\"\",\"è\")","v":"è"},{"$f":"_xlfn.VSTACK(P117:P118)","v":"X"},{"$f":"IF(B117=0,\"\",\"=\")","v":"="},{"$f":"IFERROR(S117,\"\")","v":{"v":0,"d":"$ 0"}},null,"X",{"$nulls":3},{"$f":"VLOOKUP(H117,D117:F118,3,FALSE)","v":{"v":0,"d":"$ 0"}},null,null,{"$f":"_xlfn._xlws.FILTER(_xlfn._xlws.FILTER(G8TeamCalling[],G8TeamCalling[Type]=ServicePlans),{1,1,0})","v":"None"},"X",null,null,{"$f":"IF(P117=\"X\",0,INDEX(G8ServicePrices[],MATCH(D117,G8ServicePrices[Code],0),MATCH($M$1,G8ServicePrices[#Headers],0))*AnnualMonths)","v":0}]
[null,0,"",0,"",{"$f":"IFERROR(S118,\"\")","v":""},{"$nulls":12},{"$f":"IF(P118=\"X\",0,INDEX(G8ServicePrices[],MATCH(D118,G8ServicePrices[Code],0),MATCH($M$1,G8ServicePrices[#Headers],0))*AnnualMonths)","v":{"$error":"#N/A"}}]
[{"$nulls":7},"-"]
[null,"Term"]
[null,"One-Year","è","1Y",{"$nulls":3},"2Y",{"$nulls":10},12]
[null,"Two-Years","è","2Y",{"$nulls":14},{"$f":"LEFT(H121,1)","v":"2"}]
[null,"Three-Years","è","3Y"]
[null,"Four-Years","è","4Y"]
[null,"Five-Years","è","5Y"]

{"sheet":"G8 Lone Worker Blend","index":22,"n_rows":62,"n_cols":19,"rows_kept":62,"merged":[[1,1,1,7],[2,1,12,1],[7,7,7,9],[9,7,9,9],[11,7,11,9],[13,1,13,5],[14,7,15,9],[14,11,15,11],[17,1,17,5],[18,7,18,9],[19,7,20,9],[20,1,20,5],[21,7,21,9],[22,7,23,9],[23,1,23,5],[24,7,26,9],[29,1,29,5],[30,7,30,9],[31,7,32,9],[32,1,32,5],[33,7,35,9],[33,11,35,11],[36,11,37,11],[37,1,37,5],[38,7,40,9],[38,11,40,11],[41,11,42,11],[42,1,42,5],[43,7,44,9],[43,11,44,11],[45,11,46,11],[46,1,46,5],[47,7,48,9],[47,11,48,11],[49,11,50,11],[50,1,50,5],[51,7,52,9],[51,11,52,11],[53,7,54,9],[53,11,54,11],[53,12,54,12],[54,1,54,5],[55,7,59,9],[55,12,56,12]]}
[null,{"$error":"#VALUE!"},{"$nulls":10},{"$f":"Currency","v":"USD"},null,null,"G8 Lone Worker Blend"]
[null,"G8 Lone Worker Blend",{"$nulls":10},{"$f":"PBYear","v":2025},"Quick Links"]
[null,{"$error":"#VALUE!"},{"$nulls":10},{"$f":"Revision","v":"Effective February 2, 2026 Rev 2"},"Main Menu"]
[{"$nulls":12},"Blackline Safety Confidential","Accessories"]
[{"$nulls":12},"All prices are an estimate - for a formal quote contact your local Blackline Safety representative"]
[]
[]
[{"$nulls":5},"Hardware",null,{"$f":"CONCATENATE(H15,H19,H20,H22,H23,H25,\"-\",H31)","v":"G8C-01-NA2-Z"},{"$nulls":3},{"$f":"IFERROR(L15,\"Error\")","v":{"v":777,"d":"$ 777"}},{"$f":"M1&\" List\"","v":"USD List"}]
[]
[{"$nulls":5},"Cartridge + Service",null,{"$f":"CONCATENATE(\"SER-\",H15,H19,H32,H31,H32,ServicePlans,H39,H44,H48,H52,H54,H56)","v":"SER-G8C-Z-SXXXX-1Y"},{"$nulls":3},{"$f":"M54","v":{"v":204,"d":"$ 204"}},{"$f":"L10*S57","v":{"v":204,"d":"$ 204"}}]
[]
[{"$nulls":11},"Annual","Term"]
[]
[null,"Buying Option",{"$nulls":16},"Price"]
[null,"Blend","è","G8",{"$nulls":3},{"$f":"D15","v":"G8"},{"$nulls":3},{"$f":"F16","v":{"v":777,"d":"$ 777"}}]
[1,null,null,"Device","=",{"$f":"SUM(S16:T16)","v":{"v":777,"d":"$ 777"}},{"$nulls":11},1,{"$f":"INDEX(BasePrices[],MATCH(\"G8 Blend Base Price\",BasePrices[Type],0),MATCH($M$1,BasePrices[#Headers],0))","v":777}]
[]
[null,"Connectivity"]
[null,"Cellular","è","C",{"$nulls":3},"C"]
[{"$nulls":7},"-",{"$nulls":3},""]
[null,"SIM Card"]
[null,"Standard (Telenor)","è","01",{"$nulls":3},{"$f":"D22","v":"01"}]
[{"$nulls":7},"-"]
[null,"Country Code"]
[null,{"$f":"_xlfn.VSTACK(O25:O27)","v":"North America (4G/LTE) - G8C"},{"$f":"IF(B25=\"\",\"\",\"è\")","v":"è"},{"$f":"IFERROR(_xlfn.VSTACK(P25:P27),\"\")","v":"NA2"},{"$nulls":3},"NA2",{"$nulls":6},{"$f":"_xlfn.LET(\n_xlpm.Dtype,G8CountryCodes[Type],_xlpm.Curr,G8CountryCodes[Currency],_xlpm.SType,H19,_xlpm.SCurr,M1,\n_xlpm.myCalculation,_xlfn.VSTACK(_xlfn._xlws.FILTER(G8CountryCodes[],(_xlpm.Dtype=_xlpm.SType)*(_xlpm.Curr=_xlpm.SCurr))),_xlpm.myCalculation)","v":"North America (4G/LTE) - G8C"},"NA2","C","USD"]
[null,"Outside of North America (4G/LTE) - G8C",{"$f":"IF(B26=0,\"\",\"è\")","v":"è"},"EU2",{"$nulls":10},"Outside of North America (4G/LTE) - G8C","EU2","C","USD"]
[null,0,{"$f":"IF(B27=0,\"\",\"è\")","v":""},0]
[]
[null,"Cartridge + Service"]
[null,"Cartridge Type"]
[null,"Lone Worker","è","Z",{"$nulls":3},{"$f":"D31","v":"Z"}]
[{"$nulls":7},"-"]
[null,"Service Plan"]
[null,{"$f":"_xlfn.VSTACK(O34:O36)","v":"Standard"},{"$f":"IF(B34=0,\"\",\"è\")","v":"è"},{"$f":"_xlfn.VSTACK(P34:P36)","v":"S"},{"$f":"IF(B34=0,\"\",\"=\")","v":"="},{"$f":"IFERROR(S34,\"\")","v":{"v":204,"d":"$ 204"}},null,"S",{"$nulls":3},{"$f":"VLOOKUP(H34,D34:F36,3,FALSE)","v":{"v":204,"d":"$ 204"}},null,null,{"$f":"_xlfn.VSTACK(G8ServicePlans[])","v":"Standard"},"S",null,null,{"$f":"INDEX(G8ServicePrices[],MATCH(D34,G8ServicePrices[Code],0),MATCH($M$1,G8ServicePrices[#Headers],0))*PurhcaseTerm","v":204}]
[null,"Pro","è","K","=",{"v":384,"d":"$ 384"},{"$nulls":8},"Pro","K",null,null,{"$f":"INDEX(G8ServicePrices[],MATCH(D35,G8ServicePrices[Code],0),MATCH($M$1,G8ServicePrices[#Headers],0))*PurhcaseTerm","v":384}]
[null,0,"",0,"","",{"$nulls":12},{"$f":"INDEX(G8ServicePrices[],MATCH(D36,G8ServicePrices[Code],0),MATCH($M$1,G8ServicePrices[#Headers],0))*PurhcaseTerm","v":{"$error":"#N/A"}}]
[{"$nulls":11},"+"]
[null,"Monitoring Services"]
[null,{"$f":"_xlfn.VSTACK(O39:O41)","v":"None"},{"$f":"IF(B39=0,\"\",\"è\")","v":"è"},{"$f":"_xlfn.VSTACK(P39:P41)","v":"X"},{"$f":"IF(B39=0,\"\",\"=\")","v":"="},{"$f":"IFERROR(S39,\"\")","v":{"v":0,"d":"$ 0"}},null,"X",{"$nulls":3},{"$f":"VLOOKUP(H39,D39:F41,3,FALSE)","v":{"v":0,"d":"$ 0"}},null,null,{"$f":"_xlfn._xlws.FILTER(_xlfn._xlws.FILTER(G8Monitoring[],G8Monitoring[Type]=ServicePlans),{1,1,0})","v":"None"},"X",null,null,{"$f":"IF(P39=\"X\",0,INDEX(G8ServicePrices[],MATCH(D39,G8ServicePrices[Code],0),MATCH($M$1,G8ServicePrices[#Headers],0))*PurhcaseTerm)","v":0}]
[null,0,"",0,"",{"$f":"IFERROR(S40,\"\")","v":""},{"$nulls":12},{"$f":"IF(P40=\"X\",0,INDEX(G8ServicePrices[],MATCH(D40,G8ServicePrices[Code],0),MATCH($M$1,G8ServicePrices[#Headers],0))*PurhcaseTerm)","v":{"$error":"#N/A"}}]
[null,0,"",0,"",{"$f":"IFERROR(S41,\"\")","v":""},{"$nulls":12},{"$f":"IF(P41=\"X\",0,INDEX(G8ServicePrices[],MATCH(D41,G8ServicePrices[Code],0),MATCH($M$1,G8ServicePrices[#Headers],0))*PurhcaseTerm)","v":{"$error":"#N/A"}}]
[{"$nulls":11},"+"]
[null,"Voice"]
[null,{"$f":"_xlfn.VSTACK(O44:O45)","v":"None"},{"$f":"IF(B44=0,\"\",\"è\")","v":"è"},{"$f":"_xlfn.VSTACK(P44:P45)","v":"X"},{"$f":"IF(B44=0,\"\",\"=\")","v":"="},{"$f":"IFERROR(S44,\"\")","v":{"v":0,"d":"$ 0"}},null,"X",{"$nulls":3},{"$f":"VLOOKUP(H44,D44:F45,3,FALSE)","v":{"v":0,"d":"$ 0"}},null,null,{"$f":"_xlfn._xlws.FILTER(_xlfn._xlws.FILTER(G8Voice[],G8Voice[Type]=ServicePlans),{1,1,0})","v":"None"},"X",null,null,{"$f":"IF(P44=\"X\",0,INDEX(G8ServicePrices[],MATCH(D44,G8ServicePrices[Code],0),MATCH($M$1,G8ServicePrices[#Headers],0))*PurhcaseTerm)","v":0}]
[null,0,"",0,"",{"$f":"IFERROR(S45,\"\")","v":""},{"$nulls":12},{"$f":"IF(P45=\"X\",0,INDEX(G8ServicePrices[],MATCH(D45,G8ServicePrices[Code],0),MATCH($M$1,G8ServicePrices[#Headers],0))*PurhcaseTerm)","v":{"$error":"#N/A"}}]
[{"$nulls":11},"+"]
[null,"Push-to-Talk"]
[null,{"$f":"_xlfn.VSTACK(O48:O49)","v":"None"},{"$f":"IF(B48=0,\"\",\"è\")","v":"è"},{"$f":"_xlfn.VSTACK(P48:P49)","v":"X"},{"$f":"IF(B48=0,\"\",\"=\")","v":"="},{"$f":"IFERROR(S48,\"\")","v":{"v":0,"d":"$ 0"}},null,"X",{"$nulls":3},{"$f":"VLOOKUP(H48,D48:F49,3,FALSE)","v":{"v":0,"d":"$ 0"}},null,null,{"$f":"_xlfn._xlws.FILTER(_xlfn._xlws.FILTER(G8PTT[],G8PTT[Type]=ServicePlans),{1,1,0})","v":"None"},"X",null,null,{"$f":"IF(P48=\"X\",0,INDEX(G8ServicePrices[],MATCH(D48,G8ServicePrices[Code],0),MATCH($M$1,G8ServicePrices[#Headers],0))*PurhcaseTerm)","v":0}]
[null,"Included","è","P","=",{"$f":"IFERROR(S49,\"\")","v":{"v":228,"d":"$ 228"}},{"$nulls":8},"Included","P",null,null,{"$f":"IF(P49=\"X\",0,INDEX(G8ServicePrices[],MATCH(D49,G8ServicePrices[Code],0),MATCH($M$1,G8ServicePrices[#Headers],0))*PurhcaseTerm)","v":228}]
[{"$nulls":11},"+"]
[null,"Future Service Option"]
[null,{"$f":"_xlfn.VSTACK(O52:O53)","v":"None"},{"$f":"IF(B52=0,\"\",\"è\")","v":"è"},{"$f":"_xlfn.VSTACK(P52:P53)","v":"X"},{"$f":"IF(B52=0,\"\",\"=\")","v":"="},{"$f":"IFERROR(S52,\"\")","v":{"v":0,"d":"$ 0"}},null,"X",{"$nulls":3},{"$f":"VLOOKUP(H52,D52:F53,3,FALSE)","v":{"v":0,"d":"$ 0"}},null,null,{"$f":"_xlfn._xlws.FILTER(_xlfn._xlws.FILTER(G8TeamCalling[],G8TeamCalling[Type]=ServicePlans),{1,1,0})","v":"None"},"X",null,null,{"$f":"IF(P52=\"X\",0,INDEX(G8ServicePrices[],MATCH(D52,G8ServicePrices[Code],0),MATCH($M$1,G8ServicePrices[#Headers],0))*PurhcaseTerm)","v":0}]
[null,0,"",0,"",{"$f":"IFERROR(S53,\"\")","v":""},{"$nulls":12},{"$f":"IF(P53=\"X\",0,INDEX(G8ServicePrices[],MATCH(D53,G8ServicePrices[Code],0),MATCH($M$1,G8ServicePrices[#Headers],0))*PurhcaseTerm)","v":{"$error":"#N/A"}}]
[{"$nulls":7},"-",{"$nulls":3},"=",{"$f":"ROUND((L34+L39+L44+L48+L52)*INDEX(BlendDisc[],MATCH(H56,BlendDisc[Term],0),MATCH(\"Multiplier\",BlendDisc[#Headers],0)),0)","v":{"v":204,"d":"$ 204"}}]
[null,"Term"]
[null,"One-Year","è","1Y",{"$nulls":3},"1Y",{"$nulls":4},"Discounted Service",{"$nulls":5},12]
[null,"Two-Years","è","2Y",{"$nulls":14},{"$f":"LEFT(H56,1)","v":"1"}]
[null,"Three-Years","è","3Y"]
[null,"Four-Years","è","4Y"]
[null,"Five-Years","è","5Y"]
[null,"Term discounts are 2% for 2-years, 3% for 3-years, 4% for 4-years, and 5% for 5-years"]
[null,"Term discounts are applied to the individual sum of the cartridge and service"]

{"sheet":"G8 Single-Gas Blend","index":23,"n_rows":85,"n_cols":24,"rows_kept":85,"merged":[[1,1,1,7],[2,1,12,1],[7,7,7,9],[9,7,9,9],[11,7,11,9],[14,1,14,5],[15,7,16,9],[15,11,16,11],[18,1,18,5],[19,7,19,9],[20,7,21,9],[21,1,21,5],[22,7,22,9],[23,7,24,9],[24,1,24,5],[25,7,27,9],[28,7,30,9],[30,1,30,5],[31,7,31,9],[32,7,33,9],[32,11,33,11],[33,1,33,5],[34,7,52,9],[34,11,52,11],[53,11,54,11],[53,12,54,12],[55,1,55,5],[55,12,56,12],[56,7,58,9],[56,11,58,11],[59,11,60,11],[60,1,60,5],[61,7,63,9],[61,11,63,11],[64,11,65,11],[65,1,65,5],[66,7,67,9],[66,11,67,11],[68,11,69,11],[69,1,69,5],[70,7,71,9],[70,11,71,11],[72,11,73,11],[73,1,73,5],[74,7,75,9],[74,11,75,11],[76,7,77,9],[76,11,77,11],[76,12,77,12],[77,1,77,5],[78,7,82,9],[78,12,79,12]]}
[null,{"$error":"#VALUE!"},{"$nulls":10},{"$f":"Currency","v":"USD"},null,null,"G8 Single-Gas Blend"]
[null,"G8 Single-Gas Blend",{"$nulls":10},{"$f":"PBYear","v":2025},"Quick Links"]
[null,{"$error":"#VALUE!"},{"$nulls":10},{"$f":"Revision","v":"Effective February 2, 2026 Rev 2"},"Main Menu"]
[{"$nulls":12},"Blackline Safety Confidential","Accessories"]
[{"$nulls":12},"All prices are an estimate - for a formal quote contact your local Blackline Safety representative"]
[]
[]
[{"$nulls":5},"Hardware",null,{"$f":"CONCATENATE(H16,H20,H21,H23,H24,H26,H29,H32,H33,H35)","v":"G8C-01-NA2-S-H"},{"$nulls":3},{"$f":"L16","v":{"v":777,"d":"$ 777"}},{"$f":"M1&\" List\"","v":"USD List"}]
[]
[{"$nulls":5},"Cartridge + Service",null,{"$f":"CONCATENATE(\"SER-\",H16,H20,H29,H32,H33,H35,\"-\",ServicePlans,H62,H67,H71,H75,H77,H79)","v":"SER-G8C-S-H-SXXXX-1Y"},{"$nulls":3},{"$f":"M54+M77","v":{"v":277,"d":"$ 277"}},{"$f":"L10*ComboYears","v":{"v":277,"d":"$ 277"}}]
[]
[{"$nulls":11},"Annual","Term"]
[]
[null,"Device"]
[null,"Buying Option",{"$nulls":16},"Price",{"$nulls":3},"Additional CART"]
[null,"Blend","è","G8",{"$nulls":3},{"$f":"D16","v":"G8"},{"$nulls":3},{"$f":"F17","v":{"v":777,"d":"$ 777"}}]
[1,null,null,"Device","=",{"$f":"SUM(S17:T17)","v":{"v":777,"d":"$ 777"}},{"$nulls":11},1,{"$f":"INDEX(BasePrices[],MATCH(\"G8 Blend Base Price\",BasePrices[Type],0),MATCH($M$1,BasePrices[#Headers],0))","v":777},{"$nulls":4},{"$f":"ROUNDUP(INDEX(BasePrices[],MATCH(R17&\" Sensor Cartridge\",BasePrices[Type],0),MATCH($M$1,BasePrices[#Headers],0))*3,0)","v":219}]
[]
[null,"Connectivity"]
[null,"Cellular","è","C",{"$nulls":3},"C"]
[{"$nulls":7},"-"]
[null,"SIM Card"]
[null,"Standard (Telenor)","è","01",{"$nulls":3},{"$f":"D23","v":"01"}]
[{"$nulls":7},"-"]
[null,"Country Code"]
[null,{"$f":"_xlfn.VSTACK(O26:O28)","v":"North America (4G/LTE) - G8C"},{"$f":"IF(B26=\"\",\"\",\"è\")","v":"è"},{"$f":"IFERROR(_xlfn.VSTACK(P26:P28),\"\")","v":"NA2"},{"$nulls":3},"NA2",{"$nulls":6},{"$f":"_xlfn.LET(\n_xlpm.Dtype,G8CountryCodes[Type],_xlpm.Curr,G8CountryCodes[Currency],_xlpm.SType,H20,_xlpm.SCurr,M1,\n_xlpm.myCalculation,_xlfn.VSTACK(_xlfn._xlws.FILTER(G8CountryCodes[],(_xlpm.Dtype=_xlpm.SType)*(_xlpm.Curr=_xlpm.SCurr))),_xlpm.myCalculation)","v":"North America (4G/LTE) - G8C"},"NA2","C","USD"]
[null,"Outside of North America (4G/LTE) - G8C",{"$f":"IF(B27=0,\"\",\"è\")","v":"è"},"EU2",{"$nulls":10},"Outside of North America (4G/LTE) - G8C","EU2","C","USD"]
[null,0,{"$f":"IF(B28=0,\"\",\"è\")","v":""},0]
[{"$nulls":7},"-"]
[null,"Cartridge + Service"]
[null,"Cartridge Type"]
[null,"Single Sensor","è","S","=",{"$f":"SUM(S32:T32)","v":{"v":73,"d":"$ 73"}},null,{"$f":"D32","v":"S"},{"$nulls":3},{"$f":"F32","v":{"v":73,"d":"$ 73"}},{"$nulls":6},{"$f":"INDEX(BasePrices[],MATCH(\"1 Sensor Cartridge\",BasePrices[Type],0),MATCH($M$1,BasePrices[#Headers],0))","v":73}]
[{"$nulls":7},"-",{"$nulls":3},"+"]
[null,"Toxic Sensor",{"$nulls":21},{"$f":"VLOOKUP(H35,D35:W53,20,FALSE)","v":0}]
[null,{"$f":"_xlfn.VSTACK(O35:O53)","v":"HF"},{"$f":"IF(B35=0,\"\",\"è\")","v":"è"},{"$f":"_xlfn.VSTACK(P35:P53)","v":"2"},{"$f":"IF(B35=0,\"\",\"=\")","v":"="},{"$f":"IFERROR(SUM(S35:T35),\"\")","v":{"v":420,"d":"$ 420"}},null,"H",{"$nulls":3},{"$f":"VLOOKUP(H35,D35:F53,3,FALSE)","v":{"v":0,"d":"$ 0"}},null,null,{"$f":"_xlfn.LET(\n_xlpm.Dtype,G7Sensors[Type1],_xlpm.Curr,G7Sensors[Currency],_xlpm.Stype,H32,_xlpm.SCurr,M1,\n_xlpm.myCalculation,_xlfn.VSTACK(_xlfn._xlws.FILTER(G7Sensors[],(_xlpm.Dtype=_xlpm.Stype)*(_xlpm.Curr=_xlpm.SCurr))),_xlpm.myCalculation)","v":"HF"},"2","S","USD",{"$f":"INDEX(SensorPricing[],MATCH(D35,SensorPricing[Sensor],0),MATCH($M$1,SensorPricing[#Headers],0))","v":420},{"$nulls":3},{"$f":"INDEX(SensorPricing[],MATCH(D35,SensorPricing[Sensor],0),MATCH($M$1,SensorPricing[#Headers],0))*3","v":1260}]
[null,"NH3","è","A","=",{"$f":"IFERROR(SUM(S36:T36),\"\")","v":{"v":60,"d":"$ 60"}},{"$nulls":8},"NH3","A","S","USD",{"$f":"INDEX(SensorPricing[],MATCH(D36,SensorPricing[Sensor],0),MATCH($M$1,SensorPricing[#Headers],0))","v":60},{"$nulls":3},{"$f":"INDEX(SensorPricing[],MATCH(D36,SensorPricing[Sensor],0),MATCH($M$1,SensorPricing[#Headers],0))*3","v":180}]
[null,"High-range NH3 ","è","B","=",{"v":126,"d":"$ 126"},{"$nulls":8},"High-range NH3 ","B","S","USD",{"$f":"INDEX(SensorPricing[],MATCH(D37,SensorPricing[Sensor],0),MATCH($M$1,SensorPricing[#Headers],0))","v":126},{"$nulls":3},{"$f":"INDEX(SensorPricing[],MATCH(D37,SensorPricing[Sensor],0),MATCH($M$1,SensorPricing[#Headers],0))*3","v":378}]
[null,"CO2","è","C","=",{"v":240,"d":"$ 240"},{"$nulls":8},"CO2","C","S","USD",{"$f":"INDEX(SensorPricing[],MATCH(D38,SensorPricing[Sensor],0),MATCH($M$1,SensorPricing[#Headers],0))","v":240},{"$nulls":3},{"$f":"INDEX(SensorPricing[],MATCH(D38,SensorPricing[Sensor],0),MATCH($M$1,SensorPricing[#Headers],0))*3","v":720}]
[null,"O3","è","E","=",{"v":120,"d":"$ 120"},{"$nulls":8},"O3","E","S","USD",{"$f":"INDEX(SensorPricing[],MATCH(D39,SensorPricing[Sensor],0),MATCH($M$1,SensorPricing[#Headers],0))","v":120},{"$nulls":3},{"$f":"INDEX(SensorPricing[],MATCH(D39,SensorPricing[Sensor],0),MATCH($M$1,SensorPricing[#Headers],0))*3","v":360}]
[null,"H2S","è","H","=",{"v":0,"d":"$ 0"},{"$nulls":8},"H2S","H","S","USD",{"$f":"INDEX(SensorPricing[],MATCH(D40,SensorPricing[Sensor],0),MATCH($M$1,SensorPricing[#Headers],0))","v":0},{"$nulls":3},{"$f":"INDEX(SensorPricing[],MATCH(D40,SensorPricing[Sensor],0),MATCH($M$1,SensorPricing[#Headers],0))*3","v":0}]
[null,"High-range H2S ","è","J","=",{"v":120,"d":"$ 120"},{"$nulls":8},"High-range H2S ","J","S","USD",{"$f":"INDEX(SensorPricing[],MATCH(D41,SensorPricing[Sensor],0),MATCH($M$1,SensorPricing[#Headers],0))","v":120},{"$nulls":3},{"$f":"INDEX(SensorPricing[],MATCH(D41,SensorPricing[Sensor],0),MATCH($M$1,SensorPricing[#Headers],0))*3","v":360}]
[null,"NO2 ","è","K","=",{"v":60,"d":"$ 60"},{"$nulls":8},"NO2 ","K","S","USD",{"$f":"INDEX(SensorPricing[],MATCH(D42,SensorPricing[Sensor],0),MATCH($M$1,SensorPricing[#Headers],0))","v":60},{"$nulls":3},{"$f":"INDEX(SensorPricing[],MATCH(D42,SensorPricing[Sensor],0),MATCH($M$1,SensorPricing[#Headers],0))*3","v":180}]
[null,"Cl2","è","L","=",{"v":60,"d":"$ 60"},{"$nulls":8},"Cl2","L","S","USD",{"$f":"INDEX(SensorPricing[],MATCH(D43,SensorPricing[Sensor],0),MATCH($M$1,SensorPricing[#Headers],0))","v":60},{"$nulls":3},{"$f":"INDEX(SensorPricing[],MATCH(D43,SensorPricing[Sensor],0),MATCH($M$1,SensorPricing[#Headers],0))*3","v":180}]
[null,"CO ","è","M","=",{"v":0,"d":"$ 0"},{"$nulls":8},"CO ","M","S","USD",{"$f":"INDEX(SensorPricing[],MATCH(D44,SensorPricing[Sensor],0),MATCH($M$1,SensorPricing[#Headers],0))","v":0},{"$nulls":3},{"$f":"INDEX(SensorPricing[],MATCH(D44,SensorPricing[Sensor],0),MATCH($M$1,SensorPricing[#Headers],0))*3","v":0}]
[null,"HCN","è","N","=",{"v":60,"d":"$ 60"},{"$nulls":8},"HCN","N","S","USD",{"$f":"INDEX(SensorPricing[],MATCH(D45,SensorPricing[Sensor],0),MATCH($M$1,SensorPricing[#Headers],0))","v":60},{"$nulls":3},{"$f":"INDEX(SensorPricing[],MATCH(D45,SensorPricing[Sensor],0),MATCH($M$1,SensorPricing[#Headers],0))*3","v":180}]
[null,"O2","è","O","=",{"v":0,"d":"$ 0"},{"$nulls":8},"O2","O","S","USD",{"$f":"INDEX(SensorPricing[],MATCH(D46,SensorPricing[Sensor],0),MATCH($M$1,SensorPricing[#Headers],0))","v":0},{"$nulls":3},{"$f":"INDEX(SensorPricing[],MATCH(D46,SensorPricing[Sensor],0),MATCH($M$1,SensorPricing[#Headers],0))*3","v":0}]
[null,"CO-H ","è","R","=",{"v":0,"d":"$ 0"},{"$nulls":8},"CO-H ","R","S","USD",{"$f":"INDEX(SensorPricing[],MATCH(D47,SensorPricing[Sensor],0),MATCH($M$1,SensorPricing[#Headers],0))","v":0},{"$nulls":3},{"$f":"INDEX(SensorPricing[],MATCH(D47,SensorPricing[Sensor],0),MATCH($M$1,SensorPricing[#Headers],0))*3","v":0}]
[null,"SO2","è","S","=",{"v":0,"d":"$ 0"},{"$nulls":8},"SO2","S","S","USD",{"$f":"INDEX(SensorPricing[],MATCH(D48,SensorPricing[Sensor],0),MATCH($M$1,SensorPricing[#Headers],0))","v":0},{"$nulls":3},{"$f":"INDEX(SensorPricing[],MATCH(D48,SensorPricing[Sensor],0),MATCH($M$1,SensorPricing[#Headers],0))*3","v":0}]
[null,"High-range CO ","è","T","=",{"v":120,"d":"$ 120"},{"$nulls":8},"High-range CO ","T","S","USD",{"$f":"INDEX(SensorPricing[],MATCH(D49,SensorPricing[Sensor],0),MATCH($M$1,SensorPricing[#Headers],0))","v":120},{"$nulls":3},{"$f":"INDEX(SensorPricing[],MATCH(D49,SensorPricing[Sensor],0),MATCH($M$1,SensorPricing[#Headers],0))*3","v":360}]
[null,"PID","è","V","=",{"v":483,"d":"$ 483"},{"$nulls":8},"PID","V","S","USD",{"$f":"INDEX(SensorPricing[],MATCH(D50,SensorPricing[Sensor],0),MATCH($M$1,SensorPricing[#Headers],0))","v":483},{"$nulls":3},{"$f":"INDEX(SensorPricing[],MATCH(D50,SensorPricing[Sensor],0),MATCH($M$1,SensorPricing[#Headers],0))*3","v":1449}]
[null,"ClO2","è","W","=",{"v":60,"d":"$ 60"},{"$nulls":8},"ClO2","W","S","USD",{"$f":"INDEX(SensorPricing[],MATCH(D51,SensorPricing[Sensor],0),MATCH($M$1,SensorPricing[#Headers],0))","v":60},{"$nulls":3},{"$f":"INDEX(SensorPricing[],MATCH(D51,SensorPricing[Sensor],0),MATCH($M$1,SensorPricing[#Headers],0))*3","v":180}]
[null,0,{"$f":"IF(B52=0,\"\",\"è\")","v":""},0,{"$f":"IF(B52=0,\"\",\"=\")","v":""},"",{"$nulls":12},{"$f":"INDEX(SensorPricing[],MATCH(D52,SensorPricing[Sensor],0),MATCH($M$1,SensorPricing[#Headers],0))","v":{"$error":"#N/A"}},{"$nulls":3},{"$f":"INDEX(SensorPricing[],MATCH(D52,SensorPricing[Sensor],0),MATCH($M$1,SensorPricing[#Headers],0))*3","v":{"$error":"#N/A"}}]
[null,0,{"$f":"IF(B53=0,\"\",\"è\")","v":""},0,{"$f":"IF(B53=0,\"\",\"=\")","v":""},"",{"$nulls":12},{"$f":"INDEX(SensorPricing[],MATCH(D53,SensorPricing[Sensor],0),MATCH($M$1,SensorPricing[#Headers],0))","v":{"$error":"#N/A"}},{"$nulls":3},{"$f":"INDEX(SensorPricing[],MATCH(D53,SensorPricing[Sensor],0),MATCH($M$1,SensorPricing[#Headers],0))*3","v":{"$error":"#N/A"}}]
[{"$nulls":11},"=",{"$f":"ROUNDUP((L32+L35)*INDEX(BlendDisc[],MATCH(H79,BlendDisc[Term],0),MATCH(\"Multiplier\",BlendDisc[#Headers],0)),0)","v":{"v":73,"d":"$ 73"}}]
[]
[null,"Service Plan",{"$nulls":10},"Discounted Cartridge"]
[null,{"$f":"_xlfn.VSTACK(O57:O59)","v":"Standard"},{"$f":"IF(B57=0,\"\",\"è\")","v":"è"},{"$f":"_xlfn.VSTACK(P57:P59)","v":"S"},{"$f":"IF(B57=0,\"\",\"=\")","v":"="},{"$f":"IFERROR(S57,\"\")","v":{"v":204,"d":"$ 204"}},null,"S",{"$nulls":3},{"$f":"VLOOKUP(H57,D57:F59,3,FALSE)","v":{"v":204,"d":"$ 204"}},null,null,{"$f":"_xlfn.VSTACK(G8ServicePlans[])","v":"Standard"},"S",null,null,{"$f":"INDEX(G8ServicePrices[],MATCH(D57,G8ServicePrices[Code],0),MATCH($M$1,G8ServicePrices[#Headers],0))*PurhcaseTerm","v":204}]
[null,"Pro","è","K","=",{"v":384,"d":"$ 384"},{"$nulls":8},"Pro","K",null,null,{"$f":"INDEX(G8ServicePrices[],MATCH(D58,G8ServicePrices[Code],0),MATCH($M$1,G8ServicePrices[#Headers],0))*PurhcaseTerm","v":384}]
[null,0,"",0,"","",{"$nulls":12},{"$f":"INDEX(G8ServicePrices[],MATCH(D59,G8ServicePrices[Code],0),MATCH($M$1,G8ServicePrices[#Headers],0))*PurhcaseTerm","v":{"$error":"#N/A"}}]
[{"$nulls":11},"+"]
[null,"Monitoring Services"]
[null,{"$f":"_xlfn.VSTACK(O62:O64)","v":"None"},{"$f":"IF(B62=0,\"\",\"è\")","v":"è"},{"$f":"_xlfn.VSTACK(P62:P64)","v":"X"},{"$f":"IF(B62=0,\"\",\"=\")","v":"="},{"$f":"IFERROR(S62,\"\")","v":{"v":0,"d":"$ 0"}},null,"X",{"$nulls":3},{"$f":"VLOOKUP(H62,D62:F64,3,FALSE)","v":{"v":0,"d":"$ 0"}},null,null,{"$f":"_xlfn._xlws.FILTER(_xlfn._xlws.FILTER(G8Monitoring[],G8Monitoring[Type]=ServicePlans),{1,1,0})","v":"None"},"X",null,null,{"$f":"IF(P62=\"X\",0,INDEX(G8ServicePrices[],MATCH(D62,G8ServicePrices[Code],0),MATCH($M$1,G8ServicePrices[#Headers],0))*PurhcaseTerm)","v":0}]
[null,0,"",0,"",{"$f":"IFERROR(S63,\"\")","v":""},{"$nulls":12},{"$f":"IF(P63=\"X\",0,INDEX(G8ServicePrices[],MATCH(D63,G8ServicePrices[Code],0),MATCH($M$1,G8ServicePrices[#Headers],0))*PurhcaseTerm)","v":{"$error":"#N/A"}}]
[null,0,"",0,"",{"$f":"IFERROR(S64,\"\")","v":""},{"$nulls":12},{"$f":"IF(P64=\"X\",0,INDEX(G8ServicePrices[],MATCH(D64,G8ServicePrices[Code],0),MATCH($M$1,G8ServicePrices[#Headers],0))*PurhcaseTerm)","v":{"$error":"#N/A"}}]
[{"$nulls":11},"+"]
[null,"Voice"]
[null,{"$f":"_xlfn.VSTACK(O67:O68)","v":"None"},{"$f":"IF(B67=0,\"\",\"è\")","v":"è"},{"$f":"_xlfn.VSTACK(P67:P68)","v":"X"},{"$f":"IF(B67=0,\"\",\"=\")","v":"="},{"$f":"IFERROR(S67,\"\")","v":{"v":0,"d":"$ 0"}},null,"X",{"$nulls":3},{"$f":"VLOOKUP(H67,D67:F68,3,FALSE)","v":{"v":0,"d":"$ 0"}},null,null,{"$f":"_xlfn._xlws.FILTER(_xlfn._xlws.FILTER(G8Voice[],G8Voice[Type]=ServicePlans),{1,1,0})","v":"None"},"X",null,null,{"$f":"IF(P67=\"X\",0,INDEX(G8ServicePrices[],MATCH(D67,G8ServicePrices[Code],0),MATCH($M$1,G8ServicePrices[#Headers],0))*PurhcaseTerm)","v":0}]
[null,0,"",0,"",{"$f":"IFERROR(S68,\"\")","v":""},{"$nulls":12},{"$f":"IF(P68=\"X\",0,INDEX(G8ServicePrices[],MATCH(D68,G8ServicePrices[Code],0),MATCH($M$1,G8ServicePrices[#Headers],0))*PurhcaseTerm)","v":{"$error":"#N/A"}}]
[{"$nulls":11},"+"]
[null,"Push-to-Talk"]
[null,{"$f":"_xlfn.VSTACK(O71:O72)","v":"None"},{"$f":"IF(B71=0,\"\",\"è\")","v":"è"},{"$f":"_xlfn.VSTACK(P71:P72)","v":"X"},{"$f":"IF(B71=0,\"\",\"=\")","v":"="},{"$f":"IFERROR(S71,\"\")","v":{"v":0,"d":"$ 0"}},null,"X",{"$nulls":3},{"$f":"VLOOKUP(H71,D71:F72,3,FALSE)","v":{"v":0,"d":"$ 0"}},null,null,{"$f":"_xlfn._xlws.FILTER(_xlfn._xlws.FILTER(G8PTT[],G8PTT[Type]=ServicePlans),{1,1,0})","v":"None"},"X",null,null,{"$f":"IF(P71=\"X\",0,INDEX(G8ServicePrices[],MATCH(D71,G8ServicePrices[Code],0),MATCH($M$1,G8ServicePrices[#Headers],0))*PurhcaseTerm)","v":0}]
[null,"Included","è","P","=",{"$f":"IFERROR(S72,\"\")","v":{"v":228,"d":"$ 228"}},{"$nulls":8},"Included","P",null,null,{"$f":"IF(P72=\"X\",0,INDEX(G8ServicePrices[],MATCH(D72,G8ServicePrices[Code],0),MATCH($M$1,G8ServicePrices[#Headers],0))*PurhcaseTerm)","v":228}]
[{"$nulls":11},"+"]
[null,"Future Service Option"]
[null,{"$f":"_xlfn.VSTACK(O75:O76)","v":"None"},{"$f":"IF(B75=0,\"\",\"è\")","v":"è"},{"$f":"_xlfn.VSTACK(P75:P76)","v":"X"},{"$f":"IF(B75=0,\"\",\"=\")","v":"="},{"$f":"IFERROR(S75,\"\")","v":{"v":0,"d":"$ 0"}},null,"X",{"$nulls":3},{"$f":"VLOOKUP(H75,D75:F76,3,FALSE)","v":{"v":0,"d":"$ 0"}},null,null,{"$f":"_xlfn._xlws.FILTER(_xlfn._xlws.FILTER(G8TeamCalling[],G8TeamCalling[Type]=ServicePlans),{1,1,0})","v":"None"},"X",null,null,{"$f":"IF(P75=\"X\",0,INDEX(G8ServicePrices[],MATCH(D75,G8ServicePrices[Code],0),MATCH($M$1,G8ServicePrices[#Headers],0))*PurhcaseTerm)","v":0}]
[null,0,"",0,"",{"$f":"IFERROR(S76,\"\")","v":""},{"$nulls":12},{"$f":"IF(P76=\"X\",0,INDEX(G8ServicePrices[],MATCH(D76,G8ServicePrices[Code],0),MATCH($M$1,G8ServicePrices[#Headers],0))*PurhcaseTerm)","v":{"$error":"#N/A"}}]
[{"$nulls":7},"-",{"$nulls":3},"=",{"$f":"ROUND((L57+L62+L67+L71+L75)*INDEX(BlendDisc[],MATCH(H79,BlendDisc[Term],0),MATCH(\"Multiplier\",BlendDisc[#Headers],0)),0)","v":{"v":204,"d":"$ 204"}}]
[null,"Term"]
[null,"One-Year","è","1Y",{"$nulls":3},"1Y",{"$nulls":4},"Discounted Service",{"$nulls":5},12]
[null,"Two-Years","è","2Y",{"$nulls":14},{"$f":"LEFT(H79,1)","v":"1"}]
[null,"Three-Years","è","3Y"]
[null,"Four-Years","è","4Y"]
[null,"Five-Years","è","5Y"]
[null,"Term discounts are 2% for 2-years, 3% for 3-years, 4% for 4-years, and 5% for 5-years"]
[null,"Term discounts are applied to the individual sum of the cartridge and service"]

{"sheet":"G8 Multi-Gas Blend","index":24,"n_rows":126,"n_cols":19,"rows_kept":126,"merged":[[1,1,1,7],[2,1,12,1],[7,7,7,9],[9,7,9,9],[11,7,11,9],[14,1,14,5],[15,7,16,9],[15,11,16,11],[18,1,18,5],[19,7,19,9],[20,7,21,9],[21,1,21,5],[22,7,22,9],[23,7,24,9],[24,1,24,5],[25,7,27,9],[28,7,40,9],[30,1,30,5],[31,11,38,11],[31,21,34,21],[39,11,44,11],[40,1,40,5],[41,7,42,9],[43,7,44,9],[44,1,44,5],[45,7,47,7],[45,9,93,9],[45,11,47,11],[48,11,49,11],[49,1,49,5],[50,7,68,7],[50,11,68,11],[69,11,70,11],[70,1,70,5],[71,7,89,7],[71,11,89,11],[90,11,91,11],[91,1,91,5],[92,7,93,7],[92,11,93,11],[94,7,96,9],[94,11,95,11],[94,12,95,12],[96,1,96,5],[96,12,97,12],[97,7,99,9],[97,11,99,11],[100,11,101,11],[101,1,101,5],[102,7,104,9],[102,11,104,11],[105,11,106,11],[106,1,106,5],[107,7,108,9],[107,11,108,11],[109,11,110,11],[110,1,110,5],[111,7,112,9],[111,11,112,11],[113,11,114,11],[114,1,114,5],[115,7,116,9],[115,11,116,11],[117,7,118,9],[117,11,118,11],[117,12,118,12],[118,1,118,5],[119,7,123,9],[119,12,120,12]]}
[null,{"$error":"#VALUE!"},{"$nulls":10},{"$f":"Currency","v":"USD"},null,null,"G8 Multi-Gas Blend"]
[null,"G8 Multi-Gas Blend",{"$nulls":10},{"$f":"PBYear","v":2025},"Quick Links"]
[null,{"$error":"#VALUE!"},{"$nulls":10},{"$f":"Revision","v":"Effective February 2, 2026 Rev 2"},"Main Menu"]
[{"$nulls":12},"Blackline Safety Confidential","Accessories"]
[{"$nulls":12},"All prices are an estimate - for a formal quote contact your local Blackline Safety representative"]
[]
[]
[{"$nulls":5},"Hardware",null,{"$f":"CONCATENATE(H16,H20,H21,H23,H24,H26,H29,H42,H44,J46)","v":"G8C-01-NA2-Q-FHMO"},{"$nulls":3},{"$f":"L16","v":{"v":777,"d":"$ 777"}},{"$f":"M1&\" List\"","v":"USD List"}]
[]
[{"$nulls":5},"Cartridge + Service",null,{"$f":"CONCATENATE(\"SER-\",H16,H20,H29,H42,H44,J46,H95,ServicePlans,H103,H108,H112,H116,H118,H120)","v":"SER-G8C-Q-FHMO-SXXXX-1Y"},{"$nulls":3},{"$f":"M95+M118","v":{"v":404,"d":"$ 404"}},{"$f":"L10*ComboYears","v":{"v":404,"d":"$ 404"}}]
[]
[{"$nulls":11},"Annual","Term"]
[]
[null,"Device"]
[null,"Buying Option",{"$nulls":16},"Price"]
[null,"Blend","è","G8",{"$nulls":3},{"$f":"D16","v":"G8"},{"$nulls":3},{"$f":"F17","v":{"v":777,"d":"$ 777"}}]
[1,null,null,"Device","=",{"$f":"SUM(S17:S17)","v":{"v":777,"d":"$ 777"}},{"$nulls":12},{"$f":"INDEX(BasePrices[],MATCH(\"G8 Blend Base Price\",BasePrices[Type],0),MATCH($M$1,BasePrices[#Headers],0))","v":777}]
[]
[null,"Connectivity"]
[null,"Cellular","è","C",{"$nulls":3},"C"]
[{"$nulls":7},"-"]
[null,"SIM Card"]
[null,"Standard (Telenor)","è","01",{"$nulls":3},{"$f":"D23","v":"01"}]
[{"$nulls":7},"-"]
[null,"Country Code"]
[null,{"$f":"_xlfn.VSTACK(O26:O28)","v":"North America (4G/LTE) - G8C"},{"$f":"IF(B26=\"\",\"\",\"è\")","v":"è"},{"$f":"IFERROR(_xlfn.VSTACK(P26:P28),\"\")","v":"NA2"},{"$nulls":3},"NA2",{"$nulls":6},{"$f":"_xlfn.LET(\n_xlpm.Dtype,G8CountryCodes[Type],_xlpm.Curr,G8CountryCodes[Currency],_xlpm.SType,H20,_xlpm.SCurr,M1,\n_xlpm.myCalculation,_xlfn.VSTACK(_xlfn._xlws.FILTER(G8CountryCodes[],(_xlpm.Dtype=_xlpm.SType)*(_xlpm.Curr=_xlpm.SCurr))),_xlpm.myCalculation)","v":"North America (4G/LTE) - G8C"},"NA2","C","USD"]
[null,"Outside of North America (4G/LTE) - G8C",{"$f":"IF(B27=0,\"\",\"è\")","v":"è"},"EU2",{"$nulls":10},"Outside of North America (4G/LTE) - G8C","EU2","C","USD"]
[null,0,{"$f":"IF(B28=0,\"\",\"è\")","v":""},0]
[{"$nulls":7},"-"]
[null,"Cartridge + Service"]
[null,"Cartridge",{"$nulls":16},"Price"]
["Q1",null,null,"Multi 1-sensor","=",{"$f":"SUM(S32:T32)","v":{"v":73,"d":"$ 73"}},{"$nulls":5},{"$f":"VLOOKUP(P45,A32:F39,6,FALSE)","v":{"v":200,"d":"$ 200"}},{"$nulls":5},1,{"$f":"INDEX(BasePrices[],MATCH(R32&\" Sensor Cartridge\",BasePrices[Type],0),MATCH($M$1,BasePrices[#Headers],0))","v":73}]
["Q2",null,null,"Multi 2-sensor","=",{"$f":"SUM(S33:T33)","v":{"v":126,"d":"$ 126"}},{"$nulls":11},2,{"$f":"INDEX(BasePrices[],MATCH(R33&\" Sensor Cartridge\",BasePrices[Type],0),MATCH($M$1,BasePrices[#Headers],0))","v":126}]
["Q3",null,null,"Multi 3-sensor","=",{"$f":"SUM(S34:T34)","v":{"v":165,"d":"$ 165"}},{"$nulls":11},3,{"$f":"INDEX(BasePrices[],MATCH(R34&\" Sensor Cartridge\",BasePrices[Type],0),MATCH($M$1,BasePrices[#Headers],0))","v":165}]
["Q4",null,null,"Multi 4-sensor","=",{"$f":"SUM(S35:T35)","v":{"v":200,"d":"$ 200"}},{"$nulls":11},4,{"$f":"INDEX(BasePrices[],MATCH(R35&\" Sensor Cartridge\",BasePrices[Type],0),MATCH($M$1,BasePrices[#Headers],0))","v":200}]
["P1",null,null,"Multi 1-sensor pump","=",{"$f":"SUM(S36:T36)","v":{"v":255,"d":"$ 255"}},{"$nulls":11},1,{"$f":"INDEX(BasePrices[],MATCH(R36&\" Sensor Cartridge\",BasePrices[Type],0),MATCH($M$1,BasePrices[#Headers],0))+\nINDEX(BasePrices[],MATCH(\"G7 Pump\",BasePrices[Type],0),MATCH($M$1,BasePrices[#Headers],0))","v":255}]
["P2",null,null,"Multi 2-sensor pump","=",{"v":308,"d":"$ 308"},{"$nulls":11},2,{"$f":"INDEX(BasePrices[],MATCH(R37&\" Sensor Cartridge\",BasePrices[Type],0),MATCH($M$1,BasePrices[#Headers],0))+\nINDEX(BasePrices[],MATCH(\"G7 Pump\",BasePrices[Type],0),MATCH($M$1,BasePrices[#Headers],0))","v":308}]
["P3",null,null,"Multi 3-sensor pump","=",{"v":347,"d":"$ 347"},{"$nulls":11},3,{"$f":"INDEX(BasePrices[],MATCH(R38&\" Sensor Cartridge\",BasePrices[Type],0),MATCH($M$1,BasePrices[#Headers],0))+\nINDEX(BasePrices[],MATCH(\"G7 Pump\",BasePrices[Type],0),MATCH($M$1,BasePrices[#Headers],0))","v":347}]
["P4",null,null,"Multi 4-sensor pump","=",{"v":382,"d":"$ 382"},{"$nulls":11},4,{"$f":"INDEX(BasePrices[],MATCH(R39&\" Sensor Cartridge\",BasePrices[Type],0),MATCH($M$1,BasePrices[#Headers],0))+\nINDEX(BasePrices[],MATCH(\"G7 Pump\",BasePrices[Type],0),MATCH($M$1,BasePrices[#Headers],0))","v":382}]
[{"$nulls":11},"+"]
[null,"Cartridge Type",{"$nulls":12},{"$f":"H46","v":"F"},{"$f":"_xlfn._xlws.SORT(O41:O44)","v":"F"},{"$f":"IF(P41=\"X\",1,0)","v":0}]
[null,"Diffusion","è","Q",{"$nulls":3},"Q",{"$nulls":6},{"$f":"H51","v":"H"},"H",{"$f":"IF(P42=\"X\",1,0)","v":0}]
[null,"Pump","è","P",{"$nulls":10},{"$f":"H72","v":"M"},"M",{"$f":"IF(P43=\"X\",1,0)","v":0}]
[{"$nulls":7},"-",{"$nulls":6},{"$f":"H93","v":"O"},"O",{"$f":"IF(P44=\"X\",1,0)","v":0}]
[null,"Combustible Sensor",{"$nulls":13},{"$f":"H42&Q45","v":"Q4"},{"$f":"4-SUM(Q41:Q44)","v":4},null,"Price"]
[null,{"$f":"_xlfn.CHOOSECOLS(_xlfn.VSTACK(_xlfn.ANCHORARRAY(O46)),1)","v":"LEL-IR"},{"$f":"IF(B46=0,\"\",\"è\")","v":"è"},{"$f":"_xlfn.CHOOSECOLS(_xlfn.VSTACK(_xlfn.ANCHORARRAY(O46)),2)","v":"I"},{"$f":"IF(B46=0,\"\",\"=\")","v":"="},{"$f":"IFERROR(SUM(S46:T46),\"\")","v":{"v":60,"d":"$ 60"}},null,"F",null,{"$f":"CONCATENATE(P41,P42,P43,P44)","v":"FHMO"},null,{"$f":"VLOOKUP(H46,D46:F48,3,FALSE)","v":{"v":0,"d":"$ 0"}},null,null,{"$f":"_xlfn.LET(\n_xlpm.Dtype,CombSensors[Type1],_xlpm.Curr,CombSensors[Currency],_xlpm.Stype,H42&1,_xlpm.SCurr,M1,\n_xlpm.myCalculation,_xlfn.VSTACK(_xlfn._xlws.FILTER(CombSensors[],(_xlpm.Dtype=_xlpm.Stype)*(_xlpm.Curr=_xlpm.SCurr))),_xlpm.myCalculation)","v":"LEL-IR"},"I","Q1","USD",{"$f":"INDEX(SensorPricing[],MATCH(D46,SensorPricing[Sensor],0),MATCH($M$1,SensorPricing[#Headers],0))","v":60}]
[null,"LEL-MPS","è","F","=",{"$f":"IFERROR(SUM(S47:T47),\"\")","v":{"v":0,"d":"$ 0"}},{"$nulls":8},"LEL-MPS","F","Q1","USD",{"$f":"INDEX(SensorPricing[],MATCH(D47,SensorPricing[Sensor],0),MATCH($M$1,SensorPricing[#Headers],0))","v":0}]
[null,"None","è","X","=",{"v":0,"d":"$ 0"},{"$nulls":8},"None","X","Q1","USD",{"$f":"INDEX(SensorPricing[],MATCH(D48,SensorPricing[Sensor],0),MATCH($M$1,SensorPricing[#Headers],0))","v":0}]
[{"$nulls":11},"+"]
[null,"Toxic Sensor #1"]
[null,{"$f":"_xlfn.VSTACK(O51:O69)","v":"HF"},{"$f":"IF(B51=0,\"\",\"è\")","v":"è"},{"$f":"_xlfn.VSTACK(P51:P69)","v":"2"},{"$f":"IF(B51=0,\"\",\"=\")","v":"="},{"$f":"IFERROR(SUM(S51:T51),\"\")","v":{"v":420,"d":"$ 420"}},null,"H",{"$nulls":3},{"$f":"VLOOKUP(H51,D51:F69,3,FALSE)","v":{"v":0,"d":"$ 0"}},null,null,{"$f":"_xlfn.LET(\n_xlpm.Dtype,G7Sensors[Type1],_xlpm.Curr,G7Sensors[Currency],_xlpm.Stype,H42&1,_xlpm.SCurr,M1,\n_xlpm.myCalculation,_xlfn.VSTACK(_xlfn._xlws.FILTER(G7Sensors[],(_xlpm.Dtype=_xlpm.Stype)*(_xlpm.Curr=_xlpm.SCurr))),_xlpm.myCalculation)","v":"HF"},"2","Q1","USD",{"$f":"INDEX(SensorPricing[],MATCH(D51,SensorPricing[Sensor],0),MATCH($M$1,SensorPricing[#Headers],0))","v":420}]
[null,"NH3","è","A","=",{"$f":"IFERROR(SUM(S52:T52),\"\")","v":{"v":60,"d":"$ 60"}},{"$nulls":8},"NH3","A","Q1","USD",{"$f":"INDEX(SensorPricing[],MATCH(D52,SensorPricing[Sensor],0),MATCH($M$1,SensorPricing[#Headers],0))","v":60}]
[null,"High-range NH3 ","è","B","=",{"v":126,"d":"$ 126"},{"$nulls":8},"High-range NH3 ","B","Q1","USD",{"$f":"INDEX(SensorPricing[],MATCH(D53,SensorPricing[Sensor],0),MATCH($M$1,SensorPricing[#Headers],0))","v":126}]
[null,"CO2","è","C","=",{"v":240,"d":"$ 240"},{"$nulls":8},"CO2","C","Q1","USD",{"$f":"INDEX(SensorPricing[],MATCH(D54,SensorPricing[Sensor],0),MATCH($M$1,SensorPricing[#Headers],0))","v":240}]
[null,"O3","è","E","=",{"v":120,"d":"$ 120"},{"$nulls":8},"O3","E","Q1","USD",{"$f":"INDEX(SensorPricing[],MATCH(D55,SensorPricing[Sensor],0),MATCH($M$1,SensorPricing[#Headers],0))","v":120}]
[null,"H2S","è","H","=",{"v":0,"d":"$ 0"},{"$nulls":8},"H2S","H","Q1","USD",{"$f":"INDEX(SensorPricing[],MATCH(D56,SensorPricing[Sensor],0),MATCH($M$1,SensorPricing[#Headers],0))","v":0}]
[null,"High-range H2S ","è","J","=",{"v":120,"d":"$ 120"},{"$nulls":8},"High-range H2S ","J","Q1","USD",{"$f":"INDEX(SensorPricing[],MATCH(D57,SensorPricing[Sensor],0),MATCH($M$1,SensorPricing[#Headers],0))","v":120}]
[null,"NO2 ","è","K","=",{"v":60,"d":"$ 60"},{"$nulls":8},"NO2 ","K","Q1","USD",{"$f":"INDEX(SensorPricing[],MATCH(D58,SensorPricing[Sensor],0),MATCH($M$1,SensorPricing[#Headers],0))","v":60}]
[null,"Cl2","è","L","=",{"v":60,"d":"$ 60"},{"$nulls":8},"Cl2","L","Q1","USD",{"$f":"INDEX(SensorPricing[],MATCH(D59,SensorPricing[Sensor],0),MATCH($M$1,SensorPricing[#Headers],0))","v":60}]
[null,"CO ","è","M","=",{"v":0,"d":"$ 0"},{"$nulls":8},"CO ","M","Q1","USD",{"$f":"INDEX(SensorPricing[],MATCH(D60,SensorPricing[Sensor],0),MATCH($M$1,SensorPricing[#Headers],0))","v":0}]
[null,"HCN","è","N","=",{"v":60,"d":"$ 60"},{"$nulls":8},"HCN","N","Q1","USD",{"$f":"INDEX(SensorPricing[],MATCH(D61,SensorPricing[Sensor],0),MATCH($M$1,SensorPricing[#Headers],0))","v":60}]
[null,"CO-H ","è","R","=",{"v":0,"d":"$ 0"},{"$nulls":8},"CO-H ","R","Q1","USD",{"$f":"INDEX(SensorPricing[],MATCH(D62,SensorPricing[Sensor],0),MATCH($M$1,SensorPricing[#Headers],0))","v":0}]
[null,"SO2","è","S","=",{"v":0,"d":"$ 0"},{"$nulls":8},"SO2","S","Q1","USD",{"$f":"INDEX(SensorPricing[],MATCH(D63,SensorPricing[Sensor],0),MATCH($M$1,SensorPricing[#Headers],0))","v":0}]
[null,"High-range CO ","è","T","=",{"v":120,"d":"$ 120"},{"$nulls":8},"High-range CO ","T","Q1","USD",{"$f":"INDEX(SensorPricing[],MATCH(D64,SensorPricing[Sensor],0),MATCH($M$1,SensorPricing[#Headers],0))","v":120}]
[null,"PID","è","V","=",{"v":483,"d":"$ 483"},{"$nulls":8},"PID","V","Q1","USD",{"$f":"INDEX(SensorPricing[],MATCH(D65,SensorPricing[Sensor],0),MATCH($M$1,SensorPricing[#Headers],0))","v":483}]
[null,"ClO2","è","W","=",{"v":60,"d":"$ 60"},{"$nulls":8},"ClO2","W","Q1","USD",{"$f":"INDEX(SensorPricing[],MATCH(D66,SensorPricing[Sensor],0),MATCH($M$1,SensorPricing[#Headers],0))","v":60}]
[null,"No Sensor ","è","X","=",{"v":0,"d":"$ 0"},{"$nulls":8},"No Sensor ","X","Q1","USD",{"$f":"INDEX(SensorPricing[],MATCH(D67,SensorPricing[Sensor],0),MATCH($M$1,SensorPricing[#Headers],0))","v":0}]
[null,0,{"$f":"IF(B68=0,\"\",\"è\")","v":""},0,{"$f":"IF(B68=0,\"\",\"=\")","v":""},"",{"$nulls":12},{"$f":"INDEX(SensorPricing[],MATCH(D68,SensorPricing[Sensor],0),MATCH($M$1,SensorPricing[#Headers],0))","v":{"$error":"#N/A"}}]
[null,0,{"$f":"IF(B69=0,\"\",\"è\")","v":""},0,{"$f":"IF(B69=0,\"\",\"=\")","v":""},"",{"$nulls":12},{"$f":"INDEX(SensorPricing[],MATCH(D69,SensorPricing[Sensor],0),MATCH($M$1,SensorPricing[#Headers],0))","v":{"$error":"#N/A"}}]
[{"$nulls":11},"+"]
[null,"Toxic Sensor #2"]
[null,{"$f":"_xlfn.VSTACK(O72:O90)","v":"HF"},{"$f":"IF(B72=0,\"\",\"è\")","v":"è"},{"$f":"_xlfn.VSTACK(P72:P90)","v":"2"},{"$f":"IF(B72=0,\"\",\"=\")","v":"="},{"$f":"IFERROR(SUM(S72:T72),\"\")","v":{"v":420,"d":"$ 420"}},null,"M",{"$nulls":3},{"$f":"VLOOKUP(H72,D72:F90,3,FALSE)","v":{"v":0,"d":"$ 0"}},null,null,{"$f":"_xlfn.LET(\n_xlpm.Dtype,G7Sensors[Type1],_xlpm.Curr,G7Sensors[Currency],_xlpm.Stype,H42&2,_xlpm.SCurr,M1,\n_xlpm.myCalculation,_xlfn.VSTACK(_xlfn._xlws.FILTER(G7Sensors[],(_xlpm.Dtype=_xlpm.Stype)*(_xlpm.Curr=_xlpm.SCurr))),_xlpm.myCalculation)","v":"HF"},"2","Q2","USD",{"$f":"INDEX(SensorPricing[],MATCH(D72,SensorPricing[Sensor],0),MATCH($M$1,SensorPricing[#Headers],0))","v":420}]
[null,"NH3","è","A","=",{"v":60,"d":"$ 60"},{"$nulls":8},"NH3","A","Q2","USD",{"$f":"INDEX(SensorPricing[],MATCH(D73,SensorPricing[Sensor],0),MATCH($M$1,SensorPricing[#Headers],0))","v":60}]
[null,"High-range NH3 ","è","B","=",{"v":126,"d":"$ 126"},{"$nulls":8},"High-range NH3 ","B","Q2","USD",{"$f":"INDEX(SensorPricing[],MATCH(D74,SensorPricing[Sensor],0),MATCH($M$1,SensorPricing[#Headers],0))","v":126}]
[null,"COSH","è","D","=",{"v":60,"d":"$ 60"},{"$nulls":8},"COSH","D","Q2","USD",{"$f":"INDEX(SensorPricing[],MATCH(D75,SensorPricing[Sensor],0),MATCH($M$1,SensorPricing[#Headers],0))","v":60}]
[null,"O3","è","E","=",{"v":120,"d":"$ 120"},{"$nulls":8},"O3","E","Q2","USD",{"$f":"INDEX(SensorPricing[],MATCH(D76,SensorPricing[Sensor],0),MATCH($M$1,SensorPricing[#Headers],0))","v":120}]
[null,"H2S","è","H","=",{"v":0,"d":"$ 0"},{"$nulls":8},"H2S","H","Q2","USD",{"$f":"INDEX(SensorPricing[],MATCH(D77,SensorPricing[Sensor],0),MATCH($M$1,SensorPricing[#Headers],0))","v":0}]
[null,"High-range H2S ","è","J","=",{"v":120,"d":"$ 120"},{"$nulls":8},"High-range H2S ","J","Q2","USD",{"$f":"INDEX(SensorPricing[],MATCH(D78,SensorPricing[Sensor],0),MATCH($M$1,SensorPricing[#Headers],0))","v":120}]
[null,"NO2 ","è","K","=",{"v":60,"d":"$ 60"},{"$nulls":8},"NO2 ","K","Q2","USD",{"$f":"INDEX(SensorPricing[],MATCH(D79,SensorPricing[Sensor],0),MATCH($M$1,SensorPricing[#Headers],0))","v":60}]
[null,"Cl2","è","L","=",{"v":60,"d":"$ 60"},{"$nulls":8},"Cl2","L","Q2","USD",{"$f":"INDEX(SensorPricing[],MATCH(D80,SensorPricing[Sensor],0),MATCH($M$1,SensorPricing[#Headers],0))","v":60}]
[null,"CO ","è","M","=",{"v":0,"d":"$ 0"},{"$nulls":8},"CO ","M","Q2","USD",{"$f":"INDEX(SensorPricing[],MATCH(D81,SensorPricing[Sensor],0),MATCH($M$1,SensorPricing[#Headers],0))","v":0}]
[null,"HCN","è","N","=",{"v":60,"d":"$ 60"},{"$nulls":8},"HCN","N","Q2","USD",{"$f":"INDEX(SensorPricing[],MATCH(D82,SensorPricing[Sensor],0),MATCH($M$1,SensorPricing[#Headers],0))","v":60}]
[null,"CO-H ","è","R","=",{"v":0,"d":"$ 0"},{"$nulls":8},"CO-H ","R","Q2","USD",{"$f":"INDEX(SensorPricing[],MATCH(D83,SensorPricing[Sensor],0),MATCH($M$1,SensorPricing[#Headers],0))","v":0}]
[null,"SO2","è","S","=",{"v":0,"d":"$ 0"},{"$nulls":8},"SO2","S","Q2","USD",{"$f":"INDEX(SensorPricing[],MATCH(D84,SensorPricing[Sensor],0),MATCH($M$1,SensorPricing[#Headers],0))","v":0}]
[null,"High-range CO ","è","T","=",{"v":120,"d":"$ 120"},{"$nulls":8},"High-range CO ","T","Q2","USD",{"$f":"INDEX(SensorPricing[],MATCH(D85,SensorPricing[Sensor],0),MATCH($M$1,SensorPricing[#Headers],0))","v":120}]
[null,"ClO2","è","W","=",{"v":60,"d":"$ 60"},{"$nulls":8},"ClO2","W","Q2","USD",{"$f":"INDEX(SensorPricing[],MATCH(D86,SensorPricing[Sensor],0),MATCH($M$1,SensorPricing[#Headers],0))","v":60}]
[null,"No Sensor ","è","X","=",{"v":0,"d":"$ 0"},{"$nulls":8},"No Sensor ","X","Q2","USD",{"$f":"INDEX(SensorPricing[],MATCH(D87,SensorPricing[Sensor],0),MATCH($M$1,SensorPricing[#Headers],0))","v":0}]
[null,0,"",0,"","",{"$nulls":12},{"$f":"INDEX(SensorPricing[],MATCH(D88,SensorPricing[Sensor],0),MATCH($M$1,SensorPricing[#Headers],0))","v":{"$error":"#N/A"}}]
[null,0,"",0,"","",{"$nulls":12},{"$f":"INDEX(SensorPricing[],MATCH(D89,SensorPricing[Sensor],0),MATCH($M$1,SensorPricing[#Headers],0))","v":{"$error":"#N/A"}}]
[null,0,"",0,"","",{"$nulls":12},{"$f":"INDEX(SensorPricing[],MATCH(D90,SensorPricing[Sensor],0),MATCH($M$1,SensorPricing[#Headers],0))","v":{"$error":"#N/A"}}]
[{"$nulls":11},"+"]
[null,"Oxygen Sensor"]
[null,{"$f":"_xlfn.VSTACK(O93:O94)","v":"O2"},{"$f":"IF(B93=0,\"\",\"è\")","v":"è"},{"$f":"_xlfn.VSTACK(P93:P94)","v":"O"},{"$f":"IF(B93=0,\"\",\"=\")","v":"="},{"$f":"IFERROR(SUM(S93:T93),\"\")","v":{"v":0,"d":"$ 0"}},null,"O",{"$nulls":3},{"$f":"VLOOKUP(H93,D93:F94,3,FALSE)","v":{"v":0,"d":"$ 0"}},null,null,{"$f":"_xlfn._xlws.FILTER(_xlfn._xlws.FILTER(Oxygen[],Oxygen[Type]=H46),{1,1,0})","v":"O2"},"O",null,null,{"$f":"INDEX(SensorPricing[],MATCH(D93,SensorPricing[Sensor],0),MATCH($M$1,SensorPricing[#Headers],0))","v":0}]
[null,0,"",0,"",{"$f":"IFERROR(SUM(S94:T94),\"\")","v":""},{"$nulls":12},{"$f":"INDEX(SensorPricing[],MATCH(D94,SensorPricing[Sensor],0),MATCH($M$1,SensorPricing[#Headers],0))","v":{"$error":"#N/A"}}]
[{"$nulls":7},"-",{"$nulls":3},"=",{"$f":"ROUNDUP((L32+L46+L51+L72+L93)*INDEX(BlendDisc[],MATCH(H120,BlendDisc[Term],0),MATCH(\"Multiplier\",BlendDisc[#Headers],0)),0)","v":{"v":200,"d":"$ 200"}}]
[]
[null,"Service Plan",{"$nulls":10},"Discounted Cartridge"]
[null,{"$f":"_xlfn.VSTACK(O98:O100)","v":"Standard"},{"$f":"IF(B98=0,\"\",\"è\")","v":"è"},{"$f":"_xlfn.VSTACK(P98:P100)","v":"S"},{"$f":"IF(B98=0,\"\",\"=\")","v":"="},{"$f":"IFERROR(S98,\"\")","v":{"v":204,"d":"$ 204"}},null,"S",{"$nulls":3},{"$f":"VLOOKUP(H98,D98:F100,3,FALSE)","v":{"v":204,"d":"$ 204"}},null,null,{"$f":"_xlfn.VSTACK(G8ServicePlans[])","v":"Standard"},"S",null,null,{"$f":"INDEX(G8ServicePrices[],MATCH(D98,G8ServicePrices[Code],0),MATCH($M$1,G8ServicePrices[#Headers],0))*AnnualMonths","v":204}]
[null,"Pro","è","K","=",{"v":384,"d":"$ 384"},{"$nulls":8},"Pro","K",null,null,{"$f":"INDEX(G8ServicePrices[],MATCH(D99,G8ServicePrices[Code],0),MATCH($M$1,G8ServicePrices[#Headers],0))*AnnualMonths","v":384}]
[null,0,"",0,"","",{"$nulls":12},{"$f":"INDEX(G8ServicePrices[],MATCH(D100,G8ServicePrices[Code],0),MATCH($M$1,G8ServicePrices[#Headers],0))*AnnualMonths","v":{"$error":"#N/A"}}]
[{"$nulls":11},"+"]
[null,"Monitoring Services"]
[null,{"$f":"_xlfn.VSTACK(O103:O105)","v":"None"},{"$f":"IF(B103=0,\"\",\"è\")","v":"è"},{"$f":"_xlfn.VSTACK(P103:P105)","v":"X"},{"$f":"IF(B103=0,\"\",\"=\")","v":"="},{"$f":"IFERROR(S103,\"\")","v":{"v":0,"d":"$ 0"}},null,"X",{"$nulls":3},{"$f":"VLOOKUP(H103,D103:F105,3,FALSE)","v":{"v":0,"d":"$ 0"}},null,null,{"$f":"_xlfn._xlws.FILTER(_xlfn._xlws.FILTER(G8Monitoring[],G8Monitoring[Type]=ServicePlans),{1,1,0})","v":"None"},"X",null,null,{"$f":"IF(P103=\"X\",0,INDEX(G8ServicePrices[],MATCH(D103,G8ServicePrices[Code],0),MATCH($M$1,G8ServicePrices[#Headers],0))*AnnualMonths)","v":0}]
[null,0,"",0,"",{"$f":"IFERROR(S104,\"\")","v":""},{"$nulls":12},{"$f":"IF(P104=\"X\",0,INDEX(G8ServicePrices[],MATCH(D104,G8ServicePrices[Code],0),MATCH($M$1,G8ServicePrices[#Headers],0))*AnnualMonths)","v":{"$error":"#N/A"}}]
[null,0,"",0,"",{"$f":"IFERROR(S105,\"\")","v":""},{"$nulls":12},{"$f":"IF(P105=\"X\",0,INDEX(G8ServicePrices[],MATCH(D105,G8ServicePrices[Code],0),MATCH($M$1,G8ServicePrices[#Headers],0))*AnnualMonths)","v":{"$error":"#N/A"}}]
[{"$nulls":11},"+"]
[null,"Voice"]
[null,{"$f":"_xlfn.VSTACK(O108:O109)","v":"None"},{"$f":"IF(B108=0,\"\",\"è\")","v":"è"},{"$f":"_xlfn.VSTACK(P108:P109)","v":"X"},{"$f":"IF(B108=0,\"\",\"=\")","v":"="},{"$f":"IFERROR(S108,\"\")","v":{"v":0,"d":"$ 0"}},null,"X",{"$nulls":3},{"$f":"VLOOKUP(H108,D108:F109,3,FALSE)","v":{"v":0,"d":"$ 0"}},null,null,{"$f":"_xlfn._xlws.FILTER(_xlfn._xlws.FILTER(G8Voice[],G8Voice[Type]=ServicePlans),{1,1,0})","v":"None"},"X",null,null,{"$f":"IF(P108=\"X\",0,INDEX(G8ServicePrices[],MATCH(D108,G8ServicePrices[Code],0),MATCH($M$1,G8ServicePrices[#Headers],0))*AnnualMonths)","v":0}]
[null,0,"",0,"",{"$f":"IFERROR(S109,\"\")","v":""},{"$nulls":12},{"$f":"IF(P109=\"X\",0,INDEX(G8ServicePrices[],MATCH(D109,G8ServicePrices[Code],0),MATCH($M$1,G8ServicePrices[#Headers],0))*AnnualMonths)","v":{"$error":"#N/A"}}]
[{"$nulls":11},"+"]
[null,"Push-to-Talk"]
[null,{"$f":"_xlfn.VSTACK(O112:O113)","v":"None"},{"$f":"IF(B112=0,\"\",\"è\")","v":"è"},{"$f":"_xlfn.VSTACK(P112:P113)","v":"X"},{"$f":"IF(B112=0,\"\",\"=\")","v":"="},{"$f":"IFERROR(S112,\"\")","v":{"v":0,"d":"$ 0"}},null,"X",{"$nulls":3},{"$f":"VLOOKUP(H112,D112:F113,3,FALSE)","v":{"v":0,"d":"$ 0"}},null,null,{"$f":"_xlfn._xlws.FILTER(_xlfn._xlws.FILTER(G8PTT[],G8PTT[Type]=ServicePlans),{1,1,0})","v":"None"},"X",null,null,{"$f":"IF(P112=\"X\",0,INDEX(G8ServicePrices[],MATCH(D112,G8ServicePrices[Code],0),MATCH($M$1,G8ServicePrices[#Headers],0))*AnnualMonths)","v":0}]
[null,"Included","è","P","=",{"$f":"IFERROR(S113,\"\")","v":{"v":228,"d":"$ 228"}},{"$nulls":8},"Included","P",null,null,{"$f":"IF(P113=\"X\",0,INDEX(G8ServicePrices[],MATCH(D113,G8ServicePrices[Code],0),MATCH($M$1,G8ServicePrices[#Headers],0))*AnnualMonths)","v":228}]
[{"$nulls":11},"+"]
[null,"Future Service Option"]
[null,{"$f":"_xlfn.VSTACK(O116:O117)","v":"None"},{"$f":"IF(B116=0,\"\",\"è\")","v":"è"},{"$f":"_xlfn.VSTACK(P116:P117)","v":"X"},{"$f":"IF(B116=0,\"\",\"=\")","v":"="},{"$f":"IFERROR(S116,\"\")","v":{"v":0,"d":"$ 0"}},null,"X",{"$nulls":3},{"$f":"VLOOKUP(H116,D116:F117,3,FALSE)","v":{"v":0,"d":"$ 0"}},null,null,{"$f":"_xlfn._xlws.FILTER(_xlfn._xlws.FILTER(G8TeamCalling[],G8TeamCalling[Type]=ServicePlans),{1,1,0})","v":"None"},"X",null,null,{"$f":"IF(P116=\"X\",0,INDEX(G8ServicePrices[],MATCH(D116,G8ServicePrices[Code],0),MATCH($M$1,G8ServicePrices[#Headers],0))*AnnualMonths)","v":0}]
[null,0,"",0,"",{"$f":"IFERROR(S117,\"\")","v":""},{"$nulls":12},{"$f":"IF(P117=\"X\",0,INDEX(G8ServicePrices[],MATCH(D117,G8ServicePrices[Code],0),MATCH($M$1,G8ServicePrices[#Headers],0))*AnnualMonths)","v":{"$error":"#N/A"}}]
[{"$nulls":7},"-",{"$nulls":3},"=",{"$f":"ROUND((L98+L103+L108+L112+L116)*INDEX(BlendDisc[],MATCH(H120,BlendDisc[Term],0),MATCH(\"Multiplier\",BlendDisc[#Headers],0)),0)","v":{"v":204,"d":"$ 204"}}]
[null,"Term"]
[null,"One-Year","è","1Y",{"$nulls":3},"1Y",{"$nulls":4},"Discounted Service",{"$nulls":5},12]
[null,"Two-Years","è","2Y",{"$nulls":14},{"$f":"LEFT(H120,1)","v":"1"}]
[null,"Three-Years","è","3Y"]
[null,"Four-Years","è","4Y"]
[null,"Five-Years","è","5Y"]
[null,"Term discounts are 2% for 2-years, 3% for 3-years, 4% for 4-years, and 5% for 5-years"]
[null,"Term discounts are applied to the individual sum of the cartridge and service"]

{"sheet":"G8 Lone Worker Lease","index":25,"n_rows":56,"n_cols":19,"rows_kept":56,"merged":[[1,1,1,7],[2,1,12,1],[7,5,7,9],[9,7,9,9],[11,7,11,9],[13,1,13,5],[14,7,15,9],[14,11,15,11],[17,1,17,5],[18,7,18,9],[19,7,20,9],[20,1,20,5],[21,7,21,9],[22,7,23,9],[23,1,23,5],[24,7,26,9],[27,7,28,9],[28,1,28,5],[29,7,29,9],[30,7,31,9],[31,1,31,5],[32,7,34,9],[32,11,34,11],[35,11,36,11],[36,1,36,5],[37,7,39,9],[37,11,39,11],[40,11,41,11],[41,1,41,5],[42,7,43,9],[42,11,43,11],[44,11,45,11],[45,1,45,5],[46,7,47,9],[46,11,47,11],[48,11,49,11],[49,1,49,5],[50,7,51,9],[50,11,51,11],[52,7,53,9],[53,1,53,5],[54,7,55,9]]}
[null,{"$error":"#VALUE!"},{"$nulls":10},{"$f":"Currency","v":"USD"},null,null,"G8 Lone Worker Lease"]
[null,"G8 Lone Worker Lease",{"$nulls":10},{"$f":"PBYear","v":2025},"Quick Links"]
[null,{"$error":"#VALUE!"},{"$nulls":10},{"$f":"Revision","v":"Effective February 2, 2026 Rev 2"},"Main Menu"]
[{"$nulls":12},"Blackline Safety Confidential","Accessories"]
[{"$nulls":12},"All prices are an estimate - for a formal quote contact your local Blackline Safety representative"]
[]
[]
[{"$nulls":5},{"$f":"CONCATENATE(H15,H19,H20,H22,H23,H25,H28,H30,H31,ServicePlans,H38,H43,H47,H51,H53,H55)","v":"CMP-G8C-01-NA2-Z-SXXXX-4Y"},{"$nulls":5},{"$f":"L15+L33+L38+L43+L47+L51","v":{"v":35,"d":"$ 35"}},{"$f":"M1&\" / mo\"","v":"USD / mo"}]
[]
[]
[]
[{"$nulls":5},"Additional Cartridge",null,{"$f":"CONCATENATE(\"CMP-CART-\",H30,\"-\",H55,\"-R\")","v":"CMP-CART-Z-4Y-R"},{"$nulls":3},{"$f":"S31","v":{"v":4,"d":"$ 4"}},{"$f":"M1&\" / mo\"","v":"USD / mo"}]
[]
[null,"Buying Option",{"$nulls":16},"Price"]
[null,"Lease","è","CMP-G8",{"$nulls":3},{"$f":"D15","v":"CMP-G8"},{"$nulls":3},{"$f":"F16","v":{"v":18,"d":"$ 18"}}]
[1,null,null,"Device","=",{"$f":"SUM(S16:T16)","v":{"v":18,"d":"$ 18"}},{"$nulls":11},1,{"$f":"ROUND(INDEX(BasePrices[],MATCH(\"G8 Purchase Base Price\",BasePrices[Type],0),MATCH($M$1,BasePrices[#Headers],0))*Lease_Factor/LeaseMonths,0)+\nROUND(INDEX(BasePrices[],MATCH(\"G7 Warranty Base Price\",BasePrices[Type],0),MATCH($M$1,BasePrices[#Headers],0))*MAX(2,LeaseYears-2)*Lease_Factor/LeaseMonths,0)","v":18}]
[]
[null,"Connectivity"]
[null,"Cellular","è","C",{"$nulls":3},"C"]
[{"$nulls":7},"-",{"$nulls":3},""]
[null,"SIM Card"]
[null,"Standard (Telenor)","è","01",{"$nulls":3},{"$f":"D22","v":"01"}]
[{"$nulls":7},"-"]
[null,"Country Code"]
[null,{"$f":"_xlfn.VSTACK(O25:O27)","v":"North America (4G/LTE) - G8C"},{"$f":"IF(B25=\"\",\"\",\"è\")","v":"è"},{"$f":"IFERROR(_xlfn.VSTACK(P25:P27),\"\")","v":"NA2"},{"$nulls":3},"NA2",{"$nulls":6},{"$f":"_xlfn.LET(\n_xlpm.Dtype,G8CountryCodes[Type],_xlpm.Curr,G8CountryCodes[Currency],_xlpm.SType,H19,_xlpm.SCurr,M1,\n_xlpm.myCalculation,_xlfn.VSTACK(_xlfn._xlws.FILTER(G8CountryCodes[],(_xlpm.Dtype=_xlpm.SType)*(_xlpm.Curr=_xlpm.SCurr))),_xlpm.myCalculation)","v":"North America (4G/LTE) - G8C"},"NA2","C","USD"]
[null,"Outside of North America (4G/LTE) - G8C",{"$f":"IF(B26=0,\"\",\"è\")","v":"è"},"EU2",{"$nulls":10},"Outside of North America (4G/LTE) - G8C","EU2","C","USD"]
[null,0,{"$f":"IF(B27=0,\"\",\"è\")","v":""},0]
[{"$nulls":7},"-"]
[null,"Cartridge Type",{"$nulls":16},{"$f":"INDEX(BasePrices[],MATCH(\"Standard Cartridge\",BasePrices[Type],0),MATCH($M$1,BasePrices[#Headers],0))","v":47}]
[null,"Lone Worker","è","Z",{"$nulls":3},{"$f":"D30","v":"Z"},{"$nulls":10},{"$f":"IF(H55=\"3Y\",3,\nIF(H55=\"4Y\",3.5,\nIF(H55=\"5Y\",4)))","v":3.5}]
[{"$nulls":7},"-",{"$nulls":10},{"$f":"ROUND(S29*S30*Lease_Factor/LeaseMonths,0)","v":4}]
[null,"Service Plan"]
[null,{"$f":"_xlfn.VSTACK(O33:O35)","v":"Standard"},{"$f":"IF(B33=0,\"\",\"è\")","v":"è"},{"$f":"_xlfn.VSTACK(P33:P35)","v":"S"},{"$f":"IF(B33=0,\"\",\"=\")","v":"="},{"$f":"IFERROR(S33,\"\")","v":{"v":17,"d":"$ 17"}},null,"S",{"$nulls":3},{"$f":"VLOOKUP(H33,D33:F35,3,FALSE)","v":{"v":17,"d":"$ 17"}},null,null,{"$f":"_xlfn.VSTACK(G8ServicePlans[])","v":"Standard"},"S",null,null,{"$f":"IF(D33=\"X\",0,\nROUND(INDEX(G8ServicePrices[],MATCH(D33,G8ServicePrices[Code],0),MATCH($M$1,G8ServicePrices[#Headers],0))*\nINDEX(G8ServicePrices[],MATCH(D33,G8ServicePrices[Code],0),MATCH(\"LeaseFactor\",G8ServicePrices[#Headers],0)),0))","v":17}]
[null,"Pro","è","K","=",{"v":32,"d":"$ 32"},{"$nulls":8},"Pro","K",null,null,{"$f":"IF(D34=\"X\",0,\nROUND(INDEX(G8ServicePrices[],MATCH(D34,G8ServicePrices[Code],0),MATCH($M$1,G8ServicePrices[#Headers],0))*\nINDEX(G8ServicePrices[],MATCH(D34,G8ServicePrices[Code],0),MATCH(\"LeaseFactor\",G8ServicePrices[#Headers],0)),0))","v":32}]
[null,0,"",0,"","",{"$nulls":12},{"$f":"IF(D35=\"X\",0,\nROUND(INDEX(G8ServicePrices[],MATCH(D35,G8ServicePrices[Code],0),MATCH($M$1,G8ServicePrices[#Headers],0))*\nINDEX(G8ServicePrices[],MATCH(D35,G8ServicePrices[Code],0),MATCH(\"LeaseFactor\",G8ServicePrices[#Headers],0)),0))","v":{"$error":"#N/A"}}]
[{"$nulls":11},"+"]
[null,"Monitoring Services"]
[null,{"$f":"_xlfn.VSTACK(O38:O40)","v":"None"},{"$f":"IF(B38=0,\"\",\"è\")","v":"è"},{"$f":"_xlfn.VSTACK(P38:P40)","v":"X"},{"$f":"IF(B38=0,\"\",\"=\")","v":"="},{"$f":"IFERROR(S38,\"\")","v":{"v":0,"d":"$ 0"}},null,"X",{"$nulls":3},{"$f":"VLOOKUP(H38,D38:F40,3,FALSE)","v":{"v":0,"d":"$ 0"}},null,null,{"$f":"_xlfn._xlws.FILTER(_xlfn._xlws.FILTER(G8Monitoring[],G8Monitoring[Type]=ServicePlans),{1,1,0})","v":"None"},"X",null,null,{"$f":"IF(D38=\"X\",0,\nROUND(INDEX(G8ServicePrices[],MATCH(D38,G8ServicePrices[Code],0),MATCH($M$1,G8ServicePrices[#Headers],0))*\nINDEX(G8ServicePrices[],MATCH(D38,G8ServicePrices[Code],0),MATCH(\"LeaseFactor\",G8ServicePrices[#Headers],0)),0))","v":0}]
[null,0,"",0,"",{"$f":"IFERROR(S39,\"\")","v":""},{"$nulls":12},{"$f":"IF(D39=\"X\",0,\nROUND(INDEX(G8ServicePrices[],MATCH(D39,G8ServicePrices[Code],0),MATCH($M$1,G8ServicePrices[#Headers],0))*\nINDEX(G8ServicePrices[],MATCH(D39,G8ServicePrices[Code],0),MATCH(\"LeaseFactor\",G8ServicePrices[#Headers],0)),0))","v":{"$error":"#N/A"}}]
[null,0,"",0,"",{"$f":"IFERROR(S40,\"\")","v":""},{"$nulls":12},{"$f":"IF(D40=\"X\",0,\nROUND(INDEX(G8ServicePrices[],MATCH(D40,G8ServicePrices[Code],0),MATCH($M$1,G8ServicePrices[#Headers],0))*\nINDEX(G8ServicePrices[],MATCH(D40,G8ServicePrices[Code],0),MATCH(\"LeaseFactor\",G8ServicePrices[#Headers],0)),0))","v":{"$error":"#N/A"}}]
[{"$nulls":11},"+"]
[null,"Voice"]
[null,{"$f":"_xlfn.VSTACK(O43:O44)","v":"None"},{"$f":"IF(B43=0,\"\",\"è\")","v":"è"},{"$f":"_xlfn.VSTACK(P43:P44)","v":"X"},{"$f":"IF(B43=0,\"\",\"=\")","v":"="},{"$f":"IFERROR(S43,\"\")","v":{"v":0,"d":"$ 0"}},null,"X",{"$nulls":3},{"$f":"VLOOKUP(H43,D43:F44,3,FALSE)","v":{"v":0,"d":"$ 0"}},null,null,{"$f":"_xlfn._xlws.FILTER(_xlfn._xlws.FILTER(G8Voice[],G8Voice[Type]=ServicePlans),{1,1,0})","v":"None"},"X",null,null,{"$f":"IF(D43=\"X\",0,\nROUND(INDEX(G8ServicePrices[],MATCH(D43,G8ServicePrices[Code],0),MATCH($M$1,G8ServicePrices[#Headers],0))*\nINDEX(G8ServicePrices[],MATCH(D43,G8ServicePrices[Code],0),MATCH(\"LeaseFactor\",G8ServicePrices[#Headers],0)),0))","v":0}]
[null,0,"",0,"",{"$f":"IFERROR(S44,\"\")","v":""},{"$nulls":12},{"$f":"IF(D44=\"X\",0,\nROUND(INDEX(G8ServicePrices[],MATCH(D44,G8ServicePrices[Code],0),MATCH($M$1,G8ServicePrices[#Headers],0))*\nINDEX(G8ServicePrices[],MATCH(D44,G8ServicePrices[Code],0),MATCH(\"LeaseFactor\",G8ServicePrices[#Headers],0)),0))","v":{"$error":"#N/A"}}]
[{"$nulls":11},"+"]
[null,"Push-to-Talk"]
[null,{"$f":"_xlfn.VSTACK(O47:O48)","v":"None"},{"$f":"IF(B47=0,\"\",\"è\")","v":"è"},{"$f":"_xlfn.VSTACK(P47:P48)","v":"X"},{"$f":"IF(B47=0,\"\",\"=\")","v":"="},{"$f":"IFERROR(S47,\"\")","v":{"v":0,"d":"$ 0"}},null,"X",{"$nulls":3},{"$f":"VLOOKUP(H47,D47:F48,3,FALSE)","v":{"v":0,"d":"$ 0"}},null,null,{"$f":"_xlfn._xlws.FILTER(_xlfn._xlws.FILTER(G8PTT[],G8PTT[Type]=ServicePlans),{1,1,0})","v":"None"},"X",null,null,{"$f":"IF(D47=\"X\",0,\nROUND(INDEX(G8ServicePrices[],MATCH(D47,G8ServicePrices[Code],0),MATCH($M$1,G8ServicePrices[#Headers],0))*\nINDEX(G8ServicePrices[],MATCH(D47,G8ServicePrices[Code],0),MATCH(\"LeaseFactor\",G8ServicePrices[#Headers],0)),0))","v":0}]
[null,"Included","è","P","=",{"$f":"IFERROR(S48,\"\")","v":{"v":23,"d":"$ 23"}},{"$nulls":8},"Included","P",null,null,{"$f":"IF(D48=\"X\",0,\nROUND(INDEX(G8ServicePrices[],MATCH(D48,G8ServicePrices[Code],0),MATCH($M$1,G8ServicePrices[#Headers],0))*\nINDEX(G8ServicePrices[],MATCH(D48,G8ServicePrices[Code],0),MATCH(\"LeaseFactor\",G8ServicePrices[#Headers],0)),0))","v":23}]
[{"$nulls":11},"+"]
[null,"Future Service Option"]
[null,{"$f":"_xlfn.VSTACK(O51:O52)","v":"None"},{"$f":"IF(B51=0,\"\",\"è\")","v":"è"},{"$f":"_xlfn.VSTACK(P51:P52)","v":"X"},{"$f":"IF(B51=0,\"\",\"=\")","v":"="},{"$f":"IFERROR(S51,\"\")","v":{"v":0,"d":"$ 0"}},null,"X",{"$nulls":3},{"$f":"VLOOKUP(H51,D51:F52,3,FALSE)","v":{"v":0,"d":"$ 0"}},null,null,{"$f":"_xlfn._xlws.FILTER(_xlfn._xlws.FILTER(G8TeamCalling[],G8TeamCalling[Type]=ServicePlans),{1,1,0})","v":"None"},"X",null,null,{"$f":"IF(D51=\"X\",0,\nROUND(INDEX(G8ServicePrices[],MATCH(D51,G8ServicePrices[Code],0),MATCH($M$1,G8ServicePrices[#Headers],0))*\nINDEX(G8ServicePrices[],MATCH(D51,G8ServicePrices[Code],0),MATCH(\"LeaseFactor\",G8ServicePrices[#Headers],0)),0))","v":0}]
[null,0,"",0,"",{"$f":"IFERROR(S52,\"\")","v":""},{"$nulls":12},{"$f":"IF(D52=\"X\",0,\nROUND(INDEX(G8ServicePrices[],MATCH(D52,G8ServicePrices[Code],0),MATCH($M$1,G8ServicePrices[#Headers],0))*\nINDEX(G8ServicePrices[],MATCH(D52,G8ServicePrices[Code],0),MATCH(\"LeaseFactor\",G8ServicePrices[#Headers],0)),0))","v":{"$error":"#N/A"}}]
[{"$nulls":7},"-"]
[null,"Lease Term"]
[null,"Three-Years","è","3Y",{"$nulls":3},"4Y",{"$nulls":6},{"$f":"LEFT(H55,1)","v":"4"}]
[null,"Four-Years","è","4Y",{"$nulls":10},{"$f":"LeaseYears*12","v":48}]

{"sheet":"G8 Single-Gas Lease","index":26,"n_rows":78,"n_cols":24,"rows_kept":78,"merged":[[1,1,1,7],[2,1,12,1],[7,5,7,9],[9,7,9,9],[11,7,11,9],[14,1,14,5],[15,7,16,9],[15,11,16,11],[18,1,18,5],[19,7,19,9],[20,7,21,9],[21,1,21,5],[22,7,22,9],[23,7,24,9],[24,1,24,5],[25,7,27,9],[28,7,29,9],[29,1,29,5],[30,7,30,9],[31,7,32,9],[31,11,32,11],[32,1,32,5],[33,7,51,9],[33,11,51,11],[52,7,53,9],[53,1,53,5],[54,7,56,9],[54,11,56,11],[57,11,58,11],[58,1,58,5],[59,7,61,9],[59,11,61,11],[62,11,63,11],[63,1,63,5],[64,7,65,9],[64,11,65,11],[66,11,67,11],[67,1,67,5],[68,7,69,9],[68,11,69,11],[70,11,71,11],[71,1,71,5],[72,7,73,9],[72,11,73,11],[74,7,75,9],[75,1,75,5],[76,7,77,9]]}
[null,{"$error":"#VALUE!"},{"$nulls":10},{"$f":"Currency","v":"USD"},null,null,"G8 Single-Gas Lease"]
[null,"G8 Single-Gas Lease",{"$nulls":10},{"$f":"PBYear","v":2025},"Quick Links"]
[null,{"$error":"#VALUE!"},{"$nulls":10},{"$f":"Revision","v":"Effective February 2, 2026 Rev 2"},"Main Menu"]
[{"$nulls":12},"Blackline Safety Confidential","Accessories"]
[{"$nulls":12},"All prices are an estimate - for a formal quote contact your local Blackline Safety representative"]
[]
[]
[{"$nulls":5},{"$f":"CONCATENATE(H16,H20,H21,H23,H24,H26,H29,H31,H32,H34,H53,ServicePlans,H60,H65,H69,H73,H75,H77)","v":"CMP-G8C-01-NA2-S-H-SXXXX-4Y"},{"$nulls":5},{"$f":"L16+L31+L34+L55+L60+L65+L69+L73","v":{"v":40,"d":"$ 40"}},{"$f":"M1&\" / mo\"","v":"USD / mo"}]
[]
[]
[]
[{"$nulls":5},"Additional Cartridge",null,{"$f":"CONCATENATE(\"CMP-CART-\",H31,H32,H34,H75,H77,\"-R\")","v":"CMP-CART-S-H-4Y-R"},{"$nulls":3},{"$f":"X33","v":{"v":0,"d":"$ 0"}},{"$f":"M1&\" / mo\"","v":"USD / mo"}]
[]
[null,"Device"]
[null,"Buying Option",{"$nulls":16},"Price",{"$nulls":3},"Additional CART"]
[null,"Lease","è","CMP-G8",{"$nulls":3},{"$f":"D16","v":"CMP-G8"},{"$nulls":3},{"$f":"F17","v":{"v":18,"d":"$ 18"}}]
[1,null,null,"Device","=",{"$f":"SUM(S17:T17)","v":{"v":18,"d":"$ 18"}},{"$nulls":11},1,{"$f":"ROUND(INDEX(BasePrices[],MATCH(\"G8 Purchase Base Price\",BasePrices[Type],0),MATCH($M$1,BasePrices[#Headers],0))*Lease_Factor/LeaseMonths,0)+\nROUND(INDEX(BasePrices[],MATCH(\"G7 Warranty Base Price\",BasePrices[Type],0),MATCH($M$1,BasePrices[#Headers],0))*MAX(2,LeaseYears-2)*Lease_Factor/LeaseMonths,0)","v":18}]
[]
[null,"Connectivity"]
[null,"Cellular","è","C",{"$nulls":3},"C"]
[{"$nulls":7},"-"]
[null,"SIM Card"]
[null,"Standard (Telenor)","è","01",{"$nulls":3},{"$f":"D23","v":"01"}]
[{"$nulls":7},"-"]
[null,"Country Code"]
[null,{"$f":"_xlfn.VSTACK(O26:O28)","v":"North America (4G/LTE) - G8C"},{"$f":"IF(B26=\"\",\"\",\"è\")","v":"è"},{"$f":"IFERROR(_xlfn.VSTACK(P26:P28),\"\")","v":"NA2"},{"$nulls":3},"NA2",{"$nulls":6},{"$f":"_xlfn.LET(\n_xlpm.Dtype,G8CountryCodes[Type],_xlpm.Curr,G8CountryCodes[Currency],_xlpm.SType,H20,_xlpm.SCurr,M1,\n_xlpm.myCalculation,_xlfn.VSTACK(_xlfn._xlws.FILTER(G8CountryCodes[],(_xlpm.Dtype=_xlpm.SType)*(_xlpm.Curr=_xlpm.SCurr))),_xlpm.myCalculation)","v":"North America (4G/LTE) - G8C"},"NA2","C","USD"]
[null,"Outside of North America (4G/LTE) - G8C",{"$f":"IF(B27=0,\"\",\"è\")","v":"è"},"EU2",{"$nulls":10},"Outside of North America (4G/LTE) - G8C","EU2","C","USD"]
[null,0,{"$f":"IF(B28=0,\"\",\"è\")","v":""},0]
[{"$nulls":7},"-"]
[null,"Cartridge Type"]
[null,"Single Sensor","è","S","=",{"$f":"SUM(S31:T31)","v":{"v":5,"d":"$ 5"}},null,{"$f":"D31","v":"S"},{"$nulls":3},{"$f":"F31","v":{"v":5,"d":"$ 5"}},{"$nulls":6},{"$f":"ROUND((INDEX(BasePrices[],MATCH(\"1 Sensor Cartridge\",BasePrices[Type],0),MATCH($M$1,BasePrices[#Headers],0))*2+\nINDEX(BasePrices[],MATCH(\"1 Sensor Cartridge\",BasePrices[Type],0),MATCH($M$1,BasePrices[#Headers],0))*0.2777777*MAX(0,LeaseYears-2))*Lease_Factor/LeaseMonths,0)","v":5},{"$nulls":3},{"$f":"IF(H77=\"3Y\",3,\nIF(H77=\"4Y\",3.5,\nIF(H77=\"5Y\",4)))","v":3.5}]
[{"$nulls":7},"-",{"$nulls":3},"+"]
[null,"Toxic Sensor",{"$nulls":21},{"$f":"VLOOKUP(H34,D34:W52,20,FALSE)","v":0}]
[null,{"$f":"_xlfn.VSTACK(O34:O52)","v":"HF"},{"$f":"IF(B34=0,\"\",\"è\")","v":"è"},{"$f":"_xlfn.VSTACK(P34:P52)","v":"2"},{"$f":"IF(B34=0,\"\",\"=\")","v":"="},{"$f":"IFERROR(SUM(S34:T34),\"\")","v":{"v":27,"d":"$ 27"}},null,"H",{"$nulls":3},{"$f":"VLOOKUP(H34,D34:F52,3,FALSE)","v":{"v":0,"d":"$ 0"}},null,null,{"$f":"_xlfn.LET(\n_xlpm.Dtype,G7Sensors[Type1],_xlpm.Curr,G7Sensors[Currency],_xlpm.Stype,H31,_xlpm.SCurr,M1,\n_xlpm.myCalculation,_xlfn.VSTACK(_xlfn._xlws.FILTER(G7Sensors[],(_xlpm.Dtype=_xlpm.Stype)*(_xlpm.Curr=_xlpm.SCurr))),_xlpm.myCalculation)","v":"HF"},"2","S","USD",{"$f":"ROUNDUP((INDEX(SensorPricing[],MATCH(D34,SensorPricing[Sensor],0),MATCH($M$1,SensorPricing[#Headers],0))*2+\nINDEX(SensorPricing[],MATCH(D34,SensorPricing[Sensor],0),MATCH($M$1,SensorPricing[#Headers],0))*0.2777777*MAX(0,LeaseYears-2))*Lease_Factor/LeaseMonths,0)","v":27},{"$nulls":3},{"$f":"ROUND(INDEX(SensorPricing[],MATCH(D34,SensorPricing[Sensor],0),MATCH($M$1,SensorPricing[#Headers],0))*$W$31*Lease_Factor/LeaseMonths,0)","v":37}]
[null,"NH3","è","A","=",{"$f":"IFERROR(SUM(S35:T35),\"\")","v":{"v":4,"d":"$ 4"}},{"$nulls":8},"NH3","A","S","USD",{"$f":"ROUNDUP((INDEX(SensorPricing[],MATCH(D35,SensorPricing[Sensor],0),MATCH($M$1,SensorPricing[#Headers],0))*2+\nINDEX(SensorPricing[],MATCH(D35,SensorPricing[Sensor],0),MATCH($M$1,SensorPricing[#Headers],0))*0.2777777*MAX(0,LeaseYears-2))*Lease_Factor/LeaseMonths,0)","v":4},{"$nulls":3},{"$f":"ROUND(INDEX(SensorPricing[],MATCH(D35,SensorPricing[Sensor],0),MATCH($M$1,SensorPricing[#Headers],0))*$W$31*Lease_Factor/LeaseMonths,0)","v":5}]
[null,"High-range NH3 ","è","B","=",{"v":9,"d":"$ 9"},{"$nulls":8},"High-range NH3 ","B","S","USD",{"$f":"ROUNDUP((INDEX(SensorPricing[],MATCH(D36,SensorPricing[Sensor],0),MATCH($M$1,SensorPricing[#Headers],0))*2+\nINDEX(SensorPricing[],MATCH(D36,SensorPricing[Sensor],0),MATCH($M$1,SensorPricing[#Headers],0))*0.2777777*MAX(0,LeaseYears-2))*Lease_Factor/LeaseMonths,0)","v":9},{"$nulls":3},{"$f":"ROUND(INDEX(SensorPricing[],MATCH(D36,SensorPricing[Sensor],0),MATCH($M$1,SensorPricing[#Headers],0))*$W$31*Lease_Factor/LeaseMonths,0)","v":11}]
[null,"CO2","è","C","=",{"v":16,"d":"$ 16"},{"$nulls":8},"CO2","C","S","USD",{"$f":"ROUNDUP((INDEX(SensorPricing[],MATCH(D37,SensorPricing[Sensor],0),MATCH($M$1,SensorPricing[#Headers],0))*2+\nINDEX(SensorPricing[],MATCH(D37,SensorPricing[Sensor],0),MATCH($M$1,SensorPricing[#Headers],0))*0.2777777*MAX(0,LeaseYears-2))*Lease_Factor/LeaseMonths,0)","v":16},{"$nulls":3},{"$f":"ROUND(INDEX(SensorPricing[],MATCH(D37,SensorPricing[Sensor],0),MATCH($M$1,SensorPricing[#Headers],0))*$W$31*Lease_Factor/LeaseMonths,0)","v":21}]
[null,"O3","è","E","=",{"v":8,"d":"$ 8"},{"$nulls":8},"O3","E","S","USD",{"$f":"ROUNDUP((INDEX(SensorPricing[],MATCH(D38,SensorPricing[Sensor],0),MATCH($M$1,SensorPricing[#Headers],0))*2+\nINDEX(SensorPricing[],MATCH(D38,SensorPricing[Sensor],0),MATCH($M$1,SensorPricing[#Headers],0))*0.2777777*MAX(0,LeaseYears-2))*Lease_Factor/LeaseMonths,0)","v":8},{"$nulls":3},{"$f":"ROUND(INDEX(SensorPricing[],MATCH(D38,SensorPricing[Sensor],0),MATCH($M$1,SensorPricing[#Headers],0))*$W$31*Lease_Factor/LeaseMonths,0)","v":11}]
[null,"H2S","è","H","=",{"v":0,"d":"$ 0"},{"$nulls":8},"H2S","H","S","USD",{"$f":"ROUNDUP((INDEX(SensorPricing[],MATCH(D39,SensorPricing[Sensor],0),MATCH($M$1,SensorPricing[#Headers],0))*2+\nINDEX(SensorPricing[],MATCH(D39,SensorPricing[Sensor],0),MATCH($M$1,SensorPricing[#Headers],0))*0.2777777*MAX(0,LeaseYears-2))*Lease_Factor/LeaseMonths,0)","v":0},{"$nulls":3},{"$f":"ROUND(INDEX(SensorPricing[],MATCH(D39,SensorPricing[Sensor],0),MATCH($M$1,SensorPricing[#Headers],0))*$W$31*Lease_Factor/LeaseMonths,0)","v":0}]
[null,"High-range H2S ","è","J","=",{"v":8,"d":"$ 8"},{"$nulls":8},"High-range H2S ","J","S","USD",{"$f":"ROUNDUP((INDEX(SensorPricing[],MATCH(D40,SensorPricing[Sensor],0),MATCH($M$1,SensorPricing[#Headers],0))*2+\nINDEX(SensorPricing[],MATCH(D40,SensorPricing[Sensor],0),MATCH($M$1,SensorPricing[#Headers],0))*0.2777777*MAX(0,LeaseYears-2))*Lease_Factor/LeaseMonths,0)","v":8},{"$nulls":3},{"$f":"ROUND(INDEX(SensorPricing[],MATCH(D40,SensorPricing[Sensor],0),MATCH($M$1,SensorPricing[#Headers],0))*$W$31*Lease_Factor/LeaseMonths,0)","v":11}]
[null,"NO2 ","è","K","=",{"v":4,"d":"$ 4"},{"$nulls":8},"NO2 ","K","S","USD",{"$f":"ROUNDUP((INDEX(SensorPricing[],MATCH(D41,SensorPricing[Sensor],0),MATCH($M$1,SensorPricing[#Headers],0))*2+\nINDEX(SensorPricing[],MATCH(D41,SensorPricing[Sensor],0),MATCH($M$1,SensorPricing[#Headers],0))*0.2777777*MAX(0,LeaseYears-2))*Lease_Factor/LeaseMonths,0)","v":4},{"$nulls":3},{"$f":"ROUND(INDEX(SensorPricing[],MATCH(D41,SensorPricing[Sensor],0),MATCH($M$1,SensorPricing[#Headers],0))*$W$31*Lease_Factor/LeaseMonths,0)","v":5}]
[null,"Cl2","è","L","=",{"v":4,"d":"$ 4"},{"$nulls":8},"Cl2","L","S","USD",{"$f":"ROUNDUP((INDEX(SensorPricing[],MATCH(D42,SensorPricing[Sensor],0),MATCH($M$1,SensorPricing[#Headers],0))*2+\nINDEX(SensorPricing[],MATCH(D42,SensorPricing[Sensor],0),MATCH($M$1,SensorPricing[#Headers],0))*0.2777777*MAX(0,LeaseYears-2))*Lease_Factor/LeaseMonths,0)","v":4},{"$nulls":3},{"$f":"ROUND(INDEX(SensorPricing[],MATCH(D42,SensorPricing[Sensor],0),MATCH($M$1,SensorPricing[#Headers],0))*$W$31*Lease_Factor/LeaseMonths,0)","v":5}]
[null,"CO ","è","M","=",{"v":0,"d":"$ 0"},{"$nulls":8},"CO ","M","S","USD",{"$f":"ROUNDUP((INDEX(SensorPricing[],MATCH(D43,SensorPricing[Sensor],0),MATCH($M$1,SensorPricing[#Headers],0))*2+\nINDEX(SensorPricing[],MATCH(D43,SensorPricing[Sensor],0),MATCH($M$1,SensorPricing[#Headers],0))*0.2777777*MAX(0,LeaseYears-2))*Lease_Factor/LeaseMonths,0)","v":0},{"$nulls":3},{"$f":"ROUND(INDEX(SensorPricing[],MATCH(D43,SensorPricing[Sensor],0),MATCH($M$1,SensorPricing[#Headers],0))*$W$31*Lease_Factor/LeaseMonths,0)","v":0}]
[null,"HCN","è","N","=",{"v":4,"d":"$ 4"},{"$nulls":8},"HCN","N","S","USD",{"$f":"ROUNDUP((INDEX(SensorPricing[],MATCH(D44,SensorPricing[Sensor],0),MATCH($M$1,SensorPricing[#Headers],0))*2+\nINDEX(SensorPricing[],MATCH(D44,SensorPricing[Sensor],0),MATCH($M$1,SensorPricing[#Headers],0))*0.2777777*MAX(0,LeaseYears-2))*Lease_Factor/LeaseMonths,0)","v":4},{"$nulls":3},{"$f":"ROUND(INDEX(SensorPricing[],MATCH(D44,SensorPricing[Sensor],0),MATCH($M$1,SensorPricing[#Headers],0))*$W$31*Lease_Factor/LeaseMonths,0)","v":5}]
[null,"O2","è","O","=",{"v":0,"d":"$ 0"},{"$nulls":8},"O2","O","S","USD",{"$f":"ROUNDUP((INDEX(SensorPricing[],MATCH(D45,SensorPricing[Sensor],0),MATCH($M$1,SensorPricing[#Headers],0))*2+\nINDEX(SensorPricing[],MATCH(D45,SensorPricing[Sensor],0),MATCH($M$1,SensorPricing[#Headers],0))*0.2777777*MAX(0,LeaseYears-2))*Lease_Factor/LeaseMonths,0)","v":0},{"$nulls":3},{"$f":"ROUND(INDEX(SensorPricing[],MATCH(D45,SensorPricing[Sensor],0),MATCH($M$1,SensorPricing[#Headers],0))*$W$31*Lease_Factor/LeaseMonths,0)","v":0}]
[null,"CO-H ","è","R","=",{"v":0,"d":"$ 0"},{"$nulls":8},"CO-H ","R","S","USD",{"$f":"ROUNDUP((INDEX(SensorPricing[],MATCH(D46,SensorPricing[Sensor],0),MATCH($M$1,SensorPricing[#Headers],0))*2+\nINDEX(SensorPricing[],MATCH(D46,SensorPricing[Sensor],0),MATCH($M$1,SensorPricing[#Headers],0))*0.2777777*MAX(0,LeaseYears-2))*Lease_Factor/LeaseMonths,0)","v":0},{"$nulls":3},{"$f":"ROUND(INDEX(SensorPricing[],MATCH(D46,SensorPricing[Sensor],0),MATCH($M$1,SensorPricing[#Headers],0))*$W$31*Lease_Factor/LeaseMonths,0)","v":0}]
[null,"SO2","è","S","=",{"v":0,"d":"$ 0"},{"$nulls":8},"SO2","S","S","USD",{"$f":"ROUNDUP((INDEX(SensorPricing[],MATCH(D47,SensorPricing[Sensor],0),MATCH($M$1,SensorPricing[#Headers],0))*2+\nINDEX(SensorPricing[],MATCH(D47,SensorPricing[Sensor],0),MATCH($M$1,SensorPricing[#Headers],0))*0.2777777*MAX(0,LeaseYears-2))*Lease_Factor/LeaseMonths,0)","v":0},{"$nulls":3},{"$f":"ROUND(INDEX(SensorPricing[],MATCH(D47,SensorPricing[Sensor],0),MATCH($M$1,SensorPricing[#Headers],0))*$W$31*Lease_Factor/LeaseMonths,0)","v":0}]
[null,"High-range CO ","è","T","=",{"v":8,"d":"$ 8"},{"$nulls":8},"High-range CO ","T","S","USD",{"$f":"ROUNDUP((INDEX(SensorPricing[],MATCH(D48,SensorPricing[Sensor],0),MATCH($M$1,SensorPricing[#Headers],0))*2+\nINDEX(SensorPricing[],MATCH(D48,SensorPricing[Sensor],0),MATCH($M$1,SensorPricing[#Headers],0))*0.2777777*MAX(0,LeaseYears-2))*Lease_Factor/LeaseMonths,0)","v":8},{"$nulls":3},{"$f":"ROUND(INDEX(SensorPricing[],MATCH(D48,SensorPricing[Sensor],0),MATCH($M$1,SensorPricing[#Headers],0))*$W$31*Lease_Factor/LeaseMonths,0)","v":11}]
[null,"PID","è","V","=",{"v":31,"d":"$ 31"},{"$nulls":8},"PID","V","S","USD",{"$f":"ROUNDUP((INDEX(SensorPricing[],MATCH(D49,SensorPricing[Sensor],0),MATCH($M$1,SensorPricing[#Headers],0))*2+\nINDEX(SensorPricing[],MATCH(D49,SensorPricing[Sensor],0),MATCH($M$1,SensorPricing[#Headers],0))*0.2777777*MAX(0,LeaseYears-2))*Lease_Factor/LeaseMonths,0)","v":31},{"$nulls":3},{"$f":"ROUND(INDEX(SensorPricing[],MATCH(D49,SensorPricing[Sensor],0),MATCH($M$1,SensorPricing[#Headers],0))*$W$31*Lease_Factor/LeaseMonths,0)","v":42}]
[null,"ClO2","è","W","=",{"v":4,"d":"$ 4"},{"$nulls":8},"ClO2","W","S","USD",{"$f":"ROUNDUP((INDEX(SensorPricing[],MATCH(D50,SensorPricing[Sensor],0),MATCH($M$1,SensorPricing[#Headers],0))*2+\nINDEX(SensorPricing[],MATCH(D50,SensorPricing[Sensor],0),MATCH($M$1,SensorPricing[#Headers],0))*0.2777777*MAX(0,LeaseYears-2))*Lease_Factor/LeaseMonths,0)","v":4},{"$nulls":3},{"$f":"ROUND(INDEX(SensorPricing[],MATCH(D50,SensorPricing[Sensor],0),MATCH($M$1,SensorPricing[#Headers],0))*$W$31*Lease_Factor/LeaseMonths,0)","v":5}]
[null,0,{"$f":"IF(B51=0,\"\",\"è\")","v":""},0,{"$f":"IF(B51=0,\"\",\"=\")","v":""},"",{"$nulls":12},{"$f":"ROUNDUP((INDEX(SensorPricing[],MATCH(D51,SensorPricing[Sensor],0),MATCH($M$1,SensorPricing[#Headers],0))*2+\nINDEX(SensorPricing[],MATCH(D51,SensorPricing[Sensor],0),MATCH($M$1,SensorPricing[#Headers],0))*0.2777777*MAX(0,LeaseYears-2))*Lease_Factor/LeaseMonths,0)","v":{"$error":"#N/A"}},{"$nulls":3},{"$f":"ROUND(INDEX(SensorPricing[],MATCH(D51,SensorPricing[Sensor],0),MATCH($M$1,SensorPricing[#Headers],0))*$W$31*Lease_Factor/LeaseMonths,0)","v":{"$error":"#N/A"}}]
[null,0,{"$f":"IF(B52=0,\"\",\"è\")","v":""},0,{"$f":"IF(B52=0,\"\",\"=\")","v":""},"",{"$nulls":12},{"$f":"ROUNDUP((INDEX(SensorPricing[],MATCH(D52,SensorPricing[Sensor],0),MATCH($M$1,SensorPricing[#Headers],0))*2+\nINDEX(SensorPricing[],MATCH(D52,SensorPricing[Sensor],0),MATCH($M$1,SensorPricing[#Headers],0))*0.2777777*MAX(0,LeaseYears-2))*Lease_Factor/LeaseMonths,0)","v":{"$error":"#N/A"}},{"$nulls":3},{"$f":"ROUND(INDEX(SensorPricing[],MATCH(D52,SensorPricing[Sensor],0),MATCH($M$1,SensorPricing[#Headers],0))*$W$31*Lease_Factor/LeaseMonths,0)","v":{"$error":"#N/A"}}]
[{"$nulls":7},"-"]
[null,"Service Plan"]
[null,{"$f":"_xlfn.VSTACK(O55:O57)","v":"Standard"},{"$f":"IF(B55=0,\"\",\"è\")","v":"è"},{"$f":"_xlfn.VSTACK(P55:P57)","v":"S"},{"$f":"IF(B55=0,\"\",\"=\")","v":"="},{"$f":"IFERROR(S55,\"\")","v":{"v":17,"d":"$ 17"}},null,"S",{"$nulls":3},{"$f":"VLOOKUP(H55,D55:F57,3,FALSE)","v":{"v":17,"d":"$ 17"}},null,null,{"$f":"_xlfn.VSTACK(G8ServicePlans[])","v":"Standard"},"S",null,null,{"$f":"IF(D55=\"X\",0,\nROUND(INDEX(G8ServicePrices[],MATCH(D55,G8ServicePrices[Code],0),MATCH($M$1,G8ServicePrices[#Headers],0))*\nINDEX(G8ServicePrices[],MATCH(D55,G8ServicePrices[Code],0),MATCH(\"LeaseFactor\",G8ServicePrices[#Headers],0)),0))","v":17}]
[null,"Pro","è","K","=",{"v":32,"d":"$ 32"},{"$nulls":8},"Pro","K",null,null,{"$f":"IF(D56=\"X\",0,\nROUND(INDEX(G8ServicePrices[],MATCH(D56,G8ServicePrices[Code],0),MATCH($M$1,G8ServicePrices[#Headers],0))*\nINDEX(G8ServicePrices[],MATCH(D56,G8ServicePrices[Code],0),MATCH(\"LeaseFactor\",G8ServicePrices[#Headers],0)),0))","v":32}]
[null,0,"",0,"","",{"$nulls":12},{"$f":"IF(D57=\"X\",0,\nROUND(INDEX(G8ServicePrices[],MATCH(D57,G8ServicePrices[Code],0),MATCH($M$1,G8ServicePrices[#Headers],0))*\nINDEX(G8ServicePrices[],MATCH(D57,G8ServicePrices[Code],0),MATCH(\"LeaseFactor\",G8ServicePrices[#Headers],0)),0))","v":{"$error":"#N/A"}}]
[{"$nulls":11},"+"]
[null,"Monitoring Services"]
[null,{"$f":"_xlfn.VSTACK(O60:O62)","v":"None"},{"$f":"IF(B60=0,\"\",\"è\")","v":"è"},{"$f":"_xlfn.VSTACK(P60:P62)","v":"X"},{"$f":"IF(B60=0,\"\",\"=\")","v":"="},{"$f":"IFERROR(S60,\"\")","v":{"v":0,"d":"$ 0"}},null,"X",{"$nulls":3},{"$f":"VLOOKUP(H60,D60:F62,3,FALSE)","v":{"v":0,"d":"$ 0"}},null,null,{"$f":"_xlfn._xlws.FILTER(_xlfn._xlws.FILTER(G8Monitoring[],G8Monitoring[Type]=ServicePlans),{1,1,0})","v":"None"},"X",null,null,{"$f":"IF(D60=\"X\",0,\nROUND(INDEX(G8ServicePrices[],MATCH(D60,G8ServicePrices[Code],0),MATCH($M$1,G8ServicePrices[#Headers],0))*\nINDEX(G8ServicePrices[],MATCH(D60,G8ServicePrices[Code],0),MATCH(\"LeaseFactor\",G8ServicePrices[#Headers],0)),0))","v":0}]
[null,0,"",0,"",{"$f":"IFERROR(S61,\"\")","v":""},{"$nulls":12},{"$f":"IF(D61=\"X\",0,\nROUND(INDEX(G8ServicePrices[],MATCH(D61,G8ServicePrices[Code],0),MATCH($M$1,G8ServicePrices[#Headers],0))*\nINDEX(G8ServicePrices[],MATCH(D61,G8ServicePrices[Code],0),MATCH(\"LeaseFactor\",G8ServicePrices[#Headers],0)),0))","v":{"$error":"#N/A"}}]
[null,0,"",0,"",{"$f":"IFERROR(S62,\"\")","v":""},{"$nulls":12},{"$f":"IF(D62=\"X\",0,\nROUND(INDEX(G8ServicePrices[],MATCH(D62,G8ServicePrices[Code],0),MATCH($M$1,G8ServicePrices[#Headers],0))*\nINDEX(G8ServicePrices[],MATCH(D62,G8ServicePrices[Code],0),MATCH(\"LeaseFactor\",G8ServicePrices[#Headers],0)),0))","v":{"$error":"#N/A"}}]
[{"$nulls":11},"+"]
[null,"Voice"]
[null,{"$f":"_xlfn.VSTACK(O65:O66)","v":"None"},{"$f":"IF(B65=0,\"\",\"è\")","v":"è"},{"$f":"_xlfn.VSTACK(P65:P66)","v":"X"},{"$f":"IF(B65=0,\"\",\"=\")","v":"="},{"$f":"IFERROR(S65,\"\")","v":{"v":0,"d":"$ 0"}},null,"X",{"$nulls":3},{"$f":"VLOOKUP(H65,D65:F66,3,FALSE)","v":{"v":0,"d":"$ 0"}},null,null,{"$f":"_xlfn._xlws.FILTER(_xlfn._xlws.FILTER(G8Voice[],G8Voice[Type]=ServicePlans),{1,1,0})","v":"None"},"X",null,null,{"$f":"IF(D65=\"X\",0,\nROUND(INDEX(G8ServicePrices[],MATCH(D65,G8ServicePrices[Code],0),MATCH($M$1,G8ServicePrices[#Headers],0))*\nINDEX(G8ServicePrices[],MATCH(D65,G8ServicePrices[Code],0),MATCH(\"LeaseFactor\",G8ServicePrices[#Headers],0)),0))","v":0}]
[null,0,"",0,"",{"$f":"IFERROR(S66,\"\")","v":""},{"$nulls":12},{"$f":"IF(D66=\"X\",0,\nROUND(INDEX(G8ServicePrices[],MATCH(D66,G8ServicePrices[Code],0),MATCH($M$1,G8ServicePrices[#Headers],0))*\nINDEX(G8ServicePrices[],MATCH(D66,G8ServicePrices[Code],0),MATCH(\"LeaseFactor\",G8ServicePrices[#Headers],0)),0))","v":{"$error":"#N/A"}}]
[{"$nulls":11},"+"]
[null,"Push-to-Talk"]
[null,{"$f":"_xlfn.VSTACK(O69:O70)","v":"None"},{"$f":"IF(B69=0,\"\",\"è\")","v":"è"},{"$f":"_xlfn.VSTACK(P69:P70)","v":"X"},{"$f":"IF(B69=0,\"\",\"=\")","v":"="},{"$f":"IFERROR(S69,\"\")","v":{"v":0,"d":"$ 0"}},null,"X",{"$nulls":3},{"$f":"VLOOKUP(H69,D69:F70,3,FALSE)","v":{"v":0,"d":"$ 0"}},null,null,{"$f":"_xlfn._xlws.FILTER(_xlfn._xlws.FILTER(G8PTT[],G8PTT[Type]=ServicePlans),{1,1,0})","v":"None"},"X",null,null,{"$f":"IF(D69=\"X\",0,\nROUND(INDEX(G8ServicePrices[],MATCH(D69,G8ServicePrices[Code],0),MATCH($M$1,G8ServicePrices[#Headers],0))*\nINDEX(G8ServicePrices[],MATCH(D69,G8ServicePrices[Code],0),MATCH(\"LeaseFactor\",G8ServicePrices[#Headers],0)),0))","v":0}]
[null,"Included","è","P","=",{"$f":"IFERROR(S70,\"\")","v":{"v":23,"d":"$ 23"}},{"$nulls":8},"Included","P",null,null,{"$f":"IF(D70=\"X\",0,\nROUND(INDEX(G8ServicePrices[],MATCH(D70,G8ServicePrices[Code],0),MATCH($M$1,G8ServicePrices[#Headers],0))*\nINDEX(G8ServicePrices[],MATCH(D70,G8ServicePrices[Code],0),MATCH(\"LeaseFactor\",G8ServicePrices[#Headers],0)),0))","v":23}]
[{"$nulls":11},"+"]
[null,"Future Service Option"]
[null,{"$f":"_xlfn.VSTACK(O73:O74)","v":"None"},{"$f":"IF(B73=0,\"\",\"è\")","v":"è"},{"$f":"_xlfn.VSTACK(P73:P74)","v":"X"},{"$f":"IF(B73=0,\"\",\"=\")","v":"="},{"$f":"IFERROR(S73,\"\")","v":{"v":0,"d":"$ 0"}},null,"X",{"$nulls":3},{"$f":"VLOOKUP(H73,D73:F74,3,FALSE)","v":{"v":0,"d":"$ 0"}},null,null,{"$f":"_xlfn._xlws.FILTER(_xlfn._xlws.FILTER(G8TeamCalling[],G8TeamCalling[Type]=ServicePlans),{1,1,0})","v":"None"},"X",null,null,{"$f":"IF(D73=\"X\",0,\nROUND(INDEX(G8ServicePrices[],MATCH(D73,G8ServicePrices[Code],0),MATCH($M$1,G8ServicePrices[#Headers],0))*\nINDEX(G8ServicePrices[],MATCH(D73,G8ServicePrices[Code],0),MATCH(\"LeaseFactor\",G8ServicePrices[#Headers],0)),0))","v":0}]
[null,0,"",0,"",{"$f":"IFERROR(S74,\"\")","v":""},{"$nulls":12},{"$f":"IF(D74=\"X\",0,\nROUND(INDEX(G8ServicePrices[],MATCH(D74,G8ServicePrices[Code],0),MATCH($M$1,G8ServicePrices[#Headers],0))*\nINDEX(G8ServicePrices[],MATCH(D74,G8ServicePrices[Code],0),MATCH(\"LeaseFactor\",G8ServicePrices[#Headers],0)),0))","v":{"$error":"#N/A"}}]
[{"$nulls":7},"-"]
[null,"Term"]
[null,"Three-Years","è","3Y",{"$nulls":3},"4Y",{"$nulls":6},{"$f":"LEFT(H77,1)","v":"4"}]
[null,"Four-Years","è","4Y",{"$nulls":10},{"$f":"LeaseYears*12","v":48}]

{"sheet":"G8 Multi-Gas Lease","index":27,"n_rows":120,"n_cols":20,"rows_kept":120,"merged":[[1,1,1,7],[2,1,12,1],[7,5,7,9],[9,7,9,9],[11,7,11,9],[14,1,14,5],[15,7,16,9],[15,11,16,11],[18,1,18,5],[19,7,19,9],[20,7,21,9],[21,1,21,5],[22,7,22,9],[23,7,24,9],[24,1,24,5],[25,7,27,9],[28,7,39,9],[29,1,29,5],[30,11,37,11],[30,21,33,21],[38,11,43,11],[39,1,39,5],[40,7,41,9],[42,7,43,9],[43,1,43,5],[44,7,46,7],[44,9,92,9],[44,11,46,11],[47,11,48,11],[48,1,48,5],[49,7,67,7],[49,11,67,11],[68,11,69,11],[69,1,69,5],[70,7,88,7],[70,11,88,11],[89,11,90,11],[90,1,90,5],[91,7,92,7],[91,11,92,11],[93,7,95,9],[95,1,95,5],[96,7,98,9],[96,11,98,11],[99,11,100,11],[100,1,100,5],[101,7,103,9],[101,11,103,11],[104,11,105,11],[105,1,105,5],[106,7,107,9],[106,11,107,11],[108,11,109,11],[109,1,109,5],[110,7,111,9],[110,11,111,11],[112,11,113,11],[113,1,113,5],[114,7,115,9],[114,11,115,11],[116,7,117,9],[117,1,117,5],[118,7,119,9]]}
[null,{"$error":"#VALUE!"},{"$nulls":10},{"$f":"Currency","v":"USD"},null,null,"G8 Multi-Gas Lease"]
[null,"G8 Multi-Gas Lease",{"$nulls":10},{"$f":"PBYear","v":2025},"Quick Links"]
[null,{"$error":"#VALUE!"},{"$nulls":10},{"$f":"Revision","v":"Effective February 2, 2026 Rev 2"},"Main Menu"]
[{"$nulls":12},"Blackline Safety Confidential","Accessories"]
[{"$nulls":12},"All prices are an estimate - for a formal quote contact your local Blackline Safety representative"]
[]
[]
[{"$nulls":5},{"$f":"CONCATENATE(H16,H20,H21,H23,H24,H26,H29,H41,H43,J45,H94,ServicePlans,H102,H107,H111,H115,H117,H119)","v":"CMP-G8C-01-NA2-Q-FHMO-SXXXX-4Y"},{"$nulls":5},{"$f":"L16+L31+L45+L50+L71+L92+L97+L102+L107+L111+L115","v":{"v":48,"d":"$ 48"}},{"$f":"M1&\" / mo\"","v":"USD / mo"}]
[]
[]
[]
[{"$nulls":5},"Additional Cartridge",null,{"$f":"CONCATENATE(\"CMP-CART-\",H41,H43,J45,H117,H119,\"-R\")","v":"CMP-CART-Q-FHMO-4Y-R"},{"$nulls":3},{"$f":"T50","v":{"v":18,"d":"$ 18"}},{"$f":"M1&\" / mo\"","v":"USD / mo"}]
[]
[null,"Device"]
[null,"Buying Option",{"$nulls":16},"Price"]
[null,"Lease","è","CMP-G8",{"$nulls":3},{"$f":"D16","v":"CMP-G8"},{"$nulls":3},{"$f":"F17","v":{"v":18,"d":"$ 18"}}]
[1,null,null,"Device","=",{"$f":"SUM(S17:S17)","v":{"v":18,"d":"$ 18"}},{"$nulls":12},{"$f":"ROUND(INDEX(BasePrices[],MATCH(\"G8 Purchase Base Price\",BasePrices[Type],0),MATCH($M$1,BasePrices[#Headers],0))*Lease_Factor/LeaseMonths,0)+\nROUND(INDEX(BasePrices[],MATCH(\"G7 Warranty Base Price\",BasePrices[Type],0),MATCH($M$1,BasePrices[#Headers],0))*MAX(2,LeaseYears-2)*Lease_Factor/LeaseMonths,0)","v":18}]
[]
[null,"Connectivity"]
[null,"Cellular","è","C",{"$nulls":3},"C"]
[{"$nulls":7},"-"]
[null,"SIM Card"]
[null,"Standard (Telenor)","è","01",{"$nulls":3},{"$f":"D23","v":"01"}]
[{"$nulls":7},"-"]
[null,"Country Code"]
[null,{"$f":"_xlfn.VSTACK(O26:O28)","v":"North America (4G/LTE) - G8C"},{"$f":"IF(B26=\"\",\"\",\"è\")","v":"è"},{"$f":"IFERROR(_xlfn.VSTACK(P26:P28),\"\")","v":"NA2"},{"$nulls":3},"NA2",{"$nulls":6},{"$f":"_xlfn.LET(\n_xlpm.Dtype,G8CountryCodes[Type],_xlpm.Curr,G8CountryCodes[Currency],_xlpm.SType,H20,_xlpm.SCurr,M1,\n_xlpm.myCalculation,_xlfn.VSTACK(_xlfn._xlws.FILTER(G8CountryCodes[],(_xlpm.Dtype=_xlpm.SType)*(_xlpm.Curr=_xlpm.SCurr))),_xlpm.myCalculation)","v":"North America (4G/LTE) - G8C"},"NA2","C","USD"]
[null,"Outside of North America (4G/LTE) - G8C",{"$f":"IF(B27=0,\"\",\"è\")","v":"è"},"EU2",{"$nulls":10},"Outside of North America (4G/LTE) - G8C","EU2","C","USD"]
[null,0,{"$f":"IF(B28=0,\"\",\"è\")","v":""},0]
[{"$nulls":7},"-"]
[null,"Cartridge",{"$nulls":16},"Price"]
["Q1",null,null,"Multi 1-sensor","=",{"$f":"SUM(S31:T31)","v":{"v":5,"d":"$ 5"}},{"$nulls":5},{"$f":"VLOOKUP(P44,A31:F38,6,FALSE)","v":{"v":13,"d":"$ 13"}},{"$nulls":5},1,{"$f":"ROUND((INDEX(BasePrices[],MATCH(R31&\" Sensor Cartridge\",BasePrices[Type],0),MATCH($M$1,BasePrices[#Headers],0))*2+\nINDEX(BasePrices[],MATCH(R31&\" Sensor Cartridge\",BasePrices[Type],0),MATCH($M$1,BasePrices[#Headers],0))*0.2777777*MAX(0,LeaseYears-2))*Lease_Factor/LeaseMonths,0)","v":5}]
["Q2",null,null,"Multi 2-sensor","=",{"$f":"SUM(S32:T32)","v":{"v":8,"d":"$ 8"}},{"$nulls":11},2,{"$f":"ROUND((INDEX(BasePrices[],MATCH(R32&\" Sensor Cartridge\",BasePrices[Type],0),MATCH($M$1,BasePrices[#Headers],0))*2+\nINDEX(BasePrices[],MATCH(R32&\" Sensor Cartridge\",BasePrices[Type],0),MATCH($M$1,BasePrices[#Headers],0))*0.2777777*MAX(0,LeaseYears-2))*Lease_Factor/LeaseMonths,0)","v":8}]
["Q3",null,null,"Multi 3-sensor","=",{"$f":"SUM(S33:T33)","v":{"v":11,"d":"$ 11"}},{"$nulls":11},3,{"$f":"ROUND((INDEX(BasePrices[],MATCH(R33&\" Sensor Cartridge\",BasePrices[Type],0),MATCH($M$1,BasePrices[#Headers],0))*2+\nINDEX(BasePrices[],MATCH(R33&\" Sensor Cartridge\",BasePrices[Type],0),MATCH($M$1,BasePrices[#Headers],0))*0.2777777*MAX(0,LeaseYears-2))*Lease_Factor/LeaseMonths,0)","v":11}]
["Q4",null,null,"Multi 4-sensor","=",{"$f":"SUM(S34:T34)","v":{"v":13,"d":"$ 13"}},{"$nulls":11},4,{"$f":"ROUND((INDEX(BasePrices[],MATCH(R34&\" Sensor Cartridge\",BasePrices[Type],0),MATCH($M$1,BasePrices[#Headers],0))*2+\nINDEX(BasePrices[],MATCH(R34&\" Sensor Cartridge\",BasePrices[Type],0),MATCH($M$1,BasePrices[#Headers],0))*0.2777777*MAX(0,LeaseYears-2))*Lease_Factor/LeaseMonths,0)","v":13}]
["P1",null,null,"Multi 1-sensor pump","=",{"$f":"SUM(S35:T35)","v":{"v":17,"d":"$ 17"}},{"$nulls":11},1,{"$f":"ROUND((INDEX(BasePrices[],MATCH(R35&\" Sensor Cartridge\",BasePrices[Type],0),MATCH($M$1,BasePrices[#Headers],0))*2+\nINDEX(BasePrices[],MATCH(R35&\" Sensor Cartridge\",BasePrices[Type],0),MATCH($M$1,BasePrices[#Headers],0))*0.2777777*MAX(0,LeaseYears-2))*Lease_Factor/LeaseMonths,0)+\nROUND((INDEX(BasePrices[],MATCH(\"G7 Pump\",BasePrices[Type],0),MATCH($M$1,BasePrices[#Headers],0))*2+\nINDEX(BasePrices[],MATCH(\"G7 Pump\",BasePrices[Type],0),MATCH($M$1,BasePrices[#Headers],0))*0.2777777*MAX(0,LeaseYears-2))*Lease_Factor/LeaseMonths,0)","v":17}]
["P2",null,null,"Multi 2-sensor pump","=",{"v":20,"d":"$ 20"},{"$nulls":11},2,{"$f":"ROUND((INDEX(BasePrices[],MATCH(R36&\" Sensor Cartridge\",BasePrices[Type],0),MATCH($M$1,BasePrices[#Headers],0))*2+\nINDEX(BasePrices[],MATCH(R36&\" Sensor Cartridge\",BasePrices[Type],0),MATCH($M$1,BasePrices[#Headers],0))*0.2777777*MAX(0,LeaseYears-2))*Lease_Factor/LeaseMonths,0)+\nROUND((INDEX(BasePrices[],MATCH(\"G7 Pump\",BasePrices[Type],0),MATCH($M$1,BasePrices[#Headers],0))*2+\nINDEX(BasePrices[],MATCH(\"G7 Pump\",BasePrices[Type],0),MATCH($M$1,BasePrices[#Headers],0))*0.2777777*MAX(0,LeaseYears-2))*Lease_Factor/LeaseMonths,0)","v":20}]
["P3",null,null,"Multi 3-sensor pump","=",{"v":23,"d":"$ 23"},{"$nulls":11},3,{"$f":"ROUND((INDEX(BasePrices[],MATCH(R37&\" Sensor Cartridge\",BasePrices[Type],0),MATCH($M$1,BasePrices[#Headers],0))*2+\nINDEX(BasePrices[],MATCH(R37&\" Sensor Cartridge\",BasePrices[Type],0),MATCH($M$1,BasePrices[#Headers],0))*0.2777777*MAX(0,LeaseYears-2))*Lease_Factor/LeaseMonths,0)+\nROUND((INDEX(BasePrices[],MATCH(\"G7 Pump\",BasePrices[Type],0),MATCH($M$1,BasePrices[#Headers],0))*2+\nINDEX(BasePrices[],MATCH(\"G7 Pump\",BasePrices[Type],0),MATCH($M$1,BasePrices[#Headers],0))*0.2777777*MAX(0,LeaseYears-2))*Lease_Factor/LeaseMonths,0)","v":23}]
["P4",null,null,"Multi 4-sensor pump","=",{"v":25,"d":"$ 25"},{"$nulls":11},4,{"$f":"ROUND((INDEX(BasePrices[],MATCH(R38&\" Sensor Cartridge\",BasePrices[Type],0),MATCH($M$1,BasePrices[#Headers],0))*2+\nINDEX(BasePrices[],MATCH(R38&\" Sensor Cartridge\",BasePrices[Type],0),MATCH($M$1,BasePrices[#Headers],0))*0.2777777*MAX(0,LeaseYears-2))*Lease_Factor/LeaseMonths,0)+\nROUND((INDEX(BasePrices[],MATCH(\"G7 Pump\",BasePrices[Type],0),MATCH($M$1,BasePrices[#Headers],0))*2+\nINDEX(BasePrices[],MATCH(\"G7 Pump\",BasePrices[Type],0),MATCH($M$1,BasePrices[#Headers],0))*0.2777777*MAX(0,LeaseYears-2))*Lease_Factor/LeaseMonths,0)","v":25}]
[{"$nulls":11},"+"]
[null,"Cartridge Type",{"$nulls":12},{"$f":"H45","v":"F"},{"$f":"_xlfn._xlws.SORT(O40:O43)","v":"F"},{"$f":"IF(P40=\"X\",1,0)","v":0}]
[null,"Diffusion","è","Q",{"$nulls":3},"Q",{"$nulls":6},{"$f":"H50","v":"H"},"H",{"$f":"IF(P41=\"X\",1,0)","v":0}]
[null,"Pump","è","P",{"$nulls":10},{"$f":"H71","v":"M"},"M",{"$f":"IF(P42=\"X\",1,0)","v":0}]
[{"$nulls":7},"-",{"$nulls":6},{"$f":"H92","v":"O"},"O",{"$f":"IF(P43=\"X\",1,0)","v":0},null,null,"Additional CART"]
[null,"Combustible Sensor",{"$nulls":13},{"$f":"H41&Q44","v":"Q4"},{"$f":"4-SUM(Q40:Q43)","v":4},null,"Price",{"$f":"INDEX(BasePrices[],MATCH(Q44&\" Sensor Cartridge\",BasePrices[Type],0),MATCH($M$1,BasePrices[#Headers],0))+\nIF(H41=\"P\",INDEX(BasePrices[],MATCH(\"G7 Pump\",BasePrices[Type],0),MATCH($M$1,BasePrices[#Headers],0)),0)","v":200}]
[null,{"$f":"_xlfn.CHOOSECOLS(_xlfn.VSTACK(_xlfn.ANCHORARRAY(O45)),1)","v":"LEL-IR"},{"$f":"IF(B45=0,\"\",\"è\")","v":"è"},{"$f":"_xlfn.CHOOSECOLS(_xlfn.VSTACK(_xlfn.ANCHORARRAY(O45)),2)","v":"I"},{"$f":"IF(B45=0,\"\",\"=\")","v":"="},{"$f":"IFERROR(SUM(S45),\"\")","v":{"v":4,"d":"$ 4"}},null,"F",null,{"$f":"CONCATENATE(P40,P41,P42,P43)","v":"FHMO"},null,{"$f":"VLOOKUP(H45,D45:F47,3,FALSE)","v":{"v":0,"d":"$ 0"}},null,null,{"$f":"_xlfn.LET(\n_xlpm.Dtype,CombSensors[Type1],_xlpm.Curr,CombSensors[Currency],_xlpm.Stype,H41&1,_xlpm.SCurr,M1,\n_xlpm.myCalculation,_xlfn.VSTACK(_xlfn._xlws.FILTER(CombSensors[],(_xlpm.Dtype=_xlpm.Stype)*(_xlpm.Curr=_xlpm.SCurr))),_xlpm.myCalculation)","v":"LEL-IR"},"I","Q1","USD",{"$f":"ROUNDUP((INDEX(SensorPricing[],MATCH(D45,SensorPricing[Sensor],0),MATCH($M$1,SensorPricing[#Headers],0))*2+\nINDEX(SensorPricing[],MATCH(D45,SensorPricing[Sensor],0),MATCH($M$1,SensorPricing[#Headers],0))*0.2777777*MAX(0,LeaseYears-2))*Lease_Factor/LeaseMonths,0)","v":4},{"$f":"INDEX(SensorPricing[],MATCH(P40,SensorPricing[Sensor],0),MATCH($M$1,SensorPricing[#Headers],0))","v":0}]
[null,"LEL-MPS","è","F","=",{"$f":"IFERROR(SUM(S46),\"\")","v":{"v":0,"d":"$ 0"}},{"$nulls":8},"LEL-MPS","F","Q1","USD",{"$f":"ROUNDUP((INDEX(SensorPricing[],MATCH(D46,SensorPricing[Sensor],0),MATCH($M$1,SensorPricing[#Headers],0))*2+\nINDEX(SensorPricing[],MATCH(D46,SensorPricing[Sensor],0),MATCH($M$1,SensorPricing[#Headers],0))*0.2777777*MAX(0,LeaseYears-2))*Lease_Factor/LeaseMonths,0)","v":0},{"$f":"INDEX(SensorPricing[],MATCH(P41,SensorPricing[Sensor],0),MATCH($M$1,SensorPricing[#Headers],0))","v":0}]
[null,"None","è","X","=",{"v":0,"d":"$ 0"},{"$nulls":8},"None","X","Q1","USD",{"$f":"ROUNDUP((INDEX(SensorPricing[],MATCH(D47,SensorPricing[Sensor],0),MATCH($M$1,SensorPricing[#Headers],0))*2+\nINDEX(SensorPricing[],MATCH(D47,SensorPricing[Sensor],0),MATCH($M$1,SensorPricing[#Headers],0))*0.2777777*MAX(0,LeaseYears-2))*Lease_Factor/LeaseMonths,0)","v":0},{"$f":"INDEX(SensorPricing[],MATCH(P42,SensorPricing[Sensor],0),MATCH($M$1,SensorPricing[#Headers],0))","v":0}]
[{"$nulls":11},"+",{"$nulls":7},{"$f":"INDEX(SensorPricing[],MATCH(P43,SensorPricing[Sensor],0),MATCH($M$1,SensorPricing[#Headers],0))","v":0}]
[null,"Toxic Sensor #1",{"$nulls":17},{"$f":"IF(H119=\"3Y\",3,\nIF(H119=\"4Y\",3.5,\nIF(H119=\"5Y\",4)))","v":3.5}]
[null,{"$f":"_xlfn.VSTACK(O50:O68)","v":"HF"},{"$f":"IF(B50=0,\"\",\"è\")","v":"è"},{"$f":"_xlfn.VSTACK(P50:P68)","v":"2"},{"$f":"IF(B50=0,\"\",\"=\")","v":"="},{"$f":"IFERROR(SUM(S50:T50),\"\")","v":{"v":45,"d":"$ 45"}},null,"H",{"$nulls":3},{"$f":"VLOOKUP(H50,D50:F68,3,FALSE)","v":{"v":0,"d":"$ 0"}},null,null,{"$f":"_xlfn.LET(\n_xlpm.Dtype,G7Sensors[Type1],_xlpm.Curr,G7Sensors[Currency],_xlpm.Stype,H41&1,_xlpm.SCurr,M1,\n_xlpm.myCalculation,_xlfn.VSTACK(_xlfn._xlws.FILTER(G7Sensors[],(_xlpm.Dtype=_xlpm.Stype)*(_xlpm.Curr=_xlpm.SCurr))),_xlpm.myCalculation)","v":"HF"},"2","Q1","USD",{"$f":"ROUNDUP((INDEX(SensorPricing[],MATCH(D50,SensorPricing[Sensor],0),MATCH($M$1,SensorPricing[#Headers],0))*2+\nINDEX(SensorPricing[],MATCH(D50,SensorPricing[Sensor],0),MATCH($M$1,SensorPricing[#Headers],0))*0.2777777*MAX(0,LeaseYears-2))*Lease_Factor/LeaseMonths,0)","v":27},{"$f":"ROUND(SUM(T44:T48)*T49*Lease_Factor/LeaseMonths,0)","v":18}]
[null,"NH3","è","A","=",{"$f":"IFERROR(SUM(S51:T51),\"\")","v":{"v":4,"d":"$ 4"}},{"$nulls":8},"NH3","A","Q1","USD",{"$f":"ROUNDUP((INDEX(SensorPricing[],MATCH(D51,SensorPricing[Sensor],0),MATCH($M$1,SensorPricing[#Headers],0))*2+\nINDEX(SensorPricing[],MATCH(D51,SensorPricing[Sensor],0),MATCH($M$1,SensorPricing[#Headers],0))*0.2777777*MAX(0,LeaseYears-2))*Lease_Factor/LeaseMonths,0)","v":4}]
[null,"High-range NH3 ","è","B","=",{"v":9,"d":"$ 9"},{"$nulls":8},"High-range NH3 ","B","Q1","USD",{"$f":"ROUNDUP((INDEX(SensorPricing[],MATCH(D52,SensorPricing[Sensor],0),MATCH($M$1,SensorPricing[#Headers],0))*2+\nINDEX(SensorPricing[],MATCH(D52,SensorPricing[Sensor],0),MATCH($M$1,SensorPricing[#Headers],0))*0.2777777*MAX(0,LeaseYears-2))*Lease_Factor/LeaseMonths,0)","v":9}]
[null,"CO2","è","C","=",{"v":16,"d":"$ 16"},{"$nulls":8},"CO2","C","Q1","USD",{"$f":"ROUNDUP((INDEX(SensorPricing[],MATCH(D53,SensorPricing[Sensor],0),MATCH($M$1,SensorPricing[#Headers],0))*2+\nINDEX(SensorPricing[],MATCH(D53,SensorPricing[Sensor],0),MATCH($M$1,SensorPricing[#Headers],0))*0.2777777*MAX(0,LeaseYears-2))*Lease_Factor/LeaseMonths,0)","v":16}]
[null,"O3","è","E","=",{"v":8,"d":"$ 8"},{"$nulls":8},"O3","E","Q1","USD",{"$f":"ROUNDUP((INDEX(SensorPricing[],MATCH(D54,SensorPricing[Sensor],0),MATCH($M$1,SensorPricing[#Headers],0))*2+\nINDEX(SensorPricing[],MATCH(D54,SensorPricing[Sensor],0),MATCH($M$1,SensorPricing[#Headers],0))*0.2777777*MAX(0,LeaseYears-2))*Lease_Factor/LeaseMonths,0)","v":8}]
[null,"H2S","è","H","=",{"v":0,"d":"$ 0"},{"$nulls":8},"H2S","H","Q1","USD",{"$f":"ROUNDUP((INDEX(SensorPricing[],MATCH(D55,SensorPricing[Sensor],0),MATCH($M$1,SensorPricing[#Headers],0))*2+\nINDEX(SensorPricing[],MATCH(D55,SensorPricing[Sensor],0),MATCH($M$1,SensorPricing[#Headers],0))*0.2777777*MAX(0,LeaseYears-2))*Lease_Factor/LeaseMonths,0)","v":0}]
[null,"High-range H2S ","è","J","=",{"v":8,"d":"$ 8"},{"$nulls":8},"High-range H2S ","J","Q1","USD",{"$f":"ROUNDUP((INDEX(SensorPricing[],MATCH(D56,SensorPricing[Sensor],0),MATCH($M$1,SensorPricing[#Headers],0))*2+\nINDEX(SensorPricing[],MATCH(D56,SensorPricing[Sensor],0),MATCH($M$1,SensorPricing[#Headers],0))*0.2777777*MAX(0,LeaseYears-2))*Lease_Factor/LeaseMonths,0)","v":8}]
[null,"NO2 ","è","K","=",{"v":4,"d":"$ 4"},{"$nulls":8},"NO2 ","K","Q1","USD",{"$f":"ROUNDUP((INDEX(SensorPricing[],MATCH(D57,SensorPricing[Sensor],0),MATCH($M$1,SensorPricing[#Headers],0))*2+\nINDEX(SensorPricing[],MATCH(D57,SensorPricing[Sensor],0),MATCH($M$1,SensorPricing[#Headers],0))*0.2777777*MAX(0,LeaseYears-2))*Lease_Factor/LeaseMonths,0)","v":4}]
[null,"Cl2","è","L","=",{"v":4,"d":"$ 4"},{"$nulls":8},"Cl2","L","Q1","USD",{"$f":"ROUNDUP((INDEX(SensorPricing[],MATCH(D58,SensorPricing[Sensor],0),MATCH($M$1,SensorPricing[#Headers],0))*2+\nINDEX(SensorPricing[],MATCH(D58,SensorPricing[Sensor],0),MATCH($M$1,SensorPricing[#Headers],0))*0.2777777*MAX(0,LeaseYears-2))*Lease_Factor/LeaseMonths,0)","v":4}]
[null,"CO ","è","M","=",{"v":0,"d":"$ 0"},{"$nulls":8},"CO ","M","Q1","USD",{"$f":"ROUNDUP((INDEX(SensorPricing[],MATCH(D59,SensorPricing[Sensor],0),MATCH($M$1,SensorPricing[#Headers],0))*2+\nINDEX(SensorPricing[],MATCH(D59,SensorPricing[Sensor],0),MATCH($M$1,SensorPricing[#Headers],0))*0.2777777*MAX(0,LeaseYears-2))*Lease_Factor/LeaseMonths,0)","v":0}]
[null,"HCN","è","N","=",{"v":4,"d":"$ 4"},{"$nulls":8},"HCN","N","Q1","USD",{"$f":"ROUNDUP((INDEX(SensorPricing[],MATCH(D60,SensorPricing[Sensor],0),MATCH($M$1,SensorPricing[#Headers],0))*2+\nINDEX(SensorPricing[],MATCH(D60,SensorPricing[Sensor],0),MATCH($M$1,SensorPricing[#Headers],0))*0.2777777*MAX(0,LeaseYears-2))*Lease_Factor/LeaseMonths,0)","v":4}]
[null,"CO-H ","è","R","=",{"v":0,"d":"$ 0"},{"$nulls":8},"CO-H ","R","Q1","USD",{"$f":"ROUNDUP((INDEX(SensorPricing[],MATCH(D61,SensorPricing[Sensor],0),MATCH($M$1,SensorPricing[#Headers],0))*2+\nINDEX(SensorPricing[],MATCH(D61,SensorPricing[Sensor],0),MATCH($M$1,SensorPricing[#Headers],0))*0.2777777*MAX(0,LeaseYears-2))*Lease_Factor/LeaseMonths,0)","v":0}]
[null,"SO2","è","S","=",{"v":0,"d":"$ 0"},{"$nulls":8},"SO2","S","Q1","USD",{"$f":"ROUNDUP((INDEX(SensorPricing[],MATCH(D62,SensorPricing[Sensor],0),MATCH($M$1,SensorPricing[#Headers],0))*2+\nINDEX(SensorPricing[],MATCH(D62,SensorPricing[Sensor],0),MATCH($M$1,SensorPricing[#Headers],0))*0.2777777*MAX(0,LeaseYears-2))*Lease_Factor/LeaseMonths,0)","v":0}]
[null,"High-range CO ","è","T","=",{"v":8,"d":"$ 8"},{"$nulls":8},"High-range CO ","T","Q1","USD",{"$f":"ROUNDUP((INDEX(SensorPricing[],MATCH(D63,SensorPricing[Sensor],0),MATCH($M$1,SensorPricing[#Headers],0))*2+\nINDEX(SensorPricing[],MATCH(D63,SensorPricing[Sensor],0),MATCH($M$1,SensorPricing[#Headers],0))*0.2777777*MAX(0,LeaseYears-2))*Lease_Factor/LeaseMonths,0)","v":8}]
[null,"PID","è","V","=",{"v":31,"d":"$ 31"},{"$nulls":8},"PID","V","Q1","USD",{"$f":"ROUNDUP((INDEX(SensorPricing[],MATCH(D64,SensorPricing[Sensor],0),MATCH($M$1,SensorPricing[#Headers],0))*2+\nINDEX(SensorPricing[],MATCH(D64,SensorPricing[Sensor],0),MATCH($M$1,SensorPricing[#Headers],0))*0.2777777*MAX(0,LeaseYears-2))*Lease_Factor/LeaseMonths,0)","v":31}]
[null,"ClO2","è","W","=",{"v":4,"d":"$ 4"},{"$nulls":8},"ClO2","W","Q1","USD",{"$f":"ROUNDUP((INDEX(SensorPricing[],MATCH(D65,SensorPricing[Sensor],0),MATCH($M$1,SensorPricing[#Headers],0))*2+\nINDEX(SensorPricing[],MATCH(D65,SensorPricing[Sensor],0),MATCH($M$1,SensorPricing[#Headers],0))*0.2777777*MAX(0,LeaseYears-2))*Lease_Factor/LeaseMonths,0)","v":4}]
[null,"No Sensor ","è","X","=",{"v":0,"d":"$ 0"},{"$nulls":8},"No Sensor ","X","Q1","USD",{"$f":"ROUNDUP((INDEX(SensorPricing[],MATCH(D66,SensorPricing[Sensor],0),MATCH($M$1,SensorPricing[#Headers],0))*2+\nINDEX(SensorPricing[],MATCH(D66,SensorPricing[Sensor],0),MATCH($M$1,SensorPricing[#Headers],0))*0.2777777*MAX(0,LeaseYears-2))*Lease_Factor/LeaseMonths,0)","v":0}]
[null,0,{"$f":"IF(B67=0,\"\",\"è\")","v":""},0,{"$f":"IF(B67=0,\"\",\"=\")","v":""},"",{"$nulls":12},{"$f":"ROUNDUP((INDEX(SensorPricing[],MATCH(D67,SensorPricing[Sensor],0),MATCH($M$1,SensorPricing[#Headers],0))*2+\nINDEX(SensorPricing[],MATCH(D67,SensorPricing[Sensor],0),MATCH($M$1,SensorPricing[#Headers],0))*0.2777777*MAX(0,LeaseYears-2))*Lease_Factor/LeaseMonths,0)","v":{"$error":"#N/A"}}]
[null,0,{"$f":"IF(B68=0,\"\",\"è\")","v":""},0,{"$f":"IF(B68=0,\"\",\"=\")","v":""},"",{"$nulls":12},{"$f":"ROUNDUP((INDEX(SensorPricing[],MATCH(D68,SensorPricing[Sensor],0),MATCH($M$1,SensorPricing[#Headers],0))*2+\nINDEX(SensorPricing[],MATCH(D68,SensorPricing[Sensor],0),MATCH($M$1,SensorPricing[#Headers],0))*0.2777777*MAX(0,LeaseYears-2))*Lease_Factor/LeaseMonths,0)","v":{"$error":"#N/A"}}]
[{"$nulls":11},"+"]
[null,"Toxic Sensor #2"]
[null,{"$f":"_xlfn.VSTACK(O71:O89)","v":"HF"},{"$f":"IF(B71=0,\"\",\"è\")","v":"è"},{"$f":"_xlfn.VSTACK(P71:P89)","v":"2"},{"$f":"IF(B71=0,\"\",\"=\")","v":"="},{"$f":"IFERROR(SUM(S71:T71),\"\")","v":{"v":27,"d":"$ 27"}},null,"M",{"$nulls":3},{"$f":"VLOOKUP(H71,D71:F89,3,FALSE)","v":{"v":0,"d":"$ 0"}},null,null,{"$f":"_xlfn.LET(\n_xlpm.Dtype,G7Sensors[Type1],_xlpm.Curr,G7Sensors[Currency],_xlpm.Stype,H41&2,_xlpm.SCurr,M1,\n_xlpm.myCalculation,_xlfn.VSTACK(_xlfn._xlws.FILTER(G7Sensors[],(_xlpm.Dtype=_xlpm.Stype)*(_xlpm.Curr=_xlpm.SCurr))),_xlpm.myCalculation)","v":"HF"},"2","Q2","USD",{"$f":"ROUNDUP((INDEX(SensorPricing[],MATCH(D71,SensorPricing[Sensor],0),MATCH($M$1,SensorPricing[#Headers],0))*2+\nINDEX(SensorPricing[],MATCH(D71,SensorPricing[Sensor],0),MATCH($M$1,SensorPricing[#Headers],0))*0.2777777*MAX(0,LeaseYears-2))*Lease_Factor/LeaseMonths,0)","v":27}]
[null,"NH3","è","A","=",{"v":4,"d":"$ 4"},{"$nulls":8},"NH3","A","Q2","USD",{"$f":"ROUNDUP((INDEX(SensorPricing[],MATCH(D72,SensorPricing[Sensor],0),MATCH($M$1,SensorPricing[#Headers],0))*2+\nINDEX(SensorPricing[],MATCH(D72,SensorPricing[Sensor],0),MATCH($M$1,SensorPricing[#Headers],0))*0.2777777*MAX(0,LeaseYears-2))*Lease_Factor/LeaseMonths,0)","v":4}]
[null,"High-range NH3 ","è","B","=",{"v":9,"d":"$ 9"},{"$nulls":8},"High-range NH3 ","B","Q2","USD",{"$f":"ROUNDUP((INDEX(SensorPricing[],MATCH(D73,SensorPricing[Sensor],0),MATCH($M$1,SensorPricing[#Headers],0))*2+\nINDEX(SensorPricing[],MATCH(D73,SensorPricing[Sensor],0),MATCH($M$1,SensorPricing[#Headers],0))*0.2777777*MAX(0,LeaseYears-2))*Lease_Factor/LeaseMonths,0)","v":9}]
[null,"COSH","è","D","=",{"v":4,"d":"$ 4"},{"$nulls":8},"COSH","D","Q2","USD",{"$f":"ROUNDUP((INDEX(SensorPricing[],MATCH(D74,SensorPricing[Sensor],0),MATCH($M$1,SensorPricing[#Headers],0))*2+\nINDEX(SensorPricing[],MATCH(D74,SensorPricing[Sensor],0),MATCH($M$1,SensorPricing[#Headers],0))*0.2777777*MAX(0,LeaseYears-2))*Lease_Factor/LeaseMonths,0)","v":4}]
[null,"O3","è","E","=",{"v":8,"d":"$ 8"},{"$nulls":8},"O3","E","Q2","USD",{"$f":"ROUNDUP((INDEX(SensorPricing[],MATCH(D75,SensorPricing[Sensor],0),MATCH($M$1,SensorPricing[#Headers],0))*2+\nINDEX(SensorPricing[],MATCH(D75,SensorPricing[Sensor],0),MATCH($M$1,SensorPricing[#Headers],0))*0.2777777*MAX(0,LeaseYears-2))*Lease_Factor/LeaseMonths,0)","v":8}]
[null,"H2S","è","H","=",{"v":0,"d":"$ 0"},{"$nulls":8},"H2S","H","Q2","USD",{"$f":"ROUNDUP((INDEX(SensorPricing[],MATCH(D76,SensorPricing[Sensor],0),MATCH($M$1,SensorPricing[#Headers],0))*2+\nINDEX(SensorPricing[],MATCH(D76,SensorPricing[Sensor],0),MATCH($M$1,SensorPricing[#Headers],0))*0.2777777*MAX(0,LeaseYears-2))*Lease_Factor/LeaseMonths,0)","v":0}]
[null,"High-range H2S ","è","J","=",{"v":8,"d":"$ 8"},{"$nulls":8},"High-range H2S ","J","Q2","USD",{"$f":"ROUNDUP((INDEX(SensorPricing[],MATCH(D77,SensorPricing[Sensor],0),MATCH($M$1,SensorPricing[#Headers],0))*2+\nINDEX(SensorPricing[],MATCH(D77,SensorPricing[Sensor],0),MATCH($M$1,SensorPricing[#Headers],0))*0.2777777*MAX(0,LeaseYears-2))*Lease_Factor/LeaseMonths,0)","v":8}]
[null,"NO2 ","è","K","=",{"v":4,"d":"$ 4"},{"$nulls":8},"NO2 ","K","Q2","USD",{"$f":"ROUNDUP((INDEX(SensorPricing[],MATCH(D78,SensorPricing[Sensor],0),MATCH($M$1,SensorPricing[#Headers],0))*2+\nINDEX(SensorPricing[],MATCH(D78,SensorPricing[Sensor],0),MATCH($M$1,SensorPricing[#Headers],0))*0.2777777*MAX(0,LeaseYears-2))*Lease_Factor/LeaseMonths,0)","v":4}]
[null,"Cl2","è","L","=",{"v":4,"d":"$ 4"},{"$nulls":8},"Cl2","L","Q2","USD",{"$f":"ROUNDUP((INDEX(SensorPricing[],MATCH(D79,SensorPricing[Sensor],0),MATCH($M$1,SensorPricing[#Headers],0))*2+\nINDEX(SensorPricing[],MATCH(D79,SensorPricing[Sensor],0),MATCH($M$1,SensorPricing[#Headers],0))*0.2777777*MAX(0,LeaseYears-2))*Lease_Factor/LeaseMonths,0)","v":4}]
[null,"CO ","è","M","=",{"v":0,"d":"$ 0"},{"$nulls":8},"CO ","M","Q2","USD",{"$f":"ROUNDUP((INDEX(SensorPricing[],MATCH(D80,SensorPricing[Sensor],0),MATCH($M$1,SensorPricing[#Headers],0))*2+\nINDEX(SensorPricing[],MATCH(D80,SensorPricing[Sensor],0),MATCH($M$1,SensorPricing[#Headers],0))*0.2777777*MAX(0,LeaseYears-2))*Lease_Factor/LeaseMonths,0)","v":0}]
[null,"HCN","è","N","=",{"v":4,"d":"$ 4"},{"$nulls":8},"HCN","N","Q2","USD",{"$f":"ROUNDUP((INDEX(SensorPricing[],MATCH(D81,SensorPricing[Sensor],0),MATCH($M$1,SensorPricing[#Headers],0))*2+\nINDEX(SensorPricing[],MATCH(D81,SensorPricing[Sensor],0),MATCH($M$1,SensorPricing[#Headers],0))*0.2777777*MAX(0,LeaseYears-2))*Lease_Factor/LeaseMonths,0)","v":4}]
[null,"CO-H ","è","R","=",{"v":0,"d":"$ 0"},{"$nulls":8},"CO-H ","R","Q2","USD",{"$f":"ROUNDUP((INDEX(SensorPricing[],MATCH(D82,SensorPricing[Sensor],0),MATCH($M$1,SensorPricing[#Headers],0))*2+\nINDEX(SensorPricing[],MATCH(D82,SensorPricing[Sensor],0),MATCH($M$1,SensorPricing[#Headers],0))*0.2777777*MAX(0,LeaseYears-2))*Lease_Factor/LeaseMonths,0)","v":0}]
[null,"SO2","è","S","=",{"v":0,"d":"$ 0"},{"$nulls":8},"SO2","S","Q2","USD",{"$f":"ROUNDUP((INDEX(SensorPricing[],MATCH(D83,SensorPricing[Sensor],0),MATCH($M$1,SensorPricing[#Headers],0))*2+\nINDEX(SensorPricing[],MATCH(D83,SensorPricing[Sensor],0),MATCH($M$1,SensorPricing[#Headers],0))*0.2777777*MAX(0,LeaseYears-2))*Lease_Factor/LeaseMonths,0)","v":0}]
[null,"High-range CO ","è","T","=",{"v":8,"d":"$ 8"},{"$nulls":8},"High-range CO ","T","Q2","USD",{"$f":"ROUNDUP((INDEX(SensorPricing[],MATCH(D84,SensorPricing[Sensor],0),MATCH($M$1,SensorPricing[#Headers],0))*2+\nINDEX(SensorPricing[],MATCH(D84,SensorPricing[Sensor],0),MATCH($M$1,SensorPricing[#Headers],0))*0.2777777*MAX(0,LeaseYears-2))*Lease_Factor/LeaseMonths,0)","v":8}]
[null,"ClO2","è","W","=",{"v":4,"d":"$ 4"},{"$nulls":8},"ClO2","W","Q2","USD",{"$f":"ROUNDUP((INDEX(SensorPricing[],MATCH(D85,SensorPricing[Sensor],0),MATCH($M$1,SensorPricing[#Headers],0))*2+\nINDEX(SensorPricing[],MATCH(D85,SensorPricing[Sensor],0),MATCH($M$1,SensorPricing[#Headers],0))*0.2777777*MAX(0,LeaseYears-2))*Lease_Factor/LeaseMonths,0)","v":4}]
[null,"No Sensor ","è","X","=",{"v":0,"d":"$ 0"},{"$nulls":8},"No Sensor ","X","Q2","USD",{"$f":"ROUNDUP((INDEX(SensorPricing[],MATCH(D86,SensorPricing[Sensor],0),MATCH($M$1,SensorPricing[#Headers],0))*2+\nINDEX(SensorPricing[],MATCH(D86,SensorPricing[Sensor],0),MATCH($M$1,SensorPricing[#Headers],0))*0.2777777*MAX(0,LeaseYears-2))*Lease_Factor/LeaseMonths,0)","v":0}]
[null,0,"",0,"","",{"$nulls":12},{"$f":"ROUNDUP((INDEX(SensorPricing[],MATCH(D87,SensorPricing[Sensor],0),MATCH($M$1,SensorPricing[#Headers],0))*2+\nINDEX(SensorPricing[],MATCH(D87,SensorPricing[Sensor],0),MATCH($M$1,SensorPricing[#Headers],0))*0.2777777*MAX(0,LeaseYears-2))*Lease_Factor/LeaseMonths,0)","v":{"$error":"#N/A"}}]
[null,0,"",0,"","",{"$nulls":12},{"$f":"ROUNDUP((INDEX(SensorPricing[],MATCH(D88,SensorPricing[Sensor],0),MATCH($M$1,SensorPricing[#Headers],0))*2+\nINDEX(SensorPricing[],MATCH(D88,SensorPricing[Sensor],0),MATCH($M$1,SensorPricing[#Headers],0))*0.2777777*MAX(0,LeaseYears-2))*Lease_Factor/LeaseMonths,0)","v":{"$error":"#N/A"}}]
[null,0,"",0,"","",{"$nulls":12},{"$f":"ROUNDUP((INDEX(SensorPricing[],MATCH(D89,SensorPricing[Sensor],0),MATCH($M$1,SensorPricing[#Headers],0))*2+\nINDEX(SensorPricing[],MATCH(D89,SensorPricing[Sensor],0),MATCH($M$1,SensorPricing[#Headers],0))*0.2777777*MAX(0,LeaseYears-2))*Lease_Factor/LeaseMonths,0)","v":{"$error":"#N/A"}}]
[{"$nulls":11},"+"]
[null,"Oxygen Sensor"]
[null,{"$f":"_xlfn.VSTACK(O92:O93)","v":"O2"},{"$f":"IF(B92=0,\"\",\"è\")","v":"è"},{"$f":"_xlfn.VSTACK(P92:P93)","v":"O"},{"$f":"IF(B92=0,\"\",\"=\")","v":"="},{"$f":"IFERROR(SUM(S92:T92),\"\")","v":{"v":0,"d":"$ 0"}},null,"O",{"$nulls":3},{"$f":"VLOOKUP(H92,D92:F93,3,FALSE)","v":{"v":0,"d":"$ 0"}},null,null,{"$f":"_xlfn._xlws.FILTER(_xlfn._xlws.FILTER(Oxygen[],Oxygen[Type]=H45),{1,1,0})","v":"O2"},"O",null,null,{"$f":"ROUNDUP((INDEX(SensorPricing[],MATCH(D92,SensorPricing[Sensor],0),MATCH($M$1,SensorPricing[#Headers],0))*2+\nINDEX(SensorPricing[],MATCH(D92,SensorPricing[Sensor],0),MATCH($M$1,SensorPricing[#Headers],0))*0.2777777*MAX(0,LeaseYears-2))*Lease_Factor/LeaseMonths,0)","v":0}]
[null,0,"",0,"",{"$f":"IFERROR(SUM(S93:T93),\"\")","v":""},{"$nulls":12},{"$f":"ROUNDUP((INDEX(SensorPricing[],MATCH(D93,SensorPricing[Sensor],0),MATCH($M$1,SensorPricing[#Headers],0))*2+\nINDEX(SensorPricing[],MATCH(D93,SensorPricing[Sensor],0),MATCH($M$1,SensorPricing[#Headers],0))*0.2777777*MAX(0,LeaseYears-2))*Lease_Factor/LeaseMonths,0)","v":{"$error":"#N/A"}}]
[{"$nulls":7},"-"]
[]
[null,"Service Plan"]
[null,{"$f":"_xlfn.VSTACK(O97:O99)","v":"Standard"},{"$f":"IF(B97=0,\"\",\"è\")","v":"è"},{"$f":"_xlfn.VSTACK(P97:P99)","v":"S"},{"$f":"IF(B97=0,\"\",\"=\")","v":"="},{"$f":"IFERROR(S97,\"\")","v":{"v":17,"d":"$ 17"}},null,"S",{"$nulls":3},{"$f":"VLOOKUP(H97,D97:F99,3,FALSE)","v":{"v":17,"d":"$ 17"}},null,null,{"$f":"_xlfn.VSTACK(G8ServicePlans[])","v":"Standard"},"S",null,null,{"$f":"IF(D97=\"X\",0,\nROUND(INDEX(G8ServicePrices[],MATCH(D97,G8ServicePrices[Code],0),MATCH($M$1,G8ServicePrices[#Headers],0))*\nINDEX(G8ServicePrices[],MATCH(D97,G8ServicePrices[Code],0),MATCH(\"LeaseFactor\",G8ServicePrices[#Headers],0)),0))","v":17}]
[null,"Pro","è","K","=",{"v":32,"d":"$ 32"},{"$nulls":8},"Pro","K",null,null,{"$f":"IF(D98=\"X\",0,\nROUND(INDEX(G8ServicePrices[],MATCH(D98,G8ServicePrices[Code],0),MATCH($M$1,G8ServicePrices[#Headers],0))*\nINDEX(G8ServicePrices[],MATCH(D98,G8ServicePrices[Code],0),MATCH(\"LeaseFactor\",G8ServicePrices[#Headers],0)),0))","v":32}]
[null,0,"",0,"","",{"$nulls":12},{"$f":"IF(D99=\"X\",0,\nROUND(INDEX(G8ServicePrices[],MATCH(D99,G8ServicePrices[Code],0),MATCH($M$1,G8ServicePrices[#Headers],0))*\nINDEX(G8ServicePrices[],MATCH(D99,G8ServicePrices[Code],0),MATCH(\"LeaseFactor\",G8ServicePrices[#Headers],0)),0))","v":{"$error":"#N/A"}}]
[{"$nulls":11},"+"]
[null,"Monitoring Services"]
[null,{"$f":"_xlfn.VSTACK(O102:O104)","v":"None"},{"$f":"IF(B102=0,\"\",\"è\")","v":"è"},{"$f":"_xlfn.VSTACK(P102:P104)","v":"X"},{"$f":"IF(B102=0,\"\",\"=\")","v":"="},{"$f":"IFERROR(S102,\"\")","v":{"v":0,"d":"$ 0"}},null,"X",{"$nulls":3},{"$f":"VLOOKUP(H102,D102:F104,3,FALSE)","v":{"v":0,"d":"$ 0"}},null,null,{"$f":"_xlfn._xlws.FILTER(_xlfn._xlws.FILTER(G8Monitoring[],G8Monitoring[Type]=ServicePlans),{1,1,0})","v":"None"},"X",null,null,{"$f":"IF(D102=\"X\",0,\nROUND(INDEX(G8ServicePrices[],MATCH(D102,G8ServicePrices[Code],0),MATCH($M$1,G8ServicePrices[#Headers],0))*\nINDEX(G8ServicePrices[],MATCH(D102,G8ServicePrices[Code],0),MATCH(\"LeaseFactor\",G8ServicePrices[#Headers],0)),0))","v":0}]
[null,0,"",0,"",{"$f":"IFERROR(S103,\"\")","v":""},{"$nulls":12},{"$f":"IF(D103=\"X\",0,\nROUND(INDEX(G8ServicePrices[],MATCH(D103,G8ServicePrices[Code],0),MATCH($M$1,G8ServicePrices[#Headers],0))*\nINDEX(G8ServicePrices[],MATCH(D103,G8ServicePrices[Code],0),MATCH(\"LeaseFactor\",G8ServicePrices[#Headers],0)),0))","v":{"$error":"#N/A"}}]
[null,0,"",0,"",{"$f":"IFERROR(S104,\"\")","v":""},{"$nulls":12},{"$f":"IF(D104=\"X\",0,\nROUND(INDEX(G8ServicePrices[],MATCH(D104,G8ServicePrices[Code],0),MATCH($M$1,G8ServicePrices[#Headers],0))*\nINDEX(G8ServicePrices[],MATCH(D104,G8ServicePrices[Code],0),MATCH(\"LeaseFactor\",G8ServicePrices[#Headers],0)),0))","v":{"$error":"#N/A"}}]
[{"$nulls":11},"+"]
[null,"Voice"]
[null,{"$f":"_xlfn.VSTACK(O107:O108)","v":"None"},{"$f":"IF(B107=0,\"\",\"è\")","v":"è"},{"$f":"_xlfn.VSTACK(P107:P108)","v":"X"},{"$f":"IF(B107=0,\"\",\"=\")","v":"="},{"$f":"IFERROR(S107,\"\")","v":{"v":0,"d":"$ 0"}},null,"X",{"$nulls":3},{"$f":"VLOOKUP(H107,D107:F108,3,FALSE)","v":{"v":0,"d":"$ 0"}},null,null,{"$f":"_xlfn._xlws.FILTER(_xlfn._xlws.FILTER(G8Voice[],G8Voice[Type]=ServicePlans),{1,1,0})","v":"None"},"X",null,null,{"$f":"IF(D107=\"X\",0,\nROUND(INDEX(G8ServicePrices[],MATCH(D107,G8ServicePrices[Code],0),MATCH($M$1,G8ServicePrices[#Headers],0))*\nINDEX(G8ServicePrices[],MATCH(D107,G8ServicePrices[Code],0),MATCH(\"LeaseFactor\",G8ServicePrices[#Headers],0)),0))","v":0}]
[null,0,"",0,"",{"$f":"IFERROR(S108,\"\")","v":""},{"$nulls":12},{"$f":"IF(D108=\"X\",0,\nROUND(INDEX(G8ServicePrices[],MATCH(D108,G8ServicePrices[Code],0),MATCH($M$1,G8ServicePrices[#Headers],0))*\nINDEX(G8ServicePrices[],MATCH(D108,G8ServicePrices[Code],0),MATCH(\"LeaseFactor\",G8ServicePrices[#Headers],0)),0))","v":{"$error":"#N/A"}}]
[{"$nulls":11},"+"]
[null,"Push-to-Talk"]
[null,{"$f":"_xlfn.VSTACK(O111:O112)","v":"None"},{"$f":"IF(B111=0,\"\",\"è\")","v":"è"},{"$f":"_xlfn.VSTACK(P111:P112)","v":"X"},{"$f":"IF(B111=0,\"\",\"=\")","v":"="},{"$f":"IFERROR(S111,\"\")","v":{"v":0,"d":"$ 0"}},null,"X",{"$nulls":3},{"$f":"VLOOKUP(H111,D111:F112,3,FALSE)","v":{"v":0,"d":"$ 0"}},null,null,{"$f":"_xlfn._xlws.FILTER(_xlfn._xlws.FILTER(G8PTT[],G8PTT[Type]=ServicePlans),{1,1,0})","v":"None"},"X",null,null,{"$f":"IF(D111=\"X\",0,\nROUND(INDEX(G8ServicePrices[],MATCH(D111,G8ServicePrices[Code],0),MATCH($M$1,G8ServicePrices[#Headers],0))*\nINDEX(G8ServicePrices[],MATCH(D111,G8ServicePrices[Code],0),MATCH(\"LeaseFactor\",G8ServicePrices[#Headers],0)),0))","v":0}]
[null,"Included","è","P","=",{"$f":"IFERROR(S112,\"\")","v":{"v":23,"d":"$ 23"}},{"$nulls":8},"Included","P",null,null,{"$f":"IF(D112=\"X\",0,\nROUND(INDEX(G8ServicePrices[],MATCH(D112,G8ServicePrices[Code],0),MATCH($M$1,G8ServicePrices[#Headers],0))*\nINDEX(G8ServicePrices[],MATCH(D112,G8ServicePrices[Code],0),MATCH(\"LeaseFactor\",G8ServicePrices[#Headers],0)),0))","v":23}]
[{"$nulls":11},"+"]
[null,"Future Service Option"]
[null,{"$f":"_xlfn.VSTACK(O115:O116)","v":"None"},{"$f":"IF(B115=0,\"\",\"è\")","v":"è"},{"$f":"_xlfn.VSTACK(P115:P116)","v":"X"},{"$f":"IF(B115=0,\"\",\"=\")","v":"="},{"$f":"IFERROR(S115,\"\")","v":{"v":0,"d":"$ 0"}},null,"X",{"$nulls":3},{"$f":"VLOOKUP(H115,D115:F116,3,FALSE)","v":{"v":0,"d":"$ 0"}},null,null,{"$f":"_xlfn._xlws.FILTER(_xlfn._xlws.FILTER(G8TeamCalling[],G8TeamCalling[Type]=ServicePlans),{1,1,0})","v":"None"},"X",null,null,{"$f":"IF(D115=\"X\",0,\nROUND(INDEX(G8ServicePrices[],MATCH(D115,G8ServicePrices[Code],0),MATCH($M$1,G8ServicePrices[#Headers],0))*\nINDEX(G8ServicePrices[],MATCH(D115,G8ServicePrices[Code],0),MATCH(\"LeaseFactor\",G8ServicePrices[#Headers],0)),0))","v":0}]
[null,0,"",0,"",{"$f":"IFERROR(S116,\"\")","v":""},{"$nulls":12},{"$f":"IF(D116=\"X\",0,\nROUND(INDEX(G8ServicePrices[],MATCH(D116,G8ServicePrices[Code],0),MATCH($M$1,G8ServicePrices[#Headers],0))*\nINDEX(G8ServicePrices[],MATCH(D116,G8ServicePrices[Code],0),MATCH(\"LeaseFactor\",G8ServicePrices[#Headers],0)),0))","v":{"$error":"#N/A"}}]
[{"$nulls":7},"-"]
[null,"Term"]
[null,"Three-Years","è","3Y",{"$nulls":3},"4Y",{"$nulls":6},{"$f":"LEFT(H119,1)","v":"4"}]
[null,"Four-Years","è","4Y",{"$nulls":10},{"$f":"LeaseYears*12","v":48}]

{"sheet":"EXO 8 Purchase","index":28,"n_rows":131,"n_cols":24,"rows_kept":131,"merged":[[1,1,1,7],[2,1,12,1],[7,3,7,9],[11,7,11,9],[13,1,13,5],[14,7,19,9],[14,11,19,11],[16,21,19,21],[16,23,19,23],[20,11,32,11],[21,1,21,5],[22,7,23,9],[24,7,25,9],[25,1,25,5],[26,7,26,9],[27,7,28,9],[28,1,28,5],[29,7,30,9],[31,7,32,9],[32,1,32,5],[33,7,34,9],[33,11,34,11],[35,11,36,11],[36,1,36,5],[37,7,38,9],[37,11,38,11],[39,11,40,11],[40,1,40,5],[41,7,53,9],[41,11,53,11],[41,21,53,21],[54,7,55,9],[54,11,58,11],[55,1,55,5],[56,7,56,9],[57,7,58,9],[58,1,58,5],[59,7,61,7],[59,9,107,9],[59,11,61,11],[62,11,63,11],[63,1,63,5],[64,7,82,7],[64,11,82,11],[83,11,84,11],[84,1,84,5],[85,7,103,7],[85,11,103,11],[104,11,105,11],[105,1,105,5],[106,7,107,7],[106,11,107,11],[108,7,109,9],[108,11,109,11],[109,1,109,5],[110,7,112,9],[110,11,112,11],[113,7,114,9],[113,11,114,11],[114,1,114,5],[115,7,117,9],[115,11,117,11],[118,11,119,11],[119,1,119,5],[120,7,121,9],[120,11,121,11],[122,11,123,11],[123,1,123,5],[124,7,125,9],[124,11,125,11],[126,7,127,9],[127,1,127,5],[128,7,130,9]]}
[null,{"$error":"#VALUE!"},{"$nulls":10},{"$f":"Currency","v":"USD"},null,null,"EXO 8 Purchase"]
[null,"EXO 8 Purchase",{"$nulls":10},{"$f":"PBYear","v":2025},"Quick Links"]
[null,{"$error":"#VALUE!"},{"$nulls":10},{"$f":"Revision","v":"Effective February 2, 2026 Rev 2"},"Main Menu"]
[{"$nulls":12},"Blackline Safety Confidential","Accessories"]
[{"$nulls":12},"All prices are an estimate - for a formal quote contact your local Blackline Safety representative"]
[{"$nulls":12},"Release dates are subject to change. Please confirm dates prior to quoting."]
[]
[{"$nulls":3},{"$f":"CONCATENATE(H15,H23,H25,H27,H28,H30,H32,H34,H38,H42,H57,H58,J60,H109,H111,H114,H116,H121,H125,H127,H129,)","v":"J-EX8N-01-NA2-000000-FHMO-3Y-XXX-3Y"},{"$nulls":7},{"$f":"L15+L34+L38+L42+L60+L65+L86+L107+L111+L116+L121+L125","v":{"v":6360,"d":"$ 6,360"}},{"$f":"M1&\" List\"","v":"USD List"}]
[]
[]
[]
[{"$nulls":5},"Additional Cartridge",null,{"$f":"CONCATENATE(\"J-CART-Q-\",J60,\"-3Y-R\")","v":"J-CART-Q-FHMO-3Y-R"},{"$nulls":3},{"$f":"SUM(X17:X63)","v":{"v":600,"d":"$ 600"}},{"$f":"M1&\" List\"","v":"USD List"}]
[]
[null,"Buying Option",{"$nulls":16},"2Y Price",null,"Extended Warranty",null,"Additional CART"]
[null,"Purchase","è","J-EX8",{"$nulls":3},{"$f":"D15","v":"J-EX8"},{"$nulls":3},{"$f":"VLOOKUP(Q64,A16:F20,6,FALSE)","v":{"v":5820,"d":"$ 5,820"}}]
[0,null,null,"No Cartridge","=",{"$f":"SUM(S16:U16)","v":{"v":5364,"d":"$ 5,364"}},{"$nulls":11},0,{"$f":"IF($H$23=\"N\",INDEX(BasePrices[],MATCH(\"EXO 8 Base Price\",BasePrices[Type],0),MATCH($M$1,BasePrices[#Headers],0)),\nINDEX(BasePrices[],MATCH(\"EXO 8 Gamma Base Price\",BasePrices[Type],0),MATCH($M$1,BasePrices[#Headers],0)))+\nINDEX(BasePrices[],MATCH(\"EXO Battery Price\",BasePrices[Type],0),MATCH($M$1,BasePrices[#Headers],0))+\nIFERROR(INDEX(BasePrices[],MATCH($R16,BasePrices[SnrCnt],0),MATCH($M$1,BasePrices[#Headers],0))*2,0)","v":4814},null,{"$f":"INDEX(BasePrices[],MATCH(\"EXO Warranty Base Price\",BasePrices[Type],0),MATCH($M$1,BasePrices[#Headers],0))+\nIFERROR(ROUNDUP(INDEX(BasePrices[],MATCH($R16,BasePrices[SnrCnt],0),MATCH($M$1,BasePrices[#Headers],0))*0.2777777,0),0)","v":550},null,{"$f":"IFERROR(ROUNDUP(INDEX(BasePrices[],MATCH($R16,BasePrices[SnrCnt],0),MATCH($M$1,BasePrices[#Headers],0))*3,0),0)","v":0}]
[1,null,null,"Multi 1-sensor","=",{"$f":"SUM(S17:U17)","v":{"v":5531,"d":"$ 5,531"}},{"$nulls":11},1,{"$f":"IF($H$23=\"N\",INDEX(BasePrices[],MATCH(\"EXO 8 Base Price\",BasePrices[Type],0),MATCH($M$1,BasePrices[#Headers],0)),\nINDEX(BasePrices[],MATCH(\"EXO 8 Gamma Base Price\",BasePrices[Type],0),MATCH($M$1,BasePrices[#Headers],0)))+\nINDEX(BasePrices[],MATCH(\"EXO Battery Price\",BasePrices[Type],0),MATCH($M$1,BasePrices[#Headers],0))+\nINDEX(BasePrices[],MATCH($R17,BasePrices[SnrCnt],0),MATCH($M$1,BasePrices[#Headers],0))*2","v":4960},null,{"$f":"INDEX(BasePrices[],MATCH(\"EXO Warranty Base Price\",BasePrices[Type],0),MATCH($M$1,BasePrices[#Headers],0))+\nROUNDUP(INDEX(BasePrices[],MATCH($R17,BasePrices[SnrCnt],0),MATCH($M$1,BasePrices[#Headers],0))*0.2777777,0)","v":571},{"$f":"VLOOKUP(Q64,A16:U20,COLUMN()-1,FALSE)","v":606},{"$f":"ROUNDUP(INDEX(BasePrices[],MATCH($R17,BasePrices[SnrCnt],0),MATCH($M$1,BasePrices[#Headers],0))*3,0)","v":219},{"$f":"VLOOKUP(Q64,A16:W20,COLUMN()-1,FALSE)","v":600}]
[2,null,null,"Multi 2-sensor","=",{"$f":"SUM(S18:U18)","v":{"v":5651,"d":"$ 5,651"}},{"$nulls":11},2,{"$f":"IF($H$23=\"N\",INDEX(BasePrices[],MATCH(\"EXO 8 Base Price\",BasePrices[Type],0),MATCH($M$1,BasePrices[#Headers],0)),\nINDEX(BasePrices[],MATCH(\"EXO 8 Gamma Base Price\",BasePrices[Type],0),MATCH($M$1,BasePrices[#Headers],0)))+\nINDEX(BasePrices[],MATCH(\"EXO Battery Price\",BasePrices[Type],0),MATCH($M$1,BasePrices[#Headers],0))+\nINDEX(BasePrices[],MATCH($R18,BasePrices[SnrCnt],0),MATCH($M$1,BasePrices[#Headers],0))*2","v":5066},null,{"$f":"INDEX(BasePrices[],MATCH(\"EXO Warranty Base Price\",BasePrices[Type],0),MATCH($M$1,BasePrices[#Headers],0))+\nROUNDUP(INDEX(BasePrices[],MATCH($R18,BasePrices[SnrCnt],0),MATCH($M$1,BasePrices[#Headers],0))*0.2777777,0)","v":585},null,{"$f":"ROUNDUP(INDEX(BasePrices[],MATCH($R18,BasePrices[SnrCnt],0),MATCH($M$1,BasePrices[#Headers],0))*3,0)","v":378}]
[3,null,null,"Multi 3-sensor","=",{"v":5740,"d":"$ 5,740"},{"$nulls":11},3,{"$f":"IF($H$23=\"N\",INDEX(BasePrices[],MATCH(\"EXO 8 Base Price\",BasePrices[Type],0),MATCH($M$1,BasePrices[#Headers],0)),\nINDEX(BasePrices[],MATCH(\"EXO 8 Gamma Base Price\",BasePrices[Type],0),MATCH($M$1,BasePrices[#Headers],0)))+\nINDEX(BasePrices[],MATCH(\"EXO Battery Price\",BasePrices[Type],0),MATCH($M$1,BasePrices[#Headers],0))+\nINDEX(BasePrices[],MATCH($R19,BasePrices[SnrCnt],0),MATCH($M$1,BasePrices[#Headers],0))*2","v":5144},null,{"$f":"INDEX(BasePrices[],MATCH(\"EXO Warranty Base Price\",BasePrices[Type],0),MATCH($M$1,BasePrices[#Headers],0))+\nROUNDUP(INDEX(BasePrices[],MATCH($R19,BasePrices[SnrCnt],0),MATCH($M$1,BasePrices[#Headers],0))*0.2777777,0)","v":596},null,{"$f":"ROUNDUP(INDEX(BasePrices[],MATCH($R19,BasePrices[SnrCnt],0),MATCH($M$1,BasePrices[#Headers],0))*3,0)","v":495}]
[4,null,null,"Multi 4-sensor","=",{"v":5820,"d":"$ 5,820"},{"$nulls":11},4,{"$f":"IF($H$23=\"N\",INDEX(BasePrices[],MATCH(\"EXO 8 Base Price\",BasePrices[Type],0),MATCH($M$1,BasePrices[#Headers],0)),\nINDEX(BasePrices[],MATCH(\"EXO 8 Gamma Base Price\",BasePrices[Type],0),MATCH($M$1,BasePrices[#Headers],0)))+\nINDEX(BasePrices[],MATCH(\"EXO Battery Price\",BasePrices[Type],0),MATCH($M$1,BasePrices[#Headers],0))+\nINDEX(BasePrices[],MATCH($R20,BasePrices[SnrCnt],0),MATCH($M$1,BasePrices[#Headers],0))*2","v":5214},null,{"$f":"INDEX(BasePrices[],MATCH(\"EXO Warranty Base Price\",BasePrices[Type],0),MATCH($M$1,BasePrices[#Headers],0))+\nROUNDUP(INDEX(BasePrices[],MATCH($R20,BasePrices[SnrCnt],0),MATCH($M$1,BasePrices[#Headers],0))*0.2777777,0)","v":606},null,{"$f":"ROUNDUP(INDEX(BasePrices[],MATCH($R20,BasePrices[SnrCnt],0),MATCH($M$1,BasePrices[#Headers],0))*3,0)","v":600}]
[{"$nulls":11},"+"]
[null,"Type"]
[null,"Non-Gamma","è","N",{"$nulls":3},"N"]
[null,"Gamma",{"$f":"IF(B24=\"\",\"\",\"è\")","v":"è"},"G"]
[{"$nulls":7},"-"]
[null,"SIM Card"]
[null,"Standard (Telenor)","è","01",{"$nulls":3},{"$f":"D27","v":"01"}]
[{"$nulls":7},"-"]
[null,"Country Code",{"$nulls":12},"C"]
[null,{"$f":"_xlfn.VSTACK(O30:O31)","v":"North America (4G/LTE)"},{"$f":"IF(B30=\"\",\"\",\"è\")","v":"è"},{"$f":"IFERROR(VLOOKUP(B30,$O$30:$P$31,2,FALSE),\"\")","v":"NA2"},{"$nulls":3},"NA2",{"$nulls":6},{"$f":"_xlfn.LET(\n_xlpm.Dtype,EXOCountryCodes[Type],_xlpm.Curr,EXOCountryCodes[Currency],_xlpm.SType,O29,_xlpm.SCurr,M1,\n_xlpm.myCalculation,_xlfn.VSTACK(_xlfn._xlws.FILTER(EXOCountryCodes[],(_xlpm.Dtype=_xlpm.SType)*(_xlpm.Curr=_xlpm.SCurr))),_xlpm.myCalculation)","v":"North America (4G/LTE)"},"NA2","C","USD"]
[null,"Outside of North America (4G/LTE)",{"$f":"IF(B31=0,\"\",\"è\")","v":"è"},{"$f":"IFERROR(VLOOKUP(B31,$O$30:$P$31,2,FALSE),\"\")","v":"EU2"},{"$nulls":10},"Outside of North America (4G/LTE)","EU2","C","USD"]
[{"$nulls":7},"-"]
[null,"Satellite Module"]
[null,"None","è",0,"=",{"v":0,"d":"$ 0"},null,0,{"$nulls":3},{"$f":"VLOOKUP(H34,D34:F35,3,FALSE)","v":{"v":0,"d":"$ 0"}},{"$nulls":6},"Base","3Y Warr","Ewarr"]
[null,"Satellite Module Included*","è",1,"=",{"$f":"S36","v":{"v":2945,"d":"$ 2,945"}}]
[{"$nulls":11},"+",{"$nulls":6},{"$f":"INDEX(BasePrices[],MATCH(\"EXO Satellite\",BasePrices[Type],0),MATCH($M$1,BasePrices[#Headers],0))","v":2945},0,{"$f":"ROUNDUP(INDEX(BasePrices[],MATCH(\"EXO Satellite\",BasePrices[Type],0),MATCH($M$1,BasePrices[#Headers],0))*0.22,0)","v":648},{"$f":"IF(H34=1,U36,0)","v":0}]
[null,"Pump Module"]
[null,"None","è",0,"=",{"v":0,"d":"$ 0"},null,0,{"$nulls":3},{"$f":"VLOOKUP(H38,D38:F39,3,FALSE)","v":{"v":0,"d":"$ 0"}},null,null,{"$f":"IF(H38=1,\"P\",\"X\")","v":"X"}]
[null,"Pump Module Included (Gas Expansion Module Must be 0)","è",1,"=",{"$f":"S39","v":{"v":2243,"d":"$ 2,243"}},{"$nulls":12},{"$f":"INDEX(BasePrices[],MATCH(\"EXO Pump\",BasePrices[Type],0),MATCH($M$1,BasePrices[#Headers],0))","v":2243},0,{"$f":"ROUNDUP(INDEX(BasePrices[],MATCH(\"EXO Pump\",BasePrices[Type],0),MATCH($M$1,BasePrices[#Headers],0))*0.22,0)","v":494},{"$f":"IF(H38=1,U39,0)","v":0}]
[{"$nulls":11},"+"]
[null,"Gas Expansion Module"]
[null,{"$f":"P42","v":"00 - None"},"è",{"$f":"O42","v":"00"},"=",{"$f":"IFERROR(SUM(S42:T42),\"\")","v":{"v":0,"d":"$ 0"}},null,"00",{"$nulls":3},{"$f":"VLOOKUP(H42,D42:F54,3,FALSE)","v":{"v":0,"d":"$ 0"}},null,null,{"$f":"_xlfn._xlws.FILTER(_xlfn._xlws.FILTER(GasExpansionModules[],GasExpansionModules[Available]=\"Yes\"),{0,0,1,0,0,0,0,1})","v":"00"},"00 - None",null,null,0,0,null,{"$f":"VLOOKUP(H42,D42:U54,17,FALSE)","v":0}]
[null,{"$f":"IF(O43=\"\",\"\",P43)","v":"01 - Refinery / Chem #1 (SO2, PID)"},{"$f":"IF(O43=\"\",\"\",\"è\")","v":"è"},{"$f":"IF(O43=\"\",\"\",O43)","v":"01"},{"$f":"IF(O43=\"\",\"\",\"=\")","v":"="},{"$f":"IFERROR(SUM(S43:T43),\"\")","v":{"v":3801,"d":"$ 3,801"}},{"$nulls":8},"01","01 - Refinery / Chem #1 (SO2, PID)",null,null,{"$f":"INDEX(GasExpansionModulePrice[],MATCH($D43,GasExpansionModulePrice[Code],0),MATCH($M$1,GasExpansionModulePrice[#Headers],0))","v":3631},{"$f":"INDEX(GasExpansionModulePrice[],MATCH($D43,GasExpansionModulePrice[Code],0),MATCH(\"e\"&$M$1,GasExpansionModulePrice[#Headers],0))","v":170}]
[null,{"$f":"IF(O44=\"\",\"\",P44)","v":"04 - Refinery / Chem #4 (NH3, H2S, SO2)"},{"$f":"IF(O44=\"\",\"\",\"è\")","v":"è"},{"$f":"IF(O44=\"\",\"\",O44)","v":"04"},{"$f":"IF(O44=\"\",\"\",\"=\")","v":"="},{"v":2819,"d":"$ 2,819"},{"$nulls":8},"04","04 - Refinery / Chem #4 (NH3, H2S, SO2)",null,null,{"$f":"INDEX(GasExpansionModulePrice[],MATCH($D44,GasExpansionModulePrice[Code],0),MATCH($M$1,GasExpansionModulePrice[#Headers],0))","v":2756},{"$f":"INDEX(GasExpansionModulePrice[],MATCH($D44,GasExpansionModulePrice[Code],0),MATCH(\"e\"&$M$1,GasExpansionModulePrice[#Headers],0))","v":63}]
[null,{"$f":"IF(O45=\"\",\"\",P45)","v":"06 - Hazmat #1 (NH3, Cl2, HCN, PID)"},"è","06","=",{"v":4453,"d":"$ 4,453"},{"$nulls":8},"06","06 - Hazmat #1 (NH3, Cl2, HCN, PID)",null,null,{"$f":"INDEX(GasExpansionModulePrice[],MATCH($D45,GasExpansionModulePrice[Code],0),MATCH($M$1,GasExpansionModulePrice[#Headers],0))","v":4211},{"$f":"INDEX(GasExpansionModulePrice[],MATCH($D45,GasExpansionModulePrice[Code],0),MATCH(\"e\"&$M$1,GasExpansionModulePrice[#Headers],0))","v":242}]
[null,"09 - Wastewater #1 (NH3, H2S, Cl2, PID)","è","09","=",{"v":4299,"d":"$ 4,299"},{"$nulls":8},"09","09 - Wastewater #1 (NH3, H2S, Cl2, PID)",null,null,{"$f":"INDEX(GasExpansionModulePrice[],MATCH($D46,GasExpansionModulePrice[Code],0),MATCH($M$1,GasExpansionModulePrice[#Headers],0))","v":4074},{"$f":"INDEX(GasExpansionModulePrice[],MATCH($D46,GasExpansionModulePrice[Code],0),MATCH(\"e\"&$M$1,GasExpansionModulePrice[#Headers],0))","v":225}]
[null,"","","","","",{"$nulls":12},{"$f":"INDEX(GasExpansionModulePrice[],MATCH($D47,GasExpansionModulePrice[Code],0),MATCH($M$1,GasExpansionModulePrice[#Headers],0))","v":{"$error":"#N/A"}},{"$f":"INDEX(GasExpansionModulePrice[],MATCH($D47,GasExpansionModulePrice[Code],0),MATCH(\"e\"&$M$1,GasExpansionModulePrice[#Headers],0))","v":{"$error":"#N/A"}}]
[null,"","","","","",{"$nulls":12},{"$f":"INDEX(GasExpansionModulePrice[],MATCH($D48,GasExpansionModulePrice[Code],0),MATCH($M$1,GasExpansionModulePrice[#Headers],0))","v":{"$error":"#N/A"}},{"$f":"INDEX(GasExpansionModulePrice[],MATCH($D48,GasExpansionModulePrice[Code],0),MATCH(\"e\"&$M$1,GasExpansionModulePrice[#Headers],0))","v":{"$error":"#N/A"}}]
[null,"","","","","",{"$nulls":12},{"$f":"INDEX(GasExpansionModulePrice[],MATCH($D49,GasExpansionModulePrice[Code],0),MATCH($M$1,GasExpansionModulePrice[#Headers],0))","v":{"$error":"#N/A"}},{"$f":"INDEX(GasExpansionModulePrice[],MATCH($D49,GasExpansionModulePrice[Code],0),MATCH(\"e\"&$M$1,GasExpansionModulePrice[#Headers],0))","v":{"$error":"#N/A"}}]
[null,{"$f":"IF(O50=\"\",\"\",P50)","v":""},{"$f":"IF(O50=\"\",\"\",\"è\")","v":""},{"$f":"IF(O50=\"\",\"\",O50)","v":""},{"$f":"IF(O50=\"\",\"\",\"=\")","v":""},"",{"$nulls":12},{"$f":"INDEX(GasExpansionModulePrice[],MATCH($D50,GasExpansionModulePrice[Code],0),MATCH($M$1,GasExpansionModulePrice[#Headers],0))","v":{"$error":"#N/A"}},{"$f":"INDEX(GasExpansionModulePrice[],MATCH($D50,GasExpansionModulePrice[Code],0),MATCH(\"e\"&$M$1,GasExpansionModulePrice[#Headers],0))","v":{"$error":"#N/A"}}]
[null,"","","","","",{"$nulls":12},{"$f":"INDEX(GasExpansionModulePrice[],MATCH($D51,GasExpansionModulePrice[Code],0),MATCH($M$1,GasExpansionModulePrice[#Headers],0))","v":{"$error":"#N/A"}},{"$f":"INDEX(GasExpansionModulePrice[],MATCH($D51,GasExpansionModulePrice[Code],0),MATCH(\"e\"&$M$1,GasExpansionModulePrice[#Headers],0))","v":{"$error":"#N/A"}}]
[null,"","","","","",{"$nulls":12},{"$f":"INDEX(GasExpansionModulePrice[],MATCH($D52,GasExpansionModulePrice[Code],0),MATCH($M$1,GasExpansionModulePrice[#Headers],0))","v":{"$error":"#N/A"}},{"$f":"INDEX(GasExpansionModulePrice[],MATCH($D52,GasExpansionModulePrice[Code],0),MATCH(\"e\"&$M$1,GasExpansionModulePrice[#Headers],0))","v":{"$error":"#N/A"}}]
[null,"","","","","",{"$nulls":12},{"$f":"INDEX(GasExpansionModulePrice[],MATCH($D53,GasExpansionModulePrice[Code],0),MATCH($M$1,GasExpansionModulePrice[#Headers],0))","v":{"$error":"#N/A"}},{"$f":"INDEX(GasExpansionModulePrice[],MATCH($D53,GasExpansionModulePrice[Code],0),MATCH(\"e\"&$M$1,GasExpansionModulePrice[#Headers],0))","v":{"$error":"#N/A"}}]
[null,"","","","","",{"$nulls":12},{"$f":"INDEX(GasExpansionModulePrice[],MATCH($D54,GasExpansionModulePrice[Code],0),MATCH($M$1,GasExpansionModulePrice[#Headers],0))","v":{"$error":"#N/A"}},{"$f":"INDEX(GasExpansionModulePrice[],MATCH($D54,GasExpansionModulePrice[Code],0),MATCH(\"e\"&$M$1,GasExpansionModulePrice[#Headers],0))","v":{"$error":"#N/A"}}]
[{"$nulls":11},"+"]
[null,"Future"]
[null,"Future","è","00",{"$nulls":3},{"$f":"D57","v":"00"}]
[{"$nulls":7},"-"]
[null,"Combustible Sensor",{"$nulls":16},"Base","3Y Warr","Ewarr"]
[null,"LEL-IR","è","I","=",{"$f":"IFERROR(ROUNDUP(SUM(S60:T60),0),\"\")","v":{"v":137,"d":"$ 137"}},null,"F",null,{"$f":"CONCATENATE(P60,P61,P62,P63)","v":"FHMO"},null,{"$f":"VLOOKUP(H60,D60:F62,3,FALSE)","v":{"v":0,"d":"$ 0"}},null,null,{"$f":"H60","v":"F"},{"$f":"_xlfn._xlws.SORT(O60:O63)","v":"F"},{"$f":"IF(P60=\"X\",1,0)","v":0},null,{"$f":"INDEX(SensorPricing[],MATCH($D60,SensorPricing[Sensor],0),MATCH($M$1,SensorPricing[#Headers],0))*2","v":120},{"$f":"INDEX(SensorPricing[],MATCH($D60,SensorPricing[Sensor],0),MATCH($M$1,SensorPricing[#Headers],0))*0.2777777","v":16.666662000000002},{"$f":"INDEX(SensorPricing[],MATCH($D60,SensorPricing[Sensor],0),MATCH($M$1,SensorPricing[#Headers],0))*0.2777777*(LEFT($H$111,1)-3)","v":0},{"$f":"ROUNDUP(INDEX(SensorPricing[],MATCH($P60,SensorPricing[Sensor],0),MATCH($M$1,SensorPricing[#Headers],0))*0.2777777,0)","v":0},null,{"$f":"ROUNDUP(INDEX(SensorPricing[],MATCH($P60,SensorPricing[Sensor],0),MATCH($M$1,SensorPricing[#Headers],0))*3,0)","v":0}]
[null,"LEL-MPS","è","F","=",{"$f":"IFERROR(ROUNDUP(SUM(S61:T61),0),\"\")","v":{"v":0,"d":"$ 0"}},{"$nulls":8},{"$f":"H65","v":"H"},"H",{"$f":"IF(P61=\"X\",1,0)","v":0},null,{"$f":"INDEX(SensorPricing[],MATCH($D61,SensorPricing[Sensor],0),MATCH($M$1,SensorPricing[#Headers],0))*2","v":0},{"$f":"INDEX(SensorPricing[],MATCH($D61,SensorPricing[Sensor],0),MATCH($M$1,SensorPricing[#Headers],0))*0.2777777","v":0},{"$f":"INDEX(SensorPricing[],MATCH($D61,SensorPricing[Sensor],0),MATCH($M$1,SensorPricing[#Headers],0))*0.2777777*(LEFT($H$111,1)-3)","v":0},{"$f":"ROUNDUP(INDEX(SensorPricing[],MATCH($P61,SensorPricing[Sensor],0),MATCH($M$1,SensorPricing[#Headers],0))*0.2777777,0)","v":0},null,{"$f":"ROUNDUP(INDEX(SensorPricing[],MATCH($P61,SensorPricing[Sensor],0),MATCH($M$1,SensorPricing[#Headers],0))*3,0)","v":0}]
[null,"None","è","X","=",{"$f":"IFERROR(ROUNDUP(SUM(S62:T62),0),\"\")","v":{"v":0,"d":"$ 0"}},{"$nulls":8},{"$f":"H86","v":"M"},"M",{"$f":"IF(P62=\"X\",1,0)","v":0},null,{"$f":"INDEX(SensorPricing[],MATCH($D62,SensorPricing[Sensor],0),MATCH($M$1,SensorPricing[#Headers],0))*2","v":0},{"$f":"INDEX(SensorPricing[],MATCH($D62,SensorPricing[Sensor],0),MATCH($M$1,SensorPricing[#Headers],0))*0.2777777","v":0},{"$f":"INDEX(SensorPricing[],MATCH($D62,SensorPricing[Sensor],0),MATCH($M$1,SensorPricing[#Headers],0))*0.2777777*(LEFT($H$111,1)-3)","v":0},{"$f":"ROUNDUP(INDEX(SensorPricing[],MATCH($P62,SensorPricing[Sensor],0),MATCH($M$1,SensorPricing[#Headers],0))*0.2777777,0)","v":0},null,{"$f":"ROUNDUP(INDEX(SensorPricing[],MATCH($P62,SensorPricing[Sensor],0),MATCH($M$1,SensorPricing[#Headers],0))*3,0)","v":0}]
[{"$nulls":11},"+",null,null,{"$f":"H107","v":"O"},"O",{"$f":"IF(P63=\"X\",1,0)","v":0},{"$nulls":4},{"$f":"ROUNDUP(INDEX(SensorPricing[],MATCH($P63,SensorPricing[Sensor],0),MATCH($M$1,SensorPricing[#Headers],0))*0.2777777,0)","v":0},null,{"$f":"ROUNDUP(INDEX(SensorPricing[],MATCH($P63,SensorPricing[Sensor],0),MATCH($M$1,SensorPricing[#Headers],0))*3,0)","v":0}]
[null,"Toxic Sensor #1",{"$nulls":14},{"$f":"4-SUM(Q60:Q63)","v":4}]
[null,{"$f":"_xlfn.VSTACK(O65:O83)","v":"NH3 "},{"$f":"IF(B65=0,\"\",\"è\")","v":"è"},{"$f":"_xlfn.VSTACK(P65:P83)","v":"A"},{"$f":"IF(B65=0,\"\",\"=\")","v":"="},{"$f":"IFERROR(ROUNDUP(SUM(S65:T65),0),\"\")","v":{"v":137,"d":"$ 137"}},null,"H",{"$nulls":3},{"$f":"VLOOKUP(H65,D65:F83,3,FALSE)","v":{"v":0,"d":"$ 0"}},null,null,{"$f":"_xlfn.CHOOSECOLS(_xlfn.LET(\n_xlpm.Dtype,EXOSensors[Type],_xlpm.Curr,EXOSensors[Currency],_xlpm.Mtype,EXOSensors[Gas Expansion],_xlpm.Stype,$O$38&1,_xlpm.SCurr,$M$1,_xlpm.MoType,$H$42,\n_xlpm.myCalculation,_xlfn.VSTACK(_xlfn._xlws.FILTER(EXOSensors[],(_xlpm.Dtype=_xlpm.Stype)*(_xlpm.Curr=_xlpm.SCurr)*(_xlpm.Mtype=_xlpm.MoType))),_xlpm.myCalculation),1,2)","v":"NH3 "},"A",null,null,{"$f":"INDEX(SensorPricing[],MATCH($P65,SensorPricing[Sensor],0),MATCH($M$1,SensorPricing[#Headers],0))*2","v":120},{"$f":"INDEX(SensorPricing[],MATCH($P65,SensorPricing[Sensor],0),MATCH($M$1,SensorPricing[#Headers],0))*0.2777777","v":16.666662000000002},{"$f":"INDEX(SensorPricing[],MATCH($P65,SensorPricing[Sensor],0),MATCH($M$1,SensorPricing[#Headers],0))*0.2777777*(LEFT($H$111,1)-3)","v":0}]
[null,"High-range NH3 ","è","B","=",{"v":287,"d":"$ 287"},{"$nulls":8},"High-range NH3 ","B",null,null,{"$f":"INDEX(SensorPricing[],MATCH($P66,SensorPricing[Sensor],0),MATCH($M$1,SensorPricing[#Headers],0))*2","v":252},{"$f":"INDEX(SensorPricing[],MATCH($P66,SensorPricing[Sensor],0),MATCH($M$1,SensorPricing[#Headers],0))*0.2777777","v":34.9999902},{"$f":"INDEX(SensorPricing[],MATCH($P66,SensorPricing[Sensor],0),MATCH($M$1,SensorPricing[#Headers],0))*0.2777777*(LEFT($H$111,1)-3)","v":0}]
[null,"CO2 ","è","C","=",{"v":547,"d":"$ 547"},{"$nulls":8},"CO2 ","C",null,null,{"$f":"INDEX(SensorPricing[],MATCH($P67,SensorPricing[Sensor],0),MATCH($M$1,SensorPricing[#Headers],0))*2","v":480},{"$f":"INDEX(SensorPricing[],MATCH($P67,SensorPricing[Sensor],0),MATCH($M$1,SensorPricing[#Headers],0))*0.2777777","v":66.66664800000001},{"$f":"INDEX(SensorPricing[],MATCH($P67,SensorPricing[Sensor],0),MATCH($M$1,SensorPricing[#Headers],0))*0.2777777*(LEFT($H$111,1)-3)","v":0}]
[null,"H2S ","è","H","=",{"v":0,"d":"$ 0"},{"$nulls":8},"H2S ","H",null,null,{"$f":"INDEX(SensorPricing[],MATCH($P68,SensorPricing[Sensor],0),MATCH($M$1,SensorPricing[#Headers],0))*2","v":0},{"$f":"INDEX(SensorPricing[],MATCH($P68,SensorPricing[Sensor],0),MATCH($M$1,SensorPricing[#Headers],0))*0.2777777","v":0},{"$f":"INDEX(SensorPricing[],MATCH($P68,SensorPricing[Sensor],0),MATCH($M$1,SensorPricing[#Headers],0))*0.2777777*(LEFT($H$111,1)-3)","v":0}]
[null,"High-range H2S ","è","J","=",{"v":274,"d":"$ 274"},{"$nulls":8},"High-range H2S ","J",null,null,{"$f":"INDEX(SensorPricing[],MATCH($P69,SensorPricing[Sensor],0),MATCH($M$1,SensorPricing[#Headers],0))*2","v":240},{"$f":"INDEX(SensorPricing[],MATCH($P69,SensorPricing[Sensor],0),MATCH($M$1,SensorPricing[#Headers],0))*0.2777777","v":33.333324000000005},{"$f":"INDEX(SensorPricing[],MATCH($P69,SensorPricing[Sensor],0),MATCH($M$1,SensorPricing[#Headers],0))*0.2777777*(LEFT($H$111,1)-3)","v":0}]
[null,"NO2 ","è","K","=",{"v":137,"d":"$ 137"},{"$nulls":8},"NO2 ","K",null,null,{"$f":"INDEX(SensorPricing[],MATCH($P70,SensorPricing[Sensor],0),MATCH($M$1,SensorPricing[#Headers],0))*2","v":120},{"$f":"INDEX(SensorPricing[],MATCH($P70,SensorPricing[Sensor],0),MATCH($M$1,SensorPricing[#Headers],0))*0.2777777","v":16.666662000000002},{"$f":"INDEX(SensorPricing[],MATCH($P70,SensorPricing[Sensor],0),MATCH($M$1,SensorPricing[#Headers],0))*0.2777777*(LEFT($H$111,1)-3)","v":0}]
[null,"Cl2 ","è","L","=",{"v":137,"d":"$ 137"},{"$nulls":8},"Cl2 ","L",null,null,{"$f":"INDEX(SensorPricing[],MATCH($P71,SensorPricing[Sensor],0),MATCH($M$1,SensorPricing[#Headers],0))*2","v":120},{"$f":"INDEX(SensorPricing[],MATCH($P71,SensorPricing[Sensor],0),MATCH($M$1,SensorPricing[#Headers],0))*0.2777777","v":16.666662000000002},{"$f":"INDEX(SensorPricing[],MATCH($P71,SensorPricing[Sensor],0),MATCH($M$1,SensorPricing[#Headers],0))*0.2777777*(LEFT($H$111,1)-3)","v":0}]
[null,"CO ","è","M","=",{"v":0,"d":"$ 0"},{"$nulls":8},"CO ","M",null,null,{"$f":"INDEX(SensorPricing[],MATCH($P72,SensorPricing[Sensor],0),MATCH($M$1,SensorPricing[#Headers],0))*2","v":0},{"$f":"INDEX(SensorPricing[],MATCH($P72,SensorPricing[Sensor],0),MATCH($M$1,SensorPricing[#Headers],0))*0.2777777","v":0},{"$f":"INDEX(SensorPricing[],MATCH($P72,SensorPricing[Sensor],0),MATCH($M$1,SensorPricing[#Headers],0))*0.2777777*(LEFT($H$111,1)-3)","v":0}]
[null,"HCN ","è","N","=",{"v":137,"d":"$ 137"},{"$nulls":8},"HCN ","N",null,null,{"$f":"INDEX(SensorPricing[],MATCH($P73,SensorPricing[Sensor],0),MATCH($M$1,SensorPricing[#Headers],0))*2","v":120},{"$f":"INDEX(SensorPricing[],MATCH($P73,SensorPricing[Sensor],0),MATCH($M$1,SensorPricing[#Headers],0))*0.2777777","v":16.666662000000002},{"$f":"INDEX(SensorPricing[],MATCH($P73,SensorPricing[Sensor],0),MATCH($M$1,SensorPricing[#Headers],0))*0.2777777*(LEFT($H$111,1)-3)","v":0}]
[null,"CO-H ","è","R","=",{"v":0,"d":"$ 0"},{"$nulls":8},"CO-H ","R",null,null,{"$f":"INDEX(SensorPricing[],MATCH($P74,SensorPricing[Sensor],0),MATCH($M$1,SensorPricing[#Headers],0))*2","v":0},{"$f":"INDEX(SensorPricing[],MATCH($P74,SensorPricing[Sensor],0),MATCH($M$1,SensorPricing[#Headers],0))*0.2777777","v":0},{"$f":"INDEX(SensorPricing[],MATCH($P74,SensorPricing[Sensor],0),MATCH($M$1,SensorPricing[#Headers],0))*0.2777777*(LEFT($H$111,1)-3)","v":0}]
[null,"SO2 ","è","S","=",{"v":0,"d":"$ 0"},{"$nulls":8},"SO2 ","S",null,null,{"$f":"INDEX(SensorPricing[],MATCH($P75,SensorPricing[Sensor],0),MATCH($M$1,SensorPricing[#Headers],0))*2","v":0},{"$f":"INDEX(SensorPricing[],MATCH($P75,SensorPricing[Sensor],0),MATCH($M$1,SensorPricing[#Headers],0))*0.2777777","v":0},{"$f":"INDEX(SensorPricing[],MATCH($P75,SensorPricing[Sensor],0),MATCH($M$1,SensorPricing[#Headers],0))*0.2777777*(LEFT($H$111,1)-3)","v":0}]
[null,"High-range CO ","è","T","=",{"v":274,"d":"$ 274"},{"$nulls":8},"High-range CO ","T",null,null,{"$f":"INDEX(SensorPricing[],MATCH($P76,SensorPricing[Sensor],0),MATCH($M$1,SensorPricing[#Headers],0))*2","v":240},{"$f":"INDEX(SensorPricing[],MATCH($P76,SensorPricing[Sensor],0),MATCH($M$1,SensorPricing[#Headers],0))*0.2777777","v":33.333324000000005},{"$f":"INDEX(SensorPricing[],MATCH($P76,SensorPricing[Sensor],0),MATCH($M$1,SensorPricing[#Headers],0))*0.2777777*(LEFT($H$111,1)-3)","v":0}]
[null,"PID ","è","V","=",{"v":1101,"d":"$ 1,101"},{"$nulls":8},"PID ","V",null,null,{"$f":"INDEX(SensorPricing[],MATCH($P77,SensorPricing[Sensor],0),MATCH($M$1,SensorPricing[#Headers],0))*2","v":966},{"$f":"INDEX(SensorPricing[],MATCH($P77,SensorPricing[Sensor],0),MATCH($M$1,SensorPricing[#Headers],0))*0.2777777","v":134.1666291},{"$f":"INDEX(SensorPricing[],MATCH($P77,SensorPricing[Sensor],0),MATCH($M$1,SensorPricing[#Headers],0))*0.2777777*(LEFT($H$111,1)-3)","v":0}]
[null,"ClO2","è","W","=",{"v":137,"d":"$ 137"},{"$nulls":8},"ClO2","W",null,null,{"$f":"INDEX(SensorPricing[],MATCH($P78,SensorPricing[Sensor],0),MATCH($M$1,SensorPricing[#Headers],0))*2","v":120},{"$f":"INDEX(SensorPricing[],MATCH($P78,SensorPricing[Sensor],0),MATCH($M$1,SensorPricing[#Headers],0))*0.2777777","v":16.666662000000002},{"$f":"INDEX(SensorPricing[],MATCH($P78,SensorPricing[Sensor],0),MATCH($M$1,SensorPricing[#Headers],0))*0.2777777*(LEFT($H$111,1)-3)","v":0}]
[null,"No Sensor ","è","X","=",{"v":0,"d":"$ 0"},{"$nulls":8},"No Sensor ","X",null,null,{"$f":"INDEX(SensorPricing[],MATCH($P79,SensorPricing[Sensor],0),MATCH($M$1,SensorPricing[#Headers],0))*2","v":0},{"$f":"INDEX(SensorPricing[],MATCH($P79,SensorPricing[Sensor],0),MATCH($M$1,SensorPricing[#Headers],0))*0.2777777","v":0},{"$f":"INDEX(SensorPricing[],MATCH($P79,SensorPricing[Sensor],0),MATCH($M$1,SensorPricing[#Headers],0))*0.2777777*(LEFT($H$111,1)-3)","v":0}]
[null,0,"",0,"","",{"$nulls":12},{"$f":"INDEX(SensorPricing[],MATCH($P80,SensorPricing[Sensor],0),MATCH($M$1,SensorPricing[#Headers],0))*2","v":{"$error":"#N/A"}},{"$f":"INDEX(SensorPricing[],MATCH($P80,SensorPricing[Sensor],0),MATCH($M$1,SensorPricing[#Headers],0))*0.2777777","v":{"$error":"#N/A"}},{"$f":"INDEX(SensorPricing[],MATCH($P80,SensorPricing[Sensor],0),MATCH($M$1,SensorPricing[#Headers],0))*0.2777777*(LEFT($H$111,1)-3)","v":{"$error":"#N/A"}}]
[null,0,"",0,"","",{"$nulls":12},{"$f":"INDEX(SensorPricing[],MATCH($P81,SensorPricing[Sensor],0),MATCH($M$1,SensorPricing[#Headers],0))*2","v":{"$error":"#N/A"}},{"$f":"INDEX(SensorPricing[],MATCH($P81,SensorPricing[Sensor],0),MATCH($M$1,SensorPricing[#Headers],0))*0.2777777","v":{"$error":"#N/A"}},{"$f":"INDEX(SensorPricing[],MATCH($P81,SensorPricing[Sensor],0),MATCH($M$1,SensorPricing[#Headers],0))*0.2777777*(LEFT($H$111,1)-3)","v":{"$error":"#N/A"}}]
[null,0,{"$f":"IF(B82=0,\"\",\"è\")","v":""},0,{"$f":"IF(B82=0,\"\",\"=\")","v":""},"",{"$nulls":12},{"$f":"INDEX(SensorPricing[],MATCH($P82,SensorPricing[Sensor],0),MATCH($M$1,SensorPricing[#Headers],0))*2","v":{"$error":"#N/A"}},{"$f":"INDEX(SensorPricing[],MATCH($P82,SensorPricing[Sensor],0),MATCH($M$1,SensorPricing[#Headers],0))*0.2777777","v":{"$error":"#N/A"}},{"$f":"INDEX(SensorPricing[],MATCH($P82,SensorPricing[Sensor],0),MATCH($M$1,SensorPricing[#Headers],0))*0.2777777*(LEFT($H$111,1)-3)","v":{"$error":"#N/A"}}]
[null,0,{"$f":"IF(B83=0,\"\",\"è\")","v":""},0,{"$f":"IF(B83=0,\"\",\"=\")","v":""},"",{"$nulls":12},{"$f":"INDEX(SensorPricing[],MATCH($P83,SensorPricing[Sensor],0),MATCH($M$1,SensorPricing[#Headers],0))*2","v":{"$error":"#N/A"}},{"$f":"INDEX(SensorPricing[],MATCH($P83,SensorPricing[Sensor],0),MATCH($M$1,SensorPricing[#Headers],0))*0.2777777","v":{"$error":"#N/A"}},{"$f":"INDEX(SensorPricing[],MATCH($P83,SensorPricing[Sensor],0),MATCH($M$1,SensorPricing[#Headers],0))*0.2777777*(LEFT($H$111,1)-3)","v":{"$error":"#N/A"}}]
[{"$nulls":11},"+"]
[null,"Toxic Sensor #2"]
[null,{"$f":"_xlfn.VSTACK(O86:O104)","v":"NH3 "},{"$f":"IF(B86=0,\"\",\"è\")","v":"è"},{"$f":"_xlfn.VSTACK(P86:P104)","v":"A"},{"$f":"IF(B86=0,\"\",\"=\")","v":"="},{"$f":"IFERROR(ROUNDUP(SUM(S86:T86),0),\"\")","v":{"v":137,"d":"$ 137"}},null,"M",{"$nulls":3},{"$f":"VLOOKUP(H86,D86:F104,3,FALSE)","v":{"v":0,"d":"$ 0"}},null,null,{"$f":"_xlfn.CHOOSECOLS(_xlfn.LET(\n_xlpm.Dtype,EXOSensors[Type],_xlpm.Curr,EXOSensors[Currency],_xlpm.Mtype,EXOSensors[Gas Expansion],_xlpm.Stype,$O$38&2,_xlpm.SCurr,$M$1,_xlpm.MoType,$H$42,\n_xlpm.myCalculation,_xlfn.VSTACK(_xlfn._xlws.FILTER(EXOSensors[],(_xlpm.Dtype=_xlpm.Stype)*(_xlpm.Curr=_xlpm.SCurr)*(_xlpm.Mtype=_xlpm.MoType))),_xlpm.myCalculation),1,2)","v":"NH3 "},"A",null,null,{"$f":"INDEX(SensorPricing[],MATCH($P86,SensorPricing[Sensor],0),MATCH($M$1,SensorPricing[#Headers],0))*2","v":120},{"$f":"INDEX(SensorPricing[],MATCH($P86,SensorPricing[Sensor],0),MATCH($M$1,SensorPricing[#Headers],0))*0.2777777","v":16.666662000000002},{"$f":"INDEX(SensorPricing[],MATCH($P86,SensorPricing[Sensor],0),MATCH($M$1,SensorPricing[#Headers],0))*0.2777777*(LEFT($H$111,1)-3)","v":0}]
[null,"High-range NH3 ","è","B","=",{"v":287,"d":"$ 287"},{"$nulls":8},"High-range NH3 ","B",null,null,{"$f":"INDEX(SensorPricing[],MATCH($P87,SensorPricing[Sensor],0),MATCH($M$1,SensorPricing[#Headers],0))*2","v":252},{"$f":"INDEX(SensorPricing[],MATCH($P87,SensorPricing[Sensor],0),MATCH($M$1,SensorPricing[#Headers],0))*0.2777777","v":34.9999902},{"$f":"INDEX(SensorPricing[],MATCH($P87,SensorPricing[Sensor],0),MATCH($M$1,SensorPricing[#Headers],0))*0.2777777*(LEFT($H$111,1)-3)","v":0}]
[null,"COSH","è","D","=",{"v":137,"d":"$ 137"},{"$nulls":8},"COSH","D",null,null,{"$f":"INDEX(SensorPricing[],MATCH($P88,SensorPricing[Sensor],0),MATCH($M$1,SensorPricing[#Headers],0))*2","v":120},{"$f":"INDEX(SensorPricing[],MATCH($P88,SensorPricing[Sensor],0),MATCH($M$1,SensorPricing[#Headers],0))*0.2777777","v":16.666662000000002},{"$f":"INDEX(SensorPricing[],MATCH($P88,SensorPricing[Sensor],0),MATCH($M$1,SensorPricing[#Headers],0))*0.2777777*(LEFT($H$111,1)-3)","v":0}]
[null,"H2S ","è","H","=",{"v":0,"d":"$ 0"},{"$nulls":8},"H2S ","H",null,null,{"$f":"INDEX(SensorPricing[],MATCH($P89,SensorPricing[Sensor],0),MATCH($M$1,SensorPricing[#Headers],0))*2","v":0},{"$f":"INDEX(SensorPricing[],MATCH($P89,SensorPricing[Sensor],0),MATCH($M$1,SensorPricing[#Headers],0))*0.2777777","v":0},{"$f":"INDEX(SensorPricing[],MATCH($P89,SensorPricing[Sensor],0),MATCH($M$1,SensorPricing[#Headers],0))*0.2777777*(LEFT($H$111,1)-3)","v":0}]
[null,"High-range H2S ","è","J","=",{"v":274,"d":"$ 274"},{"$nulls":8},"High-range H2S ","J",null,null,{"$f":"INDEX(SensorPricing[],MATCH($P90,SensorPricing[Sensor],0),MATCH($M$1,SensorPricing[#Headers],0))*2","v":240},{"$f":"INDEX(SensorPricing[],MATCH($P90,SensorPricing[Sensor],0),MATCH($M$1,SensorPricing[#Headers],0))*0.2777777","v":33.333324000000005},{"$f":"INDEX(SensorPricing[],MATCH($P90,SensorPricing[Sensor],0),MATCH($M$1,SensorPricing[#Headers],0))*0.2777777*(LEFT($H$111,1)-3)","v":0}]
[null,"NO2 ","è","K","=",{"v":137,"d":"$ 137"},{"$nulls":8},"NO2 ","K",null,null,{"$f":"INDEX(SensorPricing[],MATCH($P91,SensorPricing[Sensor],0),MATCH($M$1,SensorPricing[#Headers],0))*2","v":120},{"$f":"INDEX(SensorPricing[],MATCH($P91,SensorPricing[Sensor],0),MATCH($M$1,SensorPricing[#Headers],0))*0.2777777","v":16.666662000000002},{"$f":"INDEX(SensorPricing[],MATCH($P91,SensorPricing[Sensor],0),MATCH($M$1,SensorPricing[#Headers],0))*0.2777777*(LEFT($H$111,1)-3)","v":0}]
[null,"Cl2 ","è","L","=",{"v":137,"d":"$ 137"},{"$nulls":8},"Cl2 ","L",null,null,{"$f":"INDEX(SensorPricing[],MATCH($P92,SensorPricing[Sensor],0),MATCH($M$1,SensorPricing[#Headers],0))*2","v":120},{"$f":"INDEX(SensorPricing[],MATCH($P92,SensorPricing[Sensor],0),MATCH($M$1,SensorPricing[#Headers],0))*0.2777777","v":16.666662000000002},{"$f":"INDEX(SensorPricing[],MATCH($P92,SensorPricing[Sensor],0),MATCH($M$1,SensorPricing[#Headers],0))*0.2777777*(LEFT($H$111,1)-3)","v":0}]
[null,"CO ","è","M","=",{"v":0,"d":"$ 0"},{"$nulls":8},"CO ","M",null,null,{"$f":"INDEX(SensorPricing[],MATCH($P93,SensorPricing[Sensor],0),MATCH($M$1,SensorPricing[#Headers],0))*2","v":0},{"$f":"INDEX(SensorPricing[],MATCH($P93,SensorPricing[Sensor],0),MATCH($M$1,SensorPricing[#Headers],0))*0.2777777","v":0},{"$f":"INDEX(SensorPricing[],MATCH($P93,SensorPricing[Sensor],0),MATCH($M$1,SensorPricing[#Headers],0))*0.2777777*(LEFT($H$111,1)-3)","v":0}]
[null,"HCN ","è","N","=",{"v":137,"d":"$ 137"},{"$nulls":8},"HCN ","N",null,null,{"$f":"INDEX(SensorPricing[],MATCH($P94,SensorPricing[Sensor],0),MATCH($M$1,SensorPricing[#Headers],0))*2","v":120},{"$f":"INDEX(SensorPricing[],MATCH($P94,SensorPricing[Sensor],0),MATCH($M$1,SensorPricing[#Headers],0))*0.2777777","v":16.666662000000002},{"$f":"INDEX(SensorPricing[],MATCH($P94,SensorPricing[Sensor],0),MATCH($M$1,SensorPricing[#Headers],0))*0.2777777*(LEFT($H$111,1)-3)","v":0}]
[null,"CO-H ","è","R","=",{"v":0,"d":"$ 0"},{"$nulls":8},"CO-H ","R",null,null,{"$f":"INDEX(SensorPricing[],MATCH($P95,SensorPricing[Sensor],0),MATCH($M$1,SensorPricing[#Headers],0))*2","v":0},{"$f":"INDEX(SensorPricing[],MATCH($P95,SensorPricing[Sensor],0),MATCH($M$1,SensorPricing[#Headers],0))*0.2777777","v":0},{"$f":"INDEX(SensorPricing[],MATCH($P95,SensorPricing[Sensor],0),MATCH($M$1,SensorPricing[#Headers],0))*0.2777777*(LEFT($H$111,1)-3)","v":0}]
[null,"SO2 ","è","S","=",{"v":0,"d":"$ 0"},{"$nulls":8},"SO2 ","S",null,null,{"$f":"INDEX(SensorPricing[],MATCH($P96,SensorPricing[Sensor],0),MATCH($M$1,SensorPricing[#Headers],0))*2","v":0},{"$f":"INDEX(SensorPricing[],MATCH($P96,SensorPricing[Sensor],0),MATCH($M$1,SensorPricing[#Headers],0))*0.2777777","v":0},{"$f":"INDEX(SensorPricing[],MATCH($P96,SensorPricing[Sensor],0),MATCH($M$1,SensorPricing[#Headers],0))*0.2777777*(LEFT($H$111,1)-3)","v":0}]
[null,"High-range CO ","è","T","=",{"v":274,"d":"$ 274"},{"$nulls":8},"High-range CO ","T",null,null,{"$f":"INDEX(SensorPricing[],MATCH($P97,SensorPricing[Sensor],0),MATCH($M$1,SensorPricing[#Headers],0))*2","v":240},{"$f":"INDEX(SensorPricing[],MATCH($P97,SensorPricing[Sensor],0),MATCH($M$1,SensorPricing[#Headers],0))*0.2777777","v":33.333324000000005},{"$f":"INDEX(SensorPricing[],MATCH($P97,SensorPricing[Sensor],0),MATCH($M$1,SensorPricing[#Headers],0))*0.2777777*(LEFT($H$111,1)-3)","v":0}]
[null,"ClO2","è","W","=",{"v":137,"d":"$ 137"},{"$nulls":8},"ClO2","W",null,null,{"$f":"INDEX(SensorPricing[],MATCH($P98,SensorPricing[Sensor],0),MATCH($M$1,SensorPricing[#Headers],0))*2","v":120},{"$f":"INDEX(SensorPricing[],MATCH($P98,SensorPricing[Sensor],0),MATCH($M$1,SensorPricing[#Headers],0))*0.2777777","v":16.666662000000002},{"$f":"INDEX(SensorPricing[],MATCH($P98,SensorPricing[Sensor],0),MATCH($M$1,SensorPricing[#Headers],0))*0.2777777*(LEFT($H$111,1)-3)","v":0}]
[null,"No Sensor ","è","X","=",{"v":0,"d":"$ 0"},{"$nulls":8},"No Sensor ","X",null,null,{"$f":"INDEX(SensorPricing[],MATCH($P99,SensorPricing[Sensor],0),MATCH($M$1,SensorPricing[#Headers],0))*2","v":0},{"$f":"INDEX(SensorPricing[],MATCH($P99,SensorPricing[Sensor],0),MATCH($M$1,SensorPricing[#Headers],0))*0.2777777","v":0},{"$f":"INDEX(SensorPricing[],MATCH($P99,SensorPricing[Sensor],0),MATCH($M$1,SensorPricing[#Headers],0))*0.2777777*(LEFT($H$111,1)-3)","v":0}]
[null,0,"",0,"","",{"$nulls":12},{"$f":"INDEX(SensorPricing[],MATCH($P100,SensorPricing[Sensor],0),MATCH($M$1,SensorPricing[#Headers],0))*2","v":{"$error":"#N/A"}},{"$f":"INDEX(SensorPricing[],MATCH($P100,SensorPricing[Sensor],0),MATCH($M$1,SensorPricing[#Headers],0))*0.2777777","v":{"$error":"#N/A"}},{"$f":"INDEX(SensorPricing[],MATCH($P100,SensorPricing[Sensor],0),MATCH($M$1,SensorPricing[#Headers],0))*0.2777777*(LEFT($H$111,1)-3)","v":{"$error":"#N/A"}}]
[null,0,"",0,"","",{"$nulls":12},{"$f":"INDEX(SensorPricing[],MATCH($P101,SensorPricing[Sensor],0),MATCH($M$1,SensorPricing[#Headers],0))*2","v":{"$error":"#N/A"}},{"$f":"INDEX(SensorPricing[],MATCH($P101,SensorPricing[Sensor],0),MATCH($M$1,SensorPricing[#Headers],0))*0.2777777","v":{"$error":"#N/A"}},{"$f":"INDEX(SensorPricing[],MATCH($P101,SensorPricing[Sensor],0),MATCH($M$1,SensorPricing[#Headers],0))*0.2777777*(LEFT($H$111,1)-3)","v":{"$error":"#N/A"}}]
[null,0,"",0,"","",{"$nulls":12},{"$f":"INDEX(SensorPricing[],MATCH($P102,SensorPricing[Sensor],0),MATCH($M$1,SensorPricing[#Headers],0))*2","v":{"$error":"#N/A"}},{"$f":"INDEX(SensorPricing[],MATCH($P102,SensorPricing[Sensor],0),MATCH($M$1,SensorPricing[#Headers],0))*0.2777777","v":{"$error":"#N/A"}},{"$f":"INDEX(SensorPricing[],MATCH($P102,SensorPricing[Sensor],0),MATCH($M$1,SensorPricing[#Headers],0))*0.2777777*(LEFT($H$111,1)-3)","v":{"$error":"#N/A"}}]
[null,0,"",0,"","",{"$nulls":12},{"$f":"INDEX(SensorPricing[],MATCH($P103,SensorPricing[Sensor],0),MATCH($M$1,SensorPricing[#Headers],0))*2","v":{"$error":"#N/A"}},{"$f":"INDEX(SensorPricing[],MATCH($P103,SensorPricing[Sensor],0),MATCH($M$1,SensorPricing[#Headers],0))*0.2777777","v":{"$error":"#N/A"}},{"$f":"INDEX(SensorPricing[],MATCH($P103,SensorPricing[Sensor],0),MATCH($M$1,SensorPricing[#Headers],0))*0.2777777*(LEFT($H$111,1)-3)","v":{"$error":"#N/A"}}]
[null,0,"",0,"","",{"$nulls":12},{"$f":"INDEX(SensorPricing[],MATCH($P104,SensorPricing[Sensor],0),MATCH($M$1,SensorPricing[#Headers],0))*2","v":{"$error":"#N/A"}},{"$f":"INDEX(SensorPricing[],MATCH($P104,SensorPricing[Sensor],0),MATCH($M$1,SensorPricing[#Headers],0))*0.2777777","v":{"$error":"#N/A"}},{"$f":"INDEX(SensorPricing[],MATCH($P104,SensorPricing[Sensor],0),MATCH($M$1,SensorPricing[#Headers],0))*0.2777777*(LEFT($H$111,1)-3)","v":{"$error":"#N/A"}}]
[{"$nulls":11},"+"]
[null,"Oxygen Sensor"]
[null,{"$f":"_xlfn.VSTACK(O107:O108)","v":"O2"},{"$f":"IF(B107=0,\"\",\"è\")","v":"è"},{"$f":"_xlfn.VSTACK(P107:P108)","v":"O"},{"$f":"IF(B107=0,\"\",\"=\")","v":"="},{"$f":"IFERROR(ROUNDUP(SUM(S107:T107),0),\"\")","v":{"v":0,"d":"$ 0"}},null,"O",{"$nulls":3},{"$f":"VLOOKUP(H107,D107:F108,3,FALSE)","v":{"v":0,"d":"$ 0"}},null,null,{"$f":"_xlfn._xlws.FILTER(_xlfn._xlws.FILTER(Oxygen[],Oxygen[Type]=H60),{1,1,0})","v":"O2"},"O",null,null,{"$f":"INDEX(SensorPricing[],MATCH($D107,SensorPricing[Sensor],0),MATCH($M$1,SensorPricing[#Headers],0))*2","v":0},{"$f":"INDEX(SensorPricing[],MATCH($D107,SensorPricing[Sensor],0),MATCH($M$1,SensorPricing[#Headers],0))*0.2777777","v":0},{"$f":"INDEX(SensorPricing[],MATCH($D107,SensorPricing[Sensor],0),MATCH($M$1,SensorPricing[#Headers],0))*0.2777777*(LEFT($H$111,1)-3)","v":0}]
[null,0,"",0,"",{"$f":"IFERROR(ROUNDUP(SUM(S108:T108),0),\"\")","v":""},{"$nulls":12},{"$f":"INDEX(SensorPricing[],MATCH($D108,SensorPricing[Sensor],0),MATCH($M$1,SensorPricing[#Headers],0))*2","v":{"$error":"#N/A"}},{"$f":"INDEX(SensorPricing[],MATCH($D108,SensorPricing[Sensor],0),MATCH($M$1,SensorPricing[#Headers],0))*0.2777777","v":{"$error":"#N/A"}},{"$f":"INDEX(SensorPricing[],MATCH($D108,SensorPricing[Sensor],0),MATCH($M$1,SensorPricing[#Headers],0))*0.2777777*(LEFT($H$111,1)-3)","v":{"$error":"#N/A"}}]
[{"$nulls":7},"-",{"$nulls":3},"+"]
[null,"Warranty Term"]
[null,"Three-Years (Standard)","è","3Y","=",{"$f":"V111","v":{"v":0,"d":"$ 0"}},null,"3Y",{"$nulls":3},{"$f":"VLOOKUP(H111,D111:F113,3,FALSE)","v":{"v":0,"d":"$ 0"}},{"$nulls":3},{"$f":"LEFT(H111)","v":"3"},{"$nulls":5},0]
[null,"Four-Years","è","4Y","=",{"$f":"V112","v":{"v":606,"d":"$ 606"}},{"$nulls":15},{"$f":"SUM(V17:V110)","v":606}]
[null,"Five-Years","è","5Y","=",{"v":1212,"d":"$ 1,212"},{"$nulls":15},{"$f":"V112*2","v":1212}]
[{"$nulls":7},"-",{"$nulls":3},"+"]
[null,"Service Plan"]
[null,"System Access","è","X","=",{"$f":"S116","v":{"v":540,"d":"$ 540"}},null,"X",{"$nulls":3},{"$f":"VLOOKUP(H116,D116:F118,3,FALSE)","v":{"v":540,"d":"$ 540"}},{"$nulls":6},{"$f":"INDEX(ServicePrices[],MATCH(B116,ServicePrices[Type],0),MATCH($M$1,ServicePrices[#Headers],0))*ServiceTerm","v":540}]
[null,"Self-Monitored","è","S","=",{"$f":"S117","v":{"v":1224,"d":"$ 1,224"}},{"$nulls":12},{"$f":"(INDEX(ServicePrices[],MATCH(B116,ServicePrices[Type],0),MATCH($M$1,ServicePrices[#Headers],0))+\nINDEX(ServicePrices[],MATCH(B117,ServicePrices[Type],0),MATCH($M$1,ServicePrices[#Headers],0)))\n*ServiceTerm","v":1224}]
[null,"Blackline Monitored","è","B","=",{"v":1944,"d":"$ 1,944"},{"$nulls":12},{"$f":"(INDEX(ServicePrices[],MATCH(B116,ServicePrices[Type],0),MATCH($M$1,ServicePrices[#Headers],0))+\nINDEX(ServicePrices[],MATCH(B118,ServicePrices[Type],0),MATCH($M$1,ServicePrices[#Headers],0)))\n*ServiceTerm","v":1944}]
[{"$nulls":11},"+"]
[null,"Voice"]
[null,"No Voice","è","X","=",{"$f":"S121","v":{"v":0,"d":"$ 0"}},null,"X",{"$nulls":3},{"$f":"VLOOKUP(H121,D121:F122,3,FALSE)","v":{"v":0,"d":"$ 0"}},null,null,{"$f":"_xlfn._xlws.FILTER(_xlfn._xlws.FILTER(Voice[],Voice[Type]=H116),{1,1,0,0})","v":"No Voice"},"X",null,null,0]
[null,{"$f":"IF(P122=\"\",\"\",O122)","v":""},{"$f":"IF(O122=\"\",\"\",\"è\")","v":""},{"$f":"IF(P122=\"\",\"\",P122)","v":""},{"$f":"IF(O122=\"\",\"\",\"=\")","v":""},{"$f":"IF(P122=\"\",\"\",S122)","v":""},{"$nulls":12},{"$f":"INDEX(ServicePrices[],MATCH(\"Voice\",ServicePrices[Type],0),MATCH($M$1,ServicePrices[#Headers],0))*ServiceTerm","v":756}]
[{"$nulls":11},"+"]
[null,"Push-to-Talk (PTT)"]
[null,"No PTT","è","X","=",{"$f":"S125","v":{"v":0,"d":"$ 0"}},null,"X",{"$nulls":3},{"$f":"VLOOKUP(H125,D125:F126,3,FALSE)","v":{"v":0,"d":"$ 0"}},{"$nulls":6},0]
[null,"PTT Included","è","P","=",{"v":540,"d":"$ 540"},{"$nulls":12},{"$f":"INDEX(ServicePrices[],MATCH(\"Push-to-talk\",ServicePrices[Type],0),MATCH($M$1,ServicePrices[#Headers],0))*ServiceTerm","v":540}]
[{"$nulls":7},"-"]
[null,"Service Term"]
[null,"Three-Years","è","3Y",{"$nulls":3},"3Y",{"$nulls":9},{"$f":"LEFT(H129)","v":"3"},{"$f":"LEFT(H129)*12","v":36}]
[null,"Four-Years","è","4Y"]
[null,"Five-Years","è","5Y"]

{"sheet":"EXO 8 Combination","index":29,"n_rows":133,"n_cols":24,"rows_kept":133,"merged":[[1,1,1,7],[2,1,12,1],[7,5,7,9],[9,5,9,9],[11,7,11,9],[14,1,14,5],[15,7,20,9],[15,11,20,11],[16,21,20,21],[16,23,20,23],[21,11,33,11],[22,1,22,5],[23,7,24,9],[25,7,26,9],[26,1,26,5],[27,7,27,9],[28,7,29,9],[29,1,29,5],[30,7,31,9],[32,7,33,9],[33,1,33,5],[34,7,35,9],[34,11,35,11],[36,11,37,11],[37,1,37,5],[38,7,39,9],[38,11,39,11],[40,11,41,11],[41,1,41,5],[42,7,54,9],[42,11,54,11],[42,21,54,21],[55,7,56,9],[55,11,59,11],[56,1,56,5],[57,7,57,9],[58,7,59,9],[59,1,59,5],[60,7,62,7],[60,9,108,9],[60,11,62,11],[63,11,64,11],[64,1,64,5],[65,7,83,7],[65,11,83,11],[84,11,85,11],[85,1,85,5],[86,7,104,7],[86,11,104,11],[105,11,106,11],[106,1,106,5],[107,7,108,7],[107,11,108,11],[109,7,110,9],[109,11,110,11],[110,1,110,5],[111,7,113,9],[111,11,113,11],[114,7,116,9],[114,11,116,11],[116,1,116,5],[117,7,119,9],[117,11,119,11],[120,11,121,11],[121,1,121,5],[122,7,123,9],[122,11,123,11],[124,11,125,11],[125,1,125,5],[126,7,127,9],[126,11,127,11],[128,7,129,9],[129,1,129,5],[130,7,132,9]]}
[null,{"$error":"#VALUE!"},{"$nulls":10},{"$f":"Currency","v":"USD"},null,null,"EXO 8 Combination"]
[null,"EXO 8 Combination",{"$nulls":10},{"$f":"PBYear","v":2025},"Quick Links"]
[null,{"$error":"#VALUE!"},{"$nulls":10},{"$f":"Revision","v":"Effective February 2, 2026 Rev 2"},"Main Menu"]
[{"$nulls":12},"Blackline Safety Confidential","Accessories"]
[{"$nulls":12},"All prices are an estimate - for a formal quote contact your local Blackline Safety representative"]
[{"$nulls":12},"Release dates are subject to change. Please confirm dates prior to quoting."]
[]
[{"$nulls":4},"Hardware",{"$f":"CONCATENATE(H16,H24,H26,H28,H29,H31,H33,H35,H39,H43,H58,H59,J61,H110,H112,H11)","v":"EX8N-01-NA2-000000-FHMO-3Y"},{"$nulls":5},{"$f":"L16+L35+L39+L43+L61+L66+L87+L108+L112","v":{"v":5820,"d":"$ 5,820"}},{"$f":"M1&\" List\"","v":"USD List"}]
[]
[{"$nulls":4},"Service",{"$f":"CONCATENATE(\"SER-CMB-\",H118,H123,H127,\"-\",H131)","v":"SER-CMB-XXX-3Y"},{"$nulls":5},{"$f":"L118+L123+L127","v":{"v":180,"d":"$ 180"}},{"$f":"M1&\" Annually\"","v":"USD Annually"}]
[]
[{"$nulls":5},"Additional Cartridge",null,{"$f":"CONCATENATE(\"J-CART-Q-\",J61,\"-3Y-R\")","v":"J-CART-Q-FHMO-3Y-R"},{"$nulls":3},{"$f":"SUM(X17:X64)","v":{"v":600,"d":"$ 600"}},{"$f":"M1&\" List\"","v":"USD List"}]
[]
[null,"Hardware (Upfront)"]
[null,"Buying Option",{"$nulls":16},"3Y Price",null,"Extended Warranty",null,"Additional CART"]
[null,"Purchase","è","EX8",{"$nulls":3},{"$f":"D16","v":"EX8"},{"$nulls":3},{"$f":"VLOOKUP(Q65,A17:F21,6,FALSE)","v":{"v":5820,"d":"$ 5,820"}}]
[0,null,null,"No Cartridge","=",{"$f":"SUM(S17:U17)","v":{"v":5364,"d":"$ 5,364"}},{"$nulls":11},0,{"$f":"IF($H$24=\"N\",INDEX(BasePrices[],MATCH(\"EXO 8 Base Price\",BasePrices[Type],0),MATCH($M$1,BasePrices[#Headers],0)),\nINDEX(BasePrices[],MATCH(\"EXO 8 Gamma Base Price\",BasePrices[Type],0),MATCH($M$1,BasePrices[#Headers],0)))+\nINDEX(BasePrices[],MATCH(\"EXO Battery Price\",BasePrices[Type],0),MATCH($M$1,BasePrices[#Headers],0))+\nIFERROR(INDEX(BasePrices[],MATCH($R17,BasePrices[SnrCnt],0),MATCH($M$1,BasePrices[#Headers],0))*2,0)","v":4814},null,{"$f":"INDEX(BasePrices[],MATCH(\"EXO Warranty Base Price\",BasePrices[Type],0),MATCH($M$1,BasePrices[#Headers],0))+\nIFERROR(ROUNDUP(INDEX(BasePrices[],MATCH($R17,BasePrices[SnrCnt],0),MATCH($M$1,BasePrices[#Headers],0))*0.2777777,0),0)","v":550},{"$f":"VLOOKUP(Q65,A17:U21,COLUMN()-1,FALSE)","v":606},{"$f":"IFERROR(ROUNDUP(INDEX(BasePrices[],MATCH($R17,BasePrices[SnrCnt],0),MATCH($M$1,BasePrices[#Headers],0))*3,0),0)","v":0},{"$f":"VLOOKUP(Q65,A17:W21,COLUMN()-1,FALSE)","v":600}]
[1,null,null,"Multi 1-sensor","=",{"$f":"SUM(S18:U18)","v":{"v":5531,"d":"$ 5,531"}},{"$nulls":11},1,{"$f":"IF($H$24=\"N\",INDEX(BasePrices[],MATCH(\"EXO 8 Base Price\",BasePrices[Type],0),MATCH($M$1,BasePrices[#Headers],0)),\nINDEX(BasePrices[],MATCH(\"EXO 8 Gamma Base Price\",BasePrices[Type],0),MATCH($M$1,BasePrices[#Headers],0)))+\nINDEX(BasePrices[],MATCH(\"EXO Battery Price\",BasePrices[Type],0),MATCH($M$1,BasePrices[#Headers],0))+\nINDEX(BasePrices[],MATCH($R18,BasePrices[SnrCnt],0),MATCH($M$1,BasePrices[#Headers],0))*2","v":4960},null,{"$f":"INDEX(BasePrices[],MATCH(\"EXO Warranty Base Price\",BasePrices[Type],0),MATCH($M$1,BasePrices[#Headers],0))+\nROUNDUP(INDEX(BasePrices[],MATCH($R18,BasePrices[SnrCnt],0),MATCH($M$1,BasePrices[#Headers],0))*0.2777777,0)","v":571},null,{"$f":"ROUNDUP(INDEX(BasePrices[],MATCH($R18,BasePrices[SnrCnt],0),MATCH($M$1,BasePrices[#Headers],0))*3,0)","v":219}]
[2,null,null,"Multi 2-sensor","=",{"$f":"SUM(S19:U19)","v":{"v":5651,"d":"$ 5,651"}},{"$nulls":11},2,{"$f":"IF($H$24=\"N\",INDEX(BasePrices[],MATCH(\"EXO 8 Base Price\",BasePrices[Type],0),MATCH($M$1,BasePrices[#Headers],0)),\nINDEX(BasePrices[],MATCH(\"EXO 8 Gamma Base Price\",BasePrices[Type],0),MATCH($M$1,BasePrices[#Headers],0)))+\nINDEX(BasePrices[],MATCH(\"EXO Battery Price\",BasePrices[Type],0),MATCH($M$1,BasePrices[#Headers],0))+\nINDEX(BasePrices[],MATCH($R19,BasePrices[SnrCnt],0),MATCH($M$1,BasePrices[#Headers],0))*2","v":5066},null,{"$f":"INDEX(BasePrices[],MATCH(\"EXO Warranty Base Price\",BasePrices[Type],0),MATCH($M$1,BasePrices[#Headers],0))+\nROUNDUP(INDEX(BasePrices[],MATCH($R19,BasePrices[SnrCnt],0),MATCH($M$1,BasePrices[#Headers],0))*0.2777777,0)","v":585},null,{"$f":"ROUNDUP(INDEX(BasePrices[],MATCH($R19,BasePrices[SnrCnt],0),MATCH($M$1,BasePrices[#Headers],0))*3,0)","v":378}]
[3,null,null,"Multi 3-sensor","=",{"v":5740,"d":"$ 5,740"},{"$nulls":11},3,{"$f":"IF($H$24=\"N\",INDEX(BasePrices[],MATCH(\"EXO 8 Base Price\",BasePrices[Type],0),MATCH($M$1,BasePrices[#Headers],0)),\nINDEX(BasePrices[],MATCH(\"EXO 8 Gamma Base Price\",BasePrices[Type],0),MATCH($M$1,BasePrices[#Headers],0)))+\nINDEX(BasePrices[],MATCH(\"EXO Battery Price\",BasePrices[Type],0),MATCH($M$1,BasePrices[#Headers],0))+\nINDEX(BasePrices[],MATCH($R20,BasePrices[SnrCnt],0),MATCH($M$1,BasePrices[#Headers],0))*2","v":5144},null,{"$f":"INDEX(BasePrices[],MATCH(\"EXO Warranty Base Price\",BasePrices[Type],0),MATCH($M$1,BasePrices[#Headers],0))+\nROUNDUP(INDEX(BasePrices[],MATCH($R20,BasePrices[SnrCnt],0),MATCH($M$1,BasePrices[#Headers],0))*0.2777777,0)","v":596},null,{"$f":"ROUNDUP(INDEX(BasePrices[],MATCH($R20,BasePrices[SnrCnt],0),MATCH($M$1,BasePrices[#Headers],0))*3,0)","v":495}]
[4,null,null,"Multi 4-sensor","=",{"v":5820,"d":"$ 5,820"},{"$nulls":11},4,{"$f":"IF($H$24=\"N\",INDEX(BasePrices[],MATCH(\"EXO 8 Base Price\",BasePrices[Type],0),MATCH($M$1,BasePrices[#Headers],0)),\nINDEX(BasePrices[],MATCH(\"EXO 8 Gamma Base Price\",BasePrices[Type],0),MATCH($M$1,BasePrices[#Headers],0)))+\nINDEX(BasePrices[],MATCH(\"EXO Battery Price\",BasePrices[Type],0),MATCH($M$1,BasePrices[#Headers],0))+\nINDEX(BasePrices[],MATCH($R21,BasePrices[SnrCnt],0),MATCH($M$1,BasePrices[#Headers],0))*2","v":5214},null,{"$f":"INDEX(BasePrices[],MATCH(\"EXO Warranty Base Price\",BasePrices[Type],0),MATCH($M$1,BasePrices[#Headers],0))+\nROUNDUP(INDEX(BasePrices[],MATCH($R21,BasePrices[SnrCnt],0),MATCH($M$1,BasePrices[#Headers],0))*0.2777777,0)","v":606},null,{"$f":"ROUNDUP(INDEX(BasePrices[],MATCH($R21,BasePrices[SnrCnt],0),MATCH($M$1,BasePrices[#Headers],0))*3,0)","v":600}]
[{"$nulls":11},"+"]
[null,"Type"]
[null,"Non-Gamma","è","N",{"$nulls":3},"N"]
[null,"Gamma",{"$f":"IF(B25=\"\",\"\",\"è\")","v":"è"},"G"]
[{"$nulls":7},"-"]
[null,"SIM Card"]
[null,"Standard (Telenor)","è","01",{"$nulls":3},{"$f":"D28","v":"01"}]
[{"$nulls":7},"-"]
[null,"Country Code",{"$nulls":12},"C"]
[null,{"$f":"_xlfn.VSTACK(O31:O32)","v":"North America (4G/LTE)"},{"$f":"IF(B31=\"\",\"\",\"è\")","v":"è"},{"$f":"IFERROR(VLOOKUP(B31,$O$31:$P$32,2,FALSE),\"\")","v":"NA2"},{"$nulls":3},"NA2",{"$nulls":6},{"$f":"_xlfn.LET(\n_xlpm.Dtype,EXOCountryCodes[Type],_xlpm.Curr,EXOCountryCodes[Currency],_xlpm.SType,O30,_xlpm.SCurr,M1,\n_xlpm.myCalculation,_xlfn.VSTACK(_xlfn._xlws.FILTER(EXOCountryCodes[],(_xlpm.Dtype=_xlpm.SType)*(_xlpm.Curr=_xlpm.SCurr))),_xlpm.myCalculation)","v":"North America (4G/LTE)"},"NA2","C","USD"]
[null,"Outside of North America (4G/LTE)",{"$f":"IF(B32=0,\"\",\"è\")","v":"è"},{"$f":"IFERROR(VLOOKUP(B32,$O$31:$P$32,2,FALSE),\"\")","v":"EU2"},{"$nulls":10},"Outside of North America (4G/LTE)","EU2","C","USD"]
[{"$nulls":7},"-"]
[null,"Satellite Module"]
[null,"None","è",0,"=",{"v":0,"d":"$ 0"},null,0,{"$nulls":3},{"$f":"VLOOKUP(H35,D35:F36,3,FALSE)","v":{"v":0,"d":"$ 0"}},{"$nulls":6},"Base","3Y Warr","Ewarr"]
[null,"Satellite Module Included*","è",1,"=",{"$f":"SUM(S36:T36)","v":{"v":2945,"d":"$ 2,945"}},{"$nulls":12},{"$f":"INDEX(BasePrices[],MATCH(\"EXO Satellite\",BasePrices[Type],0),MATCH($M$1,BasePrices[#Headers],0))","v":2945},0,{"$f":"ROUNDUP(INDEX(BasePrices[],MATCH(\"EXO Satellite\",BasePrices[Type],0),MATCH($M$1,BasePrices[#Headers],0))*0.22,0)*(LEFT(H112,1)-3)","v":0},{"$f":"IF(H35=1,U36,0)","v":0}]
[{"$nulls":11},"+"]
[null,"Pump Module"]
[null,"None","è",0,"=",{"v":0,"d":"$ 0"},null,0,{"$nulls":3},{"$f":"VLOOKUP(H39,D39:F40,3,FALSE)","v":{"v":0,"d":"$ 0"}},null,null,{"$f":"IF(H39=1,\"P\",\"X\")","v":"X"}]
[null,"Pump Module Included (Gas Expansion Module Must be 0)","è",1,"=",{"$f":"SUM(S40:T40)","v":{"v":2243,"d":"$ 2,243"}},{"$nulls":12},{"$f":"INDEX(BasePrices[],MATCH(\"EXO Pump\",BasePrices[Type],0),MATCH($M$1,BasePrices[#Headers],0))","v":2243},0,{"$f":"ROUNDUP(INDEX(BasePrices[],MATCH(\"EXO Pump\",BasePrices[Type],0),MATCH($M$1,BasePrices[#Headers],0))*0.22,0)","v":494},{"$f":"IF(H39=1,U40,0)","v":0}]
[{"$nulls":11},"+"]
[null,"Gas Expansion Module (Consult Factory)"]
[null,{"$f":"P43","v":"00 - None"},"è",{"$f":"O43","v":"00"},"=",{"$f":"IFERROR(SUM(S43:T43),\"\")","v":{"v":0,"d":"$ 0"}},null,"00",{"$nulls":3},{"$f":"VLOOKUP(H43,D43:F55,3,FALSE)","v":{"v":0,"d":"$ 0"}},null,null,{"$f":"_xlfn._xlws.FILTER(_xlfn._xlws.FILTER(GasExpansionModules[],GasExpansionModules[Available]=\"Yes\"),{0,0,1,0,0,0,0,1})","v":"00"},"00 - None",null,null,0,0,0,{"$f":"VLOOKUP(H43,D43:U55,17,FALSE)","v":0}]
[null,{"$f":"IF(O44=\"\",\"\",P44)","v":"01 - Refinery / Chem #1 (SO2, PID)"},{"$f":"IF(O44=\"\",\"\",\"è\")","v":"è"},{"$f":"IF(O44=\"\",\"\",O44)","v":"01"},{"$f":"IF(O44=\"\",\"\",\"=\")","v":"="},{"$f":"IFERROR(SUM(S44:T44),\"\")","v":{"v":3801,"d":"$ 3,801"}},{"$nulls":8},"01","01 - Refinery / Chem #1 (SO2, PID)",null,null,{"$f":"INDEX(GasExpansionModulePrice[],MATCH($D44,GasExpansionModulePrice[Code],0),MATCH($M$1,GasExpansionModulePrice[#Headers],0))","v":3631},{"$f":"INDEX(GasExpansionModulePrice[],MATCH($D44,GasExpansionModulePrice[Code],0),MATCH(\"e\"&$M$1,GasExpansionModulePrice[#Headers],0))","v":170},{"$f":"INDEX(GasExpansionModulePrice[],MATCH($D44,GasExpansionModulePrice[Code],0),MATCH(\"e\"&$M$1,GasExpansionModulePrice[#Headers],0))","v":170}]
[null,{"$f":"IF(O45=\"\",\"\",P45)","v":"04 - Refinery / Chem #4 (NH3, H2S, SO2)"},{"$f":"IF(O45=\"\",\"\",\"è\")","v":"è"},{"$f":"IF(O45=\"\",\"\",O45)","v":"04"},{"$f":"IF(O45=\"\",\"\",\"=\")","v":"="},{"v":2819,"d":"$ 2,819"},{"$nulls":8},"04","04 - Refinery / Chem #4 (NH3, H2S, SO2)",null,null,{"$f":"INDEX(GasExpansionModulePrice[],MATCH($D45,GasExpansionModulePrice[Code],0),MATCH($M$1,GasExpansionModulePrice[#Headers],0))","v":2756},{"$f":"INDEX(GasExpansionModulePrice[],MATCH($D45,GasExpansionModulePrice[Code],0),MATCH(\"e\"&$M$1,GasExpansionModulePrice[#Headers],0))","v":63},{"$f":"INDEX(GasExpansionModulePrice[],MATCH($D45,GasExpansionModulePrice[Code],0),MATCH(\"e\"&$M$1,GasExpansionModulePrice[#Headers],0))","v":63}]
[null,"06 - Hazmat #1 (NH3, Cl2, HCN, PID)","è","06","=",{"v":4453,"d":"$ 4,453"},{"$nulls":8},"06","06 - Hazmat #1 (NH3, Cl2, HCN, PID)",null,null,{"$f":"INDEX(GasExpansionModulePrice[],MATCH($D46,GasExpansionModulePrice[Code],0),MATCH($M$1,GasExpansionModulePrice[#Headers],0))","v":4211},{"$f":"INDEX(GasExpansionModulePrice[],MATCH($D46,GasExpansionModulePrice[Code],0),MATCH(\"e\"&$M$1,GasExpansionModulePrice[#Headers],0))","v":242},{"$f":"INDEX(GasExpansionModulePrice[],MATCH($D46,GasExpansionModulePrice[Code],0),MATCH(\"e\"&$M$1,GasExpansionModulePrice[#Headers],0))","v":242}]
[null,"09 - Wastewater #1 (NH3, H2S, Cl2, PID)","è","09","=",{"v":4299,"d":"$ 4,299"},{"$nulls":8},"09","09 - Wastewater #1 (NH3, H2S, Cl2, PID)",null,null,{"$f":"INDEX(GasExpansionModulePrice[],MATCH($D47,GasExpansionModulePrice[Code],0),MATCH($M$1,GasExpansionModulePrice[#Headers],0))","v":4074},{"$f":"INDEX(GasExpansionModulePrice[],MATCH($D47,GasExpansionModulePrice[Code],0),MATCH(\"e\"&$M$1,GasExpansionModulePrice[#Headers],0))","v":225},{"$f":"INDEX(GasExpansionModulePrice[],MATCH($D47,GasExpansionModulePrice[Code],0),MATCH(\"e\"&$M$1,GasExpansionModulePrice[#Headers],0))","v":225}]
[null,"","","","","",{"$nulls":12},{"$f":"INDEX(GasExpansionModulePrice[],MATCH($D48,GasExpansionModulePrice[Code],0),MATCH($M$1,GasExpansionModulePrice[#Headers],0))","v":{"$error":"#N/A"}},{"$f":"INDEX(GasExpansionModulePrice[],MATCH($D48,GasExpansionModulePrice[Code],0),MATCH(\"e\"&$M$1,GasExpansionModulePrice[#Headers],0))","v":{"$error":"#N/A"}},{"$f":"INDEX(GasExpansionModulePrice[],MATCH($D48,GasExpansionModulePrice[Code],0),MATCH(\"e\"&$M$1,GasExpansionModulePrice[#Headers],0))","v":{"$error":"#N/A"}}]
[null,"","","","","",{"$nulls":12},{"$f":"INDEX(GasExpansionModulePrice[],MATCH($D49,GasExpansionModulePrice[Code],0),MATCH($M$1,GasExpansionModulePrice[#Headers],0))","v":{"$error":"#N/A"}},{"$f":"INDEX(GasExpansionModulePrice[],MATCH($D49,GasExpansionModulePrice[Code],0),MATCH(\"e\"&$M$1,GasExpansionModulePrice[#Headers],0))","v":{"$error":"#N/A"}},{"$f":"INDEX(GasExpansionModulePrice[],MATCH($D49,GasExpansionModulePrice[Code],0),MATCH(\"e\"&$M$1,GasExpansionModulePrice[#Headers],0))","v":{"$error":"#N/A"}}]
[null,"","","","","",{"$nulls":12},{"$f":"INDEX(GasExpansionModulePrice[],MATCH($D50,GasExpansionModulePrice[Code],0),MATCH($M$1,GasExpansionModulePrice[#Headers],0))","v":{"$error":"#N/A"}},{"$f":"INDEX(GasExpansionModulePrice[],MATCH($D50,GasExpansionModulePrice[Code],0),MATCH(\"e\"&$M$1,GasExpansionModulePrice[#Headers],0))","v":{"$error":"#N/A"}},{"$f":"INDEX(GasExpansionModulePrice[],MATCH($D50,GasExpansionModulePrice[Code],0),MATCH(\"e\"&$M$1,GasExpansionModulePrice[#Headers],0))","v":{"$error":"#N/A"}}]
[null,"","","","","",{"$nulls":12},{"$f":"INDEX(GasExpansionModulePrice[],MATCH($D51,GasExpansionModulePrice[Code],0),MATCH($M$1,GasExpansionModulePrice[#Headers],0))","v":{"$error":"#N/A"}},{"$f":"INDEX(GasExpansionModulePrice[],MATCH($D51,GasExpansionModulePrice[Code],0),MATCH(\"e\"&$M$1,GasExpansionModulePrice[#Headers],0))","v":{"$error":"#N/A"}},{"$f":"INDEX(GasExpansionModulePrice[],MATCH($D51,GasExpansionModulePrice[Code],0),MATCH(\"e\"&$M$1,GasExpansionModulePrice[#Headers],0))","v":{"$error":"#N/A"}}]
[null,"","","","","",{"$nulls":12},{"$f":"INDEX(GasExpansionModulePrice[],MATCH($D52,GasExpansionModulePrice[Code],0),MATCH($M$1,GasExpansionModulePrice[#Headers],0))","v":{"$error":"#N/A"}},{"$f":"INDEX(GasExpansionModulePrice[],MATCH($D52,GasExpansionModulePrice[Code],0),MATCH(\"e\"&$M$1,GasExpansionModulePrice[#Headers],0))","v":{"$error":"#N/A"}},{"$f":"INDEX(GasExpansionModulePrice[],MATCH($D52,GasExpansionModulePrice[Code],0),MATCH(\"e\"&$M$1,GasExpansionModulePrice[#Headers],0))","v":{"$error":"#N/A"}}]
[null,{"$f":"IF(O53=\"\",\"\",P53)","v":""},{"$f":"IF(O53=\"\",\"\",\"è\")","v":""},{"$f":"IF(O53=\"\",\"\",O53)","v":""},{"$f":"IF(O53=\"\",\"\",\"=\")","v":""},"",{"$nulls":12},{"$f":"INDEX(GasExpansionModulePrice[],MATCH($D53,GasExpansionModulePrice[Code],0),MATCH($M$1,GasExpansionModulePrice[#Headers],0))","v":{"$error":"#N/A"}},{"$f":"INDEX(GasExpansionModulePrice[],MATCH($D53,GasExpansionModulePrice[Code],0),MATCH(\"e\"&$M$1,GasExpansionModulePrice[#Headers],0))","v":{"$error":"#N/A"}},{"$f":"INDEX(GasExpansionModulePrice[],MATCH($D53,GasExpansionModulePrice[Code],0),MATCH(\"e\"&$M$1,GasExpansionModulePrice[#Headers],0))","v":{"$error":"#N/A"}}]
[null,"","","","","",{"$nulls":12},{"$f":"INDEX(GasExpansionModulePrice[],MATCH($D54,GasExpansionModulePrice[Code],0),MATCH($M$1,GasExpansionModulePrice[#Headers],0))","v":{"$error":"#N/A"}},{"$f":"INDEX(GasExpansionModulePrice[],MATCH($D54,GasExpansionModulePrice[Code],0),MATCH(\"e\"&$M$1,GasExpansionModulePrice[#Headers],0))","v":{"$error":"#N/A"}},{"$f":"INDEX(GasExpansionModulePrice[],MATCH($D54,GasExpansionModulePrice[Code],0),MATCH(\"e\"&$M$1,GasExpansionModulePrice[#Headers],0))","v":{"$error":"#N/A"}}]
[null,"","","","","",{"$nulls":12},{"$f":"INDEX(GasExpansionModulePrice[],MATCH($D55,GasExpansionModulePrice[Code],0),MATCH($M$1,GasExpansionModulePrice[#Headers],0))","v":{"$error":"#N/A"}},{"$f":"INDEX(GasExpansionModulePrice[],MATCH($D55,GasExpansionModulePrice[Code],0),MATCH(\"e\"&$M$1,GasExpansionModulePrice[#Headers],0))","v":{"$error":"#N/A"}},{"$f":"INDEX(GasExpansionModulePrice[],MATCH($D55,GasExpansionModulePrice[Code],0),MATCH(\"e\"&$M$1,GasExpansionModulePrice[#Headers],0))","v":{"$error":"#N/A"}}]
[{"$nulls":11},"+"]
[null,"Future"]
[null,"Future","è","00",{"$nulls":3},{"$f":"D58","v":"00"}]
[{"$nulls":7},"-"]
[null,"Combustible Sensor",{"$nulls":16},"Base","3Y Warr","Ewarr"]
[null,"LEL-IR","è","I","=",{"$f":"IFERROR(ROUNDUP(SUM(S61:T61),0),\"\")","v":{"v":137,"d":"$ 137"}},null,"F",null,{"$f":"CONCATENATE(P61,P62,P63,P64)","v":"FHMO"},null,{"$f":"VLOOKUP(H61,D61:F63,3,FALSE)","v":{"v":0,"d":"$ 0"}},null,null,{"$f":"H61","v":"F"},{"$f":"_xlfn._xlws.SORT(O61:O64)","v":"F"},{"$f":"IF(P61=\"X\",1,0)","v":0},null,{"$f":"INDEX(SensorPricing[],MATCH($D61,SensorPricing[Sensor],0),MATCH($M$1,SensorPricing[#Headers],0))*2","v":120},{"$f":"INDEX(SensorPricing[],MATCH($D61,SensorPricing[Sensor],0),MATCH($M$1,SensorPricing[#Headers],0))*0.2777777","v":16.666662000000002},{"$f":"INDEX(SensorPricing[],MATCH($D61,SensorPricing[Sensor],0),MATCH($M$1,SensorPricing[#Headers],0))*0.2777777*(LEFT($H$112,1)-3)","v":0},{"$f":"ROUNDUP(INDEX(SensorPricing[],MATCH($P61,SensorPricing[Sensor],0),MATCH($M$1,SensorPricing[#Headers],0))*0.2777777,0)","v":0},null,{"$f":"ROUNDUP(INDEX(SensorPricing[],MATCH($P61,SensorPricing[Sensor],0),MATCH($M$1,SensorPricing[#Headers],0))*3,0)","v":0}]
[null,"LEL-MPS","è","F","=",{"$f":"IFERROR(ROUNDUP(SUM(S62:T62),0),\"\")","v":{"v":0,"d":"$ 0"}},{"$nulls":8},{"$f":"H66","v":"H"},"H",{"$f":"IF(P62=\"X\",1,0)","v":0},null,{"$f":"INDEX(SensorPricing[],MATCH($D62,SensorPricing[Sensor],0),MATCH($M$1,SensorPricing[#Headers],0))*2","v":0},{"$f":"INDEX(SensorPricing[],MATCH($D62,SensorPricing[Sensor],0),MATCH($M$1,SensorPricing[#Headers],0))*0.2777777","v":0},{"$f":"INDEX(SensorPricing[],MATCH($D62,SensorPricing[Sensor],0),MATCH($M$1,SensorPricing[#Headers],0))*0.2777777*(LEFT($H$112,1)-3)","v":0},{"$f":"ROUNDUP(INDEX(SensorPricing[],MATCH($P62,SensorPricing[Sensor],0),MATCH($M$1,SensorPricing[#Headers],0))*0.2777777,0)","v":0},null,{"$f":"ROUNDUP(INDEX(SensorPricing[],MATCH($P62,SensorPricing[Sensor],0),MATCH($M$1,SensorPricing[#Headers],0))*3,0)","v":0}]
[null,"None","è","X","=",{"$f":"IFERROR(ROUNDUP(SUM(S63:T63),0),\"\")","v":{"v":0,"d":"$ 0"}},{"$nulls":8},{"$f":"H87","v":"M"},"M",{"$f":"IF(P63=\"X\",1,0)","v":0},null,{"$f":"INDEX(SensorPricing[],MATCH($D63,SensorPricing[Sensor],0),MATCH($M$1,SensorPricing[#Headers],0))*2","v":0},{"$f":"INDEX(SensorPricing[],MATCH($D63,SensorPricing[Sensor],0),MATCH($M$1,SensorPricing[#Headers],0))*0.2777777","v":0},{"$f":"INDEX(SensorPricing[],MATCH($D63,SensorPricing[Sensor],0),MATCH($M$1,SensorPricing[#Headers],0))*0.2777777*(LEFT($H$112,1)-3)","v":0},{"$f":"ROUNDUP(INDEX(SensorPricing[],MATCH($P63,SensorPricing[Sensor],0),MATCH($M$1,SensorPricing[#Headers],0))*0.2777777,0)","v":0},null,{"$f":"ROUNDUP(INDEX(SensorPricing[],MATCH($P63,SensorPricing[Sensor],0),MATCH($M$1,SensorPricing[#Headers],0))*3,0)","v":0}]
[{"$nulls":11},"+",null,null,{"$f":"H108","v":"O"},"O",{"$f":"IF(P64=\"X\",1,0)","v":0},{"$nulls":4},{"$f":"ROUNDUP(INDEX(SensorPricing[],MATCH($P64,SensorPricing[Sensor],0),MATCH($M$1,SensorPricing[#Headers],0))*0.2777777,0)","v":0},null,{"$f":"ROUNDUP(INDEX(SensorPricing[],MATCH($P64,SensorPricing[Sensor],0),MATCH($M$1,SensorPricing[#Headers],0))*3,0)","v":0}]
[null,"Toxic Sensor #1",{"$nulls":14},{"$f":"4-SUM(Q61:Q64)","v":4}]
[null,{"$f":"_xlfn.VSTACK(O66:O84)","v":"NH3 "},{"$f":"IF(B66=0,\"\",\"è\")","v":"è"},{"$f":"_xlfn.VSTACK(P66:P84)","v":"A"},{"$f":"IF(B66=0,\"\",\"=\")","v":"="},{"$f":"IFERROR(ROUNDUP(SUM(S66:T66),0),\"\")","v":{"v":137,"d":"$ 137"}},null,"H",{"$nulls":3},{"$f":"VLOOKUP(H66,D66:F84,3,FALSE)","v":{"v":0,"d":"$ 0"}},null,null,{"$f":"_xlfn.CHOOSECOLS(_xlfn.LET(\n_xlpm.Dtype,EXOSensors[Type],_xlpm.Curr,EXOSensors[Currency],_xlpm.Mtype,EXOSensors[Gas Expansion],_xlpm.Stype,$O$39&1,_xlpm.SCurr,$M$1,_xlpm.MoType,$H$43,\n_xlpm.myCalculation,_xlfn.VSTACK(_xlfn._xlws.FILTER(EXOSensors[],(_xlpm.Dtype=_xlpm.Stype)*(_xlpm.Curr=_xlpm.SCurr)*(_xlpm.Mtype=_xlpm.MoType))),_xlpm.myCalculation),1,2)","v":"NH3 "},"A",null,null,{"$f":"INDEX(SensorPricing[],MATCH($P66,SensorPricing[Sensor],0),MATCH($M$1,SensorPricing[#Headers],0))*2","v":120},{"$f":"INDEX(SensorPricing[],MATCH($P66,SensorPricing[Sensor],0),MATCH($M$1,SensorPricing[#Headers],0))*0.2777777","v":16.666662000000002},{"$f":"INDEX(SensorPricing[],MATCH($P66,SensorPricing[Sensor],0),MATCH($M$1,SensorPricing[#Headers],0))*0.2777777*(LEFT($H$112,1)-3)","v":0}]
[null,"High-range NH3 ","è","B","=",{"v":287,"d":"$ 287"},{"$nulls":8},"High-range NH3 ","B",null,null,{"$f":"INDEX(SensorPricing[],MATCH($P67,SensorPricing[Sensor],0),MATCH($M$1,SensorPricing[#Headers],0))*2","v":252},{"$f":"INDEX(SensorPricing[],MATCH($P67,SensorPricing[Sensor],0),MATCH($M$1,SensorPricing[#Headers],0))*0.2777777","v":34.9999902},{"$f":"INDEX(SensorPricing[],MATCH($P67,SensorPricing[Sensor],0),MATCH($M$1,SensorPricing[#Headers],0))*0.2777777*(LEFT($H$112,1)-3)","v":0}]
[null,"CO2 ","è","C","=",{"v":547,"d":"$ 547"},{"$nulls":8},"CO2 ","C",null,null,{"$f":"INDEX(SensorPricing[],MATCH($P68,SensorPricing[Sensor],0),MATCH($M$1,SensorPricing[#Headers],0))*2","v":480},{"$f":"INDEX(SensorPricing[],MATCH($P68,SensorPricing[Sensor],0),MATCH($M$1,SensorPricing[#Headers],0))*0.2777777","v":66.66664800000001},{"$f":"INDEX(SensorPricing[],MATCH($P68,SensorPricing[Sensor],0),MATCH($M$1,SensorPricing[#Headers],0))*0.2777777*(LEFT($H$112,1)-3)","v":0}]
[null,"H2S ","è","H","=",{"v":0,"d":"$ 0"},{"$nulls":8},"H2S ","H",null,null,{"$f":"INDEX(SensorPricing[],MATCH($P69,SensorPricing[Sensor],0),MATCH($M$1,SensorPricing[#Headers],0))*2","v":0},{"$f":"INDEX(SensorPricing[],MATCH($P69,SensorPricing[Sensor],0),MATCH($M$1,SensorPricing[#Headers],0))*0.2777777","v":0},{"$f":"INDEX(SensorPricing[],MATCH($P69,SensorPricing[Sensor],0),MATCH($M$1,SensorPricing[#Headers],0))*0.2777777*(LEFT($H$112,1)-3)","v":0}]
[null,"High-range H2S ","è","J","=",{"v":274,"d":"$ 274"},{"$nulls":8},"High-range H2S ","J",null,null,{"$f":"INDEX(SensorPricing[],MATCH($P70,SensorPricing[Sensor],0),MATCH($M$1,SensorPricing[#Headers],0))*2","v":240},{"$f":"INDEX(SensorPricing[],MATCH($P70,SensorPricing[Sensor],0),MATCH($M$1,SensorPricing[#Headers],0))*0.2777777","v":33.333324000000005},{"$f":"INDEX(SensorPricing[],MATCH($P70,SensorPricing[Sensor],0),MATCH($M$1,SensorPricing[#Headers],0))*0.2777777*(LEFT($H$112,1)-3)","v":0}]
[null,"NO2 ","è","K","=",{"v":137,"d":"$ 137"},{"$nulls":8},"NO2 ","K",null,null,{"$f":"INDEX(SensorPricing[],MATCH($P71,SensorPricing[Sensor],0),MATCH($M$1,SensorPricing[#Headers],0))*2","v":120},{"$f":"INDEX(SensorPricing[],MATCH($P71,SensorPricing[Sensor],0),MATCH($M$1,SensorPricing[#Headers],0))*0.2777777","v":16.666662000000002},{"$f":"INDEX(SensorPricing[],MATCH($P71,SensorPricing[Sensor],0),MATCH($M$1,SensorPricing[#Headers],0))*0.2777777*(LEFT($H$112,1)-3)","v":0}]
[null,"Cl2 ","è","L","=",{"v":137,"d":"$ 137"},{"$nulls":8},"Cl2 ","L",null,null,{"$f":"INDEX(SensorPricing[],MATCH($P72,SensorPricing[Sensor],0),MATCH($M$1,SensorPricing[#Headers],0))*2","v":120},{"$f":"INDEX(SensorPricing[],MATCH($P72,SensorPricing[Sensor],0),MATCH($M$1,SensorPricing[#Headers],0))*0.2777777","v":16.666662000000002},{"$f":"INDEX(SensorPricing[],MATCH($P72,SensorPricing[Sensor],0),MATCH($M$1,SensorPricing[#Headers],0))*0.2777777*(LEFT($H$112,1)-3)","v":0}]
[null,"CO ","è","M","=",{"v":0,"d":"$ 0"},{"$nulls":8},"CO ","M",null,null,{"$f":"INDEX(SensorPricing[],MATCH($P73,SensorPricing[Sensor],0),MATCH($M$1,SensorPricing[#Headers],0))*2","v":0},{"$f":"INDEX(SensorPricing[],MATCH($P73,SensorPricing[Sensor],0),MATCH($M$1,SensorPricing[#Headers],0))*0.2777777","v":0},{"$f":"INDEX(SensorPricing[],MATCH($P73,SensorPricing[Sensor],0),MATCH($M$1,SensorPricing[#Headers],0))*0.2777777*(LEFT($H$112,1)-3)","v":0}]
[null,"HCN ","è","N","=",{"v":137,"d":"$ 137"},{"$nulls":8},"HCN ","N",null,null,{"$f":"INDEX(SensorPricing[],MATCH($P74,SensorPricing[Sensor],0),MATCH($M$1,SensorPricing[#Headers],0))*2","v":120},{"$f":"INDEX(SensorPricing[],MATCH($P74,SensorPricing[Sensor],0),MATCH($M$1,SensorPricing[#Headers],0))*0.2777777","v":16.666662000000002},{"$f":"INDEX(SensorPricing[],MATCH($P74,SensorPricing[Sensor],0),MATCH($M$1,SensorPricing[#Headers],0))*0.2777777*(LEFT($H$112,1)-3)","v":0}]
[null,"CO-H ","è","R","=",{"v":0,"d":"$ 0"},{"$nulls":8},"CO-H ","R",null,null,{"$f":"INDEX(SensorPricing[],MATCH($P75,SensorPricing[Sensor],0),MATCH($M$1,SensorPricing[#Headers],0))*2","v":0},{"$f":"INDEX(SensorPricing[],MATCH($P75,SensorPricing[Sensor],0),MATCH($M$1,SensorPricing[#Headers],0))*0.2777777","v":0},{"$f":"INDEX(SensorPricing[],MATCH($P75,SensorPricing[Sensor],0),MATCH($M$1,SensorPricing[#Headers],0))*0.2777777*(LEFT($H$112,1)-3)","v":0}]
[null,"SO2 ","è","S","=",{"v":0,"d":"$ 0"},{"$nulls":8},"SO2 ","S",null,null,{"$f":"INDEX(SensorPricing[],MATCH($P76,SensorPricing[Sensor],0),MATCH($M$1,SensorPricing[#Headers],0))*2","v":0},{"$f":"INDEX(SensorPricing[],MATCH($P76,SensorPricing[Sensor],0),MATCH($M$1,SensorPricing[#Headers],0))*0.2777777","v":0},{"$f":"INDEX(SensorPricing[],MATCH($P76,SensorPricing[Sensor],0),MATCH($M$1,SensorPricing[#Headers],0))*0.2777777*(LEFT($H$112,1)-3)","v":0}]
[null,"High-range CO ","è","T","=",{"v":274,"d":"$ 274"},{"$nulls":8},"High-range CO ","T",null,null,{"$f":"INDEX(SensorPricing[],MATCH($P77,SensorPricing[Sensor],0),MATCH($M$1,SensorPricing[#Headers],0))*2","v":240},{"$f":"INDEX(SensorPricing[],MATCH($P77,SensorPricing[Sensor],0),MATCH($M$1,SensorPricing[#Headers],0))*0.2777777","v":33.333324000000005},{"$f":"INDEX(SensorPricing[],MATCH($P77,SensorPricing[Sensor],0),MATCH($M$1,SensorPricing[#Headers],0))*0.2777777*(LEFT($H$112,1)-3)","v":0}]
[null,"PID ","è","V","=",{"v":1101,"d":"$ 1,101"},{"$nulls":8},"PID ","V",null,null,{"$f":"INDEX(SensorPricing[],MATCH($P78,SensorPricing[Sensor],0),MATCH($M$1,SensorPricing[#Headers],0))*2","v":966},{"$f":"INDEX(SensorPricing[],MATCH($P78,SensorPricing[Sensor],0),MATCH($M$1,SensorPricing[#Headers],0))*0.2777777","v":134.1666291},{"$f":"INDEX(SensorPricing[],MATCH($P78,SensorPricing[Sensor],0),MATCH($M$1,SensorPricing[#Headers],0))*0.2777777*(LEFT($H$112,1)-3)","v":0}]
[null,"ClO2","è","W","=",{"v":137,"d":"$ 137"},{"$nulls":8},"ClO2","W",null,null,{"$f":"INDEX(SensorPricing[],MATCH($P79,SensorPricing[Sensor],0),MATCH($M$1,SensorPricing[#Headers],0))*2","v":120},{"$f":"INDEX(SensorPricing[],MATCH($P79,SensorPricing[Sensor],0),MATCH($M$1,SensorPricing[#Headers],0))*0.2777777","v":16.666662000000002},{"$f":"INDEX(SensorPricing[],MATCH($P79,SensorPricing[Sensor],0),MATCH($M$1,SensorPricing[#Headers],0))*0.2777777*(LEFT($H$112,1)-3)","v":0}]
[null,"No Sensor ","è","X","=",{"v":0,"d":"$ 0"},{"$nulls":8},"No Sensor ","X",null,null,{"$f":"INDEX(SensorPricing[],MATCH($P80,SensorPricing[Sensor],0),MATCH($M$1,SensorPricing[#Headers],0))*2","v":0},{"$f":"INDEX(SensorPricing[],MATCH($P80,SensorPricing[Sensor],0),MATCH($M$1,SensorPricing[#Headers],0))*0.2777777","v":0},{"$f":"INDEX(SensorPricing[],MATCH($P80,SensorPricing[Sensor],0),MATCH($M$1,SensorPricing[#Headers],0))*0.2777777*(LEFT($H$112,1)-3)","v":0}]
[null,0,"",0,"","",{"$nulls":12},{"$f":"INDEX(SensorPricing[],MATCH($P81,SensorPricing[Sensor],0),MATCH($M$1,SensorPricing[#Headers],0))*2","v":{"$error":"#N/A"}},{"$f":"INDEX(SensorPricing[],MATCH($P81,SensorPricing[Sensor],0),MATCH($M$1,SensorPricing[#Headers],0))*0.2777777","v":{"$error":"#N/A"}},{"$f":"INDEX(SensorPricing[],MATCH($P81,SensorPricing[Sensor],0),MATCH($M$1,SensorPricing[#Headers],0))*0.2777777*(LEFT($H$112,1)-3)","v":{"$error":"#N/A"}}]
[null,0,"",0,"","",{"$nulls":12},{"$f":"INDEX(SensorPricing[],MATCH($P82,SensorPricing[Sensor],0),MATCH($M$1,SensorPricing[#Headers],0))*2","v":{"$error":"#N/A"}},{"$f":"INDEX(SensorPricing[],MATCH($P82,SensorPricing[Sensor],0),MATCH($M$1,SensorPricing[#Headers],0))*0.2777777","v":{"$error":"#N/A"}},{"$f":"INDEX(SensorPricing[],MATCH($P82,SensorPricing[Sensor],0),MATCH($M$1,SensorPricing[#Headers],0))*0.2777777*(LEFT($H$112,1)-3)","v":{"$error":"#N/A"}}]
[null,0,{"$f":"IF(B83=0,\"\",\"è\")","v":""},0,{"$f":"IF(B83=0,\"\",\"=\")","v":""},"",{"$nulls":12},{"$f":"INDEX(SensorPricing[],MATCH($P83,SensorPricing[Sensor],0),MATCH($M$1,SensorPricing[#Headers],0))*2","v":{"$error":"#N/A"}},{"$f":"INDEX(SensorPricing[],MATCH($P83,SensorPricing[Sensor],0),MATCH($M$1,SensorPricing[#Headers],0))*0.2777777","v":{"$error":"#N/A"}},{"$f":"INDEX(SensorPricing[],MATCH($P83,SensorPricing[Sensor],0),MATCH($M$1,SensorPricing[#Headers],0))*0.2777777*(LEFT($H$112,1)-3)","v":{"$error":"#N/A"}}]
[null,0,{"$f":"IF(B84=0,\"\",\"è\")","v":""},0,{"$f":"IF(B84=0,\"\",\"=\")","v":""},"",{"$nulls":12},{"$f":"INDEX(SensorPricing[],MATCH($P84,SensorPricing[Sensor],0),MATCH($M$1,SensorPricing[#Headers],0))*2","v":{"$error":"#N/A"}},{"$f":"INDEX(SensorPricing[],MATCH($P84,SensorPricing[Sensor],0),MATCH($M$1,SensorPricing[#Headers],0))*0.2777777","v":{"$error":"#N/A"}},{"$f":"INDEX(SensorPricing[],MATCH($P84,SensorPricing[Sensor],0),MATCH($M$1,SensorPricing[#Headers],0))*0.2777777*(LEFT($H$112,1)-3)","v":{"$error":"#N/A"}}]
[{"$nulls":11},"+"]
[null,"Toxic Sensor #2"]
[null,{"$f":"_xlfn.VSTACK(O87:O105)","v":"NH3 "},{"$f":"IF(B87=0,\"\",\"è\")","v":"è"},{"$f":"_xlfn.VSTACK(P87:P105)","v":"A"},{"$f":"IF(B87=0,\"\",\"=\")","v":"="},{"$f":"IFERROR(ROUNDUP(SUM(S87:T87),0),\"\")","v":{"v":137,"d":"$ 137"}},null,"M",{"$nulls":3},{"$f":"VLOOKUP(H87,D87:F105,3,FALSE)","v":{"v":0,"d":"$ 0"}},null,null,{"$f":"_xlfn.CHOOSECOLS(_xlfn.LET(\n_xlpm.Dtype,EXOSensors[Type],_xlpm.Curr,EXOSensors[Currency],_xlpm.Mtype,EXOSensors[Gas Expansion],_xlpm.Stype,$O$39&2,_xlpm.SCurr,$M$1,_xlpm.MoType,$H$43,\n_xlpm.myCalculation,_xlfn.VSTACK(_xlfn._xlws.FILTER(EXOSensors[],(_xlpm.Dtype=_xlpm.Stype)*(_xlpm.Curr=_xlpm.SCurr)*(_xlpm.Mtype=_xlpm.MoType))),_xlpm.myCalculation),1,2)","v":"NH3 "},"A",null,null,{"$f":"INDEX(SensorPricing[],MATCH($P87,SensorPricing[Sensor],0),MATCH($M$1,SensorPricing[#Headers],0))*2","v":120},{"$f":"INDEX(SensorPricing[],MATCH($P87,SensorPricing[Sensor],0),MATCH($M$1,SensorPricing[#Headers],0))*0.2777777","v":16.666662000000002},{"$f":"INDEX(SensorPricing[],MATCH($P87,SensorPricing[Sensor],0),MATCH($M$1,SensorPricing[#Headers],0))*0.2777777*(LEFT($H$112,1)-3)","v":0}]
[null,"High-range NH3 ","è","B","=",{"v":287,"d":"$ 287"},{"$nulls":8},"High-range NH3 ","B",null,null,{"$f":"INDEX(SensorPricing[],MATCH($P88,SensorPricing[Sensor],0),MATCH($M$1,SensorPricing[#Headers],0))*2","v":252},{"$f":"INDEX(SensorPricing[],MATCH($P88,SensorPricing[Sensor],0),MATCH($M$1,SensorPricing[#Headers],0))*0.2777777","v":34.9999902},{"$f":"INDEX(SensorPricing[],MATCH($P88,SensorPricing[Sensor],0),MATCH($M$1,SensorPricing[#Headers],0))*0.2777777*(LEFT($H$112,1)-3)","v":0}]
[null,"COSH","è","D","=",{"v":137,"d":"$ 137"},{"$nulls":8},"COSH","D",null,null,{"$f":"INDEX(SensorPricing[],MATCH($P89,SensorPricing[Sensor],0),MATCH($M$1,SensorPricing[#Headers],0))*2","v":120},{"$f":"INDEX(SensorPricing[],MATCH($P89,SensorPricing[Sensor],0),MATCH($M$1,SensorPricing[#Headers],0))*0.2777777","v":16.666662000000002},{"$f":"INDEX(SensorPricing[],MATCH($P89,SensorPricing[Sensor],0),MATCH($M$1,SensorPricing[#Headers],0))*0.2777777*(LEFT($H$112,1)-3)","v":0}]
[null,"H2S ","è","H","=",{"v":0,"d":"$ 0"},{"$nulls":8},"H2S ","H",null,null,{"$f":"INDEX(SensorPricing[],MATCH($P90,SensorPricing[Sensor],0),MATCH($M$1,SensorPricing[#Headers],0))*2","v":0},{"$f":"INDEX(SensorPricing[],MATCH($P90,SensorPricing[Sensor],0),MATCH($M$1,SensorPricing[#Headers],0))*0.2777777","v":0},{"$f":"INDEX(SensorPricing[],MATCH($P90,SensorPricing[Sensor],0),MATCH($M$1,SensorPricing[#Headers],0))*0.2777777*(LEFT($H$112,1)-3)","v":0}]
[null,"High-range H2S ","è","J","=",{"v":274,"d":"$ 274"},{"$nulls":8},"High-range H2S ","J",null,null,{"$f":"INDEX(SensorPricing[],MATCH($P91,SensorPricing[Sensor],0),MATCH($M$1,SensorPricing[#Headers],0))*2","v":240},{"$f":"INDEX(SensorPricing[],MATCH($P91,SensorPricing[Sensor],0),MATCH($M$1,SensorPricing[#Headers],0))*0.2777777","v":33.333324000000005},{"$f":"INDEX(SensorPricing[],MATCH($P91,SensorPricing[Sensor],0),MATCH($M$1,SensorPricing[#Headers],0))*0.2777777*(LEFT($H$112,1)-3)","v":0}]
[null,"NO2 ","è","K","=",{"v":137,"d":"$ 137"},{"$nulls":8},"NO2 ","K",null,null,{"$f":"INDEX(SensorPricing[],MATCH($P92,SensorPricing[Sensor],0),MATCH($M$1,SensorPricing[#Headers],0))*2","v":120},{"$f":"INDEX(SensorPricing[],MATCH($P92,SensorPricing[Sensor],0),MATCH($M$1,SensorPricing[#Headers],0))*0.2777777","v":16.666662000000002},{"$f":"INDEX(SensorPricing[],MATCH($P92,SensorPricing[Sensor],0),MATCH($M$1,SensorPricing[#Headers],0))*0.2777777*(LEFT($H$112,1)-3)","v":0}]
[null,"Cl2 ","è","L","=",{"v":137,"d":"$ 137"},{"$nulls":8},"Cl2 ","L",null,null,{"$f":"INDEX(SensorPricing[],MATCH($P93,SensorPricing[Sensor],0),MATCH($M$1,SensorPricing[#Headers],0))*2","v":120},{"$f":"INDEX(SensorPricing[],MATCH($P93,SensorPricing[Sensor],0),MATCH($M$1,SensorPricing[#Headers],0))*0.2777777","v":16.666662000000002},{"$f":"INDEX(SensorPricing[],MATCH($P93,SensorPricing[Sensor],0),MATCH($M$1,SensorPricing[#Headers],0))*0.2777777*(LEFT($H$112,1)-3)","v":0}]
[null,"CO ","è","M","=",{"v":0,"d":"$ 0"},{"$nulls":8},"CO ","M",null,null,{"$f":"INDEX(SensorPricing[],MATCH($P94,SensorPricing[Sensor],0),MATCH($M$1,SensorPricing[#Headers],0))*2","v":0},{"$f":"INDEX(SensorPricing[],MATCH($P94,SensorPricing[Sensor],0),MATCH($M$1,SensorPricing[#Headers],0))*0.2777777","v":0},{"$f":"INDEX(SensorPricing[],MATCH($P94,SensorPricing[Sensor],0),MATCH($M$1,SensorPricing[#Headers],0))*0.2777777*(LEFT($H$112,1)-3)","v":0}]
[null,"HCN ","è","N","=",{"v":137,"d":"$ 137"},{"$nulls":8},"HCN ","N",null,null,{"$f":"INDEX(SensorPricing[],MATCH($P95,SensorPricing[Sensor],0),MATCH($M$1,SensorPricing[#Headers],0))*2","v":120},{"$f":"INDEX(SensorPricing[],MATCH($P95,SensorPricing[Sensor],0),MATCH($M$1,SensorPricing[#Headers],0))*0.2777777","v":16.666662000000002},{"$f":"INDEX(SensorPricing[],MATCH($P95,SensorPricing[Sensor],0),MATCH($M$1,SensorPricing[#Headers],0))*0.2777777*(LEFT($H$112,1)-3)","v":0}]
[null,"CO-H ","è","R","=",{"v":0,"d":"$ 0"},{"$nulls":8},"CO-H ","R",null,null,{"$f":"INDEX(SensorPricing[],MATCH($P96,SensorPricing[Sensor],0),MATCH($M$1,SensorPricing[#Headers],0))*2","v":0},{"$f":"INDEX(SensorPricing[],MATCH($P96,SensorPricing[Sensor],0),MATCH($M$1,SensorPricing[#Headers],0))*0.2777777","v":0},{"$f":"INDEX(SensorPricing[],MATCH($P96,SensorPricing[Sensor],0),MATCH($M$1,SensorPricing[#Headers],0))*0.2777777*(LEFT($H$112,1)-3)","v":0}]
[null,"SO2 ","è","S","=",{"v":0,"d":"$ 0"},{"$nulls":8},"SO2 ","S",null,null,{"$f":"INDEX(SensorPricing[],MATCH($P97,SensorPricing[Sensor],0),MATCH($M$1,SensorPricing[#Headers],0))*2","v":0},{"$f":"INDEX(SensorPricing[],MATCH($P97,SensorPricing[Sensor],0),MATCH($M$1,SensorPricing[#Headers],0))*0.2777777","v":0},{"$f":"INDEX(SensorPricing[],MATCH($P97,SensorPricing[Sensor],0),MATCH($M$1,SensorPricing[#Headers],0))*0.2777777*(LEFT($H$112,1)-3)","v":0}]
[null,"High-range CO ","è","T","=",{"v":274,"d":"$ 274"},{"$nulls":8},"High-range CO ","T",null,null,{"$f":"INDEX(SensorPricing[],MATCH($P98,SensorPricing[Sensor],0),MATCH($M$1,SensorPricing[#Headers],0))*2","v":240},{"$f":"INDEX(SensorPricing[],MATCH($P98,SensorPricing[Sensor],0),MATCH($M$1,SensorPricing[#Headers],0))*0.2777777","v":33.333324000000005},{"$f":"INDEX(SensorPricing[],MATCH($P98,SensorPricing[Sensor],0),MATCH($M$1,SensorPricing[#Headers],0))*0.2777777*(LEFT($H$112,1)-3)","v":0}]
[null,"ClO2","è","W","=",{"v":137,"d":"$ 137"},{"$nulls":8},"ClO2","W",null,null,{"$f":"INDEX(SensorPricing[],MATCH($P99,SensorPricing[Sensor],0),MATCH($M$1,SensorPricing[#Headers],0))*2","v":120},{"$f":"INDEX(SensorPricing[],MATCH($P99,SensorPricing[Sensor],0),MATCH($M$1,SensorPricing[#Headers],0))*0.2777777","v":16.666662000000002},{"$f":"INDEX(SensorPricing[],MATCH($P99,SensorPricing[Sensor],0),MATCH($M$1,SensorPricing[#Headers],0))*0.2777777*(LEFT($H$112,1)-3)","v":0}]
[null,"No Sensor ","è","X","=",{"v":0,"d":"$ 0"},{"$nulls":8},"No Sensor ","X",null,null,{"$f":"INDEX(SensorPricing[],MATCH($P100,SensorPricing[Sensor],0),MATCH($M$1,SensorPricing[#Headers],0))*2","v":0},{"$f":"INDEX(SensorPricing[],MATCH($P100,SensorPricing[Sensor],0),MATCH($M$1,SensorPricing[#Headers],0))*0.2777777","v":0},{"$f":"INDEX(SensorPricing[],MATCH($P100,SensorPricing[Sensor],0),MATCH($M$1,SensorPricing[#Headers],0))*0.2777777*(LEFT($H$112,1)-3)","v":0}]
[null,0,"",0,"","",{"$nulls":12},{"$f":"INDEX(SensorPricing[],MATCH($P101,SensorPricing[Sensor],0),MATCH($M$1,SensorPricing[#Headers],0))*2","v":{"$error":"#N/A"}},{"$f":"INDEX(SensorPricing[],MATCH($P101,SensorPricing[Sensor],0),MATCH($M$1,SensorPricing[#Headers],0))*0.2777777","v":{"$error":"#N/A"}},{"$f":"INDEX(SensorPricing[],MATCH($P101,SensorPricing[Sensor],0),MATCH($M$1,SensorPricing[#Headers],0))*0.2777777*(LEFT($H$112,1)-3)","v":{"$error":"#N/A"}}]
[null,0,"",0,"","",{"$nulls":12},{"$f":"INDEX(SensorPricing[],MATCH($P102,SensorPricing[Sensor],0),MATCH($M$1,SensorPricing[#Headers],0))*2","v":{"$error":"#N/A"}},{"$f":"INDEX(SensorPricing[],MATCH($P102,SensorPricing[Sensor],0),MATCH($M$1,SensorPricing[#Headers],0))*0.2777777","v":{"$error":"#N/A"}},{"$f":"INDEX(SensorPricing[],MATCH($P102,SensorPricing[Sensor],0),MATCH($M$1,SensorPricing[#Headers],0))*0.2777777*(LEFT($H$112,1)-3)","v":{"$error":"#N/A"}}]
[null,0,"",0,"","",{"$nulls":12},{"$f":"INDEX(SensorPricing[],MATCH($P103,SensorPricing[Sensor],0),MATCH($M$1,SensorPricing[#Headers],0))*2","v":{"$error":"#N/A"}},{"$f":"INDEX(SensorPricing[],MATCH($P103,SensorPricing[Sensor],0),MATCH($M$1,SensorPricing[#Headers],0))*0.2777777","v":{"$error":"#N/A"}},{"$f":"INDEX(SensorPricing[],MATCH($P103,SensorPricing[Sensor],0),MATCH($M$1,SensorPricing[#Headers],0))*0.2777777*(LEFT($H$112,1)-3)","v":{"$error":"#N/A"}}]
[null,0,"",0,"","",{"$nulls":12},{"$f":"INDEX(SensorPricing[],MATCH($P104,SensorPricing[Sensor],0),MATCH($M$1,SensorPricing[#Headers],0))*2","v":{"$error":"#N/A"}},{"$f":"INDEX(SensorPricing[],MATCH($P104,SensorPricing[Sensor],0),MATCH($M$1,SensorPricing[#Headers],0))*0.2777777","v":{"$error":"#N/A"}},{"$f":"INDEX(SensorPricing[],MATCH($P104,SensorPricing[Sensor],0),MATCH($M$1,SensorPricing[#Headers],0))*0.2777777*(LEFT($H$112,1)-3)","v":{"$error":"#N/A"}}]
[null,0,"",0,"","",{"$nulls":12},{"$f":"INDEX(SensorPricing[],MATCH($P105,SensorPricing[Sensor],0),MATCH($M$1,SensorPricing[#Headers],0))*2","v":{"$error":"#N/A"}},{"$f":"INDEX(SensorPricing[],MATCH($P105,SensorPricing[Sensor],0),MATCH($M$1,SensorPricing[#Headers],0))*0.2777777","v":{"$error":"#N/A"}},{"$f":"INDEX(SensorPricing[],MATCH($P105,SensorPricing[Sensor],0),MATCH($M$1,SensorPricing[#Headers],0))*0.2777777*(LEFT($H$112,1)-3)","v":{"$error":"#N/A"}}]
[{"$nulls":11},"+"]
[null,"Oxygen Sensor"]
[null,{"$f":"_xlfn.VSTACK(O108:O109)","v":"O2"},{"$f":"IF(B108=0,\"\",\"è\")","v":"è"},{"$f":"_xlfn.VSTACK(P108:P109)","v":"O"},{"$f":"IF(B108=0,\"\",\"=\")","v":"="},{"$f":"IFERROR(ROUNDUP(SUM(S108:T108),0),\"\")","v":{"v":0,"d":"$ 0"}},null,"O",{"$nulls":3},{"$f":"VLOOKUP(H108,D108:F109,3,FALSE)","v":{"v":0,"d":"$ 0"}},null,null,{"$f":"_xlfn._xlws.FILTER(_xlfn._xlws.FILTER(Oxygen[],Oxygen[Type]=H61),{1,1,0})","v":"O2"},"O",null,null,{"$f":"INDEX(SensorPricing[],MATCH($D108,SensorPricing[Sensor],0),MATCH($M$1,SensorPricing[#Headers],0))*2","v":0},{"$f":"INDEX(SensorPricing[],MATCH($D108,SensorPricing[Sensor],0),MATCH($M$1,SensorPricing[#Headers],0))*0.2777777","v":0},{"$f":"INDEX(SensorPricing[],MATCH($D108,SensorPricing[Sensor],0),MATCH($M$1,SensorPricing[#Headers],0))*0.2777777*(LEFT($H$112,1)-3)","v":0}]
[null,0,"",0,"",{"$f":"IFERROR(ROUNDUP(SUM(S109:T109),0),\"\")","v":""},{"$nulls":12},{"$f":"INDEX(SensorPricing[],MATCH($D109,SensorPricing[Sensor],0),MATCH($M$1,SensorPricing[#Headers],0))*2","v":{"$error":"#N/A"}},{"$f":"INDEX(SensorPricing[],MATCH($D109,SensorPricing[Sensor],0),MATCH($M$1,SensorPricing[#Headers],0))*0.2777777","v":{"$error":"#N/A"}},{"$f":"INDEX(SensorPricing[],MATCH($D109,SensorPricing[Sensor],0),MATCH($M$1,SensorPricing[#Headers],0))*0.2777777*(LEFT($H$112,1)-3)","v":{"$error":"#N/A"}}]
[{"$nulls":7},"-",{"$nulls":3},"+"]
[null,"Warranty Term"]
[null,"Three-Years (Standard)","è","3Y","=",{"$f":"V112","v":{"v":0,"d":"$ 0"}},null,"3Y",{"$nulls":3},{"$f":"VLOOKUP(H112,D112:F114,3,FALSE)","v":{"v":0,"d":"$ 0"}},{"$nulls":9},0]
[null,"Four-Years","è","4Y","=",{"$f":"V113","v":{"v":606,"d":"$ 606"}},{"$nulls":15},{"$f":"SUM(V17:V111)","v":606}]
[null,"Five-Years","è","5Y","=",{"v":1212,"d":"$ 1,212"},{"$nulls":15},{"$f":"SUM(V17:V111)*2","v":1212}]
[]
[null,"Service (Annually)"]
[null,"Service Plan"]
[null,"System Access","è","X","=",{"$f":"S118","v":{"v":180,"d":"$ 180"}},null,"X",{"$nulls":3},{"$f":"VLOOKUP(H118,D118:F120,3,FALSE)","v":{"v":180,"d":"$ 180"}},{"$nulls":6},{"$f":"INDEX(ServicePrices[],MATCH(B118,ServicePrices[Type],0),MATCH($M$1,ServicePrices[#Headers],0))*12","v":180}]
[null,"Self-Monitored","è","S","=",{"$f":"S119","v":{"v":408,"d":"$ 408"}},{"$nulls":12},{"$f":"(INDEX(ServicePrices[],MATCH(B118,ServicePrices[Type],0),MATCH($M$1,ServicePrices[#Headers],0))+\nINDEX(ServicePrices[],MATCH(B119,ServicePrices[Type],0),MATCH($M$1,ServicePrices[#Headers],0)))\n*12","v":408}]
[null,"Blackline Monitored","è","B","=",{"v":648,"d":"$ 648"},{"$nulls":12},{"$f":"(INDEX(ServicePrices[],MATCH(B118,ServicePrices[Type],0),MATCH($M$1,ServicePrices[#Headers],0))+\nINDEX(ServicePrices[],MATCH(B120,ServicePrices[Type],0),MATCH($M$1,ServicePrices[#Headers],0)))\n*12","v":648}]
[{"$nulls":11},"+"]
[null,"Voice"]
[null,"No Voice","è","X","=",{"$f":"S123","v":{"v":0,"d":"$ 0"}},null,"X",{"$nulls":3},{"$f":"VLOOKUP(H123,D123:F124,3,FALSE)","v":{"v":0,"d":"$ 0"}},null,null,{"$f":"_xlfn._xlws.FILTER(_xlfn._xlws.FILTER(Voice[],Voice[Type]=H118),{1,1,0,0})","v":"No Voice"},"X",null,null,0]
[null,{"$f":"IF(P124=\"\",\"\",O124)","v":""},{"$f":"IF(O124=\"\",\"\",\"è\")","v":""},{"$f":"IF(P124=\"\",\"\",P124)","v":""},{"$f":"IF(O124=\"\",\"\",\"=\")","v":""},{"$f":"IF(P124=\"\",\"\",S124)","v":""},{"$nulls":12},{"$f":"INDEX(ServicePrices[],MATCH(\"Voice\",ServicePrices[Type],0),MATCH($M$1,ServicePrices[#Headers],0))*12","v":252}]
[{"$nulls":11},"+"]
[null,"Push-to-Talk (PTT)"]
[null,"No PTT","è","X","=",{"$f":"S127","v":{"v":0,"d":"$ 0"}},null,"X",{"$nulls":3},{"$f":"VLOOKUP(H127,D127:F128,3,FALSE)","v":{"v":0,"d":"$ 0"}},{"$nulls":6},0]
[null,"PTT Included","è","P","=",{"v":180,"d":"$ 180"},{"$nulls":12},{"$f":"INDEX(ServicePrices[],MATCH(\"Push-to-talk\",ServicePrices[Type],0),MATCH($M$1,ServicePrices[#Headers],0))*12","v":180}]
[{"$nulls":7},"-"]
[null,"Service Term"]
[null,"Three-Years","è","3Y",{"$nulls":3},"3Y",{"$nulls":10},{"$f":"LEFT(H131)*12","v":36}]
[null,"Four-Years","è","4Y"]
[null,"Five-Years","è","5Y"]

{"sheet":"EXO 8 Lease","index":30,"n_rows":125,"n_cols":25,"rows_kept":125,"merged":[[1,1,1,7],[2,1,12,1],[7,3,7,9],[11,7,11,9],[13,1,13,5],[14,7,18,9],[14,11,18,11],[15,21,18,21],[19,11,31,11],[20,1,20,5],[21,7,22,9],[23,7,24,9],[24,1,24,5],[25,7,25,9],[26,7,27,9],[27,1,27,5],[28,7,29,9],[30,7,31,9],[31,1,31,5],[32,7,33,9],[32,11,33,11],[34,11,35,11],[35,1,35,5],[36,7,37,9],[36,11,37,11],[38,11,39,11],[39,1,39,5],[40,7,52,9],[40,11,52,11],[40,21,52,21],[53,7,54,9],[53,11,57,11],[54,1,54,5],[55,7,55,9],[56,7,57,9],[57,1,57,5],[58,7,60,7],[58,9,106,9],[58,11,60,11],[61,11,62,11],[62,1,62,5],[63,7,81,7],[63,11,81,11],[82,11,83,11],[83,1,83,5],[84,7,102,7],[84,11,102,11],[103,11,104,11],[104,1,104,5],[105,7,106,7],[105,11,106,11],[107,7,108,9],[107,11,108,11],[108,1,108,5],[109,7,111,9],[109,11,111,11],[112,11,113,11],[113,1,113,5],[114,7,115,9],[114,11,115,11],[116,11,117,11],[117,1,117,5],[118,7,119,9],[118,11,119,11],[120,7,121,9],[121,1,121,5],[122,7,124,9]]}
[null,{"$error":"#VALUE!"},{"$nulls":10},{"$f":"Currency","v":"USD"},null,null,"EXO 8 Lease"]
[null,"EXO 8 Lease",{"$nulls":10},{"$f":"PBYear","v":2025},"Quick Links"]
[null,{"$error":"#VALUE!"},{"$nulls":10},{"$f":"Revision","v":"Effective February 2, 2026 Rev 2"},"Main Menu"]
[{"$nulls":12},"Blackline Safety Confidential","Accessories"]
[{"$nulls":12},"All prices are an estimate - for a formal quote contact your local Blackline Safety representative"]
[{"$nulls":12},"Release dates are subject to change. Please confirm dates prior to quoting."]
[]
[{"$nulls":3},{"$f":"CONCATENATE(H15,H22,H24,H26,H27,H29,H31,H33,H37,H41,H56,H57,J59,H108,H110,H115,H119,H121,H123,)","v":"CMP-EX8N-01-NA2-000000-FHMO-XXX-4Y"},{"$nulls":7},{"$f":"L15+L33+L37+L41+L59+L64+L85+L106+L110+L115+L119","v":{"v":180,"d":"$ 180"}},{"$f":"M1&\" List\"","v":"USD List"}]
[]
[]
[]
[{"$nulls":5},"Additional Cartridge",null,{"$f":"CONCATENATE(\"CMP-CART-Q-\",J59,\"-\",H123,\"-R\")","v":"CMP-CART-Q-FHMO-4Y-R"},{"$nulls":3},{"$f":"V65","v":{"v":18,"d":"$ 18"}},{"$f":"M1&\" / mo\"","v":"USD / mo"}]
[]
[null,"Buying Option",{"$nulls":16},"Base","Cartridge","Ewarr"]
[null,"Lease","è","CMP-EX8",{"$nulls":3},{"$f":"D15","v":"CMP-EX8"},{"$nulls":3},{"$f":"VLOOKUP(Q63,A16:F19,6,FALSE)","v":{"v":162,"d":"$ 162"}},{"$nulls":10},"Old calculations"]
[1,null,null,"Multi 1-sensor","=",{"$f":"SUM(S16:U16)","v":{"v":154,"d":"$ 154"}},{"$nulls":11},1,{"$f":"ROUND(IF($H$22=\"N\",INDEX(BasePrices[],MATCH(\"EXO 8 Base Price\",BasePrices[Type],0),MATCH($M$1,BasePrices[#Headers],0)),\nINDEX(BasePrices[],MATCH(\"EXO 8 Gamma Base Price\",BasePrices[Type],0),MATCH($M$1,BasePrices[#Headers],0)))*Lease_Factor/EXO8_Lease_Term,0)+\nROUND(INDEX(BasePrices[],MATCH(\"EXO Battery Price\",BasePrices[Type],0),MATCH($M$1,BasePrices[#Headers],0))*Lease_Factor/EXO8_Lease_Term,0)+\nROUND(INDEX(BasePrices[],MATCH(\"EXO Warranty Base Price\",BasePrices[Type],0),MATCH($M$1,BasePrices[#Headers],0))*Lease_Factor/EXO8_Lease_Term,0)+\nROUND(INDEX(BasePrices[],MATCH(\"EXO Warranty Base Price\",BasePrices[Type],0),MATCH($M$1,BasePrices[#Headers],0))*($R$123-3)*Lease_Factor/EXO8_Lease_Term,0)","v":149},{"$f":"ROUND(INDEX(BasePrices[],MATCH($R16,BasePrices[SnrCnt],0),MATCH($M$1,BasePrices[#Headers],0))*2*Lease_Factor/EXO8_Lease_Term+\nINDEX(BasePrices[],MATCH($R16,BasePrices[SnrCnt],0),MATCH($M$1,BasePrices[#Headers],0))*0.2777777*Lease_Factor/EXO8_Lease_Term+\nINDEX(BasePrices[],MATCH($R16,BasePrices[SnrCnt],0),MATCH($M$1,BasePrices[#Headers],0))*0.2777777*Lease_Factor/EXO8_Lease_Term*($R$123-3),0)","v":5},null,null,{"$f":"ROUND(IF($H$22=\"N\",INDEX(BasePrices[],MATCH(\"EXO 8 Base Price\",BasePrices[Type],0),MATCH($M$1,BasePrices[#Headers],0)),\nINDEX(BasePrices[],MATCH(\"EXO 8 Gamma Base Price\",BasePrices[Type],0),MATCH($M$1,BasePrices[#Headers],0)))*Lease_Factor/EXO8_Lease_Term,0)+\nROUND(INDEX(BasePrices[],MATCH(\"EXO Battery Price\",BasePrices[Type],0),MATCH($M$1,BasePrices[#Headers],0))*Lease_Factor/EXO8_Lease_Term,0)+\nROUND(INDEX(BasePrices[],MATCH(\"EXO Warranty Base Price\",BasePrices[Type],0),MATCH($M$1,BasePrices[#Headers],0))*Lease_Factor/EXO8_Lease_Term,0)","v":135},{"$f":"ROUND(INDEX(BasePrices[],MATCH($R16,BasePrices[SnrCnt],0),MATCH($M$1,BasePrices[#Headers],0))*2*Lease_Factor/EXO8_Lease_Term,0)+\nROUND(INDEX(BasePrices[],MATCH($R16,BasePrices[SnrCnt],0),MATCH($M$1,BasePrices[#Headers],0))*0.2777777*Lease_Factor/EXO8_Lease_Term,0)","v":5},{"$f":"ROUND(INDEX(BasePrices[],MATCH(\"EXO Warranty Base Price\",BasePrices[Type],0),MATCH($M$1,BasePrices[#Headers],0))*($R$123-3)*Lease_Factor/EXO8_Lease_Term,0)+\nROUND(INDEX(BasePrices[],MATCH($R16,BasePrices[SnrCnt],0),MATCH($M$1,BasePrices[#Headers],0))*0.2777777*Lease_Factor/EXO8_Lease_Term*($R$123-3),0)","v":15}]
[2,null,null,"Multi 2-sensor","=",{"$f":"SUM(S17:U17)","v":{"v":157,"d":"$ 157"}},{"$nulls":11},2,{"$f":"ROUND(IF($H$22=\"N\",INDEX(BasePrices[],MATCH(\"EXO 8 Base Price\",BasePrices[Type],0),MATCH($M$1,BasePrices[#Headers],0)),\nINDEX(BasePrices[],MATCH(\"EXO 8 Gamma Base Price\",BasePrices[Type],0),MATCH($M$1,BasePrices[#Headers],0)))*Lease_Factor/EXO8_Lease_Term,0)+\nROUND(INDEX(BasePrices[],MATCH(\"EXO Battery Price\",BasePrices[Type],0),MATCH($M$1,BasePrices[#Headers],0))*Lease_Factor/EXO8_Lease_Term,0)+\nROUND(INDEX(BasePrices[],MATCH(\"EXO Warranty Base Price\",BasePrices[Type],0),MATCH($M$1,BasePrices[#Headers],0))*Lease_Factor/EXO8_Lease_Term,0)+\nROUND(INDEX(BasePrices[],MATCH(\"EXO Warranty Base Price\",BasePrices[Type],0),MATCH($M$1,BasePrices[#Headers],0))*($R$123-3)*Lease_Factor/EXO8_Lease_Term,0)","v":149},{"$f":"ROUND(INDEX(BasePrices[],MATCH($R17,BasePrices[SnrCnt],0),MATCH($M$1,BasePrices[#Headers],0))*2*Lease_Factor/EXO8_Lease_Term+\nINDEX(BasePrices[],MATCH($R17,BasePrices[SnrCnt],0),MATCH($M$1,BasePrices[#Headers],0))*0.2777777*Lease_Factor/EXO8_Lease_Term+\nINDEX(BasePrices[],MATCH($R17,BasePrices[SnrCnt],0),MATCH($M$1,BasePrices[#Headers],0))*0.2777777*Lease_Factor/EXO8_Lease_Term*($R$123-3),0)","v":8}]
[3,null,null,"Multi 3-sensor","=",{"v":160,"d":"$ 160"},{"$nulls":11},3,{"$f":"ROUND(IF($H$22=\"N\",INDEX(BasePrices[],MATCH(\"EXO 8 Base Price\",BasePrices[Type],0),MATCH($M$1,BasePrices[#Headers],0)),\nINDEX(BasePrices[],MATCH(\"EXO 8 Gamma Base Price\",BasePrices[Type],0),MATCH($M$1,BasePrices[#Headers],0)))*Lease_Factor/EXO8_Lease_Term,0)+\nROUND(INDEX(BasePrices[],MATCH(\"EXO Battery Price\",BasePrices[Type],0),MATCH($M$1,BasePrices[#Headers],0))*Lease_Factor/EXO8_Lease_Term,0)+\nROUND(INDEX(BasePrices[],MATCH(\"EXO Warranty Base Price\",BasePrices[Type],0),MATCH($M$1,BasePrices[#Headers],0))*Lease_Factor/EXO8_Lease_Term,0)+\nROUND(INDEX(BasePrices[],MATCH(\"EXO Warranty Base Price\",BasePrices[Type],0),MATCH($M$1,BasePrices[#Headers],0))*($R$123-3)*Lease_Factor/EXO8_Lease_Term,0)","v":149},{"$f":"ROUND(INDEX(BasePrices[],MATCH($R18,BasePrices[SnrCnt],0),MATCH($M$1,BasePrices[#Headers],0))*2*Lease_Factor/EXO8_Lease_Term+\nINDEX(BasePrices[],MATCH($R18,BasePrices[SnrCnt],0),MATCH($M$1,BasePrices[#Headers],0))*0.2777777*Lease_Factor/EXO8_Lease_Term+\nINDEX(BasePrices[],MATCH($R18,BasePrices[SnrCnt],0),MATCH($M$1,BasePrices[#Headers],0))*0.2777777*Lease_Factor/EXO8_Lease_Term*($R$123-3),0)","v":11}]
[4,null,null,"Multi 4-sensor","=",{"v":162,"d":"$ 162"},{"$nulls":11},4,{"$f":"ROUND(IF($H$22=\"N\",INDEX(BasePrices[],MATCH(\"EXO 8 Base Price\",BasePrices[Type],0),MATCH($M$1,BasePrices[#Headers],0)),\nINDEX(BasePrices[],MATCH(\"EXO 8 Gamma Base Price\",BasePrices[Type],0),MATCH($M$1,BasePrices[#Headers],0)))*Lease_Factor/EXO8_Lease_Term,0)+\nROUND(INDEX(BasePrices[],MATCH(\"EXO Battery Price\",BasePrices[Type],0),MATCH($M$1,BasePrices[#Headers],0))*Lease_Factor/EXO8_Lease_Term,0)+\nROUND(INDEX(BasePrices[],MATCH(\"EXO Warranty Base Price\",BasePrices[Type],0),MATCH($M$1,BasePrices[#Headers],0))*Lease_Factor/EXO8_Lease_Term,0)+\nROUND(INDEX(BasePrices[],MATCH(\"EXO Warranty Base Price\",BasePrices[Type],0),MATCH($M$1,BasePrices[#Headers],0))*($R$123-3)*Lease_Factor/EXO8_Lease_Term,0)","v":149},{"$f":"ROUND(INDEX(BasePrices[],MATCH($R19,BasePrices[SnrCnt],0),MATCH($M$1,BasePrices[#Headers],0))*2*Lease_Factor/EXO8_Lease_Term+\nINDEX(BasePrices[],MATCH($R19,BasePrices[SnrCnt],0),MATCH($M$1,BasePrices[#Headers],0))*0.2777777*Lease_Factor/EXO8_Lease_Term+\nINDEX(BasePrices[],MATCH($R19,BasePrices[SnrCnt],0),MATCH($M$1,BasePrices[#Headers],0))*0.2777777*Lease_Factor/EXO8_Lease_Term*($R$123-3),0)","v":13}]
[{"$nulls":11},"+"]
[null,"Type"]
[null,"Non-Gamma","è","N",{"$nulls":3},"N"]
[null,"Gamma",{"$f":"IF(B23=\"\",\"\",\"è\")","v":"è"},"G"]
[{"$nulls":7},"-"]
[null,"SIM Card"]
[null,"Standard (Telenor)","è","01",{"$nulls":3},{"$f":"D26","v":"01"}]
[{"$nulls":7},"-"]
[null,"Country Code",{"$nulls":12},"C"]
[null,{"$f":"_xlfn.VSTACK(O29:O30)","v":"North America (4G/LTE)"},{"$f":"IF(B29=\"\",\"\",\"è\")","v":"è"},{"$f":"IFERROR(VLOOKUP(B29,$O$29:$P$30,2,FALSE),\"\")","v":"NA2"},{"$nulls":3},"NA2",{"$nulls":6},{"$f":"_xlfn.LET(\n_xlpm.Dtype,EXOCountryCodes[Type],_xlpm.Curr,EXOCountryCodes[Currency],_xlpm.SType,O28,_xlpm.SCurr,M1,\n_xlpm.myCalculation,_xlfn.VSTACK(_xlfn._xlws.FILTER(EXOCountryCodes[],(_xlpm.Dtype=_xlpm.SType)*(_xlpm.Curr=_xlpm.SCurr))),_xlpm.myCalculation)","v":"North America (4G/LTE)"},"NA2","C","USD"]
[null,"Outside of North America (4G/LTE)",{"$f":"IF(B30=0,\"\",\"è\")","v":"è"},{"$f":"IFERROR(VLOOKUP(B30,$O$29:$P$30,2,FALSE),\"\")","v":"EU2"},{"$nulls":10},"Outside of North America (4G/LTE)","EU2","C","USD"]
[{"$nulls":7},"-"]
[null,"Satellite Module"]
[null,"None","è",0,"=",{"v":0,"d":"$ 0"},null,0,{"$nulls":3},{"$f":"VLOOKUP(H33,D33:F34,3,FALSE)","v":{"v":0,"d":"$ 0"}}]
[null,"Satellite Module Included*","è",1,"=",{"$f":"SUM(S34:T34)","v":{"v":90,"d":"$ 90"}},{"$nulls":12},{"$f":"ROUND(INDEX(BasePrices[],MATCH(\"EXO Satellite\",BasePrices[Type],0),MATCH($M$1,BasePrices[#Headers],0))*Lease_Factor/EXO8_Lease_Term,0)","v":74},{"$f":"IF(R123>3,ROUND(INDEX(BasePrices[],MATCH(\"EXO Satellite\",BasePrices[Type],0),MATCH($M$1,BasePrices[#Headers],0))*0.22*Lease_Factor/EXO8_Lease_Term,0),0)","v":16}]
[{"$nulls":11},"+"]
[null,"Pump Module"]
[null,"None","è",0,"=",{"v":0,"d":"$ 0"},null,0,{"$nulls":3},{"$f":"VLOOKUP(H37,D37:F38,3,FALSE)","v":{"v":0,"d":"$ 0"}},null,null,{"$f":"IF(H37=1,\"P\",\"X\")","v":"X"}]
[null,"Pump Module Included (Gas Expansion Module Must be 0)","è",1,"=",{"$f":"S38","v":{"v":56,"d":"$ 56"}},{"$nulls":12},{"$f":"ROUND(INDEX(BasePrices[],MATCH(\"EXO Pump\",BasePrices[Type],0),MATCH($M$1,BasePrices[#Headers],0))*Lease_Factor/EXO8_Lease_Term,0)","v":56},{"$f":"IF(R123>3,ROUND(INDEX(BasePrices[],MATCH(\"EXO Pump\",BasePrices[Type],0),MATCH($M$1,BasePrices[#Headers],0))*0.22*Lease_Factor/EXO8_Lease_Term,0),0)","v":12}]
[{"$nulls":11},"+"]
[null,"Gas Expansion Module (Consult Factory)"]
[null,{"$f":"P41","v":"00 - None"},"è",{"$f":"O41","v":"00"},"=",{"$f":"IFERROR(SUM(S41:T41),\"\")","v":{"v":0,"d":"$ 0"}},null,"00",{"$nulls":3},{"$f":"VLOOKUP(H41,D41:F53,3,FALSE)","v":{"v":0,"d":"$ 0"}},null,null,{"$f":"_xlfn._xlws.FILTER(_xlfn._xlws.FILTER(GasExpansionModules[],GasExpansionModules[Available]=\"Yes\"),{0,0,1,0,0,0,0,1})","v":"00"},"00 - None",null,null,0,0]
[null,{"$f":"IF(O42=\"\",\"\",P42)","v":"01 - Refinery / Chem #1 (SO2, PID)"},{"$f":"IF(O42=\"\",\"\",\"è\")","v":"è"},{"$f":"IF(O42=\"\",\"\",O42)","v":"01"},{"$f":"IF(O42=\"\",\"\",\"=\")","v":"="},{"v":95,"d":"$ 95"},{"$nulls":8},"01","01 - Refinery / Chem #1 (SO2, PID)",null,null,{"$f":"ROUND(INDEX(GasExpansionModulePrice[],MATCH($D42,GasExpansionModulePrice[Code],0),MATCH($M$1,GasExpansionModulePrice[#Headers],0))*Lease_Factor/EXO8_Lease_Term,0)","v":91},{"$f":"ROUND(INDEX(GasExpansionModulePrice[],MATCH($D42,GasExpansionModulePrice[Code],0),MATCH(\"e\"&$M$1,GasExpansionModulePrice[#Headers],0))*Lease_Factor/EXO8_Lease_Term,0)*($R$123-3)","v":4}]
[null,{"$f":"IF(O43=\"\",\"\",P43)","v":"04 - Refinery / Chem #4 (NH3, H2S, SO2)"},{"$f":"IF(O43=\"\",\"\",\"è\")","v":"è"},{"$f":"IF(O43=\"\",\"\",O43)","v":"04"},{"$f":"IF(O43=\"\",\"\",\"=\")","v":"="},{"v":71,"d":"$ 71"},{"$nulls":8},"04","04 - Refinery / Chem #4 (NH3, H2S, SO2)",null,null,{"$f":"ROUND(INDEX(GasExpansionModulePrice[],MATCH($D43,GasExpansionModulePrice[Code],0),MATCH($M$1,GasExpansionModulePrice[#Headers],0))*Lease_Factor/EXO8_Lease_Term,0)","v":69},{"$f":"ROUND(INDEX(GasExpansionModulePrice[],MATCH($D43,GasExpansionModulePrice[Code],0),MATCH(\"e\"&$M$1,GasExpansionModulePrice[#Headers],0))*Lease_Factor/EXO8_Lease_Term,0)*($R$123-3)","v":2}]
[null,"06 - Hazmat #1 (NH3, Cl2, HCN, PID)","è","06","=",{"v":111,"d":"$ 111"},{"$nulls":8},"06","06 - Hazmat #1 (NH3, Cl2, HCN, PID)",null,null,{"$f":"ROUND(INDEX(GasExpansionModulePrice[],MATCH($D44,GasExpansionModulePrice[Code],0),MATCH($M$1,GasExpansionModulePrice[#Headers],0))*Lease_Factor/EXO8_Lease_Term,0)","v":105},{"$f":"ROUND(INDEX(GasExpansionModulePrice[],MATCH($D44,GasExpansionModulePrice[Code],0),MATCH(\"e\"&$M$1,GasExpansionModulePrice[#Headers],0))*Lease_Factor/EXO8_Lease_Term,0)*($R$123-3)","v":6}]
[null,"09 - Wastewater #1 (NH3, H2S, Cl2, PID)","è","09","=",{"v":108,"d":"$ 108"},{"$nulls":8},"09","09 - Wastewater #1 (NH3, H2S, Cl2, PID)",null,null,{"$f":"ROUND(INDEX(GasExpansionModulePrice[],MATCH($D45,GasExpansionModulePrice[Code],0),MATCH($M$1,GasExpansionModulePrice[#Headers],0))*Lease_Factor/EXO8_Lease_Term,0)","v":102},{"$f":"ROUND(INDEX(GasExpansionModulePrice[],MATCH($D45,GasExpansionModulePrice[Code],0),MATCH(\"e\"&$M$1,GasExpansionModulePrice[#Headers],0))*Lease_Factor/EXO8_Lease_Term,0)*($R$123-3)","v":6}]
[null,"","","","","",{"$nulls":12},{"$f":"ROUND(INDEX(GasExpansionModulePrice[],MATCH($D46,GasExpansionModulePrice[Code],0),MATCH($M$1,GasExpansionModulePrice[#Headers],0))*Lease_Factor/EXO8_Lease_Term,0)","v":{"$error":"#N/A"}},{"$f":"ROUND(INDEX(GasExpansionModulePrice[],MATCH($D46,GasExpansionModulePrice[Code],0),MATCH(\"e\"&$M$1,GasExpansionModulePrice[#Headers],0))*Lease_Factor/EXO8_Lease_Term,0)*($R$123-3)","v":{"$error":"#N/A"}}]
[null,"","","","","",{"$nulls":12},{"$f":"ROUND(INDEX(GasExpansionModulePrice[],MATCH($D47,GasExpansionModulePrice[Code],0),MATCH($M$1,GasExpansionModulePrice[#Headers],0))*Lease_Factor/EXO8_Lease_Term,0)","v":{"$error":"#N/A"}},{"$f":"ROUND(INDEX(GasExpansionModulePrice[],MATCH($D47,GasExpansionModulePrice[Code],0),MATCH(\"e\"&$M$1,GasExpansionModulePrice[#Headers],0))*Lease_Factor/EXO8_Lease_Term,0)*($R$123-3)","v":{"$error":"#N/A"}}]
[null,"","","","","",{"$nulls":12},{"$f":"ROUND(INDEX(GasExpansionModulePrice[],MATCH($D48,GasExpansionModulePrice[Code],0),MATCH($M$1,GasExpansionModulePrice[#Headers],0))*Lease_Factor/EXO8_Lease_Term,0)","v":{"$error":"#N/A"}},{"$f":"ROUND(INDEX(GasExpansionModulePrice[],MATCH($D48,GasExpansionModulePrice[Code],0),MATCH(\"e\"&$M$1,GasExpansionModulePrice[#Headers],0))*Lease_Factor/EXO8_Lease_Term,0)*($R$123-3)","v":{"$error":"#N/A"}}]
[null,"","","","","",{"$nulls":12},{"$f":"ROUND(INDEX(GasExpansionModulePrice[],MATCH($D49,GasExpansionModulePrice[Code],0),MATCH($M$1,GasExpansionModulePrice[#Headers],0))*Lease_Factor/EXO8_Lease_Term,0)","v":{"$error":"#N/A"}},{"$f":"ROUND(INDEX(GasExpansionModulePrice[],MATCH($D49,GasExpansionModulePrice[Code],0),MATCH(\"e\"&$M$1,GasExpansionModulePrice[#Headers],0))*Lease_Factor/EXO8_Lease_Term,0)*($R$123-3)","v":{"$error":"#N/A"}}]
[null,"","","","","",{"$nulls":12},{"$f":"ROUND(INDEX(GasExpansionModulePrice[],MATCH($D50,GasExpansionModulePrice[Code],0),MATCH($M$1,GasExpansionModulePrice[#Headers],0))*Lease_Factor/EXO8_Lease_Term,0)","v":{"$error":"#N/A"}},{"$f":"ROUND(INDEX(GasExpansionModulePrice[],MATCH($D50,GasExpansionModulePrice[Code],0),MATCH(\"e\"&$M$1,GasExpansionModulePrice[#Headers],0))*Lease_Factor/EXO8_Lease_Term,0)*($R$123-3)","v":{"$error":"#N/A"}}]
[null,{"$f":"IF(O51=\"\",\"\",P51)","v":""},{"$f":"IF(O51=\"\",\"\",\"è\")","v":""},{"$f":"IF(O51=\"\",\"\",O51)","v":""},{"$f":"IF(O51=\"\",\"\",\"=\")","v":""},"",{"$nulls":12},{"$f":"ROUND(INDEX(GasExpansionModulePrice[],MATCH($D51,GasExpansionModulePrice[Code],0),MATCH($M$1,GasExpansionModulePrice[#Headers],0))*Lease_Factor/EXO8_Lease_Term,0)","v":{"$error":"#N/A"}},{"$f":"ROUND(INDEX(GasExpansionModulePrice[],MATCH($D51,GasExpansionModulePrice[Code],0),MATCH(\"e\"&$M$1,GasExpansionModulePrice[#Headers],0))*Lease_Factor/EXO8_Lease_Term,0)*($R$123-3)","v":{"$error":"#N/A"}}]
[null,"","","","","",{"$nulls":12},{"$f":"ROUND(INDEX(GasExpansionModulePrice[],MATCH($D52,GasExpansionModulePrice[Code],0),MATCH($M$1,GasExpansionModulePrice[#Headers],0))*Lease_Factor/EXO8_Lease_Term,0)","v":{"$error":"#N/A"}},{"$f":"ROUND(INDEX(GasExpansionModulePrice[],MATCH($D52,GasExpansionModulePrice[Code],0),MATCH(\"e\"&$M$1,GasExpansionModulePrice[#Headers],0))*Lease_Factor/EXO8_Lease_Term,0)*($R$123-3)","v":{"$error":"#N/A"}}]
[null,"","","","","",{"$nulls":12},{"$f":"ROUND(INDEX(GasExpansionModulePrice[],MATCH($D53,GasExpansionModulePrice[Code],0),MATCH($M$1,GasExpansionModulePrice[#Headers],0))*Lease_Factor/EXO8_Lease_Term,0)","v":{"$error":"#N/A"}},{"$f":"ROUND(INDEX(GasExpansionModulePrice[],MATCH($D53,GasExpansionModulePrice[Code],0),MATCH(\"e\"&$M$1,GasExpansionModulePrice[#Headers],0))*Lease_Factor/EXO8_Lease_Term,0)*($R$123-3)","v":{"$error":"#N/A"}}]
[{"$nulls":11},"+"]
[null,"Future"]
[null,"Future","è","00",{"$nulls":3},{"$f":"D56","v":"00"}]
[{"$nulls":7},"-"]
[null,"Combustible Sensor",{"$nulls":16},"Base","3Y Warr","Ewarr","Addl Cart"]
[null,"LEL-IR","è","I","=",{"$f":"IFERROR(ROUNDUP(SUM(S59:U59),0),\"\")","v":{"v":4,"d":"$ 4"}},null,"F",null,{"$f":"CONCATENATE(P59,P60,P61,P62)","v":"FHMO"},null,{"$f":"VLOOKUP(H59,D59:F61,3,FALSE)","v":{"v":0,"d":"$ 0"}},null,null,{"$f":"H59","v":"F"},{"$f":"_xlfn._xlws.SORT(O59:O62)","v":"F"},{"$f":"IF(P59=\"X\",1,0)","v":0},null,{"$f":"INDEX(SensorPricing[],MATCH($D59,SensorPricing[Sensor],0),MATCH($M$1,SensorPricing[#Headers],0))*2*Lease_Factor/EXO8_Lease_Term","v":3},{"$f":"INDEX(SensorPricing[],MATCH($D59,SensorPricing[Sensor],0),MATCH($M$1,SensorPricing[#Headers],0))*0.2777777*Lease_Factor/EXO8_Lease_Term","v":0.41666655},{"$f":"INDEX(SensorPricing[],MATCH($D59,SensorPricing[Sensor],0),MATCH($M$1,SensorPricing[#Headers],0))*0.2777777*Lease_Factor/EXO8_Lease_Term*($R$123-3)","v":0.41666655},{"$f":"INDEX(BasePrices[],MATCH(Q63&\" Sensor Cartridge\",BasePrices[Type],0),MATCH($M$1,BasePrices[#Headers],0))","v":200}]
[null,"LEL-MPS","è","F","=",{"v":0,"d":"$ 0"},{"$nulls":8},{"$f":"H64","v":"H"},"H",{"$f":"IF(P60=\"X\",1,0)","v":0},null,{"$f":"INDEX(SensorPricing[],MATCH($D60,SensorPricing[Sensor],0),MATCH($M$1,SensorPricing[#Headers],0))*2*Lease_Factor/EXO8_Lease_Term","v":0},{"$f":"INDEX(SensorPricing[],MATCH($D60,SensorPricing[Sensor],0),MATCH($M$1,SensorPricing[#Headers],0))*0.2777777*Lease_Factor/EXO8_Lease_Term","v":0},{"$f":"INDEX(SensorPricing[],MATCH($D60,SensorPricing[Sensor],0),MATCH($M$1,SensorPricing[#Headers],0))*0.2777777*Lease_Factor/EXO8_Lease_Term*($R$123-3)","v":0},{"$f":"INDEX(SensorPricing[],MATCH(P59,SensorPricing[Sensor],0),MATCH($M$1,SensorPricing[#Headers],0))","v":0}]
[null,"None","è","X","=",{"v":0,"d":"$ 0"},{"$nulls":8},{"$f":"H85","v":"M"},"M",{"$f":"IF(P61=\"X\",1,0)","v":0},null,{"$f":"INDEX(SensorPricing[],MATCH($D61,SensorPricing[Sensor],0),MATCH($M$1,SensorPricing[#Headers],0))*2*Lease_Factor/EXO8_Lease_Term","v":0},{"$f":"INDEX(SensorPricing[],MATCH($D61,SensorPricing[Sensor],0),MATCH($M$1,SensorPricing[#Headers],0))*0.2777777*Lease_Factor/EXO8_Lease_Term","v":0},{"$f":"INDEX(SensorPricing[],MATCH($D61,SensorPricing[Sensor],0),MATCH($M$1,SensorPricing[#Headers],0))*0.2777777*Lease_Factor/EXO8_Lease_Term*($R$123-3)","v":0},{"$f":"INDEX(SensorPricing[],MATCH(P60,SensorPricing[Sensor],0),MATCH($M$1,SensorPricing[#Headers],0))","v":0}]
[{"$nulls":11},"+",null,null,{"$f":"H106","v":"O"},"O",{"$f":"IF(P62=\"X\",1,0)","v":0},{"$nulls":4},{"$f":"INDEX(SensorPricing[],MATCH(P61,SensorPricing[Sensor],0),MATCH($M$1,SensorPricing[#Headers],0))","v":0}]
[null,"Toxic Sensor #1",{"$nulls":14},{"$f":"4-SUM(Q59:Q62)","v":4},{"$nulls":4},{"$f":"INDEX(SensorPricing[],MATCH(P62,SensorPricing[Sensor],0),MATCH($M$1,SensorPricing[#Headers],0))","v":0}]
[null,{"$f":"_xlfn.VSTACK(O64:O82)","v":"NH3 "},{"$f":"IF(B64=0,\"\",\"è\")","v":"è"},{"$f":"_xlfn.VSTACK(P64:P82)","v":"A"},{"$f":"IF(B64=0,\"\",\"=\")","v":"="},{"$f":"IFERROR(ROUNDUP(SUM(S64:U64),0),\"\")","v":{"v":4,"d":"$ 4"}},null,"H",{"$nulls":3},{"$f":"VLOOKUP(H64,D64:F82,3,FALSE)","v":{"v":0,"d":"$ 0"}},null,null,{"$f":"_xlfn.CHOOSECOLS(_xlfn.LET(\n_xlpm.Dtype,EXOSensors[Type],_xlpm.Curr,EXOSensors[Currency],_xlpm.Mtype,EXOSensors[Gas Expansion],_xlpm.Stype,$O$37&1,_xlpm.SCurr,$M$1,_xlpm.MoType,$H$41,\n_xlpm.myCalculation,_xlfn.VSTACK(_xlfn._xlws.FILTER(EXOSensors[],(_xlpm.Dtype=_xlpm.Stype)*(_xlpm.Curr=_xlpm.SCurr)*(_xlpm.Mtype=_xlpm.MoType))),_xlpm.myCalculation),1,2)","v":"NH3 "},"A",null,null,{"$f":"INDEX(SensorPricing[],MATCH($P64,SensorPricing[Sensor],0),MATCH($M$1,SensorPricing[#Headers],0))*2*Lease_Factor/EXO8_Lease_Term","v":3},{"$f":"INDEX(SensorPricing[],MATCH($P64,SensorPricing[Sensor],0),MATCH($M$1,SensorPricing[#Headers],0))*0.2777777*Lease_Factor/EXO8_Lease_Term","v":0.41666655},{"$f":"INDEX(SensorPricing[],MATCH($P64,SensorPricing[Sensor],0),MATCH($M$1,SensorPricing[#Headers],0))*0.2777777*Lease_Factor/EXO8_Lease_Term*($R$123-3)","v":0.41666655},{"$f":"IF(H123=\"3Y\",3,IF(H123=\"4Y\",3.5,4))","v":3.5}]
[null,"High-range NH3 ","è","B","=",{"$f":"IFERROR(ROUNDUP(SUM(S65:U65),0),\"\")","v":{"v":9,"d":"$ 9"}},{"$nulls":8},"High-range NH3 ","B",null,null,{"$f":"INDEX(SensorPricing[],MATCH($P65,SensorPricing[Sensor],0),MATCH($M$1,SensorPricing[#Headers],0))*2*Lease_Factor/EXO8_Lease_Term","v":6.3},{"$f":"INDEX(SensorPricing[],MATCH($P65,SensorPricing[Sensor],0),MATCH($M$1,SensorPricing[#Headers],0))*0.2777777*Lease_Factor/EXO8_Lease_Term","v":0.874999755},{"$f":"INDEX(SensorPricing[],MATCH($P65,SensorPricing[Sensor],0),MATCH($M$1,SensorPricing[#Headers],0))*0.2777777*Lease_Factor/EXO8_Lease_Term*($R$123-3)","v":0.874999755},{"$f":"ROUND(SUM(V59:V63)*V64*Lease_Factor/EXO8_Lease_Term,0)","v":18}]
[null,"CO2 ","è","C","=",{"v":16,"d":"$ 16"},{"$nulls":8},"CO2 ","C",null,null,{"$f":"INDEX(SensorPricing[],MATCH($P66,SensorPricing[Sensor],0),MATCH($M$1,SensorPricing[#Headers],0))*2*Lease_Factor/EXO8_Lease_Term","v":12},{"$f":"INDEX(SensorPricing[],MATCH($P66,SensorPricing[Sensor],0),MATCH($M$1,SensorPricing[#Headers],0))*0.2777777*Lease_Factor/EXO8_Lease_Term","v":1.6666662},{"$f":"INDEX(SensorPricing[],MATCH($P66,SensorPricing[Sensor],0),MATCH($M$1,SensorPricing[#Headers],0))*0.2777777*Lease_Factor/EXO8_Lease_Term*($R$123-3)","v":1.6666662}]
[null,"H2S ","è","H","=",{"v":0,"d":"$ 0"},{"$nulls":8},"H2S ","H",null,null,{"$f":"INDEX(SensorPricing[],MATCH($P67,SensorPricing[Sensor],0),MATCH($M$1,SensorPricing[#Headers],0))*2*Lease_Factor/EXO8_Lease_Term","v":0},{"$f":"INDEX(SensorPricing[],MATCH($P67,SensorPricing[Sensor],0),MATCH($M$1,SensorPricing[#Headers],0))*0.2777777*Lease_Factor/EXO8_Lease_Term","v":0},{"$f":"INDEX(SensorPricing[],MATCH($P67,SensorPricing[Sensor],0),MATCH($M$1,SensorPricing[#Headers],0))*0.2777777*Lease_Factor/EXO8_Lease_Term*($R$123-3)","v":0}]
[null,"High-range H2S ","è","J","=",{"v":8,"d":"$ 8"},{"$nulls":8},"High-range H2S ","J",null,null,{"$f":"INDEX(SensorPricing[],MATCH($P68,SensorPricing[Sensor],0),MATCH($M$1,SensorPricing[#Headers],0))*2*Lease_Factor/EXO8_Lease_Term","v":6},{"$f":"INDEX(SensorPricing[],MATCH($P68,SensorPricing[Sensor],0),MATCH($M$1,SensorPricing[#Headers],0))*0.2777777*Lease_Factor/EXO8_Lease_Term","v":0.8333331},{"$f":"INDEX(SensorPricing[],MATCH($P68,SensorPricing[Sensor],0),MATCH($M$1,SensorPricing[#Headers],0))*0.2777777*Lease_Factor/EXO8_Lease_Term*($R$123-3)","v":0.8333331}]
[null,"NO2 ","è","K","=",{"v":4,"d":"$ 4"},{"$nulls":8},"NO2 ","K",null,null,{"$f":"INDEX(SensorPricing[],MATCH($P69,SensorPricing[Sensor],0),MATCH($M$1,SensorPricing[#Headers],0))*2*Lease_Factor/EXO8_Lease_Term","v":3},{"$f":"INDEX(SensorPricing[],MATCH($P69,SensorPricing[Sensor],0),MATCH($M$1,SensorPricing[#Headers],0))*0.2777777*Lease_Factor/EXO8_Lease_Term","v":0.41666655},{"$f":"INDEX(SensorPricing[],MATCH($P69,SensorPricing[Sensor],0),MATCH($M$1,SensorPricing[#Headers],0))*0.2777777*Lease_Factor/EXO8_Lease_Term*($R$123-3)","v":0.41666655}]
[null,"Cl2 ","è","L","=",{"v":4,"d":"$ 4"},{"$nulls":8},"Cl2 ","L",null,null,{"$f":"INDEX(SensorPricing[],MATCH($P70,SensorPricing[Sensor],0),MATCH($M$1,SensorPricing[#Headers],0))*2*Lease_Factor/EXO8_Lease_Term","v":3},{"$f":"INDEX(SensorPricing[],MATCH($P70,SensorPricing[Sensor],0),MATCH($M$1,SensorPricing[#Headers],0))*0.2777777*Lease_Factor/EXO8_Lease_Term","v":0.41666655},{"$f":"INDEX(SensorPricing[],MATCH($P70,SensorPricing[Sensor],0),MATCH($M$1,SensorPricing[#Headers],0))*0.2777777*Lease_Factor/EXO8_Lease_Term*($R$123-3)","v":0.41666655}]
[null,"CO ","è","M","=",{"v":0,"d":"$ 0"},{"$nulls":8},"CO ","M",null,null,{"$f":"INDEX(SensorPricing[],MATCH($P71,SensorPricing[Sensor],0),MATCH($M$1,SensorPricing[#Headers],0))*2*Lease_Factor/EXO8_Lease_Term","v":0},{"$f":"INDEX(SensorPricing[],MATCH($P71,SensorPricing[Sensor],0),MATCH($M$1,SensorPricing[#Headers],0))*0.2777777*Lease_Factor/EXO8_Lease_Term","v":0},{"$f":"INDEX(SensorPricing[],MATCH($P71,SensorPricing[Sensor],0),MATCH($M$1,SensorPricing[#Headers],0))*0.2777777*Lease_Factor/EXO8_Lease_Term*($R$123-3)","v":0}]
[null,"HCN ","è","N","=",{"v":4,"d":"$ 4"},{"$nulls":8},"HCN ","N",null,null,{"$f":"INDEX(SensorPricing[],MATCH($P72,SensorPricing[Sensor],0),MATCH($M$1,SensorPricing[#Headers],0))*2*Lease_Factor/EXO8_Lease_Term","v":3},{"$f":"INDEX(SensorPricing[],MATCH($P72,SensorPricing[Sensor],0),MATCH($M$1,SensorPricing[#Headers],0))*0.2777777*Lease_Factor/EXO8_Lease_Term","v":0.41666655},{"$f":"INDEX(SensorPricing[],MATCH($P72,SensorPricing[Sensor],0),MATCH($M$1,SensorPricing[#Headers],0))*0.2777777*Lease_Factor/EXO8_Lease_Term*($R$123-3)","v":0.41666655}]
[null,"CO-H ","è","R","=",{"v":0,"d":"$ 0"},{"$nulls":8},"CO-H ","R",null,null,{"$f":"INDEX(SensorPricing[],MATCH($P73,SensorPricing[Sensor],0),MATCH($M$1,SensorPricing[#Headers],0))*2*Lease_Factor/EXO8_Lease_Term","v":0},{"$f":"INDEX(SensorPricing[],MATCH($P73,SensorPricing[Sensor],0),MATCH($M$1,SensorPricing[#Headers],0))*0.2777777*Lease_Factor/EXO8_Lease_Term","v":0},{"$f":"INDEX(SensorPricing[],MATCH($P73,SensorPricing[Sensor],0),MATCH($M$1,SensorPricing[#Headers],0))*0.2777777*Lease_Factor/EXO8_Lease_Term*($R$123-3)","v":0}]
[null,"SO2 ","è","S","=",{"v":0,"d":"$ 0"},{"$nulls":8},"SO2 ","S",null,null,{"$f":"INDEX(SensorPricing[],MATCH($P74,SensorPricing[Sensor],0),MATCH($M$1,SensorPricing[#Headers],0))*2*Lease_Factor/EXO8_Lease_Term","v":0},{"$f":"INDEX(SensorPricing[],MATCH($P74,SensorPricing[Sensor],0),MATCH($M$1,SensorPricing[#Headers],0))*0.2777777*Lease_Factor/EXO8_Lease_Term","v":0},{"$f":"INDEX(SensorPricing[],MATCH($P74,SensorPricing[Sensor],0),MATCH($M$1,SensorPricing[#Headers],0))*0.2777777*Lease_Factor/EXO8_Lease_Term*($R$123-3)","v":0}]
[null,"High-range CO ","è","T","=",{"v":8,"d":"$ 8"},{"$nulls":8},"High-range CO ","T",null,null,{"$f":"INDEX(SensorPricing[],MATCH($P75,SensorPricing[Sensor],0),MATCH($M$1,SensorPricing[#Headers],0))*2*Lease_Factor/EXO8_Lease_Term","v":6},{"$f":"INDEX(SensorPricing[],MATCH($P75,SensorPricing[Sensor],0),MATCH($M$1,SensorPricing[#Headers],0))*0.2777777*Lease_Factor/EXO8_Lease_Term","v":0.8333331},{"$f":"INDEX(SensorPricing[],MATCH($P75,SensorPricing[Sensor],0),MATCH($M$1,SensorPricing[#Headers],0))*0.2777777*Lease_Factor/EXO8_Lease_Term*($R$123-3)","v":0.8333331}]
[null,"PID ","è","V","=",{"v":31,"d":"$ 31"},{"$nulls":8},"PID ","V",null,null,{"$f":"INDEX(SensorPricing[],MATCH($P76,SensorPricing[Sensor],0),MATCH($M$1,SensorPricing[#Headers],0))*2*Lease_Factor/EXO8_Lease_Term","v":24.150000000000002},{"$f":"INDEX(SensorPricing[],MATCH($P76,SensorPricing[Sensor],0),MATCH($M$1,SensorPricing[#Headers],0))*0.2777777*Lease_Factor/EXO8_Lease_Term","v":3.3541657275},{"$f":"INDEX(SensorPricing[],MATCH($P76,SensorPricing[Sensor],0),MATCH($M$1,SensorPricing[#Headers],0))*0.2777777*Lease_Factor/EXO8_Lease_Term*($R$123-3)","v":3.3541657275}]
[null,"ClO2","è","W","=",{"v":4,"d":"$ 4"},{"$nulls":8},"ClO2","W",null,null,{"$f":"INDEX(SensorPricing[],MATCH($P77,SensorPricing[Sensor],0),MATCH($M$1,SensorPricing[#Headers],0))*2*Lease_Factor/EXO8_Lease_Term","v":3},{"$f":"INDEX(SensorPricing[],MATCH($P77,SensorPricing[Sensor],0),MATCH($M$1,SensorPricing[#Headers],0))*0.2777777*Lease_Factor/EXO8_Lease_Term","v":0.41666655},{"$f":"INDEX(SensorPricing[],MATCH($P77,SensorPricing[Sensor],0),MATCH($M$1,SensorPricing[#Headers],0))*0.2777777*Lease_Factor/EXO8_Lease_Term*($R$123-3)","v":0.41666655}]
[null,"No Sensor ","è","X","=",{"v":0,"d":"$ 0"},{"$nulls":8},"No Sensor ","X",null,null,{"$f":"INDEX(SensorPricing[],MATCH($P78,SensorPricing[Sensor],0),MATCH($M$1,SensorPricing[#Headers],0))*2*Lease_Factor/EXO8_Lease_Term","v":0},{"$f":"INDEX(SensorPricing[],MATCH($P78,SensorPricing[Sensor],0),MATCH($M$1,SensorPricing[#Headers],0))*0.2777777*Lease_Factor/EXO8_Lease_Term","v":0},{"$f":"INDEX(SensorPricing[],MATCH($P78,SensorPricing[Sensor],0),MATCH($M$1,SensorPricing[#Headers],0))*0.2777777*Lease_Factor/EXO8_Lease_Term*($R$123-3)","v":0}]
[null,0,"",0,"","",{"$nulls":12},{"$f":"INDEX(SensorPricing[],MATCH($P79,SensorPricing[Sensor],0),MATCH($M$1,SensorPricing[#Headers],0))*2*Lease_Factor/EXO8_Lease_Term","v":{"$error":"#N/A"}},{"$f":"INDEX(SensorPricing[],MATCH($P79,SensorPricing[Sensor],0),MATCH($M$1,SensorPricing[#Headers],0))*0.2777777*Lease_Factor/EXO8_Lease_Term","v":{"$error":"#N/A"}},{"$f":"INDEX(SensorPricing[],MATCH($P79,SensorPricing[Sensor],0),MATCH($M$1,SensorPricing[#Headers],0))*0.2777777*Lease_Factor/EXO8_Lease_Term*($R$123-3)","v":{"$error":"#N/A"}}]
[null,0,"",0,"","",{"$nulls":12},{"$f":"INDEX(SensorPricing[],MATCH($P80,SensorPricing[Sensor],0),MATCH($M$1,SensorPricing[#Headers],0))*2*Lease_Factor/EXO8_Lease_Term","v":{"$error":"#N/A"}},{"$f":"INDEX(SensorPricing[],MATCH($P80,SensorPricing[Sensor],0),MATCH($M$1,SensorPricing[#Headers],0))*0.2777777*Lease_Factor/EXO8_Lease_Term","v":{"$error":"#N/A"}},{"$f":"INDEX(SensorPricing[],MATCH($P80,SensorPricing[Sensor],0),MATCH($M$1,SensorPricing[#Headers],0))*0.2777777*Lease_Factor/EXO8_Lease_Term*($R$123-3)","v":{"$error":"#N/A"}}]
[null,0,{"$f":"IF(B81=0,\"\",\"è\")","v":""},0,{"$f":"IF(B81=0,\"\",\"=\")","v":""},"",{"$nulls":12},{"$f":"INDEX(SensorPricing[],MATCH($P81,SensorPricing[Sensor],0),MATCH($M$1,SensorPricing[#Headers],0))*2*Lease_Factor/EXO8_Lease_Term","v":{"$error":"#N/A"}},{"$f":"INDEX(SensorPricing[],MATCH($P81,SensorPricing[Sensor],0),MATCH($M$1,SensorPricing[#Headers],0))*0.2777777*Lease_Factor/EXO8_Lease_Term","v":{"$error":"#N/A"}},{"$f":"INDEX(SensorPricing[],MATCH($P81,SensorPricing[Sensor],0),MATCH($M$1,SensorPricing[#Headers],0))*0.2777777*Lease_Factor/EXO8_Lease_Term*($R$123-3)","v":{"$error":"#N/A"}}]
[null,0,{"$f":"IF(B82=0,\"\",\"è\")","v":""},0,{"$f":"IF(B82=0,\"\",\"=\")","v":""},"",{"$nulls":12},{"$f":"INDEX(SensorPricing[],MATCH($P82,SensorPricing[Sensor],0),MATCH($M$1,SensorPricing[#Headers],0))*2*Lease_Factor/EXO8_Lease_Term","v":{"$error":"#N/A"}},{"$f":"INDEX(SensorPricing[],MATCH($P82,SensorPricing[Sensor],0),MATCH($M$1,SensorPricing[#Headers],0))*0.2777777*Lease_Factor/EXO8_Lease_Term","v":{"$error":"#N/A"}},{"$f":"INDEX(SensorPricing[],MATCH($P82,SensorPricing[Sensor],0),MATCH($M$1,SensorPricing[#Headers],0))*0.2777777*Lease_Factor/EXO8_Lease_Term*($R$123-3)","v":{"$error":"#N/A"}}]
[{"$nulls":11},"+"]
[null,"Toxic Sensor #2"]
[null,{"$f":"_xlfn.VSTACK(O85:O103)","v":"NH3 "},{"$f":"IF(B85=0,\"\",\"è\")","v":"è"},{"$f":"_xlfn.VSTACK(P85:P103)","v":"A"},{"$f":"IF(B85=0,\"\",\"=\")","v":"="},{"$f":"IFERROR(ROUNDUP(SUM(S85:U85),0),\"\")","v":{"v":4,"d":"$ 4"}},null,"M",{"$nulls":3},{"$f":"VLOOKUP(H85,D85:F103,3,FALSE)","v":{"v":0,"d":"$ 0"}},null,null,{"$f":"_xlfn.CHOOSECOLS(_xlfn.LET(\n_xlpm.Dtype,EXOSensors[Type],_xlpm.Curr,EXOSensors[Currency],_xlpm.Mtype,EXOSensors[Gas Expansion],_xlpm.Stype,$O$37&2,_xlpm.SCurr,$M$1,_xlpm.MoType,$H$41,\n_xlpm.myCalculation,_xlfn.VSTACK(_xlfn._xlws.FILTER(EXOSensors[],(_xlpm.Dtype=_xlpm.Stype)*(_xlpm.Curr=_xlpm.SCurr)*(_xlpm.Mtype=_xlpm.MoType))),_xlpm.myCalculation),1,2)","v":"NH3 "},"A",null,null,{"$f":"INDEX(SensorPricing[],MATCH($P85,SensorPricing[Sensor],0),MATCH($M$1,SensorPricing[#Headers],0))*2*Lease_Factor/EXO8_Lease_Term","v":3},{"$f":"INDEX(SensorPricing[],MATCH($P85,SensorPricing[Sensor],0),MATCH($M$1,SensorPricing[#Headers],0))*0.2777777*Lease_Factor/EXO8_Lease_Term","v":0.41666655},{"$f":"INDEX(SensorPricing[],MATCH($P85,SensorPricing[Sensor],0),MATCH($M$1,SensorPricing[#Headers],0))*0.2777777*Lease_Factor/EXO8_Lease_Term*($R$123-3)","v":0.41666655}]
[null,"High-range NH3 ","è","B","=",{"$f":"IFERROR(ROUNDUP(SUM(S86:U86),0),\"\")","v":{"v":9,"d":"$ 9"}},{"$nulls":8},"High-range NH3 ","B",null,null,{"$f":"INDEX(SensorPricing[],MATCH($P86,SensorPricing[Sensor],0),MATCH($M$1,SensorPricing[#Headers],0))*2*Lease_Factor/EXO8_Lease_Term","v":6.3},{"$f":"INDEX(SensorPricing[],MATCH($P86,SensorPricing[Sensor],0),MATCH($M$1,SensorPricing[#Headers],0))*0.2777777*Lease_Factor/EXO8_Lease_Term","v":0.874999755},{"$f":"INDEX(SensorPricing[],MATCH($P86,SensorPricing[Sensor],0),MATCH($M$1,SensorPricing[#Headers],0))*0.2777777*Lease_Factor/EXO8_Lease_Term*($R$123-3)","v":0.874999755}]
[null,"COSH","è","D","=",{"v":4,"d":"$ 4"},{"$nulls":8},"COSH","D",null,null,{"$f":"INDEX(SensorPricing[],MATCH($P87,SensorPricing[Sensor],0),MATCH($M$1,SensorPricing[#Headers],0))*2*Lease_Factor/EXO8_Lease_Term","v":3},{"$f":"INDEX(SensorPricing[],MATCH($P87,SensorPricing[Sensor],0),MATCH($M$1,SensorPricing[#Headers],0))*0.2777777*Lease_Factor/EXO8_Lease_Term","v":0.41666655},{"$f":"INDEX(SensorPricing[],MATCH($P87,SensorPricing[Sensor],0),MATCH($M$1,SensorPricing[#Headers],0))*0.2777777*Lease_Factor/EXO8_Lease_Term*($R$123-3)","v":0.41666655}]
[null,"H2S ","è","H","=",{"v":0,"d":"$ 0"},{"$nulls":8},"H2S ","H",null,null,{"$f":"INDEX(SensorPricing[],MATCH($P88,SensorPricing[Sensor],0),MATCH($M$1,SensorPricing[#Headers],0))*2*Lease_Factor/EXO8_Lease_Term","v":0},{"$f":"INDEX(SensorPricing[],MATCH($P88,SensorPricing[Sensor],0),MATCH($M$1,SensorPricing[#Headers],0))*0.2777777*Lease_Factor/EXO8_Lease_Term","v":0},{"$f":"INDEX(SensorPricing[],MATCH($P88,SensorPricing[Sensor],0),MATCH($M$1,SensorPricing[#Headers],0))*0.2777777*Lease_Factor/EXO8_Lease_Term*($R$123-3)","v":0}]
[null,"High-range H2S ","è","J","=",{"v":8,"d":"$ 8"},{"$nulls":8},"High-range H2S ","J",null,null,{"$f":"INDEX(SensorPricing[],MATCH($P89,SensorPricing[Sensor],0),MATCH($M$1,SensorPricing[#Headers],0))*2*Lease_Factor/EXO8_Lease_Term","v":6},{"$f":"INDEX(SensorPricing[],MATCH($P89,SensorPricing[Sensor],0),MATCH($M$1,SensorPricing[#Headers],0))*0.2777777*Lease_Factor/EXO8_Lease_Term","v":0.8333331},{"$f":"INDEX(SensorPricing[],MATCH($P89,SensorPricing[Sensor],0),MATCH($M$1,SensorPricing[#Headers],0))*0.2777777*Lease_Factor/EXO8_Lease_Term*($R$123-3)","v":0.8333331}]
[null,"NO2 ","è","K","=",{"v":4,"d":"$ 4"},{"$nulls":8},"NO2 ","K",null,null,{"$f":"INDEX(SensorPricing[],MATCH($P90,SensorPricing[Sensor],0),MATCH($M$1,SensorPricing[#Headers],0))*2*Lease_Factor/EXO8_Lease_Term","v":3},{"$f":"INDEX(SensorPricing[],MATCH($P90,SensorPricing[Sensor],0),MATCH($M$1,SensorPricing[#Headers],0))*0.2777777*Lease_Factor/EXO8_Lease_Term","v":0.41666655},{"$f":"INDEX(SensorPricing[],MATCH($P90,SensorPricing[Sensor],0),MATCH($M$1,SensorPricing[#Headers],0))*0.2777777*Lease_Factor/EXO8_Lease_Term*($R$123-3)","v":0.41666655}]
[null,"Cl2 ","è","L","=",{"v":4,"d":"$ 4"},{"$nulls":8},"Cl2 ","L",null,null,{"$f":"INDEX(SensorPricing[],MATCH($P91,SensorPricing[Sensor],0),MATCH($M$1,SensorPricing[#Headers],0))*2*Lease_Factor/EXO8_Lease_Term","v":3},{"$f":"INDEX(SensorPricing[],MATCH($P91,SensorPricing[Sensor],0),MATCH($M$1,SensorPricing[#Headers],0))*0.2777777*Lease_Factor/EXO8_Lease_Term","v":0.41666655},{"$f":"INDEX(SensorPricing[],MATCH($P91,SensorPricing[Sensor],0),MATCH($M$1,SensorPricing[#Headers],0))*0.2777777*Lease_Factor/EXO8_Lease_Term*($R$123-3)","v":0.41666655}]
[null,"CO ","è","M","=",{"v":0,"d":"$ 0"},{"$nulls":8},"CO ","M",null,null,{"$f":"INDEX(SensorPricing[],MATCH($P92,SensorPricing[Sensor],0),MATCH($M$1,SensorPricing[#Headers],0))*2*Lease_Factor/EXO8_Lease_Term","v":0},{"$f":"INDEX(SensorPricing[],MATCH($P92,SensorPricing[Sensor],0),MATCH($M$1,SensorPricing[#Headers],0))*0.2777777*Lease_Factor/EXO8_Lease_Term","v":0},{"$f":"INDEX(SensorPricing[],MATCH($P92,SensorPricing[Sensor],0),MATCH($M$1,SensorPricing[#Headers],0))*0.2777777*Lease_Factor/EXO8_Lease_Term*($R$123-3)","v":0}]
[null,"HCN ","è","N","=",{"v":4,"d":"$ 4"},{"$nulls":8},"HCN ","N",null,null,{"$f":"INDEX(SensorPricing[],MATCH($P93,SensorPricing[Sensor],0),MATCH($M$1,SensorPricing[#Headers],0))*2*Lease_Factor/EXO8_Lease_Term","v":3},{"$f":"INDEX(SensorPricing[],MATCH($P93,SensorPricing[Sensor],0),MATCH($M$1,SensorPricing[#Headers],0))*0.2777777*Lease_Factor/EXO8_Lease_Term","v":0.41666655},{"$f":"INDEX(SensorPricing[],MATCH($P93,SensorPricing[Sensor],0),MATCH($M$1,SensorPricing[#Headers],0))*0.2777777*Lease_Factor/EXO8_Lease_Term*($R$123-3)","v":0.41666655}]
[null,"CO-H ","è","R","=",{"v":0,"d":"$ 0"},{"$nulls":8},"CO-H ","R",null,null,{"$f":"INDEX(SensorPricing[],MATCH($P94,SensorPricing[Sensor],0),MATCH($M$1,SensorPricing[#Headers],0))*2*Lease_Factor/EXO8_Lease_Term","v":0},{"$f":"INDEX(SensorPricing[],MATCH($P94,SensorPricing[Sensor],0),MATCH($M$1,SensorPricing[#Headers],0))*0.2777777*Lease_Factor/EXO8_Lease_Term","v":0},{"$f":"INDEX(SensorPricing[],MATCH($P94,SensorPricing[Sensor],0),MATCH($M$1,SensorPricing[#Headers],0))*0.2777777*Lease_Factor/EXO8_Lease_Term*($R$123-3)","v":0}]
[null,"SO2 ","è","S","=",{"v":0,"d":"$ 0"},{"$nulls":8},"SO2 ","S",null,null,{"$f":"INDEX(SensorPricing[],MATCH($P95,SensorPricing[Sensor],0),MATCH($M$1,SensorPricing[#Headers],0))*2*Lease_Factor/EXO8_Lease_Term","v":0},{"$f":"INDEX(SensorPricing[],MATCH($P95,SensorPricing[Sensor],0),MATCH($M$1,SensorPricing[#Headers],0))*0.2777777*Lease_Factor/EXO8_Lease_Term","v":0},{"$f":"INDEX(SensorPricing[],MATCH($P95,SensorPricing[Sensor],0),MATCH($M$1,SensorPricing[#Headers],0))*0.2777777*Lease_Factor/EXO8_Lease_Term*($R$123-3)","v":0}]
[null,"High-range CO ","è","T","=",{"v":8,"d":"$ 8"},{"$nulls":8},"High-range CO ","T",null,null,{"$f":"INDEX(SensorPricing[],MATCH($P96,SensorPricing[Sensor],0),MATCH($M$1,SensorPricing[#Headers],0))*2*Lease_Factor/EXO8_Lease_Term","v":6},{"$f":"INDEX(SensorPricing[],MATCH($P96,SensorPricing[Sensor],0),MATCH($M$1,SensorPricing[#Headers],0))*0.2777777*Lease_Factor/EXO8_Lease_Term","v":0.8333331},{"$f":"INDEX(SensorPricing[],MATCH($P96,SensorPricing[Sensor],0),MATCH($M$1,SensorPricing[#Headers],0))*0.2777777*Lease_Factor/EXO8_Lease_Term*($R$123-3)","v":0.8333331}]
[null,"ClO2","è","W","=",{"v":4,"d":"$ 4"},{"$nulls":8},"ClO2","W",null,null,{"$f":"INDEX(SensorPricing[],MATCH($P97,SensorPricing[Sensor],0),MATCH($M$1,SensorPricing[#Headers],0))*2*Lease_Factor/EXO8_Lease_Term","v":3},{"$f":"INDEX(SensorPricing[],MATCH($P97,SensorPricing[Sensor],0),MATCH($M$1,SensorPricing[#Headers],0))*0.2777777*Lease_Factor/EXO8_Lease_Term","v":0.41666655},{"$f":"INDEX(SensorPricing[],MATCH($P97,SensorPricing[Sensor],0),MATCH($M$1,SensorPricing[#Headers],0))*0.2777777*Lease_Factor/EXO8_Lease_Term*($R$123-3)","v":0.41666655}]
[null,"No Sensor ","è","X","=",{"v":0,"d":"$ 0"},{"$nulls":8},"No Sensor ","X",null,null,{"$f":"INDEX(SensorPricing[],MATCH($P98,SensorPricing[Sensor],0),MATCH($M$1,SensorPricing[#Headers],0))*2*Lease_Factor/EXO8_Lease_Term","v":0},{"$f":"INDEX(SensorPricing[],MATCH($P98,SensorPricing[Sensor],0),MATCH($M$1,SensorPricing[#Headers],0))*0.2777777*Lease_Factor/EXO8_Lease_Term","v":0},{"$f":"INDEX(SensorPricing[],MATCH($P98,SensorPricing[Sensor],0),MATCH($M$1,SensorPricing[#Headers],0))*0.2777777*Lease_Factor/EXO8_Lease_Term*($R$123-3)","v":0}]
[null,0,"",0,"","",{"$nulls":12},{"$f":"INDEX(SensorPricing[],MATCH($P99,SensorPricing[Sensor],0),MATCH($M$1,SensorPricing[#Headers],0))*2*Lease_Factor/EXO8_Lease_Term","v":{"$error":"#N/A"}},{"$f":"INDEX(SensorPricing[],MATCH($P99,SensorPricing[Sensor],0),MATCH($M$1,SensorPricing[#Headers],0))*0.2777777*Lease_Factor/EXO8_Lease_Term","v":{"$error":"#N/A"}},{"$f":"INDEX(SensorPricing[],MATCH($P99,SensorPricing[Sensor],0),MATCH($M$1,SensorPricing[#Headers],0))*0.2777777*Lease_Factor/EXO8_Lease_Term*($R$123-3)","v":{"$error":"#N/A"}}]
[null,0,"",0,"","",{"$nulls":12},{"$f":"INDEX(SensorPricing[],MATCH($P100,SensorPricing[Sensor],0),MATCH($M$1,SensorPricing[#Headers],0))*2*Lease_Factor/EXO8_Lease_Term","v":{"$error":"#N/A"}},{"$f":"INDEX(SensorPricing[],MATCH($P100,SensorPricing[Sensor],0),MATCH($M$1,SensorPricing[#Headers],0))*0.2777777*Lease_Factor/EXO8_Lease_Term","v":{"$error":"#N/A"}},{"$f":"INDEX(SensorPricing[],MATCH($P100,SensorPricing[Sensor],0),MATCH($M$1,SensorPricing[#Headers],0))*0.2777777*Lease_Factor/EXO8_Lease_Term*($R$123-3)","v":{"$error":"#N/A"}}]
[null,0,"",0,"","",{"$nulls":12},{"$f":"INDEX(SensorPricing[],MATCH($P101,SensorPricing[Sensor],0),MATCH($M$1,SensorPricing[#Headers],0))*2*Lease_Factor/EXO8_Lease_Term","v":{"$error":"#N/A"}},{"$f":"INDEX(SensorPricing[],MATCH($P101,SensorPricing[Sensor],0),MATCH($M$1,SensorPricing[#Headers],0))*0.2777777*Lease_Factor/EXO8_Lease_Term","v":{"$error":"#N/A"}},{"$f":"INDEX(SensorPricing[],MATCH($P101,SensorPricing[Sensor],0),MATCH($M$1,SensorPricing[#Headers],0))*0.2777777*Lease_Factor/EXO8_Lease_Term*($R$123-3)","v":{"$error":"#N/A"}}]
[null,0,"",0,"","",{"$nulls":12},{"$f":"INDEX(SensorPricing[],MATCH($P102,SensorPricing[Sensor],0),MATCH($M$1,SensorPricing[#Headers],0))*2*Lease_Factor/EXO8_Lease_Term","v":{"$error":"#N/A"}},{"$f":"INDEX(SensorPricing[],MATCH($P102,SensorPricing[Sensor],0),MATCH($M$1,SensorPricing[#Headers],0))*0.2777777*Lease_Factor/EXO8_Lease_Term","v":{"$error":"#N/A"}},{"$f":"INDEX(SensorPricing[],MATCH($P102,SensorPricing[Sensor],0),MATCH($M$1,SensorPricing[#Headers],0))*0.2777777*Lease_Factor/EXO8_Lease_Term*($R$123-3)","v":{"$error":"#N/A"}}]
[null,0,"",0,"","",{"$nulls":12},{"$f":"INDEX(SensorPricing[],MATCH($P103,SensorPricing[Sensor],0),MATCH($M$1,SensorPricing[#Headers],0))*2*Lease_Factor/EXO8_Lease_Term","v":{"$error":"#N/A"}},{"$f":"INDEX(SensorPricing[],MATCH($P103,SensorPricing[Sensor],0),MATCH($M$1,SensorPricing[#Headers],0))*0.2777777*Lease_Factor/EXO8_Lease_Term","v":{"$error":"#N/A"}},{"$f":"INDEX(SensorPricing[],MATCH($P103,SensorPricing[Sensor],0),MATCH($M$1,SensorPricing[#Headers],0))*0.2777777*Lease_Factor/EXO8_Lease_Term*($R$123-3)","v":{"$error":"#N/A"}}]
[{"$nulls":11},"+"]
[null,"Oxygen Sensor"]
[null,{"$f":"_xlfn.VSTACK(O106:O107)","v":"O2"},{"$f":"IF(B106=0,\"\",\"è\")","v":"è"},{"$f":"_xlfn.VSTACK(P106:P107)","v":"O"},{"$f":"IF(B106=0,\"\",\"=\")","v":"="},{"$f":"IFERROR(ROUNDUP(SUM(S106:T106),0),\"\")","v":{"v":0,"d":"$ 0"}},null,"O",{"$nulls":3},{"$f":"VLOOKUP(H106,D106:F107,3,FALSE)","v":{"v":0,"d":"$ 0"}},null,null,{"$f":"_xlfn._xlws.FILTER(_xlfn._xlws.FILTER(Oxygen[],Oxygen[Type]=H59),{1,1,0})","v":"O2"},"O",null,null,{"$f":"INDEX(SensorPricing[],MATCH($D106,SensorPricing[Sensor],0),MATCH($M$1,SensorPricing[#Headers],0))*2*Lease_Factor/EXO8_Lease_Term","v":0},{"$f":"INDEX(SensorPricing[],MATCH($D106,SensorPricing[Sensor],0),MATCH($M$1,SensorPricing[#Headers],0))*0.2777777*Lease_Factor/EXO8_Lease_Term","v":0},{"$f":"INDEX(SensorPricing[],MATCH($D106,SensorPricing[Sensor],0),MATCH($M$1,SensorPricing[#Headers],0))*0.2777777*Lease_Factor/EXO8_Lease_Term*($R$123-3)","v":0}]
[null,0,"",0,"",{"$f":"IFERROR(ROUNDUP(SUM(S107:T107),0),\"\")","v":""},{"$nulls":12},{"$f":"INDEX(SensorPricing[],MATCH($D107,SensorPricing[Sensor],0),MATCH($M$1,SensorPricing[#Headers],0))*2*Lease_Factor/EXO8_Lease_Term","v":{"$error":"#N/A"}},{"$f":"INDEX(SensorPricing[],MATCH($D107,SensorPricing[Sensor],0),MATCH($M$1,SensorPricing[#Headers],0))*0.2777777*Lease_Factor/EXO8_Lease_Term","v":{"$error":"#N/A"}},{"$f":"INDEX(SensorPricing[],MATCH($D107,SensorPricing[Sensor],0),MATCH($M$1,SensorPricing[#Headers],0))*0.2777777*Lease_Factor/EXO8_Lease_Term*($R$123-3)","v":{"$error":"#N/A"}}]
[{"$nulls":7},"-",{"$nulls":3},"+"]
[null,"Service Plan"]
[null,"System Access","è","X","=",{"$f":"S110","v":{"v":18,"d":"$ 18"}},null,"X",{"$nulls":3},{"$f":"VLOOKUP(H110,D110:F112,3,FALSE)","v":{"v":18,"d":"$ 18"}},{"$nulls":6},{"$f":"ROUND(INDEX(ServicePrices[],MATCH(B110,ServicePrices[Type],0),MATCH($M$1,ServicePrices[#Headers],0))*Lease_Factor,0)","v":18}]
[null,"Self-Monitored","è","S","=",{"$f":"S111","v":{"v":41,"d":"$ 41"}},{"$nulls":12},{"$f":"ROUND((INDEX(ServicePrices[],MATCH(B110,ServicePrices[Type],0),MATCH($M$1,ServicePrices[#Headers],0))+\nINDEX(ServicePrices[],MATCH(B111,ServicePrices[Type],0),MATCH($M$1,ServicePrices[#Headers],0)))*Lease_Factor,0)","v":41}]
[null,"Blackline Monitored","è","B","=",{"v":65,"d":"$ 65"},{"$nulls":12},{"$f":"ROUND((INDEX(ServicePrices[],MATCH(B110,ServicePrices[Type],0),MATCH($M$1,ServicePrices[#Headers],0))+\nINDEX(ServicePrices[],MATCH(B112,ServicePrices[Type],0),MATCH($M$1,ServicePrices[#Headers],0)))*Lease_Factor,0)","v":65}]
[{"$nulls":11},"+"]
[null,"Voice"]
[null,"No Voice","è","X","=",{"$f":"S115","v":{"v":0,"d":"$ 0"}},null,"X",{"$nulls":3},{"$f":"VLOOKUP(H115,D115:F116,3,FALSE)","v":{"v":0,"d":"$ 0"}},null,null,{"$f":"_xlfn._xlws.FILTER(_xlfn._xlws.FILTER(Voice[],Voice[Type]=H110),{1,1,0,0})","v":"No Voice"},"X",null,null,0]
[null,{"$f":"IF(P116=\"\",\"\",O116)","v":""},{"$f":"IF(O116=\"\",\"\",\"è\")","v":""},{"$f":"IF(P116=\"\",\"\",P116)","v":""},{"$f":"IF(O116=\"\",\"\",\"=\")","v":""},{"$f":"IF(P116=\"\",\"\",S116)","v":""},{"$nulls":12},{"$f":"ROUND(INDEX(ServicePrices[],MATCH(\"Voice\",ServicePrices[Type],0),MATCH($M$1,ServicePrices[#Headers],0))*Lease_Factor,0)","v":25}]
[{"$nulls":11},"+"]
[null,"Push-to-Talk (PTT)"]
[null,"No PTT","è","X","=",{"$f":"S119","v":{"v":0,"d":"$ 0"}},null,"X",{"$nulls":3},{"$f":"VLOOKUP(H119,D119:F120,3,FALSE)","v":{"v":0,"d":"$ 0"}},{"$nulls":6},0]
[null,"PTT Included","è","P","=",{"v":18,"d":"$ 18"},{"$nulls":12},{"$f":"ROUND(INDEX(ServicePrices[],MATCH(\"Push-to-talk\",ServicePrices[Type],0),MATCH($M$1,ServicePrices[#Headers],0))*Lease_Factor,0)","v":18}]
[{"$nulls":7},"-"]
[null,"Lease & Service Term"]
[null,"Three-Years","è","3Y",{"$nulls":3},"4Y",{"$nulls":9},{"$f":"LEFT(H123)","v":"4"},{"$f":"LEFT(H123)*12","v":48}]
[null,"Four-Years","è","4Y"]
[null,"Five-Years","è","5Y"]

{"sheet":"EXO Gas Expansion Module","index":31,"n_rows":31,"n_cols":21,"rows_kept":31,"merged":[[1,1,1,7],[2,1,12,1],[7,7,7,9],[9,7,9,9],[11,7,11,9],[13,1,13,5],[14,7,25,9],[14,11,25,11],[26,7,27,9],[27,1,27,5],[28,7,30,9]]}
[null,{"$error":"#VALUE!"},{"$nulls":10},{"$f":"Currency","v":"USD"},null,null,"EXO Gas Expansion Module"]
[null,"EXO Gas Expansion Module",{"$nulls":10},{"$f":"PBYear","v":2025},"Quick Links"]
[null,{"$error":"#VALUE!"},{"$nulls":10},{"$f":"Revision","v":"Effective February 2, 2026 Rev 2"},"Main Menu"]
[{"$nulls":12},"Blackline Safety Confidential","Accessories"]
[{"$nulls":12},"All prices are an estimate - for a formal quote contact your local Blackline Safety representative"]
[{"$nulls":12},"Release dates are subject to change. Please confirm dates prior to quoting."]
[{"$nulls":12},"Modules highlighted in green have been released. Remaining modules to be released in 2026"]
[{"$nulls":5},"Purchase",null,{"$f":"CONCATENATE(\"J-EX8-GEM-\",H15,H27,H29)","v":"J-EX8-GEM-01-3Y"},{"$nulls":3},{"$f":"L15","v":{"v":3631,"d":"$ 3,631"}},{"$f":"M1&\" List\"","v":"USD List"}]
[]
[{"$nulls":5},"Lease",null,{"$f":"CONCATENATE(\"CMP-EX8-GEM-\",H15,H27,H29)","v":"CMP-EX8-GEM-01-3Y"},{"$nulls":3},{"$f":"VLOOKUP(H15,O15:U26,7,FALSE)","v":{"v":127,"d":"$ 127"}},{"$f":"M1&\" / mo\"","v":"USD / mo"}]
[]
[]
[]
[null,"Buying Option",{"$nulls":12},{"$f":"_xlfn._xlws.FILTER(_xlfn._xlws.FILTER(GasExpansionModules[],(GasExpansionModules[Available]=\"Yes\")+(GasExpansionModules[Available]=\"Yes2\")),{0,0,1,0,0,0,0,1})","v":"00"},"00 - None","Base","Warr","Lease","Warr","Total"]
[null,{"$f":"IF(O15=\"\",\"\",P15)","v":"01 - Refinery / Chem #1 (SO2, PID)"},{"$f":"IF(O15=\"\",\"\",\"è\")","v":"è"},{"$f":"IF(O15=\"\",\"\",O15)","v":"01"},{"$f":"IF(O15=\"\",\"\",\"=\")","v":"="},{"$f":"SUM(Q15:R15)","v":{"v":3631,"d":"$ 3,631"}},null,"01",{"$nulls":3},{"$f":"VLOOKUP(H15,D15:F26,3,FALSE)","v":{"v":3631,"d":"$ 3,631"}},null,null,"01","01 - Refinery / Chem #1 (SO2, PID)",{"$f":"INDEX(GasExpansionModulePrice[],MATCH($O15,GasExpansionModulePrice[Code],0),MATCH($M$1,GasExpansionModulePrice[#Headers],0))","v":3631},{"$f":"INDEX(GasExpansionModulePrice[],MATCH($O15,GasExpansionModulePrice[Code],0),MATCH(\"e\"&$M$1,GasExpansionModulePrice[#Headers],0))*Term","v":0},{"$f":"ROUND(INDEX(GasExpansionModulePrice[],MATCH($O15,GasExpansionModulePrice[Code],0),MATCH($M$1,GasExpansionModulePrice[#Headers],0))*Lease_Factor/LeaseMonths,0)","v":121},{"$f":"ROUND(INDEX(GasExpansionModulePrice[],MATCH($O15,GasExpansionModulePrice[Code],0),MATCH(\"e\"&$M$1,GasExpansionModulePrice[#Headers],0))*Lease_Factor/LeaseMonths,0)*(Term+1)","v":6},{"$f":"S15+T15","v":127}]
[null,"02 - Refinery / Chem #2 (HF, NH3, SO2, PID)",{"$f":"IF(O16=\"\",\"\",\"è\")","v":"è"},"02","=",{"$f":"SUM(Q16:R16)","v":{"v":4894,"d":"$ 4,894"}},{"$nulls":8},"02","02 - Refinery / Chem #2 (HF, NH3, SO2, PID)",{"$f":"INDEX(GasExpansionModulePrice[],MATCH($O16,GasExpansionModulePrice[Code],0),MATCH($M$1,GasExpansionModulePrice[#Headers],0))","v":4894},{"$f":"INDEX(GasExpansionModulePrice[],MATCH($O16,GasExpansionModulePrice[Code],0),MATCH(\"e\"&$M$1,GasExpansionModulePrice[#Headers],0))*Term","v":0},{"$f":"ROUND(INDEX(GasExpansionModulePrice[],MATCH($O16,GasExpansionModulePrice[Code],0),MATCH($M$1,GasExpansionModulePrice[#Headers],0))*Lease_Factor/LeaseMonths,0)","v":163},{"$f":"ROUND(INDEX(GasExpansionModulePrice[],MATCH($O16,GasExpansionModulePrice[Code],0),MATCH(\"e\"&$M$1,GasExpansionModulePrice[#Headers],0))*Lease_Factor/LeaseMonths,0)*(Term+1)","v":11},{"$f":"S16+T16","v":174}]
[null,"03 - Refinery / Chem #3 (Low-Range H2, NH3, SO2, PID)",{"$f":"IF(O17=\"\",\"\",\"è\")","v":"è"},"03","=",{"v":4081,"d":"$ 4,081"},{"$nulls":8},"03","03 - Refinery / Chem #3 (Low-Range H2, NH3, SO2, PID)",{"$f":"INDEX(GasExpansionModulePrice[],MATCH($O17,GasExpansionModulePrice[Code],0),MATCH($M$1,GasExpansionModulePrice[#Headers],0))","v":4081},{"$f":"INDEX(GasExpansionModulePrice[],MATCH($O17,GasExpansionModulePrice[Code],0),MATCH(\"e\"&$M$1,GasExpansionModulePrice[#Headers],0))*Term","v":0},{"$f":"ROUND(INDEX(GasExpansionModulePrice[],MATCH($O17,GasExpansionModulePrice[Code],0),MATCH($M$1,GasExpansionModulePrice[#Headers],0))*Lease_Factor/LeaseMonths,0)","v":136},{"$f":"ROUND(INDEX(GasExpansionModulePrice[],MATCH($O17,GasExpansionModulePrice[Code],0),MATCH(\"e\"&$M$1,GasExpansionModulePrice[#Headers],0))*Lease_Factor/LeaseMonths,0)*(Term+1)","v":8},144]
[null,"04 - Refinery / Chem #4 (NH3, H2S, SO2)","è","04","=",{"v":2756,"d":"$ 2,756"},{"$nulls":8},"04","04 - Refinery / Chem #4 (NH3, H2S, SO2)",{"$f":"INDEX(GasExpansionModulePrice[],MATCH($O18,GasExpansionModulePrice[Code],0),MATCH($M$1,GasExpansionModulePrice[#Headers],0))","v":2756},{"$f":"INDEX(GasExpansionModulePrice[],MATCH($O18,GasExpansionModulePrice[Code],0),MATCH(\"e\"&$M$1,GasExpansionModulePrice[#Headers],0))*Term","v":0},{"$f":"ROUND(INDEX(GasExpansionModulePrice[],MATCH($O18,GasExpansionModulePrice[Code],0),MATCH($M$1,GasExpansionModulePrice[#Headers],0))*Lease_Factor/LeaseMonths,0)","v":92},{"$f":"ROUND(INDEX(GasExpansionModulePrice[],MATCH($O18,GasExpansionModulePrice[Code],0),MATCH(\"e\"&$M$1,GasExpansionModulePrice[#Headers],0))*Lease_Factor/LeaseMonths,0)*(Term+1)","v":2},94]
[null,"11 - Refinery / Chem #5 (Low-Range H2, NH3, Cl2, PID)","è","11","=",{"v":4074,"d":"$ 4,074"},{"$nulls":8},"11","11 - Refinery / Chem #5 (Low-Range H2, NH3, Cl2, PID)",{"$f":"INDEX(GasExpansionModulePrice[],MATCH($O19,GasExpansionModulePrice[Code],0),MATCH($M$1,GasExpansionModulePrice[#Headers],0))","v":4074},{"$f":"INDEX(GasExpansionModulePrice[],MATCH($O19,GasExpansionModulePrice[Code],0),MATCH(\"e\"&$M$1,GasExpansionModulePrice[#Headers],0))*Term","v":0},{"$f":"ROUND(INDEX(GasExpansionModulePrice[],MATCH($O19,GasExpansionModulePrice[Code],0),MATCH($M$1,GasExpansionModulePrice[#Headers],0))*Lease_Factor/LeaseMonths,0)","v":136},{"$f":"ROUND(INDEX(GasExpansionModulePrice[],MATCH($O19,GasExpansionModulePrice[Code],0),MATCH(\"e\"&$M$1,GasExpansionModulePrice[#Headers],0))*Lease_Factor/LeaseMonths,0)*(Term+1)","v":8},144]
[null,"05 - Chem #1 (Low-Range H2, Cl2, HCN, PID)","è","05","=",{"v":4218,"d":"$ 4,218"},{"$nulls":8},"05","05 - Chem #1 (Low-Range H2, Cl2, HCN, PID)",{"$f":"INDEX(GasExpansionModulePrice[],MATCH($O20,GasExpansionModulePrice[Code],0),MATCH($M$1,GasExpansionModulePrice[#Headers],0))","v":4218},{"$f":"INDEX(GasExpansionModulePrice[],MATCH($O20,GasExpansionModulePrice[Code],0),MATCH(\"e\"&$M$1,GasExpansionModulePrice[#Headers],0))*Term","v":0},{"$f":"ROUND(INDEX(GasExpansionModulePrice[],MATCH($O20,GasExpansionModulePrice[Code],0),MATCH($M$1,GasExpansionModulePrice[#Headers],0))*Lease_Factor/LeaseMonths,0)","v":141},{"$f":"ROUND(INDEX(GasExpansionModulePrice[],MATCH($O20,GasExpansionModulePrice[Code],0),MATCH(\"e\"&$M$1,GasExpansionModulePrice[#Headers],0))*Lease_Factor/LeaseMonths,0)*(Term+1)","v":8},149]
[null,{"$f":"IF(O21=\"\",\"\",P21)","v":"06 - Hazmat #1 (NH3, Cl2, HCN, PID)"},"è",{"$f":"IF(O21=\"\",\"\",O21)","v":"06"},{"$f":"IF(O21=\"\",\"\",\"=\")","v":"="},{"v":4211,"d":"$ 4,211"},{"$nulls":8},"06","06 - Hazmat #1 (NH3, Cl2, HCN, PID)",{"$f":"INDEX(GasExpansionModulePrice[],MATCH($O21,GasExpansionModulePrice[Code],0),MATCH($M$1,GasExpansionModulePrice[#Headers],0))","v":4211},{"$f":"INDEX(GasExpansionModulePrice[],MATCH($O21,GasExpansionModulePrice[Code],0),MATCH(\"e\"&$M$1,GasExpansionModulePrice[#Headers],0))*Term","v":0},{"$f":"ROUND(INDEX(GasExpansionModulePrice[],MATCH($O21,GasExpansionModulePrice[Code],0),MATCH($M$1,GasExpansionModulePrice[#Headers],0))*Lease_Factor/LeaseMonths,0)","v":140},{"$f":"ROUND(INDEX(GasExpansionModulePrice[],MATCH($O21,GasExpansionModulePrice[Code],0),MATCH(\"e\"&$M$1,GasExpansionModulePrice[#Headers],0))*Lease_Factor/LeaseMonths,0)*(Term+1)","v":8},148]
[null,"07 - Hazmat #2 (HF, Low-Range H2, HCN)","è","07","=",{"v":3857,"d":"$ 3,857"},{"$nulls":8},"07","07 - Hazmat #2 (HF, Low-Range H2, HCN)",{"$f":"INDEX(GasExpansionModulePrice[],MATCH($O22,GasExpansionModulePrice[Code],0),MATCH($M$1,GasExpansionModulePrice[#Headers],0))","v":3857},{"$f":"INDEX(GasExpansionModulePrice[],MATCH($O22,GasExpansionModulePrice[Code],0),MATCH(\"e\"&$M$1,GasExpansionModulePrice[#Headers],0))*Term","v":0},{"$f":"ROUND(INDEX(GasExpansionModulePrice[],MATCH($O22,GasExpansionModulePrice[Code],0),MATCH($M$1,GasExpansionModulePrice[#Headers],0))*Lease_Factor/LeaseMonths,0)","v":129},{"$f":"ROUND(INDEX(GasExpansionModulePrice[],MATCH($O22,GasExpansionModulePrice[Code],0),MATCH(\"e\"&$M$1,GasExpansionModulePrice[#Headers],0))*Lease_Factor/LeaseMonths,0)*(Term+1)","v":7},136]
[null,"12 - Hazmat #3 (HF, NH3, Cl2, PID)","è","12","=",{"v":5031,"d":"$ 5,031"},{"$nulls":8},"12","12 - Hazmat #3 (HF, NH3, Cl2, PID)",{"$f":"INDEX(GasExpansionModulePrice[],MATCH($O23,GasExpansionModulePrice[Code],0),MATCH($M$1,GasExpansionModulePrice[#Headers],0))","v":5031},{"$f":"INDEX(GasExpansionModulePrice[],MATCH($O23,GasExpansionModulePrice[Code],0),MATCH(\"e\"&$M$1,GasExpansionModulePrice[#Headers],0))*Term","v":0},{"$f":"ROUND(INDEX(GasExpansionModulePrice[],MATCH($O23,GasExpansionModulePrice[Code],0),MATCH($M$1,GasExpansionModulePrice[#Headers],0))*Lease_Factor/LeaseMonths,0)","v":168},{"$f":"ROUND(INDEX(GasExpansionModulePrice[],MATCH($O23,GasExpansionModulePrice[Code],0),MATCH(\"e\"&$M$1,GasExpansionModulePrice[#Headers],0))*Lease_Factor/LeaseMonths,0)*(Term+1)","v":11},179]
[null,"08 - Clean Water #1 (O3, H2S, Cl2, SO2)","è","08","=",{"v":3110,"d":"$ 3,110"},{"$nulls":8},"08","08 - Clean Water #1 (O3, H2S, Cl2, SO2)",{"$f":"INDEX(GasExpansionModulePrice[],MATCH($O24,GasExpansionModulePrice[Code],0),MATCH($M$1,GasExpansionModulePrice[#Headers],0))","v":3110},{"$f":"INDEX(GasExpansionModulePrice[],MATCH($O24,GasExpansionModulePrice[Code],0),MATCH(\"e\"&$M$1,GasExpansionModulePrice[#Headers],0))*Term","v":0},{"$f":"ROUND(INDEX(GasExpansionModulePrice[],MATCH($O24,GasExpansionModulePrice[Code],0),MATCH($M$1,GasExpansionModulePrice[#Headers],0))*Lease_Factor/LeaseMonths,0)","v":104},{"$f":"ROUND(INDEX(GasExpansionModulePrice[],MATCH($O24,GasExpansionModulePrice[Code],0),MATCH(\"e\"&$M$1,GasExpansionModulePrice[#Headers],0))*Lease_Factor/LeaseMonths,0)*(Term+1)","v":4},108]
[null,"09 - Wastewater #1 (NH3, H2S, Cl2, PID)","è","09","=",{"v":4074,"d":"$ 4,074"},{"$nulls":8},"09","09 - Wastewater #1 (NH3, H2S, Cl2, PID)",{"$f":"INDEX(GasExpansionModulePrice[],MATCH($O25,GasExpansionModulePrice[Code],0),MATCH($M$1,GasExpansionModulePrice[#Headers],0))","v":4074},{"$f":"INDEX(GasExpansionModulePrice[],MATCH($O25,GasExpansionModulePrice[Code],0),MATCH(\"e\"&$M$1,GasExpansionModulePrice[#Headers],0))*Term","v":0},{"$f":"ROUND(INDEX(GasExpansionModulePrice[],MATCH($O25,GasExpansionModulePrice[Code],0),MATCH($M$1,GasExpansionModulePrice[#Headers],0))*Lease_Factor/LeaseMonths,0)","v":136},{"$f":"ROUND(INDEX(GasExpansionModulePrice[],MATCH($O25,GasExpansionModulePrice[Code],0),MATCH(\"e\"&$M$1,GasExpansionModulePrice[#Headers],0))*Lease_Factor/LeaseMonths,0)*(Term+1)","v":8},144]
[null,"10 - Pulp and Paper #1 (Cl2, ClO2)","è","10","=",{"v":2804,"d":"$ 2,804"},{"$nulls":8},"10","10 - Pulp and Paper #1 (Cl2, ClO2)",{"$f":"INDEX(GasExpansionModulePrice[],MATCH($O26,GasExpansionModulePrice[Code],0),MATCH($M$1,GasExpansionModulePrice[#Headers],0))","v":2804},{"$f":"INDEX(GasExpansionModulePrice[],MATCH($O26,GasExpansionModulePrice[Code],0),MATCH(\"e\"&$M$1,GasExpansionModulePrice[#Headers],0))*Term","v":0},{"$f":"ROUND(INDEX(GasExpansionModulePrice[],MATCH($O26,GasExpansionModulePrice[Code],0),MATCH($M$1,GasExpansionModulePrice[#Headers],0))*Lease_Factor/LeaseMonths,0)","v":93},{"$f":"ROUND(INDEX(GasExpansionModulePrice[],MATCH($O26,GasExpansionModulePrice[Code],0),MATCH(\"e\"&$M$1,GasExpansionModulePrice[#Headers],0))*Lease_Factor/LeaseMonths,0)*(Term+1)","v":2},95]
[{"$nulls":7},"-"]
[null,"Term"]
[null,"Three-Years","è","3Y",{"$f":"IF(O29=\"\",\"\",\"=\")","v":""},null,null,"3Y"]
[null,"Four-Years","è","4Y","",{"$nulls":11},{"$f":"LEFT(H29,1)-3","v":0},null,{"$f":"LEFT(H29,1)*12","v":36}]
[null,"Five-Years","è","5Y",""]

{"sheet":"EXO Auto Bump & Cal","index":32,"n_rows":70,"n_cols":23,"rows_kept":70,"merged":[[1,1,1,7],[2,1,12,1],[7,7,7,9],[9,7,9,9],[11,7,11,9],[14,1,14,5],[15,7,15,9],[17,1,17,5],[18,7,19,9],[18,11,19,11],[18,22,19,22],[21,1,21,5],[22,7,24,9],[22,11,24,11],[22,22,24,22],[26,1,26,5],[27,7,28,9],[27,11,28,11],[27,22,28,22],[30,1,30,5],[31,7,34,9],[31,11,34,11],[31,22,34,22],[36,1,36,5],[37,7,38,9],[37,11,38,11],[37,22,38,22],[40,1,40,5],[41,7,44,9],[41,11,44,11],[41,22,44,22],[46,1,46,5],[47,7,48,9],[47,11,48,11],[47,22,48,22],[50,1,50,5],[51,7,53,9],[51,11,53,11],[51,22,53,22],[55,1,55,5],[56,7,58,9],[56,11,58,11],[56,22,58,22],[61,1,61,5],[62,7,62,9],[64,1,64,5],[65,7,69,9]]}
[null,{"$error":"#VALUE!"},{"$nulls":10},{"$f":"Currency","v":"USD"},null,null,"EXO Auto Bump & Cal"]
[null,"EXO Automatic Bump & Calibration",{"$nulls":10},{"$f":"PBYear","v":2025},"Quick Links"]
[{"$nulls":12},{"$f":"Revision","v":"Effective February 2, 2026 Rev 2"},"Main Menu"]
[{"$nulls":12},"Blackline Safety Confidential","Accessories"]
[{"$nulls":12},"All prices are an estimate - for a formal quote contact your local Blackline Safety representative"]
[{"$nulls":12},"Lease buying option not available in all countries. Please confirm with your local Blackline representative"]
[]
[{"$nulls":5},"Purchase Hardware",null,{"$f":"CONCATENATE(\"J-\",H16,\"-\",H19,H23,H28,H32,H38,H42,H48,H52,H57)","v":"J-ABC-111202110"},{"$nulls":3},{"$f":"L19+L23+L28++L32+L38+L42+L48+L52+L57","v":{"v":3979,"d":"$ 3,979"}},{"$f":"M1&\" upfront\"","v":"USD upfront"}]
[]
[{"$nulls":5},"Purchase Service",null,{"$f":"CONCATENATE(\"J-\",H63,\"-\",H66)","v":"J-SER-ABC-1Y"},{"$nulls":3},{"$f":"L63","v":{"v":50,"d":"$ 50"}},{"$f":"M1&\" /month\"","v":"USD /month"}]
[]
[{"$nulls":5},"Lease (HW + Service)",null,{"$f":"CONCATENATE(\"CMP-\",H16,\"-\",H19,H23,H28,H32,H38,H42,H48,H52,H57,\"-\",H66)","v":"CMP-ABC-111202110-1Y"},{"$nulls":3},{"$f":"W19+W23+W28+W32+W38+W42+W48+W52+W57+W63","v":{"v":559,"d":"$ 559"}},{"$f":"M1&\" /month\"","v":"USD /month"}]
[]
[null,"Hardware"]
[null,"Offering",{"$nulls":16},"Price","Purchase","Warranty","Lease"]
[null,"Automatic Bump and Calibration","è","ABC",{"$nulls":3},{"$f":"D16","v":"ABC"}]
[{"$nulls":15},"Package Discount",null,{"v":0.25,"d":"25%"}]
[null,"Pump Module"]
[null,"None","è",0,{"$nulls":3},1,{"$nulls":3},{"$f":"VLOOKUP(H19,S19:V20,2,FALSE)","v":{"v":1683,"d":"$ 1,683"}},{"$nulls":6},0,0,0,{"$f":"ROUND((T19+U19)*Lease_Factor/ABCTerm,0)","v":0},{"$f":"VLOOKUP(H19,S19:V20,4,FALSE)","v":{"v":205,"d":"$ 205"}}]
[null,"Pump Module",{"$f":"IF(B20=\"\",\"\",\"è\")","v":"è"},1,{"$nulls":11},"ACC-EXO-PUMP",null,null,1,{"$f":"ROUNDUP(VLOOKUP(1,CHOOSE({1,2},(P20=Accessories[Item])*($M$1=Accessories[Currency]),Accessories[Price]),2,0)*(1-ABCDiscount),0)","v":1683},{"$f":"ROUNDUP(T20*0.22,0)","v":371},{"$f":"ROUND((T20+U20)*Lease_Factor/ABCTerm,0)","v":205}]
[]
[null,"Power Source"]
[null,"None","è",0,{"$nulls":3},1,{"$nulls":3},{"$f":"VLOOKUP(H23,S23:V25,2,FALSE)","v":{"v":958,"d":"$ 958"}},{"$nulls":6},0,0,0,{"$f":"ROUND((T23+U23)*Lease_Factor/ABCTerm,0)","v":0},{"$f":"VLOOKUP(H23,S23:V25,4,FALSE)","v":{"v":123,"d":"$ 123"}}]
[null,"Solar Panel",{"$f":"IF(B24=\"\",\"\",\"è\")","v":"è"},1,{"$nulls":11},"ACC-EXO-UMK-SOLAR-MOUNT-KIT",null,null,1,{"$f":"ROUNDUP(VLOOKUP(1,CHOOSE({1,2},(P24=Accessories[Item])*($M$1=Accessories[Currency]),Accessories[Price]),2,0)*(1-ABCDiscount),0)","v":958},{"$f":"ROUNDUP(T24*0.2777777,0)","v":267},{"$f":"ROUND((T24+U24)*Lease_Factor/ABCTerm,0)","v":123}]
[null,"Trickle Charger",{"$f":"IF(B25=\"\",\"\",\"è\")","v":"è"},2,{"$nulls":11},"ACC-EXO-TCHG-C10",null,null,2,{"$f":"ROUNDUP(VLOOKUP(1,CHOOSE({1,2},(P25=Accessories[Item])*($M$1=Accessories[Currency]),Accessories[Price]),2,0)*(1-ABCDiscount),0)","v":81},{"$f":"ROUNDUP(T25*0.2777777,0)","v":23},{"$f":"ROUND((T25+U25)*Lease_Factor/ABCTerm,0)","v":10}]
[]
[null,"Universal Mount"]
[null,"None","è",0,{"$nulls":3},1,{"$nulls":3},{"$f":"VLOOKUP(H28,S28:V29,2,FALSE)","v":{"v":240,"d":"$ 240"}},{"$nulls":6},0,0,0,{"$f":"ROUND((T28+U28)*Lease_Factor/ABCTerm,0)","v":0},{"$f":"VLOOKUP(H28,S28:V29,4,FALSE)","v":{"v":24,"d":"$ 24"}}]
[null,"Included",{"$f":"IF(B29=\"\",\"\",\"è\")","v":"è"},1,{"$nulls":11},"ACC-EXO-UMK",null,null,1,{"$f":"ROUNDUP(VLOOKUP(1,CHOOSE({1,2},(P29=Accessories[Item])*($M$1=Accessories[Currency]),Accessories[Price]),2,0)*(1-ABCDiscount),0)","v":240},0,{"$f":"ROUND((T29+U29)*Lease_Factor/ABCTerm,0)","v":24}]
[]
[null,"Cylinder Mount"]
[null,"None","è",0,{"$nulls":3},2,{"$nulls":3},{"$f":"VLOOKUP(H32,S32:V35,2,FALSE)","v":{"v":140,"d":"$ 140"}},{"$nulls":6},0,0,0,{"$f":"ROUND((T32+U32)*Lease_Factor/ABCTerm,0)","v":0},{"$f":"VLOOKUP(H32,S32:V35,4,FALSE)","v":{"v":14,"d":"$ 14"}}]
[null,"Quantity 1",{"$f":"IF(B33=\"\",\"\",\"è\")","v":"è"},1,{"$nulls":11},"ACC-EXO-UMK-GAS",null,null,1,{"$f":"ROUNDUP(VLOOKUP(1,CHOOSE({1,2},(P33=Accessories[Item])*($M$1=Accessories[Currency]),Accessories[Price]),2,0)*(1-ABCDiscount),0)","v":70},0,{"$f":"ROUND((T33+U33)*Lease_Factor/ABCTerm,0)","v":7}]
[null,"Quantity 2",{"$f":"IF(B34=\"\",\"\",\"è\")","v":"è"},2,{"$nulls":14},2,{"$f":"T33*2","v":140},0,{"$f":"ROUND((T34+U34)*Lease_Factor/ABCTerm,0)","v":14}]
[null,"Quantity 3",{"$f":"IF(B35=\"\",\"\",\"è\")","v":"è"},3,{"$nulls":14},3,{"$f":"T33*3","v":210},0,{"$f":"ROUND((T35+U35)*Lease_Factor/ABCTerm,0)","v":21}]
[]
[null,"Sunshade (Future)"]
[null,"None","è",0,{"$nulls":3},0,{"$nulls":3},{"$f":"VLOOKUP(H38,S38:V39,2,FALSE)","v":{"v":0,"d":"$ 0"}},{"$nulls":6},0,0,0,{"$f":"ROUND((T38+U38)*Lease_Factor/ABCTerm,0)","v":0},{"$f":"VLOOKUP(H38,S38:V39,4,FALSE)","v":{"v":0,"d":"$ 0"}}]
[{"$nulls":18},1,0,0,{"$f":"ROUND((T39+U39)*Lease_Factor/ABCTerm,0)","v":0}]
[]
[null,"Demand Flow Regulator & Tubing"]
[null,"None","è",0,{"$nulls":3},2,{"$nulls":3},{"$f":"VLOOKUP(H42,S42:V45,2,FALSE)","v":{"v":664,"d":"$ 664"}},{"$nulls":6},0,0,0,{"$f":"ROUND((T42+U42)*Lease_Factor/ABCTerm,0)","v":0},{"$f":"VLOOKUP(H42,S42:V45,4,FALSE)","v":{"v":84,"d":"$ 84"}}]
[null,"Quantity 1",{"$f":"IF(B43=\"\",\"\",\"è\")","v":"è"},1,{"$nulls":11},"ACC-DF",null,null,1,{"$f":"ROUNDUP(VLOOKUP(1,CHOOSE({1,2},(P43=Accessories[Item])*($M$1=Accessories[Currency]),Accessories[Price]),2,0)*(1-ABCDiscount),0)+\nROUNDUP(VLOOKUP(1,CHOOSE({1,2},(P44=Accessories[Item])*($M$1=Accessories[Currency]),Accessories[Price]),2,0)*(1-ABCDiscount),0)","v":332},{"$f":"ROUNDUP(ROUNDUP(VLOOKUP(1,CHOOSE({1,2},(P43=Accessories[Item])*($M$1=Accessories[Currency]),Accessories[Price]),2,0)*(1-$R$17),0)*0.2777777,0)","v":87},{"$f":"ROUND((T43+U43)*Lease_Factor/ABCTerm,0)","v":42}]
[null,"Quantity 2",{"$f":"IF(B44=\"\",\"\",\"è\")","v":"è"},2,{"$nulls":11},"ACC-T2",null,null,2,{"$f":"T43*2","v":664},{"$f":"U43*2","v":174},{"$f":"ROUND((T44+U44)*Lease_Factor/ABCTerm,0)","v":84}]
[null,"Quantity 3",{"$f":"IF(B45=\"\",\"\",\"è\")","v":"è"},3,{"$nulls":14},3,{"$f":"T43*3","v":996},{"$f":"U43*3","v":261},{"$f":"ROUND((T45+U45)*Lease_Factor/ABCTerm,0)","v":126}]
[]
[null,"Calibration Cylinder #1"]
[null,"None","è",0,{"$nulls":3},1,{"$nulls":3},{"$f":"VLOOKUP(H48,S48:V49,2,FALSE)","v":{"v":138,"d":"$ 138"}},{"$nulls":6},0,0,0,{"$f":"ROUND((T48+U48)*Lease_Factor/ABCTerm,0)","v":0},{"$f":"VLOOKUP(H48,S48:V49,4,FALSE)","v":{"v":28,"d":"$ 28"}}]
[null,"20.9% O2 34L Cylinder","è",1,{"$nulls":11},"GAS-34L-O-2",null,null,1,{"$f":"ROUNDUP(VLOOKUP(1,CHOOSE({1,2},(P49=GasCylinders[SKU])*($M$1=GasCylinders[Currency]),GasCylinders[Price]),2,0)*(1-ABCDiscount),0)","v":138},{"$f":"T49","v":138},{"$f":"ROUND((T49+U49)*Lease_Factor/ABCTerm,0)","v":28}]
[]
[null,"Calibration Cylinder #2"]
[null,"None","è",0,{"$nulls":3},1,{"$nulls":3},{"$f":"VLOOKUP(H52,S52:V54,2,FALSE)","v":{"v":156,"d":"$ 156"}},{"$nulls":6},0,0,0,{"$f":"ROUND((T52+U52)*Lease_Factor/ABCTerm,0)","v":0},{"$f":"VLOOKUP(H52,S52:V54,4,FALSE)","v":{"v":31,"d":"$ 31"}}]
[null,"Quad Gas (Metahne 2.5% Vol)","è",1,{"$nulls":11},"GAS-34L-Q",null,null,1,{"$f":"ROUNDUP(VLOOKUP(1,CHOOSE({1,2},(P53=GasCylinders[SKU])*($M$1=GasCylinders[Currency]),GasCylinders[Price]),2,0)*(1-ABCDiscount),0)","v":156},{"$f":"T53","v":156},{"$f":"ROUND((T53+U53)*Lease_Factor/ABCTerm,0)","v":31}]
[null,"Quad Gas (Metahne 2.2% Vol-ATEX)","è",2,{"$nulls":11},"GAS-34L-Q-2",null,null,2,{"$f":"ROUNDUP(VLOOKUP(1,CHOOSE({1,2},(P54=GasCylinders[SKU])*($M$1=GasCylinders[Currency]),GasCylinders[Price]),2,0)*(1-ABCDiscount),0)","v":156},{"$f":"T54","v":156},{"$f":"ROUND((T54+U54)*Lease_Factor/ABCTerm,0)","v":31}]
[]
[null,"Calibration Cylinder #3"]
[null,"None","è",0,{"$nulls":3},0,{"$nulls":3},{"$f":"VLOOKUP(H57,S57:V59,2,FALSE)","v":{"v":0,"d":"$ 0"}},{"$nulls":6},0,0,0,{"$f":"ROUND((T57+U57)*Lease_Factor/ABCTerm,0)","v":0},{"$f":"VLOOKUP(H57,S57:V59,4,FALSE)","v":{"v":0,"d":"$ 0"}}]
[null,"PID (Isobutylene), 100 ppm","è",1,{"$nulls":11},"GAS-34L-V",null,null,1,{"$f":"ROUNDUP(VLOOKUP(1,CHOOSE({1,2},(P58=GasCylinders[SKU])*($M$1=GasCylinders[Currency]),GasCylinders[Price]),2,0)*(1-ABCDiscount),0)","v":156},{"$f":"T58","v":156},{"$f":"ROUND((T58+U58)*Lease_Factor/ABCTerm,0)","v":31}]
[null,"SO2, 100 ppm","è",2,{"$nulls":11},"GAS-34L-S-AIR",null,null,2,{"$f":"ROUNDUP(VLOOKUP(1,CHOOSE({1,2},(P59=GasCylinders[SKU])*($M$1=GasCylinders[Currency]),GasCylinders[Price]),2,0)*(1-ABCDiscount),0)","v":156},{"$f":"T59","v":156},{"$f":"ROUND((T59+U59)*Lease_Factor/ABCTerm,0)","v":31}]
[]
[null,"Service Plan"]
[null,"Service Plan"]
[null,"Service","è","SER-ABC",{"$nulls":3},{"$f":"D63","v":"SER-ABC"},{"$nulls":3},{"$f":"T63","v":{"v":50,"d":"$ 50"}},{"$nulls":6},{"$f":"IFERROR(VLOOKUP(D63,'Base Pricing'!$A$70:$F$76,$O$1,FALSE),\"\")","v":""},{"$f":"INDEX(ServicePrices[],MATCH(\"Automatic Bump & Cal\",ServicePrices[Type],0),MATCH($M$1,ServicePrices[#Headers],0))","v":50},null,null,{"$f":"T63","v":{"v":50,"d":"$ 50"}}]
[]
[null,"Term"]
[null,"One-Year","è","1Y",{"$nulls":3},"1Y"]
[null,"Two-Years","è","2Y"]
[null,"Three-Years","è","3Y",{"$nulls":15},{"$f":"LEFT(H66,1)*12","v":12}]
[null,"Four-Years","è","4Y"]
[null,"Five-Years","è","5Y"]

{"sheet":"Accessories","index":33,"n_rows":487,"n_cols":16,"rows_kept":487,"merged":[[0,1,0,4]]}
[null,{"$error":"#VALUE!"},{"$nulls":13},"Accessories"]
[null,"Accessories",{"$nulls":4},{"$f":"PBYear","v":2025}]
[{"$nulls":6},{"$f":"Revision","v":"Effective February 2, 2026 Rev 2"},null,"Quick Links"]
[{"$nulls":6},"Blackline Safety Confidential",null,"Main Menu"]
[{"$nulls":6},"All prices are an estimate - for a formal quote contact your local Blackline Safety representative",null,"Accessories Website"]
[{"$nulls":6},"Lease buying option not available in all countries. Please confirm with your local Blackline representative",null,"Klick Fast Website"]
[]
[null,"Item","Type","Currency","Description","Category","Price"]
[null,"ACC DASH PLATE","Bridge","USD","G7 Bridge Dash Mounting Plate","Mounting + Cases",{"v":44,"d":"$ 44"}]
[null,"ACC-58L-MOUNT","G7","USD","Wall mount for 58L gas cylinder","Calibration Equipment",{"v":97,"d":"$ 97"}]
[null,"ACC-58L-MOUNT","G7","USD","Wall mount for 58L gas cylinder","Mounting + Cases",{"v":97,"d":"$ 97"}]
[null,"ACC-58L-MOUNT","G8","USD","Wall mount for 58L gas cylinder","Calibration Equipment",{"v":97,"d":"$ 97"}]
[null,"ACC-58L-MOUNT","G8","USD","Wall mount for 58L gas cylinder","Mounting + Cases",{"v":97,"d":"$ 97"}]
[null,"ACC-BEACON-SIGN-EU","Beacon","USD","Information Sign for Location Beacon, Europe","Mounting + Cases",{"v":0,"d":"$ 0"}]
[null,"ACC-BRG-ANCR","Bridge","USD","Anchor Point for G7 Bridge Truck Mounting","Mounting + Cases",{"v":45,"d":"$ 45"}]
[null,"ACC-BRG-CHG-1","Bridge","USD","Bridge wall Charger Kit with Micro-USB to USB Cable with ferrite, North America","Batteries, Chargers + Cables",{"v":29,"d":"$ 29"}]
[null,"ACC-BRG-CHG-1-AZ","Bridge","USD","Bridge wall Charger Kit with Micro-USB to USB Cable with ferrite, Australia","Batteries, Chargers + Cables",{"v":0,"d":"$ 0"}]
[null,"ACC-BRG-CHG-2","Bridge","USD","Bridge Car Charger Kit with Micro-USB to USB Cable with ferrite","Batteries, Chargers + Cables",{"v":72,"d":"$ 72"}]
[null,"ACC-BRG-CHG-PLG","Bridge","USD","Bridge Charge Plug","Batteries, Chargers + Cables",{"v":6,"d":"$ 6"}]
[null,"ACC-BRG-CHG-WR","Bridge","USD","Weather-resistant G7 Bridge charger kit with 6 foot micro-USB/USB cable and plug, North America","Batteries, Chargers + Cables",{"v":50,"d":"$ 50"}]
[null,"ACC-BRG-HRD","Bridge","USD","Bridge Hard-wiring Kit","Batteries, Chargers + Cables",{"v":82,"d":"$ 82"}]
[null,"ACC-BRG-MAG","Bridge","USD","Bridge Magnetic Multi-Mount","Mounting + Cases",{"v":83,"d":"$ 83"}]
[null,"ACC-BRG-MUL","Bridge","USD","Bridge Multi-mount w/ Adhesive Pad","Mounting + Cases",{"v":23,"d":"$ 23"}]
[null,"ACC-BRG-VEH","Bridge","USD","Bridge Vehicle Multi-Mount","Mounting + Cases",{"v":413,"d":"$ 413"}]
[null,"ACC-CART-P-KIT","G7","USD","Pumped cartridge accessories (includes tubing, fittings, calibration cap, screwdriver, and particulate filter)","Sensors & Cartridges",{"v":71,"d":"$ 71"}]
[null,"ACC-CART-P-KIT","G8","USD","Pumped cartridge accessories (includes tubing, fittings, calibration cap, screwdriver, and particulate filter)","Sensors & Cartridges",{"v":71,"d":"$ 71"}]
[null,"ACC-CART-Q-KIT","G7","USD","Diffusion cartridge accessories (includes tubing, fittings, calibration cap, and screwdriver)","Sensors & Cartridges",{"v":48,"d":"$ 48"}]
[null,"ACC-CART-Q-KIT","G8","USD","Diffusion cartridge accessories (includes tubing, fittings, calibration cap, and screwdriver)","Sensors & Cartridges",{"v":48,"d":"$ 48"}]
[null,"ACC-CART-QR-KIT","G7","USD","Diffusion cartridge with reactive gases (Cl2, CLO2, HF, O3) accessories (includes tubing, fittings, calibration caps, and screwdriver)","Sensors & Cartridges",{"v":91,"d":"$ 91"}]
[null,"ACC-CART-QR-KIT","G8","USD","Diffusion cartridge with reactive gases (Cl2, CLO2, HF, O3) accessories (includes tubing, fittings, calibration caps, and screwdriver)","Sensors & Cartridges",{"v":91,"d":"$ 91"}]
[null,"ACC-CART-S-KIT","G7","USD","Single gas cartridge accessories (includes tubing, fittings, calibration cap, and screwdriver)","Sensors & Cartridges",{"v":42,"d":"$ 42"}]
[null,"ACC-CART-S-KIT","G8","USD","Single gas cartridge accessories (includes tubing, fittings, calibration cap, and screwdriver)","Sensors & Cartridges",{"v":42,"d":"$ 42"}]
[null,"ACC-CART-SR-KIT","G7","USD","Single gas cartridge with reactive gases (Cl2, CLO2, HF, O3) accessories (includes tubing, fittings, calibration cap, and screwdriver)","Sensors & Cartridges",{"v":67,"d":"$ 67"}]
[null,"ACC-CART-SR-KIT","G8","USD","Single gas cartridge with reactive gases (Cl2, CLO2, HF, O3) accessories (includes tubing, fittings, calibration cap, and screwdriver)","Sensors & Cartridges",{"v":67,"d":"$ 67"}]
[null,"ACC-CART-Z-KIT","G7","USD","No gas/lone worker cartridge accessories (includes screwdriver)","Sensors & Cartridges",{"v":6,"d":"$ 6"}]
[null,"ACC-CART-Z-KIT","G8","USD","No gas/lone worker cartridge accessories (includes screwdriver)","Sensors & Cartridges",{"v":6,"d":"$ 6"}]
[null,"ACC-CASE-DOCK","Dock","USD","Accessory, case with foam cut out to hold G7 Dock and gas cylinder","Mounting + Cases",{"v":417,"d":"$ 417"}]
[null,"ACC-CASE-G7-CAL","G7","USD","G7 case with foam cutouts for G7 device, 34L cylinder, regulator, and tubing. G7 device, cylinder, and regulator not included","Mounting + Cases",{"v":520,"d":"$ 520"}]
[null,"ACC-CASE-G7-CAL-34L-Q-KIT","G7","USD","Carrying case for G7 - 34L quad gas cylinder and 0.5L fixed flow regulator included","Mounting + Cases",{"v":918,"d":"$ 918"}]
[null,"ACC-CELFI-501-EU","G7","USD","iSOLATE501 Intrinsically Safe Ultra-Wide Band RF Galvanic Isolator","Signal Booster",{"v":0,"d":"$ 0"}]
[null,"ACC-CELFI-501-EU","EXO","USD","iSOLATE501 Intrinsically Safe Ultra-Wide Band RF Galvanic Isolator","Signal Booster",{"v":0,"d":"$ 0"}]
[null,"ACC-CELFI-GOX","G7","USD","CEL-FI GO X 3G/4G Signal Booster","Signal Booster",{"v":0,"d":"$ 0"}]
[null,"ACC-CELFI-GOX","G8","USD","CEL-FI GO X 3G/4G Signal Booster","Signal Booster",{"v":0,"d":"$ 0"}]
[null,"ACC-CELFI-GOX","EXO","USD","CEL-FI GO X 3G/4G Signal Booster","Signal Booster",{"v":0,"d":"$ 0"}]
[null,"ACC-CELFI-IANT-EU","G7","USD","iANT213 Omni Directional ATEX Aerial","Signal Booster",{"v":0,"d":"$ 0"}]
[null,"ACC-CELFI-IANT-EU","G8","USD","iANT213 Omni Directional ATEX Aerial","Signal Booster",{"v":0,"d":"$ 0"}]
[null,"ACC-CELFI-IANT-EU","EXO","USD","iANT213 Omni Directional ATEX Aerial","Signal Booster",{"v":0,"d":"$ 0"}]
[null,"ACC-CELFI-PLUG01-EU","G7","USD","N Type Socket to SMA Plug Adaptor","Signal Booster",{"v":0,"d":"$ 0"}]
[null,"ACC-CELFI-PLUG01-EU","G8","USD","N Type Socket to SMA Plug Adaptor","Signal Booster",{"v":0,"d":"$ 0"}]
[null,"ACC-CELFI-PLUG01-EU","EXO","USD","N Type Socket to SMA Plug Adaptor","Signal Booster",{"v":0,"d":"$ 0"}]
[null,"ACC-CELFI-PRO","G7","USD","Acc,  Mobile Booster, Nextivity Celfi Pro 1/3/8/20 UK","Signal Booster",{"v":0,"d":"$ 0"}]
[null,"ACC-CELFI-PRO","G8","USD","Acc,  Mobile Booster, Nextivity Celfi Pro 1/3/8/20 UK","Signal Booster",{"v":0,"d":"$ 0"}]
[null,"ACC-CELFI-PRO","EXO","USD","Acc,  Mobile Booster, Nextivity Celfi Pro 1/3/8/20 UK","Signal Booster",{"v":0,"d":"$ 0"}]
[null,"ACC-CELFI-SMA-PLUG","G7","USD","Conn, SMA PLUG (6MM) (FOR RG58) (SOLDERLESS)","Signal Booster",{"v":0,"d":"$ 0"}]
[null,"ACC-CELFI-SMA-PLUG","G8","USD","Conn, SMA PLUG (6MM) (FOR RG58) (SOLDERLESS)","Signal Booster",{"v":0,"d":"$ 0"}]
[null,"ACC-CELFI-SMA-PLUG","EXO","USD","Conn, SMA PLUG (6MM) (FOR RG58) (SOLDERLESS)","Signal Booster",{"v":0,"d":"$ 0"}]
[null,"ACC-CHG-PNL-20-AZ","G7","USD","G7 Multi-charger, wall mounted, 20 devices, Australia/New Zealand","Batteries, Chargers + Cables",{"v":0,"d":"$ 0"}]
[null,"ACC-CHG-PNL-20-AZ","EXO","USD","G7 Multi-charger, wall mounted, 20 devices, Australia/New Zealand","Batteries, Chargers + Cables",{"v":0,"d":"$ 0"}]
[null,"ACC-CHG-PNL-20-EU","G7","USD","G7 Multi-charger, wall mounted, 20 devices, Europe","Batteries, Chargers + Cables",{"v":1431,"d":"$ 1,431"}]
[null,"ACC-CHG-PNL-20-NA","G7","USD","G7 Multi-charger, wall mounted, 20 devices, North America","Batteries, Chargers + Cables",{"v":1431,"d":"$ 1,431"}]
[null,"ACC-CHG-PNL-20-UK","G7","USD","G7 Multi-charger, wall mounted, 20 devices, UK","Batteries, Chargers + Cables",{"v":1389,"d":"$ 1,389"}]
[null,"ACC-CHG-PNL-5-AZ","G7","USD","G7 Multi-charger, wall mounted, 5 devices, Australia/New Zealand","Batteries, Chargers + Cables",{"v":0,"d":"$ 0"}]
[null,"ACC-CHG-PNL-5-EU","G7","USD","G7 Multi-charger, wall mounted, 5 devices, Europe","Batteries, Chargers + Cables",{"v":227,"d":"$ 227"}]
[null,"ACC-CHG-PNL-5-NA","G7","USD","G7 Multi-charger, wall mounted, 5 devices, North America","Batteries, Chargers + Cables",{"v":227,"d":"$ 227"}]
[null,"ACC-CHG-PNL-5-UK","G7","USD","G7 Multi-charger, wall mounted, 5 devices, UK","Batteries, Chargers + Cables",{"v":227,"d":"$ 227"}]
[null,"ACC-COAX-3WAY-EU","G7","USD","Adapter, SMA-M to Two SMA-F, 3-way Splitter","Signal Booster",{"v":0,"d":"$ 0"}]
[null,"ACC-COAX-3WAY-EU","G8","USD","Adapter, SMA-M to Two SMA-F, 3-way Splitter","Signal Booster",{"v":0,"d":"$ 0"}]
[null,"ACC-COAX-ADPT-EU","G7","USD","SMA-F to SMA-F, Europe","Signal Booster",{"v":0,"d":"$ 0"}]
[null,"ACC-COAX-ADPT-EU","G8","USD","SMA-F to SMA-F, Europe","Signal Booster",{"v":0,"d":"$ 0"}]
[null,"ACC-COAX-EU","G7","USD","Coaxial Cable with SMA cable connectors (min 5 meters)","Signal Booster",{"v":0,"d":"$ 0"}]
[null,"ACC-COAX-EU","G8","USD","Coaxial Cable with SMA cable connectors (min 5 meters)","Signal Booster",{"v":0,"d":"$ 0"}]
[null,"ACC-DF","Dock","USD","Demand Flow Regulator","Calibration Equipment",{"v":417,"d":"$ 417"}]
[null,"ACC-DF","EXO","USD","Demand Flow Regulator","Calibration Equipment",{"v":417,"d":"$ 417"}]
[null,"ACC-DFR-V","Dock","USD","Demand Flow Regulator for use with reactive gases (CL2, HCN, NH3, NO2)","Calibration Equipment",{"v":430,"d":"$ 430"}]
[null,"ACC-DOCK-STN-5-BARE-AZ","Dock","USD","Dock wall mount bracket compatible with up to five G7 Docks (no Docks included), Australia/New Zealand","Mounting + Cases",{"v":0,"d":"$ 0"}]
[null,"ACC-DOCK-STN-5-BARE-EU","Dock","USD","Dock wall mount bracket compatible with up to five G7 Docks (no Docks included), Europe","Mounting + Cases",{"v":1550,"d":"$ 1,550"}]
[null,"ACC-DOCK-STN-5-BARE-NA","Dock","USD","Dock wall mount bracket compatible with up to five G7 Docks (no Docks included), North America","Mounting + Cases",{"v":1550,"d":"$ 1,550"}]
[null,"ACC-DOCK-STN-5-DUAL-BARE-AZ","Dock","USD","Dock wall mount bracket including dual cylinder holders, compatible with up to five G7 Docks (no Docks included), Australia","Mounting + Cases",{"v":1549,"d":"$ 1,549"}]
[null,"ACC-DOCK-STN-5-DUAL-BARE-EU","Dock","USD","Dock wall mount bracket including dual cylinder holders, compatible with up to five G7 Docks (no Docks included) , Europe","Mounting + Cases",{"v":1549,"d":"$ 1,549"}]
[null,"ACC-DOCK-STN-5-DUAL-BARE-NA","Dock","USD","Dock wall mount bracket including dual cylinder holders, compatible with up to five G7 Docks (no Docks included) , North America","Mounting + Cases",{"v":1549,"d":"$ 1,549"}]
[null,"ACC-DOCK-STN-5-DUAL-BARE-UK","Dock","USD","Dock wall mount bracket including dual cylinder holders, compatible with up to five G7 Docks (no Docks included) , UK","Mounting + Cases",{"v":1549,"d":"$ 1,549"}]
[null,"ACC-DOCK-STN-5-DUAL-LOADED-AZ","Dock","USD","Dock wall mount bracket including 5 G7 Docks and dual cylinder holders, Australia/New Zealand","Mounting + Cases",{"v":5468,"d":"$ 5,468"}]
[null,"ACC-DOCK-STN-5-DUAL-LOADED-EU","Dock","USD","Dock wall mount bracket including 5 G7 Docks and dual cylinder holders, Europe","Mounting + Cases",{"v":5468,"d":"$ 5,468"}]
[null,"ACC-DOCK-STN-5-DUAL-LOADED-NA","Dock","USD","Dock wall mount bracket including 5 G7 Docks and dual cylinder holders, North America","Mounting + Cases",{"v":5468,"d":"$ 5,468"}]
[null,"ACC-DOCK-STN-5-DUAL-LOADED-UK","Dock","USD","Dock wall mount bracket including 5 G7 Docks and dual cylinder holders, UK","Mounting + Cases",{"v":5468,"d":"$ 5,468"}]
[null,"ACC-DOCK-STN-5-LOADED-AZ","Dock","USD","Dock wall mount bracket including 5 G7 Docks and single cylinder holder, Australia/New Zealand","Mounting + Cases",{"v":0,"d":"$ 0"}]
[null,"ACC-DOCK-STN-5-LOADED-EU","Dock","USD","Dock wall mount bracket including 5 G7 Docks and single cylinder holder, Europe","Mounting + Cases",{"v":5366,"d":"$ 5,366"}]
[null,"ACC-DOCK-STN-5-LOADED-NA","Dock","USD","Dock wall mount bracket including 5 G7 Docks and single cylinder holder, North America","Mounting + Cases",{"v":5366,"d":"$ 5,366"}]
[null,"ACC-EX8-BAT","EXO","USD","EXO 8 Standard Battery Pack (144Ah). Compatible with G7 EXO","Batteries, Chargers + Cables",{"v":959,"d":"$ 959"}]
[null,"ACC-EX8-BAT-LT","EXO","USD","EXO 8 Lightweight Battery Pack (72Ah). Compatible with G7 EXO","Batteries, Chargers + Cables",{"v":867,"d":"$ 867"}]
[null,"ACC-EX8-BAT-SALES","EXO","USD","EXO 8 Sales Demo Battery for air transport. Compatible with G7 EXO","Batteries, Chargers + Cables",{"v":370,"d":"$ 370"}]
[null,"ACC-FEP-T10","G7","USD","Teflon Lined Tubing, 10 feet (3 meter), 0.125” (0.32 cm) diameter with Quick-Connects for use with reactive gases on Gas Expansion Module/Pumped Cartridge","Gas Detector Accessories",{"v":92,"d":"$ 92"}]
[null,"ACC-FEP-T10","G8","USD","Teflon Lined Tubing, 10 feet (3 meter), 0.125” (0.32 cm) diameter with Quick-Connects for use with reactive gases on Gas Expansion Module/Pumped Cartridge","Gas Detector Accessories",{"v":92,"d":"$ 92"}]
[null,"ACC-FEP-T10","EXO","USD","Teflon Lined Tubing, 10 feet (3 meter), 0.125” (0.32 cm) diameter with Quick-Connects for use with reactive gases on Gas Expansion Module/Pumped Cartridge","Gas Detector Accessories",{"v":92,"d":"$ 92"}]
[null,"ACC-FEP-T2","G7","USD","Teflon Lined Tubing, 2 feet (0.61 meter), 0.125” (0.32 cm) diameter with Quick-Connects for use with reactive gases on Gas Expansion Module/Pumped Cartridge/Dock","Gas Detector Accessories",{"v":44,"d":"$ 44"}]
[null,"ACC-FEP-T2","G8","USD","Teflon Lined Tubing, 2 feet (0.61 meter), 0.125” (0.32 cm) diameter with Quick-Connects for use with reactive gases on Gas Expansion Module/Pumped Cartridge/Dock","Gas Detector Accessories",{"v":44,"d":"$ 44"}]
[null,"ACC-FEP-T2","EXO","USD","Teflon Lined Tubing, 2 feet (0.61 meter), 0.125” (0.32 cm) diameter with Quick-Connects for use with reactive gases on Gas Expansion Module/Pumped Cartridge/Dock","Gas Detector Accessories",{"v":44,"d":"$ 44"}]
[null,"ACC-FEP-T2","Dock","USD","Teflon Lined Tubing, 2 feet (0.61 meter), 0.125” (0.32 cm) diameter with Quick-Connects for use with reactive gases on Gas Expansion Module/Pumped Cartridge/Dock","Gas Detector Accessories",{"v":44,"d":"$ 44"}]
[null,"ACC-FEP-T50","G7","USD","Teflon Lined Tubing, 50 feet (15.2 meter), 0.125” (0.32 cm) diameter with Quick-Connects for use with reactive gases on Gas Expansion Module/Pumped Cartridge","Gas Detector Accessories",{"v":287,"d":"$ 287"}]
[null,"ACC-FEP-T50","G8","USD","Teflon Lined Tubing, 50 feet (15.2 meter), 0.125” (0.32 cm) diameter with Quick-Connects for use with reactive gases on Gas Expansion Module/Pumped Cartridge","Gas Detector Accessories",{"v":287,"d":"$ 287"}]
[null,"ACC-FEP-T50","EXO","USD","Teflon Lined Tubing, 50 feet (15.2 meter), 0.125” (0.32 cm) diameter with Quick-Connects for use with reactive gases on Gas Expansion Module/Pumped Cartridge","Gas Detector Accessories",{"v":287,"d":"$ 287"}]
[null,"ACC-G6-BUN-AZ-10","G6","USD","G6 Calibration and USB Wall Charge Kits, Bundle of 10, Australia/New Zealand","Batteries, Chargers + Cables",{"v":810,"d":"$ 810"}]
[null,"ACC-G6-BUN-AZ-10","G6","USD","G6 Calibration and USB Wall Charge Kits, Bundle of 10, Australia/New Zealand","Calibration Equipment",{"v":810,"d":"$ 810"}]
[null,"ACC-G6-BUN-AZ-5","G6","USD","G6 Calibration and USB Wall Charge Kits, Bundle of 5, Australia/New Zealand","Batteries, Chargers + Cables",{"v":428,"d":"$ 428"}]
[null,"ACC-G6-BUN-AZ-5","G6","USD","G6 Calibration and USB Wall Charge Kits, Bundle of 5, Australia/New Zealand","Calibration Equipment",{"v":428,"d":"$ 428"}]
[null,"ACC-G6-BUN-EU-10","G6","USD","G6 Calibration and USB Wall Charge Kits, Bundle of 10, Europe","Batteries, Chargers + Cables",{"v":810,"d":"$ 810"}]
[null,"ACC-G6-BUN-EU-10","G6","USD","G6 Calibration and USB Wall Charge Kits, Bundle of 10, Europe","Calibration Equipment",{"v":810,"d":"$ 810"}]
[null,"ACC-G6-BUN-EU-5","G6","USD","G6 Calibration and USB Wall Charge Kits, Bundle of 5, Europe","Batteries, Chargers + Cables",{"v":428,"d":"$ 428"}]
[null,"ACC-G6-BUN-EU-5","G6","USD","G6 Calibration and USB Wall Charge Kits, Bundle of 5, Europe","Calibration Equipment",{"v":428,"d":"$ 428"}]
[null,"ACC-G6-BUN-NA-10","G6","USD","G6 Calibration and USB Wall Charge Kits, Bundle of 10, North America","Batteries, Chargers + Cables",{"v":810,"d":"$ 810"}]
[null,"ACC-G6-BUN-NA-10","G6","USD","G6 Calibration and USB Wall Charge Kits, Bundle of 10, North America","Calibration Equipment",{"v":810,"d":"$ 810"}]
[null,"ACC-G6-BUN-NA-5","G6","USD","G6 Calibration and USB Wall Charge Kits, Bundle of 5, North America","Batteries, Chargers + Cables",{"v":428,"d":"$ 428"}]
[null,"ACC-G6-BUN-NA-5","G6","USD","G6 Calibration and USB Wall Charge Kits, Bundle of 5, North America","Calibration Equipment",{"v":428,"d":"$ 428"}]
[null,"ACC-G6-BUN-UK-10","G6","USD","G6 Calibration and USB Wall Charge Kits, Bundle of 10, United Kingdom","Batteries, Chargers + Cables",{"v":810,"d":"$ 810"}]
[null,"ACC-G6-BUN-UK-10","G6","USD","G6 Calibration and USB Wall Charge Kits, Bundle of 10, United Kingdom","Calibration Equipment",{"v":810,"d":"$ 810"}]
[null,"ACC-G6-BUN-UK-5","G6","USD","G6 Calibration and USB Wall Charge Kits, Bundle of 5, United Kingdom","Batteries, Chargers + Cables",{"v":428,"d":"$ 428"}]
[null,"ACC-G6-BUN-UK-5","G6","USD","G6 Calibration and USB Wall Charge Kits, Bundle of 5, United Kingdom","Calibration Equipment",{"v":428,"d":"$ 428"}]
[null,"ACC-G6-CAL","G6","USD","G6 Calibration Cap","Calibration Equipment",{"v":17,"d":"$ 17"}]
[null,"ACC-G6-CALTUB","G6","USD","G6 Calibration Kit (Cap and Tubing)","Calibration Equipment",{"v":38,"d":"$ 38"}]
[null,"ACC-G6-CALTUB-10","G6","USD","G6 Calibration Kit (Cap and Tubing) - Bundle of 10","Calibration Equipment",{"v":342,"d":"$ 342"}]
[null,"ACC-G6-CALTUB-5","G6","USD","G6 Calibration Kit (Cap and Tubing) - Bundle of 5","Calibration Equipment",{"v":181,"d":"$ 181"}]
[null,"ACC-G6-CHG-05-AZ","G6","USD","G6 5 bay charger, Australia / New Zealand","Batteries, Chargers + Cables",{"v":221,"d":"$ 221"}]
[null,"ACC-G6-CHG-05-EU","G6","USD","G6 5 bay charger, UK / Europe","Batteries, Chargers + Cables",{"v":221,"d":"$ 221"}]
[null,"ACC-G6-CHG-05-KIT-AZ","G6","USD","G6 5 bay charger with wall mount bracket, Australia / New Zealand","Batteries, Chargers + Cables",{"v":322,"d":"$ 322"}]
[null,"ACC-G6-CHG-05-KIT-EU","G6","USD","G6 5 bay charger with wall mount bracket, UK / Europe","Batteries, Chargers + Cables",{"v":322,"d":"$ 322"}]
[null,"ACC-G6-CHG-05-KIT-NA","G6","USD","G6 5 bay charger with wall mount bracket, North America","Batteries, Chargers + Cables",{"v":322,"d":"$ 322"}]
[null,"ACC-G6-CHG-05-NA","G6","USD","G6 5 bay charger, North America","Batteries, Chargers + Cables",{"v":221,"d":"$ 221"}]
[null,"ACC-G6-CHG-25-AZ","G6","USD","G6 25 bay charger, Australia / New Zealand","Batteries, Chargers + Cables",{"v":1365,"d":"$ 1,365"}]
[null,"ACC-G6-CHG-25-EU","G6","USD","G6 25 bay charger, UK / Europe","Batteries, Chargers + Cables",{"v":1365,"d":"$ 1,365"}]
[null,"ACC-G6-CHG-25-KIT-AZ","G6","USD","G6 25 bay charger with wall mount bracket, Australia / New Zealand","Batteries, Chargers + Cables",{"v":1486,"d":"$ 1,486"}]
[null,"ACC-G6-CHG-25-KIT-EU","G6","USD","G6 25 bay charger with wall mount bracket, UK / Europe","Batteries, Chargers + Cables",{"v":1486,"d":"$ 1,486"}]
[null,"ACC-G6-CHG-25-KIT-NA","G6","USD","G6 25 bay charger with wall mount bracket, North America","Batteries, Chargers + Cables",{"v":1486,"d":"$ 1,486"}]
[null,"ACC-G6-CHG-25-NA","G6","USD","G6 25 bay charger, North America","Batteries, Chargers + Cables",{"v":1365,"d":"$ 1,365"}]
[null,"ACC-G6-CHG-BRK-05","G6","USD","G6 wall mount bracket for 5 slot multi-unit charger","Batteries, Chargers + Cables",{"v":101,"d":"$ 101"}]
[null,"ACC-G6-CHG-BRK-25","G6","USD","G6 wall mount bracket for 25 slot multi-unit charger","Batteries, Chargers + Cables",{"v":121,"d":"$ 121"}]
[null,"ACC-G6-CLIP","G6","USD","G6 Charge Clip","Batteries, Chargers + Cables",{"v":32,"d":"$ 32"}]
[null,"ACC-G6-CLPCAB","G6","USD","G6 Charge Clip and Cable","Batteries, Chargers + Cables",{"v":42,"d":"$ 42"}]
[null,"ACC-G6-CLPCAB-10","G6","USD","G6 Charge Clip and Cable Bundle of 10","Batteries, Chargers + Cables",{"v":378,"d":"$ 378"}]
[null,"ACC-G6-CLPCAB-5","G6","USD","G6 Charge Clip and Cable Bundle of 5","Batteries, Chargers + Cables",{"v":200,"d":"$ 200"}]
[null,"ACC-G6-FILT10","G6","USD","G6 Replacement Filter Kit, Bundle of 10","Gas Detector Accessories",{"v":54,"d":"$ 54"}]
[null,"ACC-G6-GANG-2","G6","USD","G6 Dock gang kit for 2 Docks","Calibration Equipment",{"v":102,"d":"$ 102"}]
[null,"ACC-G6-GANG-3","G6","USD","G6 Dock gang kit for 3 Docks","Calibration Equipment",{"v":153,"d":"$ 153"}]
[null,"ACC-G6-GANG-4","G6","USD","G6 Dock gang kit for 4 Docks","Calibration Equipment",{"v":192,"d":"$ 192"}]
[null,"ACC-MC","G6","USD","Replacement G6/G8 Metal Belt Clip","Personal Accessories",{"v":15,"d":"$ 15"}]
[null,"ACC-MC","G8","USD","Replacement G6/G8 Metal Belt Clip","Personal Accessories",{"v":15,"d":"$ 15"}]
[null,"ACC-G6-POWER-AZ","G6","USD","G6 Wall Charge Kit (Charge Clip, Block & Cable), Australia/New Zealand","Batteries, Chargers + Cables",{"v":52,"d":"$ 52"}]
[null,"ACC-G6-POWER-AZ-10","G6","USD","G6 Wall Charge Kit (Charge Clip, Block & Cable) Bundle of 10, Australia/New Zealand","Batteries, Chargers + Cables",{"v":468,"d":"$ 468"}]
[null,"ACC-G6-POWER-AZ-5","G6","USD","G6 Wall Charge Kit (Charge Clip, Block & Cable) Bundle of 5, Australia/New Zealand","Batteries, Chargers + Cables",{"v":247,"d":"$ 247"}]
[null,"ACC-G6-POWER-EU","G6","USD","G6 Wall Charge Kit (Charge Clip, Block & Cable), Europe","Batteries, Chargers + Cables",{"v":52,"d":"$ 52"}]
[null,"ACC-G6-POWER-EU-10","G6","USD","G6 Wall Charge Kit (Charge Clip, Block & Cable) Bundle of 10, Europe","Batteries, Chargers + Cables",{"v":468,"d":"$ 468"}]
[null,"ACC-G6-POWER-EU-5","G6","USD","G6 Wall Charge Kit (Charge Clip, Block & Cable) Bundle of 5, Europe","Batteries, Chargers + Cables",{"v":247,"d":"$ 247"}]
[null,"ACC-G6-POWER-NA","G6","USD","G6 Wall Charge Kit (Charge Clip, Block & Cable), North America","Batteries, Chargers + Cables",{"v":52,"d":"$ 52"}]
[null,"ACC-G6-POWER-NA-10","G6","USD","G6 Wall Charge Kit (Charge Clip, Block & Cable) Bundle of 10, North America","Batteries, Chargers + Cables",{"v":468,"d":"$ 468"}]
[null,"ACC-G6-POWER-NA-5","G6","USD","G6 Wall Charge Kit (Charge Clip, Block & Cable) Bundle of 5, North America","Batteries, Chargers + Cables",{"v":247,"d":"$ 247"}]
[null,"ACC-G6-POWER-UK","G6","USD"," G6 Wall Charge Kit (Charge Clip, Block & Cable), United Kingdom","Batteries, Chargers + Cables",{"v":52,"d":"$ 52"}]
[null,"ACC-G6-POWER-UK-10","G6","USD","G6 Wall Charge Kit (Charge Clip, Block & Cable) Bundle of 10, United Kingdom","Batteries, Chargers + Cables",{"v":468,"d":"$ 468"}]
[null,"ACC-G6-POWER-UK-5","G6","USD","G6 Wall Charge Kit (Charge Clip, Block & Cable) Bundle of 5, United Kingdom","Batteries, Chargers + Cables",{"v":247,"d":"$ 247"}]
[null,"ACC-G6-SENCAP","G6","USD","G6 Replacement Sensor Cap","Gas Detector Accessories",{"v":3,"d":"$ 3"}]
[null,"ACC-G6-SP","G6","USD","G6 Intrinsically Safe Screen Protector","Screen Protector & Covers",{"v":12,"d":"$ 12"}]
[null,"ACC-G6-SP-10","G6","USD","G6 Intrinsically Safe Screen Protector, Bundle of 10","Screen Protector & Covers",{"v":108,"d":"$ 108"}]
[null,"ACC-G6-SP-25","G6","USD","G6 Intrinsically Safe Screen Protector, Bundle of 25","Screen Protector & Covers",{"v":255,"d":"$ 255"}]
[null,"ACC-G6-T2","G6","USD","G6 Calibration Tubing, 2 Feet (0.61 meters)","Calibration Equipment",{"v":21,"d":"$ 21"}]
[null,"ACC-G7-CASE","G7","USD","G7 Case with foam cutouts for G7 device and accessories","Mounting + Cases",{"v":520,"d":"$ 520"}]
[null,"ACC-G7-CASE-DUAL-G7C","G7","USD","G7 Case with foam cutouts for Dual G7 devices and Accessories","Mounting + Cases",{"v":544,"d":"$ 544"}]
[null,"ACC-G7-CASE-SMALL","G7","USD","G7 Small Carrying Case","Mounting + Cases",{"v":191,"d":"$ 191"}]
[null,"ACC-EXO-BASE-MOUNTING-KNOB","EXO","USD","Replacement mounting knob for EXO mounting base","Mounting + Cases",{"v":92,"d":"$ 92"}]
[null,"ACC-EXO-BAT-REMTOOL","EXO","USD","EXO Battery Removal Hex Key","Batteries, Chargers + Cables",{"v":10,"d":"$ 10"}]
[null,"ACC-EXO-CARRY","EXO","USD","EXO Carrying Case","Mounting + Cases",{"v":955,"d":"$ 955"}]
[null,"ACC-EXO-DIFFUSION-MOD-KIT","EXO","USD","G7 EXO, diffusion modification kit to convert pumped version to diffusion. Includes open grill, gas chamber, cover assembly, and wind guard","Gas Detector Accessories",{"v":147,"d":"$ 147"}]
[null,"ACC-EXO-FAST-CHARGER-AU","EXO","USD","Replacement EXO Fast Charger, Australia/New Zealand","Batteries, Chargers + Cables",{"v":0,"d":"$ 0"}]
[null,"ACC-EXO-FAST-CHARGER-EU","EXO","USD","Replacement EXO Fast Charger, Europe","Batteries, Chargers + Cables",{"v":427,"d":"$ 427"}]
[null,"ACC-EXO-FAST-CHARGER-NA","EXO","USD","Replacement EXO Fast Charger, North America","Batteries, Chargers + Cables",{"v":427,"d":"$ 427"}]
[null,"ACC-EXO-HMK","EXO","USD","EXO Hanging Mount Kit","Mounting + Cases",{"v":380,"d":"$ 380"}]
[null,"ACC-EXO-OUTPUT-C10","EXO","USD","EXO A/B output port cable, 10 feet (3 meters)","Batteries, Chargers + Cables",{"v":107,"d":"$ 107"}]
[null,"ACC-EXO-OUTPUT-C16","EXO","USD","EXO A/B output port cable, 16 feet (4.8 meters)","Batteries, Chargers + Cables",{"v":133,"d":"$ 133"}]
[null,"ACC-EXO-OUTPUT-C32","EXO","USD","EXO A/B output port cable, 32 feet (9.7 meters)","Batteries, Chargers + Cables",{"v":214,"d":"$ 214"}]
[null,"ACC-EXO-POWER-C10","EXO","USD","EXO Power Port Cable 10 feet (3 meters)","Batteries, Chargers + Cables",{"v":107,"d":"$ 107"}]
[null,"ACC-EXO-POWER-C16","EXO","USD","EXO Power Port Cable 16 feet (4.8 meters)","Batteries, Chargers + Cables",{"v":133,"d":"$ 133"}]
[null,"ACC-EXO-POWER-C32","EXO","USD","EXO Power Port Cable 32 feet (9.7 meters)","Batteries, Chargers + Cables",{"v":214,"d":"$ 214"}]
[null,"ACC-EXO-POWER-C50","EXO","USD","EXO Power Port Cable 50 feet (15.2 meters)","Batteries, Chargers + Cables",{"v":268,"d":"$ 268"}]
[null,"ACC-EXO-PUMP","EXO","USD","EXO 4-inlet pump module. Includes enclosed cover and pump gas chamber","Gas Detector Accessories",{"v":2243,"d":"$ 2,243"}]
[null,"ACC-EXO-SAT","EXO","USD","EXO Satellite Module. Separate satellite service plan required","Satellite, GPS + Communication Equipment",{"v":2945,"d":"$ 2,945"}]
[null,"ACC-EXO-SC","EXO","USD","EXO Safety Tether","Mounting + Cases",{"v":54,"d":"$ 54"}]
[null,"ACC-EXO-SIREN-EXT-CABLE-C32","EXO","USD","EXO A/B output port cable with male and female connectors for use with EXO siren, 32 feet (9.7 meters)","Batteries, Chargers + Cables",{"v":330,"d":"$ 330"}]
[null,"ACC-EXO-SIREN-EXT-CABLE-C32","EXO","USD","EXO A/B output port cable with male and female connectors for use with EXO siren, 32 feet (9.7 meters)","Siren",{"v":330,"d":"$ 330"}]
[null,"ACC-EXO-SIREN-M","EXO","USD","EXO Siren, Metal Body, ATEX IECEX. Includes mounting bracket and 5 foot (1.5 meter) cable (not for sale in North America)","Siren",{"v":1268,"d":"$ 1,268"}]
[null,"ACC-EXO-SIREN-P","EXO","USD","EXO Siren, Plastic Body, FM ATEX IECEX. Includes mounting bracket and 5 foot (1.5 meter) cable (not for sale in Canada)","Siren",{"v":1065,"d":"$ 1,065"}]
[null,"ACC-EXO-SOLAR","EXO","USD","EXO Solar Panel with built-in 4 foot (1.3 meter) cable. Mounting brackets sold separately","Batteries, Chargers + Cables",{"v":573,"d":"$ 573"}]
[null,"ACC-EXO-SPEAKER-COVER","EXO","USD","EXO External Speaker Cover","Screen Protector & Covers",{"v":14,"d":"$ 14"}]
[null,"ACC-EXO-STANDOFF","EXO","USD","EXO Base (Standoff) stand for placing EXO on the ground","Mounting + Cases",{"v":320,"d":"$ 320"}]
[null,"ACC-EXO-STANDOFF-FLAG","EXO","USD","Safety Flag for EXO Base (Standoff)","Mounting + Cases",{"v":133,"d":"$ 133"}]
[null,"ACC-EXO-TCHG-C10","EXO","USD","EXO-Non IS Power Supply, all regional power adaptors included. Includes 10 foot (3 meter) cable","Batteries, Chargers + Cables",{"v":107,"d":"$ 107"}]
[null,"ACC-EXO-TRANSLATOR","EXO","USD","EXO (G7EXO and EXO8) Message translator that takes in EXO status messages and output to MODBUS in RS485 or MQTT format ","Translator",{"v":777,"d":"$ 777"}]
[null,"ACC-EXO-TRANSLATOR-BULK","EXO","USD","EXO Bulk package of 6 Message translator that takes in EXO status messages and output to MODBUS in RS485 or MQTT format ","Translator",{"v":4662,"d":"$ 4,662"}]
[null,"ACC-EXO-TRANSLATOR-C1","EXO","USD","EXO  3 Foot (1 meter) cable to connect EXO power/debug port to Translator Box input port","Translator",{"v":32,"d":"$ 32"}]
[null,"ACC-EXO-TRANSLATOR-MOUNT","EXO","USD","Mounting plate for Translator Box that mates with the ACC-G7EXO-HMK","Translator",{"v":55,"d":"$ 55"}]
[null,"ACC-EXO-TRANSLATOR-MOUNT","EXO","USD","Mounting plate for Translator Box that mates with the ACC-G7EXO-HMK","Mounting + Cases",{"v":55,"d":"$ 55"}]
[null,"ACC-EXO-TRIPOD","EXO","USD","EXO Survey Tripod","Mounting + Cases",{"v":959,"d":"$ 959"}]
[null,"ACC-EXO-UMK","EXO","USD","EXO Universal Mount","Mounting + Cases",{"v":320,"d":"$ 320"}]
[null,"ACC-EXO-UMK-GAS","EXO","USD","Gas Cylinder Mounting Bracket for EXO Universal Mount (UMK)","Mounting + Cases",{"v":93,"d":"$ 93"}]
[null,"ACC-EXO-UMK-MAST","EXO","USD","Two Piece Mast Kit for EXO Universal Mount","Mounting + Cases",{"v":214,"d":"$ 214"}]
[null,"ACC-EXO-UMK-SIREN-KIT","EXO","USD","EXO Siren Mounting Bracket","Siren",{"v":66,"d":"$ 66"}]
[null,"ACC-EXO-UMK-SIREN-KIT","EXO","USD","EXO Siren Mounting Bracket","Mounting + Cases",{"v":66,"d":"$ 66"}]
[null,"ACC-EXO-UMK-SOLAR-MOUNT","EXO","USD","Solar Panel mount hardware for EXO (Solar panel sold separately)","Batteries, Chargers + Cables",{"v":320,"d":"$ 320"}]
[null,"ACC-EXO-UMK-SOLAR-MOUNT","EXO","USD","Solar Panel mount hardware for EXO (Solar panel sold separately)","Mounting + Cases",{"v":320,"d":"$ 320"}]
[null,"ACC-EXO-UMK-SOLAR-MOUNT-KIT","EXO","USD","EXO Solar Panel Kit. Includes solar panel, two piece mast, and solar panel mount. EXO universal mount (ACC-G7EXO-UMK) sold separately","Batteries, Chargers + Cables",{"v":1277,"d":"$ 1,277"}]
[null,"ACC-EXO-UMK-SOLAR-MOUNT-KIT","EXO","USD","EXO Solar Panel Kit. Includes solar panel, two piece mast, and solar panel mount. EXO universal mount (ACC-G7EXO-UMK) sold separately","Mounting + Cases",{"v":1277,"d":"$ 1,277"}]
[null,"ACC-EXO-WINDGUARD","EXO","USD","Replacement EXO Wind Guard","Gas Detector Accessories",{"v":59,"d":"$ 59"}]
[null,"ACC-G7-MC","G7","USD","G7 Metal Belt Clip with Screw","Personal Accessories",{"v":16,"d":"$ 16"}]
[null,"ACC-G7-PC","G7","USD","G7 Plastic Belt Clip with Screw","Personal Accessories",{"v":16,"d":"$ 16"}]
[null,"ACC-G7-PROBE","G7","USD","G7 Collapsable Sample Probe, 36 inch (1 meter) length","Gas Detector Accessories",{"v":314,"d":"$ 314"}]
[null,"ACC-G7-PROBE","G8","USD","G7 Collapsable Sample Probe, 36 inch (1 meter) length","Gas Detector Accessories",{"v":314,"d":"$ 314"}]
[null,"ACC-G7-PROBE-12","G7","USD","Sample probe, 12 inch (0.3 meter) length","Gas Detector Accessories",{"v":204,"d":"$ 204"}]
[null,"ACC-G7-PROBE-12","G8","USD","Sample probe, 12 inch (0.3 meter) length","Gas Detector Accessories",{"v":204,"d":"$ 204"}]
[null,"ACC-G7-PWRPAK","G7","USD","G7 Power Pack","Batteries, Chargers + Cables",{"v":144,"d":"$ 144"}]
[null,"ACC-G7-SC","G7","USD","Replacement Screws for G7 and Cartridge Main Housing","Gas Detector Accessories",{"v":8,"d":"$ 8"}]
[null,"ACC-G7-SC","G8","USD","Replacement Screws for G7 and Cartridge Main Housing","Gas Detector Accessories",{"v":8,"d":"$ 8"}]
[null,"ACC-G7-SP-10","G7","USD","G7 Screen Protectors, package of 10","Screen Protector & Covers",{"v":144,"d":"$ 144"}]
[null,"ACC-G7-SP-100","G7","USD","G7 Screen Protectors, package of 100","Screen Protector & Covers",{"v":1421,"d":"$ 1,421"}]
[null,"ACC-G7-USB-CAR","G7","USD","USB vehicle charger for G7 (1 port)","Batteries, Chargers + Cables",{"v":63,"d":"$ 63"}]
[null,"ACC-G7X-BRG-CASE","G7","USD","Case with foam cut out to hold G7 Bridge, G7x, and charging accessories","Mounting + Cases",{"v":299,"d":"$ 299"}]
[null,"ACC-G7X-BRG-CASE","Bridge","USD","Case with foam cut out to hold G7 Bridge, G7x, and charging accessories","Mounting + Cases",{"v":299,"d":"$ 299"}]
[null,"ACC-GANG-2","Dock","USD","Dock gang kit for 2 G7 Docks","Calibration Equipment",{"v":102,"d":"$ 102"}]
[null,"ACC-GANG-3","Dock","USD","Dock gang kit for 3 G7 Docks","Calibration Equipment",{"v":153,"d":"$ 153"}]
[null,"ACC-GANG-4","Dock","USD","Dock gang kit for 4 G7 Docks","Calibration Equipment",{"v":192,"d":"$ 192"}]
[null,"ACC-GANG-5","Dock","USD","Dock gang kit for 5 G7 Docks","Calibration Equipment",{"v":217,"d":"$ 217"}]
[null,"ACC-INLET-FILTER","Dock","USD","Inlet particulate filter for dock or EXO pump module and gas expansion module","Calibration Equipment",{"v":25,"d":"$ 25"}]
[null,"ACC-INLET-FILTER","Dock","USD","Inlet particulate filter for dock or EXO pump module and gas expansion module","Gas Detector Accessories",{"v":25,"d":"$ 25"}]
[null,"ACC-INLET-FILTER","EXO","USD","Inlet particulate filter for dock or EXO pump module and gas expansion module","Calibration Equipment",{"v":25,"d":"$ 25"}]
[null,"ACC-INLET-FILTER","EXO","USD","Inlet particulate filter for dock or EXO pump module and gas expansion module","Gas Detector Accessories",{"v":25,"d":"$ 25"}]
[null,"ACC-KF-ARMB","G7","USD","Klick Fast Armband for G7. Klick Fast Stud sold separately","Personal Accessories",{"v":83,"d":"$ 83"}]
[null,"ACC-KF-ARMB","G8","USD","Klick Fast Armband for G7. Klick Fast Stud sold separately","Personal Accessories",{"v":83,"d":"$ 83"}]
[null,"ACC-KF-ARMB-HV","G7","USD","Klick Fast High Visibility Armband for G7. Klick Fast Stud sold separately","Personal Accessories",{"v":83,"d":"$ 83"}]
[null,"ACC-KF-ARMB-HV","G8","USD","Klick Fast High Visibility Armband for G7. Klick Fast Stud sold separately","Personal Accessories",{"v":83,"d":"$ 83"}]
[null,"ACC-KF-CROC","G7","USD","Klick Fast Crocodile Garment Clip for G7. Klick Fast Stud sold separately","Personal Accessories",{"v":31,"d":"$ 31"}]
[null,"ACC-KF-CROC","G8","USD","Klick Fast Crocodile Garment Clip for G7. Klick Fast Stud sold separately","Personal Accessories",{"v":31,"d":"$ 31"}]
[null,"ACC-KF-DOCK02","G7","USD","Klick Fast Belt Dock to suit 38 mm belt for G7. Klick Fast Stud sold separately","Personal Accessories",{"v":12,"d":"$ 12"}]
[null,"ACC-KF-DOCK02","G8","USD","Klick Fast Belt Dock to suit 38 mm belt for G7. Klick Fast Stud sold separately","Personal Accessories",{"v":12,"d":"$ 12"}]
[null,"ACC-KF-DOCK03","G7","USD","Klick Fast Belt Dock to suit 50mm belt for G7. Klick Fast Stud sold separately","Personal Accessories",{"v":11,"d":"$ 11"}]
[null,"ACC-KF-DOCK03","G8","USD","Klick Fast Belt Dock to suit 50mm belt for G7. Klick Fast Stud sold separately","Personal Accessories",{"v":11,"d":"$ 11"}]
[null,"ACC-KF-DOCK05BL","G7","USD","Klick Fast Dock on a leather belt loop that sits at belt level for G7. Klick Fast Stud sold separately","Personal Accessories",{"v":23,"d":"$ 23"}]
[null,"ACC-KF-DOCK05BL","G8","USD","Klick Fast Dock on a leather belt loop that sits at belt level for G7. Klick Fast Stud sold separately","Personal Accessories",{"v":23,"d":"$ 23"}]
[null,"ACC-KF-DOCK05BLDROP","G7","USD","Klick Fast Dock on a leather belt loop that sits 50 mm below belt level for G7. Klick Fast Stud sold separately","Personal Accessories",{"v":31,"d":"$ 31"}]
[null,"ACC-KF-DOCK05BLDROP","G8","USD","Klick Fast Dock on a leather belt loop that sits 50 mm below belt level for G7. Klick Fast Stud sold separately","Personal Accessories",{"v":31,"d":"$ 31"}]
[null,"ACC-KF-DOCK06","G7","USD","Klick Fast Sew-on dock for G7. Klick Fast Stud sold separately","Personal Accessories",{"v":11,"d":"$ 11"}]
[null,"ACC-KF-DOCK06","G8","USD","Klick Fast Sew-on dock for G7. Klick Fast Stud sold separately","Personal Accessories",{"v":11,"d":"$ 11"}]
[null,"ACC-KF-DOCK08","G7","USD","Klick Fast Screw to fit dock for G7. Klick Fast Stud sold separately","Personal Accessories",{"v":14,"d":"$ 14"}]
[null,"ACC-KF-DOCK08","G8","USD","Klick Fast Screw to fit dock for G7. Klick Fast Stud sold separately","Personal Accessories",{"v":14,"d":"$ 14"}]
[null,"ACC-KF-DOCK10","G7","USD","Klick Fast Storage Dock for G7. Klick Fast Stud sold separately","Personal Accessories",{"v":0,"d":"$ 0"}]
[null,"ACC-KF-DOCK10","G8","USD","Klick Fast Storage Dock for G7. Klick Fast Stud sold separately","Personal Accessories",{"v":0,"d":"$ 0"}]
[null,"ACC-KF-RUCKSACK","G7","USD","Klick Fast Harness/Rucksack Mount Dock for G7. Klick Fast Stud sold separately","Personal Accessories",{"v":21,"d":"$ 21"}]
[null,"ACC-KF-RUCKSACK","G8","USD","Klick Fast Harness/Rucksack Mount Dock for G7. Klick Fast Stud sold separately","Personal Accessories",{"v":21,"d":"$ 21"}]
[null,"ACC-KF-SSHLDER17","G7","USD","Klick Fast 4-point Centre Harness for G7. Klick Fast Stud sold separately","Personal Accessories",{"v":58,"d":"$ 58"}]
[null,"ACC-KF-SSHLDER17","G8","USD","Klick Fast 4-point Centre Harness for G7. Klick Fast Stud sold separately","Personal Accessories",{"v":58,"d":"$ 58"}]
[null,"ACC-KF-SSHLDER18","G7","USD","Klick Fast Shoulder Harness for G7. Klick Fast Stud sold separately","Personal Accessories",{"v":60,"d":"$ 60"}]
[null,"ACC-KF-SSHLDER18","G8","USD","Klick Fast Shoulder Harness for G7. Klick Fast Stud sold separately","Personal Accessories",{"v":60,"d":"$ 60"}]
[null,"ACC-KF-SSHLDR999ADJ","G7","USD","Klick Fast Chest Harness for G7. Klick Fast Stud sold separately","Personal Accessories",{"v":61,"d":"$ 61"}]
[null,"ACC-KF-SSHLDR999ADJ","G8","USD","Klick Fast Chest Harness for G7. Klick Fast Stud sold separately","Personal Accessories",{"v":61,"d":"$ 61"}]
[null,"ACC-KF-STUD-1","G7","USD","Klick Fast Stud (compatible with G7 standard (no-gas) and diffusion cartridges only)","Personal Accessories",{"v":18,"d":"$ 18"}]
[null,"ACC-KF-STUD-1","G8","USD","Klick Fast Stud (compatible with G7 standard (no-gas) and diffusion cartridges only)","Personal Accessories",{"v":18,"d":"$ 18"}]
[null,"ACC-KF-STUD-10","G7","USD","Klick Fast Stud (compatible with G7 standard (no-gas) and diffusion cartridges only), Package of 10","Personal Accessories",{"v":144,"d":"$ 144"}]
[null,"ACC-KF-STUD-10","G8","USD","Klick Fast Stud (compatible with G7 standard (no-gas) and diffusion cartridges only), Package of 10","Personal Accessories",{"v":144,"d":"$ 144"}]
[null,"ACC-KF-STUD-100","G7","USD","Klick Fast Stud (compatible with G7 standard (no-gas) and diffusion cartridges only), Package of 100","Personal Accessories",{"v":1421,"d":"$ 1,421"}]
[null,"ACC-KF-STUD-100","G8","USD","Klick Fast Stud (compatible with G7 standard (no-gas) and diffusion cartridges only), Package of 100","Personal Accessories",{"v":1421,"d":"$ 1,421"}]
[null,"ACC-KLICK-BAND-EU","G7","USD","Klick Fast Bandolier Style Harness for G7. Klick Fast Stud sold separately","Personal Accessories",{"v":0,"d":"$ 0"}]
[null,"ACC-KLICK-BAND-EU","G8","USD","Klick Fast Bandolier Style Harness for G7. Klick Fast Stud sold separately","Personal Accessories",{"v":0,"d":"$ 0"}]
[null,"ACC-KLICK-BELT50-EU","G7","USD","Klick Fast Dock on a leather belt loop +50mm for G7. Klick Fast Stud sold separately","Personal Accessories",{"v":0,"d":"$ 0"}]
[null,"ACC-KLICK-BELT50-EU","G8","USD","Klick Fast Dock on a leather belt loop +50mm for G7. Klick Fast Stud sold separately","Personal Accessories",{"v":0,"d":"$ 0"}]
[null,"ACC-KLICK-BELT-EU","G7","USD","Klick Fast dock on a leather belt loop for G7. Klick Fast Stud sold separately","Personal Accessories",{"v":0,"d":"$ 0"}]
[null,"ACC-KLICK-BELT-EU","G8","USD","Klick Fast dock on a leather belt loop for G7. Klick Fast Stud sold separately","Personal Accessories",{"v":0,"d":"$ 0"}]
[null,"ACC-KLICK-CHEST-EU","G7","USD","Klick Fast 4 Point centre chest harness with dock for G7. Klick Fast Stud sold separately","Personal Accessories",{"v":0,"d":"$ 0"}]
[null,"ACC-KLICK-CHEST-EU","G8","USD","Klick Fast 4 Point centre chest harness with dock for G7. Klick Fast Stud sold separately","Personal Accessories",{"v":0,"d":"$ 0"}]
[null,"ACC-KLICK-HAR-EU","G7","USD","Klick Fast dock for Harness Straps for G7. Klick Fast Stud sold separately","Personal Accessories",{"v":0,"d":"$ 0"}]
[null,"ACC-KLICK-HAR-EU","G8","USD","Klick Fast dock for Harness Straps for G7. Klick Fast Stud sold separately","Personal Accessories",{"v":0,"d":"$ 0"}]
[null,"ACC-KLICK-SEW-EU","G7","USD","Klick Fast Sew-on dock for G7. Klick Fast Stud sold separately","Personal Accessories",{"v":0,"d":"$ 0"}]
[null,"ACC-KLICK-SEW-EU","G8","USD","Klick Fast Sew-on dock for G7. Klick Fast Stud sold separately","Personal Accessories",{"v":0,"d":"$ 0"}]
[null,"ACC-LDT100","G7","USD","Tygon Tubing, 100 feet (30 meters), 0.188” (0.48 cm) diameter with Quick-Connects. For use with pump cartridge and 4-inlet pump module. Not for use with reactive gases","Gas Detector Accessories",{"v":73,"d":"$ 73"}]
[null,"ACC-LDT100","G8","USD","Tygon Tubing, 100 feet (30 meters), 0.188” (0.48 cm) diameter with Quick-Connects. For use with pump cartridge and 4-inlet pump module. Not for use with reactive gases","Gas Detector Accessories",{"v":73,"d":"$ 73"}]
[null,"ACC-LDT100","EXO","USD","Tygon Tubing, 100 feet (30 meters), 0.188” (0.48 cm) diameter with Quick-Connects. For use with pump cartridge and 4-inlet pump module. Not for use with reactive gases","Gas Detector Accessories",{"v":73,"d":"$ 73"}]
[null,"ACC-LNS-CHG-AZ","G7","USD","G7 USB Wall Charger Kit. Includes Cable, Charge Clip, and Wall Charger, Australia/New Zealand","Batteries, Chargers + Cables",{"v":0,"d":"$ 0"}]
[null,"ACC-LNS-CHG-EU","G7","USD","G7 USB Wall Charger Kit. Includes Cable, Charge Clip, and Wall Charger, Europe","Batteries, Chargers + Cables",{"v":36,"d":"$ 36"}]
[null,"ACC-LNS-CHG-NA","G7","USD","G7 USB Wall Charger Kit. Includes Cable, Charge Clip, and Wall Charger, North America","Batteries, Chargers + Cables",{"v":36,"d":"$ 36"}]
[null,"ACC-LNS-CLIP","G7","USD","Replacement G7 Charge Clip","Batteries, Chargers + Cables",{"v":16,"d":"$ 16"}]
[null,"ACC-MUL5-CHG-AZ","G7","USD","5 Way Micro USB Multi-Charger, Australia","Batteries, Chargers + Cables",{"v":0,"d":"$ 0"}]
[null,"ACC-MUL5-CHG-AZ","G6","USD","5 Way Micro USB Multi-Charger, Australia","Batteries, Chargers + Cables",{"v":0,"d":"$ 0"}]
[null,"ACC-MUL5-CHG-AZ","G8","USD","5 Way Micro USB Multi-Charger, Australia","Batteries, Chargers + Cables",{"v":0,"d":"$ 0"}]
[null,"ACC-MUL5-CHG-EU","G7","USD","5 Way Micro USB Multi-Charger, Europe","Batteries, Chargers + Cables",{"v":60,"d":"$ 60"}]
[null,"ACC-MUL5-CHG-EU","G6","USD","5 Way Micro USB Multi-Charger, Europe","Batteries, Chargers + Cables",{"v":60,"d":"$ 60"}]
[null,"ACC-MUL5-CHG-EU","G8","USD","5 Way Micro USB Multi-Charger, Europe","Batteries, Chargers + Cables",{"v":60,"d":"$ 60"}]
[null,"ACC-MUL5-CHG-NA","G7","USD","5 Way Micro USB Multi-Charger, North America","Batteries, Chargers + Cables",{"v":60,"d":"$ 60"}]
[null,"ACC-MUL5-CHG-NA","G6","USD","5 Way Micro USB Multi-Charger, North America","Batteries, Chargers + Cables",{"v":60,"d":"$ 60"}]
[null,"ACC-MUL5-CHG-NA","G8","USD","5 Way Micro USB Multi-Charger, North America","Batteries, Chargers + Cables",{"v":60,"d":"$ 60"}]
[null,"ACC-MUL5-CHG-UK","G7","USD","5 Way Micro USB Multi-Charger, UK","Batteries, Chargers + Cables",{"v":0,"d":"$ 0"}]
[null,"ACC-MUL5-CHG-UK","G6","USD","5 Way Micro USB Multi-Charger, UK","Batteries, Chargers + Cables",{"v":0,"d":"$ 0"}]
[null,"ACC-MUL5-CHG-UK","G8","USD","5 Way Micro USB Multi-Charger, UK","Batteries, Chargers + Cables",{"v":0,"d":"$ 0"}]
[null,"ACC-OSCAR-20-EU","G7","USD","Oscar 20 Donor Aerial with 5mtr Cable","Signal Booster",{"v":0,"d":"$ 0"}]
[null,"ACC-OSCAR-20-EU","G8","USD","Oscar 20 Donor Aerial with 5mtr Cable","Signal Booster",{"v":0,"d":"$ 0"}]
[null,"ACC-OSCAR-20-EU","EXO","USD","Oscar 20 Donor Aerial with 5mtr Cable","Signal Booster",{"v":0,"d":"$ 0"}]
[null,"ACC-OSCAR-40-EU","G7","USD","Oscar 40 Omni Directional Aerial, 10mtr Cable","Signal Booster",{"v":0,"d":"$ 0"}]
[null,"ACC-OSCAR-40-EU","G8","USD","Oscar 40 Omni Directional Aerial, 10mtr Cable","Signal Booster",{"v":0,"d":"$ 0"}]
[null,"ACC-OSCAR-40-EU","EXO","USD","Oscar 40 Omni Directional Aerial, 10mtr Cable","Signal Booster",{"v":0,"d":"$ 0"}]
[null,"ACC-PD-SPR","G7","USD","Replacement PID Spring","Gas Detector Accessories",{"v":7,"d":"$ 7"}]
[null,"ACC-PD-SPR","G8","USD","Replacement PID Spring","Gas Detector Accessories",{"v":7,"d":"$ 7"}]
[null,"ACC-PD-SPR","EXO","USD","Replacement PID Spring","Gas Detector Accessories",{"v":7,"d":"$ 7"}]
[null,"ACC-PID-CLEANING-KIT","G7","USD","PID sensor cleaning kit","Gas Detector Accessories",{"v":150,"d":"$ 150"}]
[null,"ACC-PID-CLEANING-KIT","G8","USD","PID sensor cleaning kit","Gas Detector Accessories",{"v":150,"d":"$ 150"}]
[null,"ACC-PID-CLEANING-KIT","EXO","USD","PID sensor cleaning kit","Gas Detector Accessories",{"v":150,"d":"$ 150"}]
[null,"ACC-PID-REMOVAL-TOOL","G7","USD","PID sensor removal tool","Gas Detector Accessories",{"v":19,"d":"$ 19"}]
[null,"ACC-PID-REMOVAL-TOOL","G8","USD","PID sensor removal tool","Gas Detector Accessories",{"v":19,"d":"$ 19"}]
[null,"ACC-PID-REMOVAL-TOOL","EXO","USD","PID sensor removal tool","Gas Detector Accessories",{"v":19,"d":"$ 19"}]
[null,"ACC-PUMP-FILT10","G7","USD","Pump cartridge particulate filters, Package of 10","Gas Detector Accessories",{"v":20,"d":"$ 20"}]
[null,"ACC-PUMP-FILT10","G8","USD","Pump cartridge particulate filters, Package of 10","Gas Detector Accessories",{"v":20,"d":"$ 20"}]
[null,"ACC-PUMP-STONE1","G7","USD","External stone particulate filter","Gas Detector Accessories",{"v":17,"d":"$ 17"}]
[null,"ACC-PUMP-STONE1","G8","USD","External stone particulate filter","Gas Detector Accessories",{"v":17,"d":"$ 17"}]
[null,"ACC-PUMP-STONE5","G7","USD","External stone particulate filters, package of 5","Gas Detector Accessories",{"v":81,"d":"$ 81"}]
[null,"ACC-PUMP-STONE5","G8","USD","External stone particulate filters, package of 5","Gas Detector Accessories",{"v":81,"d":"$ 81"}]
[null,"ACC-Q-CAL","G7","USD","Multi-gas Calibration Cap for Cartridge","Calibration Equipment",{"v":25,"d":"$ 25"}]
[null,"ACC-Q-CAL","G8","USD","Multi-gas Calibration Cap for Cartridge","Calibration Equipment",{"v":25,"d":"$ 25"}]
[null,"ACC-QCNM-10","G7","USD","Bulk package of 10 male quick connects for tubing","Calibration Equipment",{"v":25,"d":"$ 25"}]
[null,"ACC-QCNM-10","G7","USD","Bulk package of 10 male quick connects for tubing","Gas Detector Accessories",{"v":25,"d":"$ 25"}]
[null,"ACC-QCNM-10","G8","USD","Bulk package of 10 male quick connects for tubing","Calibration Equipment",{"v":25,"d":"$ 25"}]
[null,"ACC-QCNM-10","G8","USD","Bulk package of 10 male quick connects for tubing","Gas Detector Accessories",{"v":25,"d":"$ 25"}]
[null,"ACC-QCNM-10","EXO","USD","Bulk package of 10 male quick connects for tubing","Calibration Equipment",{"v":25,"d":"$ 25"}]
[null,"ACC-QCNM-10","EXO","USD","Bulk package of 10 male quick connects for tubing","Gas Detector Accessories",{"v":25,"d":"$ 25"}]
[null,"ACC-QCNM-25","G7","USD","Bulk package of 25 male quick connects","Calibration Equipment",{"v":60,"d":"$ 60"}]
[null,"ACC-QCNM-25","G7","USD","Bulk package of 25 male quick connects","Gas Detector Accessories",{"v":60,"d":"$ 60"}]
[null,"ACC-QCNM-25","G8","USD","Bulk package of 25 male quick connects","Calibration Equipment",{"v":60,"d":"$ 60"}]
[null,"ACC-QCNM-25","G8","USD","Bulk package of 25 male quick connects","Gas Detector Accessories",{"v":60,"d":"$ 60"}]
[null,"ACC-QCNM-25","EXO","USD","Bulk package of 25 male quick connects","Calibration Equipment",{"v":60,"d":"$ 60"}]
[null,"ACC-QCNM-25","EXO","USD","Bulk package of 25 male quick connects","Gas Detector Accessories",{"v":60,"d":"$ 60"}]
[null,"ACC-QCNM-50","G7","USD","Bulk package of 50 male quick connects","Calibration Equipment",{"v":113,"d":"$ 113"}]
[null,"ACC-QCNM-50","G7","USD","Bulk package of 50 male quick connects","Gas Detector Accessories",{"v":113,"d":"$ 113"}]
[null,"ACC-QCNM-50","G8","USD","Bulk package of 50 male quick connects","Calibration Equipment",{"v":113,"d":"$ 113"}]
[null,"ACC-QCNM-50","G8","USD","Bulk package of 50 male quick connects","Gas Detector Accessories",{"v":113,"d":"$ 113"}]
[null,"ACC-QCNM-50","EXO","USD","Bulk package of 50 male quick connects","Calibration Equipment",{"v":113,"d":"$ 113"}]
[null,"ACC-QCNM-50","EXO","USD","Bulk package of 50 male quick connects","Gas Detector Accessories",{"v":113,"d":"$ 113"}]
[null,"ACC-Q-FILT10-EXT","G7","USD","External Multi-gas Filters for Cartridge, Package of 10","Gas Detector Accessories",{"v":180,"d":"$ 180"}]
[null,"ACC-Q-FILT10-EXT","G8","USD","External Multi-gas Filters for Cartridge, Package of 10","Gas Detector Accessories",{"v":180,"d":"$ 180"}]
[null,"ACC-Q-FILT10-INT","G7","USD","Internal Multi-gas Filters, Package of 10","Gas Detector Accessories",{"v":108,"d":"$ 108"}]
[null,"ACC-Q-FILT10-INT","G8","USD","Internal Multi-gas Filters, Package of 10","Gas Detector Accessories",{"v":108,"d":"$ 108"}]
[null,"ACC-Q-FILT10-INT","EXO","USD","Internal Multi-gas Filters, Package of 10","Gas Detector Accessories",{"v":108,"d":"$ 108"}]
[null,"ACC-REG","G7","USD","Accessory, Regulator, 0.5L Fixed Flow","Calibration Equipment",{"v":192,"d":"$ 192"}]
[null,"ACC-REG","G8","USD","Accessory, Regulator, 0.5L Fixed Flow","Calibration Equipment",{"v":192,"d":"$ 192"}]
[null,"ACC-REG","EXO","USD","Accessory, Regulator, 0.5L Fixed Flow","Calibration Equipment",{"v":192,"d":"$ 192"}]
[null,"ACC-REG-1L","G7","USD","Regulator, Stainless Steel, 1.0L/min, Fixed Flow","Calibration Equipment",{"v":407,"d":"$ 407"}]
[null,"ACC-REG-1L","G8","USD","Regulator, Stainless Steel, 1.0L/min, Fixed Flow","Calibration Equipment",{"v":407,"d":"$ 407"}]
[null,"ACC-REG-TRG-BMP","G7","USD","Bump test trigger regulator for 5.8L ECO-Bump test cylinder","Calibration Equipment",{"v":218,"d":"$ 218"}]
[null,"ACC-REG-TRG-BMP","G8","USD","Bump test trigger regulator for 5.8L ECO-Bump test cylinder","Calibration Equipment",{"v":218,"d":"$ 218"}]
[null,"ACC-REG-TRIGGER","G7","USD","Regulator, 0.5L/min Trigger","Calibration Equipment",{"v":417,"d":"$ 417"}]
[null,"ACC-REG-TRIGGER","G8","USD","Regulator, 0.5L/min Trigger","Calibration Equipment",{"v":417,"d":"$ 417"}]
[null,"ACC-S-CAL","G7","USD","Single-gas Calibration Cap for Cartridge","Calibration Equipment",{"v":19,"d":"$ 19"}]
[null,"ACC-S-CAL","G8","USD","Single-gas Calibration Cap for Cartridge","Calibration Equipment",{"v":19,"d":"$ 19"}]
[null,"ACC-S-CAL-E","G7","USD","Ozone (O3) Single-gas Calibration Cap for Cartridge","Calibration Equipment",{"v":25,"d":"$ 25"}]
[null,"ACC-S-CAL-E","G8","USD","Ozone (O3) Single-gas Calibration Cap for Cartridge","Calibration Equipment",{"v":25,"d":"$ 25"}]
[null,"ACC-S-FILT10-INT","G7","USD","Internal Single-gas Filters for Cartridge, Package of 10","Calibration Equipment",{"v":20,"d":"$ 20"}]
[null,"ACC-S-FILT10-INT","G8","USD","Internal Single-gas Filters for Cartridge, Package of 10","Calibration Equipment",{"v":20,"d":"$ 20"}]
[null,"ACC-T10","G7","USD","Tygon Tubing, 10 feet (3 meters), 0.125” (0.48 cm) diameter with Quick-Connects for use with Pumped Cartridge or 4-Inlet Pump Module. Not for use with reactive gases","Gas Detector Accessories",{"v":36,"d":"$ 36"}]
[null,"ACC-T10","G7","USD","Tygon Tubing, 10 feet (3 meters), 0.125” (0.48 cm) diameter with Quick-Connects for use with Pumped Cartridge or 4-Inlet Pump Module. Not for use with reactive gases","Calibration Equipment",{"v":36,"d":"$ 36"}]
[null,"ACC-T10","G8","USD","Tygon Tubing, 10 feet (3 meters), 0.125” (0.48 cm) diameter with Quick-Connects for use with Pumped Cartridge or 4-Inlet Pump Module. Not for use with reactive gases","Gas Detector Accessories",{"v":36,"d":"$ 36"}]
[null,"ACC-T10","G8","USD","Tygon Tubing, 10 feet (3 meters), 0.125” (0.48 cm) diameter with Quick-Connects for use with Pumped Cartridge or 4-Inlet Pump Module. Not for use with reactive gases","Calibration Equipment",{"v":36,"d":"$ 36"}]
[null,"ACC-T10","EXO","USD","Tygon Tubing, 10 feet (3 meters), 0.125” (0.48 cm) diameter with Quick-Connects for use with Pumped Cartridge or 4-Inlet Pump Module. Not for use with reactive gases","Gas Detector Accessories",{"v":36,"d":"$ 36"}]
[null,"ACC-T10","EXO","USD","Tygon Tubing, 10 feet (3 meters), 0.125” (0.48 cm) diameter with Quick-Connects for use with Pumped Cartridge or 4-Inlet Pump Module. Not for use with reactive gases","Calibration Equipment",{"v":36,"d":"$ 36"}]
[null,"ACC-T10","Dock","USD","Tygon Tubing, 10 feet (3 meters), 0.125” (0.48 cm) diameter with Quick-Connects for use with Pumped Cartridge or 4-Inlet Pump Module. Not for use with reactive gases","Gas Detector Accessories",{"v":36,"d":"$ 36"}]
[null,"ACC-T10","Dock","USD","Tygon Tubing, 10 feet (3 meters), 0.125” (0.48 cm) diameter with Quick-Connects for use with Pumped Cartridge or 4-Inlet Pump Module. Not for use with reactive gases","Calibration Equipment",{"v":36,"d":"$ 36"}]
[null,"ACC-T100","G7","USD","Tygon Tubing, 100 feet (30 meters), 0.125” (0.48 cm) diameter with Quick-Connects for use with Pumped Cartridge or 4-Inlet Pump Module. Not for use with reactive gases","Gas Detector Accessories",{"v":71,"d":"$ 71"}]
[null,"ACC-T100","G8","USD","Tygon Tubing, 100 feet (30 meters), 0.125” (0.48 cm) diameter with Quick-Connects for use with Pumped Cartridge or 4-Inlet Pump Module. Not for use with reactive gases","Gas Detector Accessories",{"v":71,"d":"$ 71"}]
[null,"ACC-T100","EXO","USD","Tygon Tubing, 100 feet (30 meters), 0.125” (0.48 cm) diameter with Quick-Connects for use with Pumped Cartridge or 4-Inlet Pump Module. Not for use with reactive gases","Gas Detector Accessories",{"v":71,"d":"$ 71"}]
[null,"ACC-T2","G7","USD","Tygon Tubing, 2 feet (0.61 meters), 0.125” (0.48 cm) diameter with Quick-Connects for use with Pumped Cartridge or 4-Inlet Pump Module. Not for use with reactive gases","Gas Detector Accessories",{"v":25,"d":"$ 25"}]
[null,"ACC-T2","G7","USD","Tygon Tubing, 2 feet (0.61 meters), 0.125” (0.48 cm) diameter with Quick-Connects for use with Pumped Cartridge or 4-Inlet Pump Module. Not for use with reactive gases","Calibration Equipment",{"v":25,"d":"$ 25"}]
[null,"ACC-T2","G8","USD","Tygon Tubing, 2 feet (0.61 meters), 0.125” (0.48 cm) diameter with Quick-Connects for use with Pumped Cartridge or 4-Inlet Pump Module. Not for use with reactive gases","Gas Detector Accessories",{"v":25,"d":"$ 25"}]
[null,"ACC-T2","G8","USD","Tygon Tubing, 2 feet (0.61 meters), 0.125” (0.48 cm) diameter with Quick-Connects for use with Pumped Cartridge or 4-Inlet Pump Module. Not for use with reactive gases","Calibration Equipment",{"v":25,"d":"$ 25"}]
[null,"ACC-T2","EXO","USD","Tygon Tubing, 2 feet (0.61 meters), 0.125” (0.48 cm) diameter with Quick-Connects for use with Pumped Cartridge or 4-Inlet Pump Module. Not for use with reactive gases","Gas Detector Accessories",{"v":25,"d":"$ 25"}]
[null,"ACC-T2","EXO","USD","Tygon Tubing, 2 feet (0.61 meters), 0.125” (0.48 cm) diameter with Quick-Connects for use with Pumped Cartridge or 4-Inlet Pump Module. Not for use with reactive gases","Calibration Equipment",{"v":25,"d":"$ 25"}]
[null,"ACC-T2","Dock","USD","Tygon Tubing, 2 feet (0.61 meters), 0.125” (0.48 cm) diameter with Quick-Connects for use with Pumped Cartridge or 4-Inlet Pump Module. Not for use with reactive gases","Gas Detector Accessories",{"v":25,"d":"$ 25"}]
[null,"ACC-T2","Dock","USD","Tygon Tubing, 2 feet (0.61 meters), 0.125” (0.48 cm) diameter with Quick-Connects for use with Pumped Cartridge or 4-Inlet Pump Module. Not for use with reactive gases","Calibration Equipment",{"v":25,"d":"$ 25"}]
[null,"ACC-T50","G7","USD","Tygon Tubing, 50 feet (15.24 meters), 0.125” (0.48 cm) diameter with Quick-Connects for use with Pumped Cartridge or 4-Inlet Pump Module. Not for use with reactive gases","Gas Detector Accessories",{"v":60,"d":"$ 60"}]
[null,"ACC-T50","G8","USD","Tygon Tubing, 50 feet (15.24 meters), 0.125” (0.48 cm) diameter with Quick-Connects for use with Pumped Cartridge or 4-Inlet Pump Module. Not for use with reactive gases","Gas Detector Accessories",{"v":60,"d":"$ 60"}]
[null,"ACC-T50","EXO","USD","Tygon Tubing, 50 feet (15.24 meters), 0.125” (0.48 cm) diameter with Quick-Connects for use with Pumped Cartridge or 4-Inlet Pump Module. Not for use with reactive gases","Gas Detector Accessories",{"v":60,"d":"$ 60"}]
[null,"ACC-USB-CAR","G7","USD","USB vehicle charger for Bridge (2 ports)","Batteries, Chargers + Cables",{"v":63,"d":"$ 63"}]
[null,"ACC-USB-CAR","G8","USD","USB vehicle charger for Bridge (2 ports)","Batteries, Chargers + Cables",{"v":63,"d":"$ 63"}]
[null,"ACC-WALL-BRK-BLK","G7","USD","G7 Wearable Wall Mount Bracket","Mounting + Cases",{"v":18,"d":"$ 18"}]
[null,"ACC-WALL-CHG-BRK-BLK-AZ","G7","USD","G7 Wearable Wall Charger Bracket (includes charge cable, wall charger, charge clip, and bracket), Australia/New Zealand","Mounting + Cases",{"v":0,"d":"$ 0"}]
[null,"ACC-WALL-CHG-BRK-BLK-AZ","G7","USD","G7 Wearable Wall Charger Bracket (includes charge cable, wall charger, charge clip, and bracket), Australia/New Zealand","Batteries, Chargers + Cables",{"v":0,"d":"$ 0"}]
[null,"ACC-WALL-CHG-BRK-BLK-EU","G7","USD","G7 Wearable Wall Charger Bracket (includes charge cable, wall charger, charge clip, and bracket), Europe","Mounting + Cases",{"v":40,"d":"$ 40"}]
[null,"ACC-WALL-CHG-BRK-BLK-EU","G7","USD","G7 Wearable Wall Charger Bracket (includes charge cable, wall charger, charge clip, and bracket), Europe","Batteries, Chargers + Cables",{"v":40,"d":"$ 40"}]
[null,"ACC-WALL-CHG-BRK-BLK-NA","G7","USD","G7 Wearable Wall Charger Bracket (includes charge cable, wall charger, charge clip, and bracket), North America","Mounting + Cases",{"v":40,"d":"$ 40"}]
[null,"ACC-WALL-CHG-BRK-BLK-NA","G7","USD","G7 Wearable Wall Charger Bracket (includes charge cable, wall charger, charge clip, and bracket), North America","Batteries, Chargers + Cables",{"v":40,"d":"$ 40"}]
[null,"BEACON-EU","G6","USD","Location Beacon, Europe","Beacon",{"v":174,"d":"$ 174"}]
[null,"BEACON-EU","G7","USD","Location Beacon, Europe","Beacon",{"v":174,"d":"$ 174"}]
[null,"BEACON-EU","EXO","USD","Location Beacon, Europe","Beacon",{"v":174,"d":"$ 174"}]
[null,"BEACON-EU","Beacon","USD","Location Beacon, Europe","Beacon",{"v":174,"d":"$ 174"}]
[null,"BEACON-EU","G8","USD","Location Beacon, Europe","Beacon",{"v":174,"d":"$ 174"}]
[null,"BEACON-NA","G6","USD","Location Beacon, North America","Beacon",{"v":174,"d":"$ 174"}]
[null,"BEACON-NA","G7","USD","Location Beacon, North America","Beacon",{"v":174,"d":"$ 174"}]
[null,"BEACON-NA","EXO","USD","Location Beacon, North America","Beacon",{"v":174,"d":"$ 174"}]
[null,"BEACON-NA","Beacon","USD","Location Beacon, North America","Beacon",{"v":174,"d":"$ 174"}]
[null,"BEACON-NA","G8","USD","Location Beacon, North America","Beacon",{"v":174,"d":"$ 174"}]
[null,"BRIDGE-AZ2","Bridge","USD","Bridge hardware, Australia/New Zealand","Bridge",{"v":0,"d":"$ 0"}]
[null,"BRIDGE-AZ2","G7","USD","Bridge hardware, Australia/New Zealand","Bridge",{"v":0,"d":"$ 0"}]
[null,"BRIDGE-NA2","Bridge","USD","Bridge hardware, North America","Bridge",{"v":1332,"d":"$ 1,332"}]
[null,"BRIDGE-NA2","G7","USD","Bridge hardware, North America","Bridge",{"v":1332,"d":"$ 1,332"}]
[null,"CMP-ACC-DF-2Y","Dock","USD","Demand Flow Regulator, 2-Year Lease Monthly Rate","Calibration Equipment",{"v":21,"d":"$ 21"}]
[null,"CMP-ACC-DF-2Y","EXO","USD","Demand Flow Regulator, 2-Year Lease Monthly Rate","Calibration Equipment",{"v":21,"d":"$ 21"}]
[null,"CMP-ACC-DF-3Y","Dock","USD","Demand Flow Regulator, 3-Year Lease Monthly Rate","Calibration Equipment",{"v":14,"d":"$ 14"}]
[null,"CMP-ACC-DF-3Y","EXO","USD","Demand Flow Regulator, 3-Year Lease Monthly Rate","Calibration Equipment",{"v":14,"d":"$ 14"}]
[null,"CMP-ACC-DF-4Y","Dock","USD","Demand Flow Regulator, 4-Year Lease Monthly Rate","Calibration Equipment",{"v":10,"d":"$ 10"}]
[null,"CMP-ACC-DF-4Y","EXO","USD","Demand Flow Regulator, 4-Year Lease Monthly Rate","Calibration Equipment",{"v":10,"d":"$ 10"}]
[null,"CMP-ACC-DOCK-STN-5-LOADED-NA-4Y","Dock","USD","Dock wall mount bracket including 5 G7 Docks and single cylinder holder, North America, 4-Year Lease Monthly Rate","Mounting + Cases",{"v":134,"d":"$ 134"}]
[null,"CMP-ACC-EXO-STANDOFF-4Y","EXO","USD","EXO Base (Standoff) Lease, 4-Year Term Monthly Rate","Mounting + Cases",{"v":8,"d":"$ 8"}]
[null,"CMP-ACC-EXO-TRIPOD-4Y","EXO","USD","EXO Tripod Lease, 4-Year Term, Monthly Rate","Mounting + Cases",{"v":24,"d":"$ 24"}]
[null,"CMP-BEACON-EU-4Y","Beacon","USD","Location Beacon, Europe, 4-Year Lease Monthly Rate","Beacon",{"v":4,"d":"$ 4"}]
[null,"CMP-BEACON-NA-4Y","Beacon","USD","Location Beacon, North America, 4-Year Lease Monthly Rate","Beacon",{"v":4,"d":"$ 4"}]
[null,"CMP-BRIDGE-NA2-4Y","Bridge","USD","Bridge Hardware + Service, North America, 4-Year Lease Monthly Rate","Bridge",{"v":113,"d":"$ 113"}]
[null,"CMP-BRIDGE-NA2-4Y","G7","USD","Bridge Hardware + Service, North America, 4-Year Lease Monthly Rate","Bridge",{"v":113,"d":"$ 113"}]
[null,"CMP-DOCK-P-EU-4Y","Dock","USD","G7 Dock, Europe, 4-Year Lease Monthly Rate","Dock",{"v":25,"d":"$ 25"}]
[null,"CMP-DOCK-P-EU-4Y","G7","USD","G7 Dock, Europe, 4-Year Lease Monthly Rate","Dock",{"v":25,"d":"$ 25"}]
[null,"CMP-DOCK-P-EU-4Y","G8","USD","G7 Dock, Europe, 4-Year Lease Monthly Rate","Dock",{"v":25,"d":"$ 25"}]
[null,"CMP-DOCK-P-NA-4Y","Dock","USD","G7 Dock, North America, 4-Year Lease Monthly Rate","Dock",{"v":25,"d":"$ 25"}]
[null,"CMP-DOCK-P-NA-4Y","G7","USD","G7 Dock, North America, 4-Year Lease Monthly Rate","Dock",{"v":25,"d":"$ 25"}]
[null,"CMP-DOCK-P-NA-4Y","G8","USD","G7 Dock, North America, 4-Year Lease Monthly Rate","Dock",{"v":25,"d":"$ 25"}]
[null,"CMP-EXO-PUMP-4Y","EXO","USD","EXO Pump Module, 4-Year Lease Monthly Rate","Gas Detector Accessories",{"v":56,"d":"$ 56"}]
[null,"CMP-EXO-SAT-4Y","EXO","USD","EXO Satellite Module + Service 4-Year Lease Monthly Rate","Satellite, GPS + Communication Equipment",{"v":141,"d":"$ 141"}]
[null,"CMP-G6-DOCK-AZ-4Y","Dock","USD","G6 Dock, Australia/New Zealand, 4-Year Lease Monthly Rate","Dock",{"v":19,"d":"$ 19"}]
[null,"CMP-G6-DOCK-AZ-4Y","G6","USD","G6 Dock, Australia/New Zealand, 4-Year Lease Monthly Rate","Dock",{"v":19,"d":"$ 19"}]
[null,"CMP-G6-DOCK-EU-4Y","Dock","USD","G6 Dock, Europe, 4-Year Lease Monthly Rate","Dock",{"v":19,"d":"$ 19"}]
[null,"CMP-G6-DOCK-EU-4Y","G6","USD","G6 Dock, Europe, 4-Year Lease Monthly Rate","Dock",{"v":19,"d":"$ 19"}]
[null,"CMP-G6-DOCK-NA-4Y","Dock","USD","G6 Dock, North America, 4-Year Lease Monthly Rate","Dock",{"v":19,"d":"$ 19"}]
[null,"CMP-G6-DOCK-NA-4Y","G6","USD","G6 Dock, North America, 4-Year Lease Monthly Rate","Dock",{"v":19,"d":"$ 19"}]
[null,"DOCK-P-AZ","Dock","USD","G7 Dock, Australia/New Zealand","Dock",{"v":0,"d":"$ 0"}]
[null,"DOCK-P-AZ","G7","USD","G7 Dock, Australia/New Zealand","Dock",{"v":0,"d":"$ 0"}]
[null,"DOCK-P-AZ","G8","USD","G7 Dock, Australia/New Zealand","Dock",{"v":0,"d":"$ 0"}]
[null,"DOCK-P-EU","Dock","USD","G7 Dock, Europe","Dock",{"v":1000,"d":"$ 1,000"}]
[null,"DOCK-P-EU","G7","USD","G7 Dock, Europe","Dock",{"v":1000,"d":"$ 1,000"}]
[null,"DOCK-P-EU","G8","USD","G7 Dock, Europe","Dock",{"v":1000,"d":"$ 1,000"}]
[null,"DOCK-P-NA","Dock","USD","G7 Dock, North America","Dock",{"v":1000,"d":"$ 1,000"}]
[null,"DOCK-P-NA","G7","USD","G7 Dock, North America","Dock",{"v":1000,"d":"$ 1,000"}]
[null,"DOCK-P-NA","G8","USD","G7 Dock, North America","Dock",{"v":1000,"d":"$ 1,000"}]
[null,"G6-DOCK-AZ","Dock","USD","G6 Dock, Australia/New Zealand","Dock",{"v":756,"d":"$ 756"}]
[null,"G6-DOCK-AZ","G6","USD","G6 Dock, Australia/New Zealand","Dock",{"v":756,"d":"$ 756"}]
[null,"G6-DOCK-EU","Dock","USD","G6 Dock, Europe","Dock",{"v":756,"d":"$ 756"}]
[null,"G6-DOCK-EU","G6","USD","G6 Dock, Europe","Dock",{"v":756,"d":"$ 756"}]
[null,"G6-DOCK-NA","Dock","USD","G6 Dock, North America","Dock",{"v":756,"d":"$ 756"}]
[null,"G6-DOCK-NA","G6","USD","G6 Dock, North America","Dock",{"v":756,"d":"$ 756"}]
[null,"J-WAR-BRIDGE","Bridge","USD","Bridge 2-Year Extended Warranty","Extended Warranty",{"v":294,"d":"$ 294"}]
[null,"J-WAR-DOCK","Dock","USD","Dock, 2-Year Extended Warranty","Extended Warranty",{"v":278,"d":"$ 278"}]
[null,"SER-BRIDGE-1Y","Bridge","USD","Bridge Satellite Service, 1-Year Annual Rate","Service",{"v":801,"d":"$ 801"}]
[null,"SER-BRIDGE-2Y","Bridge","USD","Bridge Satellite Service, 2-Year Annual Rate","Service",{"v":785,"d":"$ 785"}]
[null,"SER-BRIDGE-3Y","Bridge","USD","Bridge Satellite Service, 3-Year Annual Rate","Service",{"v":777,"d":"$ 777"}]
[null,"SER-BRIDGE-4Y","Bridge","USD","Bridge Satellite Service, 4-Year Annual Rate","Service",{"v":769,"d":"$ 769"}]
[null,"SER-BRIDGE-5Y","Bridge","USD","Bridge Satellite Service, 5-Year Annual Rate","Service",{"v":761,"d":"$ 761"}]
[null,"SER-EXO-SAT-3Y","EXO","USD","EXO Satellite Service, 3-Year Term, Total Rate","Satellite, GPS + Communication Equipment",{"v":2568,"d":"$ 2,568"}]
[null,"SER-EXO-SAT-4Y","EXO","USD","EXO Satellite Service, 4-Year Term, Total Rate","Satellite, GPS + Communication Equipment",{"v":3232,"d":"$ 3,232"}]
[null,"SER-EXO-SAT-5Y","EXO","USD","EXO Satellite Service, 5-Year Term, Total Rate","Satellite, GPS + Communication Equipment",{"v":3799,"d":"$ 3,799"}]
[null,"SNOOZE","G7","USD","G7 Snooze Plan, Monthly Rate","Snooze",{"v":7,"d":"$ 7"}]
[null,"SNOOZE","G8","USD","G7 Snooze Plan, Monthly Rate","Snooze",{"v":7,"d":"$ 7"}]
[null,"SNOOZE BRIDGE","Bridge","USD","Bridge Snooze Plan, Monthly Rate","Snooze",{"v":32,"d":"$ 32"}]
[null,"ACC-RSM-001","G8","USD","Remote Speaker Microphone with G8 Connector","Radio",{"v":255,"d":"$ 255"}]
[null,"ACC-G8-SP-10","G8","USD","G8 Screen Protectors, package of 10","Screen Protector & Covers",{"v":144,"d":"$ 144"}]
[null,"ACC-G8-SP-100","G8","USD","G8 Screen Protectors, package of 100","Screen Protector & Covers",{"v":1296,"d":"$ 1,296"}]
[null,"ACC-KF-G8-STUD-1","G8","USD","Klick Fast Studs Compatible with G8 - Package of 1","Personal Accessories",{"v":18,"d":"$ 18"}]
[null,"ACC-KF-G8-STUD-10","G8","USD","Klick Fast Studs Compatible with G8 - Package of 10","Personal Accessories",{"v":144,"d":"$ 144"}]
[null,"ACC-KF-G8-STUD-100","G8","USD","Klick Fast Studs Compatible with G8 - Package of 100","Personal Accessories",{"v":1421,"d":"$ 1,421"}]
[null,"ACC-G8-CHG-05-AZ","G8","USD","G8 Multi-Charger, 5 Slots, Australia / New Zealand","Batteries, Chargers + Cables",{"v":348,"d":"$ 348"}]
[null,"ACC-G8-CHG-05-EU","G8","USD","G8 Multi-Charger, 5 Slots, Europe / UK","Batteries, Chargers + Cables",{"v":348,"d":"$ 348"}]
[null,"ACC-G8-CHG-05-NA","G8","USD","G8 Multi-Charger, 5 Slots, North America","Batteries, Chargers + Cables",{"v":348,"d":"$ 348"}]
[null,"ACC-G8-CHG-25-AZ","G8","USD","G8 Multi-Charger, 25 Slots, Australia / New Zealand","Batteries, Chargers + Cables",{"v":1729,"d":"$ 1,729"}]
[null,"ACC-G8-CHG-25-EU","G8","USD","G8 Multi-Charger, 25 Slots, Europe / UK","Batteries, Chargers + Cables",{"v":1729,"d":"$ 1,729"}]
[null,"ACC-G8-CHG-25-NA","G8","USD","G8 Multi-Charger, 25 Slots, North America","Batteries, Chargers + Cables",{"v":1729,"d":"$ 1,729"}]
[null,"ACC-G8-CHG-BRK-05","G8","USD","G8 wall mount bracket for 5 slot multi-unit charger","Batteries, Chargers + Cables",{"v":101,"d":"$ 101"}]
[null,"ACC-G8-CHG-BRK-25","G8","USD","G8 wall mount bracket for 25 slot multi-unit charger","Batteries, Chargers + Cables",{"v":121,"d":"$ 121"}]
[null,"ACC-G8-CHG-05-KIT-AZ","G8","USD","G8 Multi-Charger, 5 Slots, with Wall Mount Bracket, Australia / New Zealand","Batteries, Chargers + Cables",{"v":449,"d":"$ 449"}]
[null,"ACC-G8-CHG-05-KIT-EU","G8","USD","G8 Multi-Charger, 5 Slots, with Wall Mount Bracket, Europe / UK","Batteries, Chargers + Cables",{"v":449,"d":"$ 449"}]
[null,"ACC-G8-CHG-05-KIT-NA","G8","USD","G8 Multi-Charger, 5 Slots, with Wall Mount Bracket, North America","Batteries, Chargers + Cables",{"v":449,"d":"$ 449"}]
[null,"ACC-G8-CHG-25-KIT-AZ","G8","USD","G8 Multi-Charger, 25 Slots, with Wall Mount Bracket, Australia / New Zealand","Batteries, Chargers + Cables",{"v":1850,"d":"$ 1,850"}]
[null,"ACC-G8-CHG-25-KIT-EU","G8","USD","G8 Multi-Charger, 25 Slots, with Wall Mount Bracket, Europe / UK","Batteries, Chargers + Cables",{"v":1850,"d":"$ 1,850"}]
[null,"ACC-G8-CHG-25-KIT-NA","G8","USD","G8 Multi-Charger, 25 Slots, with Wall Mount Bracket, North America","Batteries, Chargers + Cables",{"v":1850,"d":"$ 1,850"}]
[null,"ACC-G8-CHG-CBL","G8","USD","G8 USB Charge Cable and Clip","Batteries, Chargers + Cables",{"v":18,"d":"$ 18"}]
[null,"ACC-TAG-01-025","G8","USD","TagAssign Keychain RFID Tag, Package of 25","TagAssign",{"v":125,"d":"$ 125"}]
[null,"ACC-TAG-01-100","G8","USD","TagAssign Keychain RFID Tag, Package of 100","TagAssign",{"v":500,"d":"$ 500"}]
[null,"ACC-CHG-BLK-NA","G6","USD","Wall Charger, North America","Batteries, Chargers + Cables",{"v":20,"d":"$ 20"}]
[null,"ACC-CHG-BLK-NA","G7","USD","Wall Charger, North America","Batteries, Chargers + Cables",{"v":20,"d":"$ 20"}]
[null,"ACC-CHG-BLK-NA","G8","USD","Wall Charger, North America","Batteries, Chargers + Cables",{"v":20,"d":"$ 20"}]
[null,"CMP-ACC-G8-CHG-05-NA-4Y","G8","USD","G8 Multi-Charger, 5 Slots, North America, Lease, 4-Year Monthly Rate","Batteries, Chargers + Cables",{"v":9,"d":"$ 9"}]
[null,"CMP-ACC-G8-CHG-25-NA-4Y","G8","USD","G8 Multi-Charger, 25 Slots, North America, Lease, 4-Year Monthly Rate","Batteries, Chargers + Cables",{"v":43,"d":"$ 43"}]
[null,"CMP-ACC-G8-CHG-05-KIT-NA-4Y","G8","USD","G8 Multi-Charger, 5 Slots, with Wall Mount Bracket, North America, Lease, 4-Year Monthly Rate","Batteries, Chargers + Cables",{"v":11,"d":"$ 11"}]
[null,"CMP-ACC-G8-CHG-25-KIT-NA-4Y","G8","USD","G8 Multi-Charger, 25 Slots, with Wall Mount Bracket, North America, Lease, 4-Year Monthly Rate","Batteries, Chargers + Cables",{"v":46,"d":"$ 46"}]
[null,"CMP-ACC-RSM-001-4Y","G8","USD","Remote Speaker Microphone with G8 Connector, Lease, 4-Year Monthly Rate","Radio",{"v":6,"d":"$ 6"}]

{"sheet":"Gas Cylinders","index":34,"n_rows":64,"n_cols":16,"rows_kept":64,"merged":[[0,1,0,4]]}
[null,{"$error":"#VALUE!"},{"$nulls":13},"Gas Cylinders"]
[null,"Gas Cylinders",{"$nulls":5},{"$f":"PBYear","v":2025}]
[{"$nulls":7},{"$f":"Revision","v":"Effective February 2, 2026 Rev 2"},null,"Quick Links"]
[{"$nulls":7},"Blackline Safety Confidential",null,"Main Menu"]
[{"$nulls":7},"All prices are an estimate - for a formal quote contact your local Blackline Safety representative"]
[]
[]
[null,"SKU","Gas","Size","Description","Sensors","Currency","Price"]
[null,"GAS-34L-Q","Quad","34L","34L Gas Cylinder, 25ppm H2S, 100ppm CO, CH4 - 50% LEL (Methane 2.5% Vol),18% O2, N2 Balance","HIMO, FHMO, HIOR, FHOR","USD",{"v":207,"d":"$ 207"}]
[null,"GAS-58L-Q","Quad","58L","58L Gas Cylinder, 25ppm H2S, 100ppm CO, CH4 - 50% LEL (Methane 2.5% Vol),18% O2, N2 Balanced","HIMO, FHMO, HIOR, FHOR","USD",{"v":243,"d":"$ 243"}]
[null,"GAS-116L-Q","Quad","116L","116L Gas Cylinder, 25ppm H2S, 100ppm CO, CH4- 50% LEL (2.5% Vol Methane), 18% O2, N2 Balance","HIMO, FHMO, HIOR, FHOR","USD",{"v":292,"d":"$ 292"}]
[null,"GAS-34L-Q-2","Quad","34L","34L Gas Cylinder, 25ppm H2S, 100ppm CO, CH4 - 50% LEL (Methane 2.2% Vol),18% O2, N2 Balance (ATEX)","HIMO, FHMO, HIOR, FHOR","USD",{"v":207,"d":"$ 207"}]
[null,"GAS-58L-Q-2","Quad","58L","58L Gas Cylinder, 25ppm H2S, 100ppm CO, CH4 - 50% LEL (Methane 2.2% Vol),18% O2, N2 Balance (ATEX)","HIMO, FHMO, HIOR, FHOR","USD",{"v":243,"d":"$ 243"}]
[null,"GAS-116L-Q-2","Quad","116L","116L Gas Cylinder, 25ppm H2S, 100ppm CO, CH4 - 50% LEL (Methane 2.2% Vol), 18% O2, N2 Balance (ATEX)","HIMO, FHMO, HIOR, FHOR","USD",{"v":292,"d":"$ 292"}]
[null,"GAS-58L-Q-CO2","Quad","58L","58L Gas Cylinder, 5000 ppm CO2, CH4 - 50% LEL (Methane 2.5% Vol), 100 ppm CO, 25 ppm H2S, 18% O2, N2 Balance","CDIO","USD",{"v":427,"d":"$ 427"}]
[null,"GAS-116L-Q-CO2","Quad","116L","116L Gas Cylinder, 5000 ppm CO2, CH4 - 50% LEL ( Methane 2.5% Vol), 100 ppm CO, 25 ppm H2S, 18% O2, N2 Balance","CDIO","USD",{"v":475,"d":"$ 475"}]
[null,"GAS-58L-Q-CO2-2","Quad","58L","58L Gas Cylinder, 5000 ppm CO2, CH4 - 50% LEL (Methane 2.2% Vol), 100 ppm CO, 25 ppm H2S, 18% O2, N2 Balance (ATEX)","CDIO","USD",{"v":427,"d":"$ 427"}]
[null,"GAS-116L-Q-CO2-2","Quad","116L","116L Gas Cylinder, 5000 ppm CO2, CH4 - 50% LEL (Methane 2.2% Vol), 100 ppm CO, 25 ppm H2S, 18% O2, N2 Balance (ATEX)","CDIO","USD",{"v":475,"d":"$ 475"}]
[null,"GAS-34L-A-AIR","NH3","34L","34L Gas Cylinder, NH3 50 ppm, Balance Air","A","USD",{"v":243,"d":"$ 243"}]
[null,"GAS-58L-A-AIR","NH3","58L","58L Gas Cylinder, NH3 50 ppm , Balance Air","A","USD",{"v":292,"d":"$ 292"}]
[null,"GAS-116L-A","NH3","116L","116L Gas Cylinder, NH3 50 ppm, Balance Air","A","USD",{"v":427,"d":"$ 427"}]
[null,"GAS-34L-S-AIR","SO2","34L","34L Gas Cylinder, SO2 10 ppm , Balance Air","S","USD",{"v":207,"d":"$ 207"}]
[null,"GAS-58L-S-AIR","SO2","58L","58L Gas Cylinder, SO2 10 ppm , Balance Air","S","USD",{"v":243,"d":"$ 243"}]
[null,"GAS-116L-S","SO2","116L","116L Gas Cylinder, SO2 10 ppm , Balance Air","S","USD",{"v":292,"d":"$ 292"}]
[null,"GAS-34L-V","PID","34L","34L Gas Cylinder, PID, (Isobutylene) 100 ppm  Balance Air","V","USD",{"v":207,"d":"$ 207"}]
[null,"GAS-58L-V","PID","58L","58L Gas Cylinder, PID, (Isobutylene) 100 ppm Balance Air","V","USD",{"v":243,"d":"$ 243"}]
[null,"GAS-116L-V","PID","116L","116L Gas Cylinder, PID (Isobutylene) 100 ppm, Balance Air","V","USD",{"v":427,"d":"$ 427"}]
[null,"GAS-34L-L-AIR","CL2","34L","34L Gas Cylinder, CL2  5 ppm, Balance Air","L, 2","USD",{"v":207,"d":"$ 207"}]
[null,"GAS-58L-L-AIR","CL2","58L","58L Gas Cylinder, CL2 5 ppm, Balance Air","L, 2","USD",{"v":243,"d":"$ 243"}]
[null,"GAS-116L-L-AIR","CL2","116L","116LGas Cylinder, CL2, 5ppm  Balance Air","L, 2","USD",{"v":427,"d":"$ 427"}]
[null,"GAS-34L-H","H2S","34L","34L Gas Cylinder, H2S 25 ppm, Balance Air","H","USD",{"v":183,"d":"$ 183"}]
[null,"GAS-58L-H","H2S","58L","58L Gas Cylinder, H2S 25 ppm, Balance Air","H","USD",{"v":207,"d":"$ 207"}]
[null,"GAS-116L-H","H2S","116L","116L Gas Cylinder, H2S 25 ppm, Balance Air","H","USD",{"v":243,"d":"$ 243"}]
[null,"GAS-34L-O","O2","34L","34L Gas Cylinder, O2 18%, N2 Balance ","O","USD",{"v":183,"d":"$ 183"}]
[null,"GAS-58L-O","O2","58L","58L Gas Cylinder, O2  18%, N2 Balance","O","USD",{"v":207,"d":"$ 207"}]
[null,"GAS-103L-O","O2","103L","103L Gas Cylinder, O2  18%, N2 Balance","O","USD",{"v":243,"d":"$ 243"}]
[null,"GAS-34L-C","CO2","34L","34L Gas Cylinder, CO2 5000 ppm, Balance Air","C","USD",{"v":207,"d":"$ 207"}]
[null,"GAS-58L-C-AIR","CO2","58L","58L Gas Cylinder, CO2, 5000 ppm, Balance Air","C","USD",{"v":243,"d":"$ 243"}]
[null,"GAS-103L-C","CO2","103L","103L Gas Cylinder, CO2 5000 ppm, Balance Air","C","USD",{"v":292,"d":"$ 292"}]
[null,"GAS-34L-M","CO","34L","34L Gas Cylinder, CO 100 ppm , Balance Air","M, R","USD",{"v":183,"d":"$ 183"}]
[null,"GAS-58L-M-AIR","CO","58L","58L Gas Cylinder, CO 100 ppm, Balance Air","M, R","USD",{"v":207,"d":"$ 207"}]
[null,"GAS-103L-M","CO","103L","103L Gas Cylinder, CO 100 ppm, Balance Air","M, R","USD",{"v":243,"d":"$ 243"}]
[null,"GAS-34L-K","NO2","34L","34L Gas Cylinder, NO2 10 ppm, Balance Air","K","USD",{"v":243,"d":"$ 243"}]
[null,"GAS-58L-K-AIR-2","NO2","58L","58L Gas Cylinder, NO2 10 ppm, Balance Air","K","USD",{"v":292,"d":"$ 292"}]
[null,"GAS-116L-K","NO2","116L","116L Gas Cylinder, NO2 10 ppm, Balance Air","K","USD",{"v":427,"d":"$ 427"}]
[null,"GAS-34L-G","H2","34L","34L Gas Cylinder, H2 2% , Balance Air","G","USD",{"v":183,"d":"$ 183"}]
[null,"GAS-58L-G","H2","58L","58L Gas Cylinder, H2 2% , Balance Air","G","USD",{"v":207,"d":"$ 207"}]
[null,"GAS-116L-G","H2","116L","116L Gas Cylinder, H2 2%, Balance Air","G","USD",{"v":243,"d":"$ 243"}]
[null,"GAS-34L-N-AIR","HCN","34L","34L Gas Cylinder, HCN 10 ppm, Balance Air","N","USD",{"v":243,"d":"$ 243"}]
[null,"GAS-58L-N-AIR","HCN","58L","58L Gas Cylinder, HCN 10 ppm, Balance Air","N","USD",{"v":292,"d":"$ 292"}]
[null,"GAS-116L-N-AIR","HCN","116L","116L Gas Cylinder, HCN 10ppm ,  Balance Air","N","USD",{"v":427,"d":"$ 427"}]
[null,"GAS-34L-I","CH4","34L","34L Gas Cylinder, CH4 - 50% LEL (Methane 2.2% Vol), Balance Air  (ATEX)","I","USD",{"v":183,"d":"$ 183"}]
[null,"GAS-58L-I","CH4","58L","58L Gas Cylinder, CH4 - 50% LEL (Methane 2.2% Vol), Balance Air (ATEX)","I","USD",{"v":207,"d":"$ 207"}]
[null,"GAS-103L-I","CH4","103L","103L Gas Cylinder, CH4 -50% LEL (Methane 2.5% Vol) 50% , Balance Air","I","USD",{"v":243,"d":"$ 243"}]
[null,"GAS-116L-PROPANE","C3H8","116L","116L Gas Cylinder, C3H8 - 50% LEL (Propane 0.85% Vol), Balance Air","I","USD",{"v":427,"d":"$ 427"}]
[null,"GAS-34L-N","HCN","34L","34L Gas Cylinder, HCN 10 ppm, Balance N2","N","USD",{"v":281,"d":"$ 281"}]
[null,"GAS-58L-N","HCN","58L","58L Gas Cylinder, HCN 10 ppm, Balance N2","N","USD",{"v":292,"d":"$ 292"}]
[null,"GAS-116L-N","HCN","116L","116L Gas Cylinder, HCN 10ppm, Balance N2","N","USD",{"v":427,"d":"$ 427"}]
[null,"GAS-58L-Q-PENTANE","C5H12","58L","58L Gas Cylinder, C5H12 - 50% LEL (Pentane 0.55% Vol), H2S 25 ppm, CO 100 ppm, O2 18% Vol, Balance N2","HIMO, HIOR","USD",{"v":243,"d":"$ 243"}]
[null,"GAS-34L-Q-PROPANE","C3H8","34L","34L Gas Cylinder, C3H8 - 50% LEL (Propane 0.85% Vol), H2S 25 ppm, CO 100 ppm, O2 18% Vol, Balance N2","HIMO, HIOR","USD",{"v":292,"d":"$ 292"}]
[null,"GAS-58L-Q-PROPANE","C3H8","58L","58L Gas Cylinder, C3H8 - 50% LEL (Propane 0.85% Vol), H2S 25 ppm, CO 100 ppm, O2 18% Vol, Balance N2","HIMO, HIOR","USD",{"v":427,"d":"$ 427"}]
[null,"GAS-34L-O-2","O2","34L","Gas, 34L Gas Cylinder, O2 20.9% Vol, Balance N2",null,"USD",{"v":183,"d":"$ 183"}]
[null,"GAS-58L-I-O","CH4","58L","58L gas Cylinder,  CH4 - 50% LEL (Methane 2.2% Vol), O2 18%, N2 Balance","I","USD",{"v":207,"d":"$ 207"}]
[null,"GAS-5.8L-Q","Quad","5.8","5.8L Eco-Bump Cylinder, 40 ppm H2S, 100 ppm CO, 2.5% Methane, 18% O2, Nitrogen Balanced",null,"USD",{"v":126,"d":"$ 126"}]

{"sheet":"Professional Services","index":35,"n_rows":29,"n_cols":19,"rows_kept":29,"merged":[[0,1,0,2]]}
[null,{"$error":"#VALUE!"},{"$nulls":3},{"$f":"Currency","v":"USD"},{"$nulls":9},"Professional Services"]
[null,"Professional Services",{"$nulls":3},{"$f":"PBYear","v":2025}]
[{"$nulls":5},{"$f":"Revision","v":"Effective February 2, 2026 Rev 2"},null,"Quick Links"]
[{"$nulls":5},"Blackline Safety Confidential",null,"Main Menu"]
[{"$nulls":5},"All prices are an estimate - for a formal quote contact your local Blackline Safety representative"]
[]
[]
[null,"Onboarding & Implementation Services"]
[null,"SKU","Description","Type","Currency","Price"]
["ONB",{"$f":"_xlfn.LET(\n_xlpm.Dtype,ProfessionalServices[Type],_xlpm.Curr,ProfessionalServices[Currency],_xlpm.Stype,$A$10,_xlpm.SCurr,$F$1,\n_xlpm.myCalculation,_xlfn.VSTACK(_xlfn._xlws.FILTER(ProfessionalServices[],(_xlpm.Dtype=_xlpm.Stype)*(_xlpm.Curr=_xlpm.SCurr))),_xlpm.myCalculation)","v":"SER-PRO-ONB"},"Account Setup, onboarding and Go-Live for 1-50 devices.","ONB","USD",{"v":300,"d":"$ 300"},{"$nulls":11},"AUD",6]
[null,"SER-PRO-ONB-ADL","Additional devices over 50 included in SER-PRO-ONB. Price per device.","ONB","USD",{"v":4,"d":"$ 4"},{"$nulls":11},"CAD",3]
[{"$nulls":17},"EUR",5]
[{"$nulls":17},"GBP",4]
[{"$nulls":17},"USD",2]
[null,"Onsite Technical Support and Training"]
[null,"SKU","Description","Type","Currency","Price"]
["TRN",{"$f":"_xlfn.LET(\n_xlpm.Dtype,TrainingSKUs[Type],_xlpm.Curr,TrainingSKUs[Currency],_xlpm.Stype,$A$17,_xlpm.SCurr,$F$1,\n_xlpm.myCalculation,_xlfn.VSTACK(_xlfn._xlws.FILTER(TrainingSKUs[],(_xlpm.Dtype=_xlpm.Stype)*(_xlpm.Curr=_xlpm.SCurr))),_xlpm.myCalculation)","v":"SER-ONS"},"Onsite technical support services, daily rate per technician","TRN","USD",{"v":1250,"d":"$ 1,250"}]
[null,"SER-PER-1","1-Day onsite training","TRN","USD",{"v":3500,"d":"$ 3,500"}]
[null,"SER-PER-2","2-Day onsite training","TRN","USD",{"v":4500,"d":"$ 4,500"}]
[null,"SER-PER-3","3-Day onsite training","TRN","USD",{"v":5500,"d":"$ 5,500"}]
[null,"SER-PER-4","4-Day onsite training","TRN","USD",{"v":6000,"d":"$ 6,000"}]
[null,"SER-PER-5","5-Day onsite training","TRN","USD",{"v":6500,"d":"$ 6,500"}]
[null,"SER-VIRTUAL","Virtual Training (per session)","TRN","USD",{"v":249,"d":"$ 249"}]
[null,"SER-LMS","Custom eLearning module development","TRN","USD",{"v":1000,"d":"$ 1,000"}]
[]
[null,"Additional Services"]
["ADL","SKU","Description","Type","Currency","Price"]
[null,{"$f":"_xlfn.LET(\n_xlpm.Dtype,AdditionalServices[Type],_xlpm.Curr,AdditionalServices[Currency],_xlpm.Stype,$A$27,_xlpm.SCurr,$F$1,\n_xlpm.myCalculation,_xlfn.VSTACK(_xlfn._xlws.FILTER(AdditionalServices[],(_xlpm.Dtype=_xlpm.Stype)*(_xlpm.Curr=_xlpm.SCurr))),_xlpm.myCalculation)","v":"FLP-ADD"},"Adding custom floor/site plans into Blackline Live, price per floor/site plan","ADL","USD",{"v":289,"d":"$ 289"}]
[null,"SER-SSO","Single sign-on, one time onboarding fee per customer (no recurring charge)","ADL","USD",{"v":3500,"d":"$ 3,500"}]

{"sheet":"Base Pricing","index":36,"n_rows":127,"n_cols":19,"rows_kept":127,"hidden":true}
["Type","SnrCnt","USD","CAD","GBP","EUR","AUD",null,"Type","USD","CAD","GBP","EUR","AUD",{"$nulls":4},"Main Menu"]
["G7 Purchase Base Price",null,494,591,306,393,544,null,"G6 H2S Monthly",5,6,4,5,7]
["G7 Blend Base Price",null,677,812,476,594,900,null,"G6 O2 Monthly",5,6,4,5,7]
["EXO Battery Price",null,514,617,392,455,683,null,"G6 CO Monthly",5,6,4,5,7]
["EXO 8 Base Price",null,4300,5426,3973,4640,5844,null,"G6 SO2 Monthly",10,14,8,10,16]
["EXO 8 Gamma Base Price",null,16200,21151,12833,15117,22970,null,"G6 Protect Monthly",5,7,4,5,8]
["G8 Purchase Base Price",null,594,711,368,473,654,null,"G6 Protect Plus Monthly",11,14,9,11,16]
["G8 Blend Base Price",null,777,932,538,674,1010]
["Standard Cartridge",null,47,47,28,37,63,null,"Combo Discount",{"v":0.05,"d":"5%"}]
["1 Sensor Cartridge",1,73,75,40,56,96,null,"Purchase Discount",{"v":0.2,"d":"20%"}]
["2 Sensor Cartridge",2,126,129,66,82,171]
["3 Sensor Cartridge",3,165,168,91,121,223,null,"Term","Multiplier"]
["4 Sensor Cartridge",4,200,203,114,158,273,null,"1Y",1]
["G7 Pump",null,182,222,92,109,248,null,"2Y",0.98]
["EXO Pump",null,2243,2692,1683,1908,2984,null,"3Y",0.97]
["EXO Satellite",null,2945,3534,2228,2546,3888,null,"4Y",0.96]
["G7 Warranty Base Price",null,61,73,42,53,82,null,"5Y",0.95]
["EXO Warranty Base Price",null,550,578,303,352,605]
["Onboarding",null,7,9,0,0,0]
["EXO 8 Demo Base",null,3354,4732,2701,3121,4758]
["EXO 8 Gamma Demo Base",null,16970,22692,13601,15971,24282]
[]
["Type","USD","CAD","GBP","EUR","AUD"]
["System Access",15,15,10,12,19]
["Self-Monitored",19,19,15,16,24]
["Blackline Monitored",39,39,27,32,56]
["Voice",21,21,14,17,26]
["Push-to-Talk",15,15,10,12,19]
["Automatic Bump & Cal",50,55,45,50,60]
[]
["Type","Code","USD","CAD","GBP","EUR","AUD","LeaseFactor"]
["Lite","L",5,6,4,5,7,1]
["Standard","S",17,17,11,12,22,1]
["Pro","K",32,32,24,27,41,1]
["SOC","B",23,23,13,17,36,1.2]
["Voice","V",25,25,15,18,31,1.2]
["Push to Talk","P",19,19,11,13,24,1.2]
["Team Calling","T",20,20,12,16,25,1.2]
[]
["Sensor","USD","CAD","GBP","EUR","AUD"]
["2",420,504,252,300,559]
["3",420,504,252,300,559]
["4",0,0,0,0,0]
["5",60,72,36,48,80]
["6",63,76,38,51,84]
["A",60,72,36,48,80]
["B",126,152,76,101,168]
["C",240,288,144,171,320]
["D",60,72,36,48,80]
["E",120,144,72,96,160]
["F",0,0,0,0,0]
["G",63,76,38,51,84]
["H",0,0,0,0,0]
["I",60,72,36,48,80]
["J",120,144,72,96,160]
["K",60,72,36,48,80]
["L",60,72,36,48,80]
["M",0,0,0,0,0]
["N",60,72,36,48,80]
["O",0,0,0,0,0]
["P",0,0,0,0,0]
["R",0,0,0,0,0]
["S",0,0,0,0,0]
["T",120,144,72,96,160]
["U",420,504,252,300,559]
["V",483,580,290,345,643]
["W",60,72,36,48,80]
["X",0,0,0,0,0]
[]
["Blend Service Plans","USD","CAD","GBP","EUR","AUD"]
["XX",0,0,0,0,0]
["XXP",{"$f":"INDEX(ServicePrices[],MATCH(\"Push-to-talk\",ServicePrices[Type],0),MATCH(B$70,ServicePrices[#Headers],0))*12","v":180},{"$f":"INDEX(ServicePrices[],MATCH(\"Push-to-talk\",ServicePrices[Type],0),MATCH(C$70,ServicePrices[#Headers],0))*12","v":180},{"$f":"INDEX(ServicePrices[],MATCH(\"Push-to-talk\",ServicePrices[Type],0),MATCH(D$70,ServicePrices[#Headers],0))*12","v":120},{"$f":"INDEX(ServicePrices[],MATCH(\"Push-to-talk\",ServicePrices[Type],0),MATCH(E$70,ServicePrices[#Headers],0))*12","v":144},{"$f":"INDEX(ServicePrices[],MATCH(\"Push-to-talk\",ServicePrices[Type],0),MATCH(F$70,ServicePrices[#Headers],0))*12","v":228}]
["SX",{"$f":"INDEX(ServicePrices[],MATCH(\"Self-monitored\",ServicePrices[Type],0),MATCH(B$70,ServicePrices[#Headers],0))*12","v":228},{"$f":"INDEX(ServicePrices[],MATCH(\"Self-monitored\",ServicePrices[Type],0),MATCH(C$70,ServicePrices[#Headers],0))*12","v":228},{"$f":"INDEX(ServicePrices[],MATCH(\"Self-monitored\",ServicePrices[Type],0),MATCH(D$70,ServicePrices[#Headers],0))*12","v":180},{"$f":"INDEX(ServicePrices[],MATCH(\"Self-monitored\",ServicePrices[Type],0),MATCH(E$70,ServicePrices[#Headers],0))*12","v":192},{"$f":"INDEX(ServicePrices[],MATCH(\"Self-monitored\",ServicePrices[Type],0),MATCH(F$70,ServicePrices[#Headers],0))*12","v":288}]
["SXP",{"$f":"(INDEX(ServicePrices[],MATCH(\"Self-monitored\",ServicePrices[Type],0),MATCH(B$70,ServicePrices[#Headers],0))+\nINDEX(ServicePrices[],MATCH(\"Push-to-talk\",ServicePrices[Type],0),MATCH(B$70,ServicePrices[#Headers],0)))*12","v":408},{"$f":"(INDEX(ServicePrices[],MATCH(\"Self-monitored\",ServicePrices[Type],0),MATCH(C$70,ServicePrices[#Headers],0))+\nINDEX(ServicePrices[],MATCH(\"Push-to-talk\",ServicePrices[Type],0),MATCH(C$70,ServicePrices[#Headers],0)))*12","v":408},{"$f":"(INDEX(ServicePrices[],MATCH(\"Self-monitored\",ServicePrices[Type],0),MATCH(D$70,ServicePrices[#Headers],0))+\nINDEX(ServicePrices[],MATCH(\"Push-to-talk\",ServicePrices[Type],0),MATCH(D$70,ServicePrices[#Headers],0)))*12","v":300},{"$f":"(INDEX(ServicePrices[],MATCH(\"Self-monitored\",ServicePrices[Type],0),MATCH(E$70,ServicePrices[#Headers],0))+\nINDEX(ServicePrices[],MATCH(\"Push-to-talk\",ServicePrices[Type],0),MATCH(E$70,ServicePrices[#Headers],0)))*12","v":336},{"$f":"(INDEX(ServicePrices[],MATCH(\"Self-monitored\",ServicePrices[Type],0),MATCH(F$70,ServicePrices[#Headers],0))+\nINDEX(ServicePrices[],MATCH(\"Push-to-talk\",ServicePrices[Type],0),MATCH(F$70,ServicePrices[#Headers],0)))*12","v":516}]
["SV",{"$f":"(INDEX(ServicePrices[],MATCH(\"Self-monitored\",ServicePrices[Type],0),MATCH(B$70,ServicePrices[#Headers],0))+\nINDEX(ServicePrices[],MATCH(\"Voice\",ServicePrices[Type],0),MATCH(B$70,ServicePrices[#Headers],0)))*12","v":480},{"$f":"(INDEX(ServicePrices[],MATCH(\"Self-monitored\",ServicePrices[Type],0),MATCH(C$70,ServicePrices[#Headers],0))+\nINDEX(ServicePrices[],MATCH(\"Voice\",ServicePrices[Type],0),MATCH(C$70,ServicePrices[#Headers],0)))*12","v":480},{"$f":"(INDEX(ServicePrices[],MATCH(\"Self-monitored\",ServicePrices[Type],0),MATCH(D$70,ServicePrices[#Headers],0))+\nINDEX(ServicePrices[],MATCH(\"Voice\",ServicePrices[Type],0),MATCH(D$70,ServicePrices[#Headers],0)))*12","v":348},{"$f":"(INDEX(ServicePrices[],MATCH(\"Self-monitored\",ServicePrices[Type],0),MATCH(E$70,ServicePrices[#Headers],0))+\nINDEX(ServicePrices[],MATCH(\"Voice\",ServicePrices[Type],0),MATCH(E$70,ServicePrices[#Headers],0)))*12","v":396},{"$f":"(INDEX(ServicePrices[],MATCH(\"Self-monitored\",ServicePrices[Type],0),MATCH(F$70,ServicePrices[#Headers],0))+\nINDEX(ServicePrices[],MATCH(\"Voice\",ServicePrices[Type],0),MATCH(F$70,ServicePrices[#Headers],0)))*12","v":600}]
["SVP",{"$f":"(INDEX(ServicePrices[],MATCH(\"Self-monitored\",ServicePrices[Type],0),MATCH(B$70,ServicePrices[#Headers],0))+\nINDEX(ServicePrices[],MATCH(\"Voice\",ServicePrices[Type],0),MATCH(B$70,ServicePrices[#Headers],0))+\nINDEX(ServicePrices[],MATCH(\"Push-to-talk\",ServicePrices[Type],0),MATCH(B$70,ServicePrices[#Headers],0)))*12","v":660},{"$f":"(INDEX(ServicePrices[],MATCH(\"Self-monitored\",ServicePrices[Type],0),MATCH(C$70,ServicePrices[#Headers],0))+\nINDEX(ServicePrices[],MATCH(\"Voice\",ServicePrices[Type],0),MATCH(C$70,ServicePrices[#Headers],0))+\nINDEX(ServicePrices[],MATCH(\"Push-to-talk\",ServicePrices[Type],0),MATCH(C$70,ServicePrices[#Headers],0)))*12","v":660},{"$f":"(INDEX(ServicePrices[],MATCH(\"Self-monitored\",ServicePrices[Type],0),MATCH(D$70,ServicePrices[#Headers],0))+\nINDEX(ServicePrices[],MATCH(\"Voice\",ServicePrices[Type],0),MATCH(D$70,ServicePrices[#Headers],0))+\nINDEX(ServicePrices[],MATCH(\"Push-to-talk\",ServicePrices[Type],0),MATCH(D$70,ServicePrices[#Headers],0)))*12","v":468},{"$f":"(INDEX(ServicePrices[],MATCH(\"Self-monitored\",ServicePrices[Type],0),MATCH(E$70,ServicePrices[#Headers],0))+\nINDEX(ServicePrices[],MATCH(\"Voice\",ServicePrices[Type],0),MATCH(E$70,ServicePrices[#Headers],0))+\nINDEX(ServicePrices[],MATCH(\"Push-to-talk\",ServicePrices[Type],0),MATCH(E$70,ServicePrices[#Headers],0)))*12","v":540},{"$f":"(INDEX(ServicePrices[],MATCH(\"Self-monitored\",ServicePrices[Type],0),MATCH(F$70,ServicePrices[#Headers],0))+\nINDEX(ServicePrices[],MATCH(\"Voice\",ServicePrices[Type],0),MATCH(F$70,ServicePrices[#Headers],0))+\nINDEX(ServicePrices[],MATCH(\"Push-to-talk\",ServicePrices[Type],0),MATCH(F$70,ServicePrices[#Headers],0)))*12","v":828}]
["BX",{"$f":"INDEX(ServicePrices[],MATCH(\"Blackline Monitored\",ServicePrices[Type],0),MATCH(B$70,ServicePrices[#Headers],0))*12","v":468},{"$f":"INDEX(ServicePrices[],MATCH(\"Blackline Monitored\",ServicePrices[Type],0),MATCH(C$70,ServicePrices[#Headers],0))*12","v":468},{"$f":"INDEX(ServicePrices[],MATCH(\"Blackline Monitored\",ServicePrices[Type],0),MATCH(D$70,ServicePrices[#Headers],0))*12","v":324},{"$f":"INDEX(ServicePrices[],MATCH(\"Blackline Monitored\",ServicePrices[Type],0),MATCH(E$70,ServicePrices[#Headers],0))*12","v":384},{"$f":"INDEX(ServicePrices[],MATCH(\"Blackline Monitored\",ServicePrices[Type],0),MATCH(F$70,ServicePrices[#Headers],0))*12","v":672}]
["BXP",{"$f":"(INDEX(ServicePrices[],MATCH(\"Blackline Monitored\",ServicePrices[Type],0),MATCH(B$70,ServicePrices[#Headers],0))+\nINDEX(ServicePrices[],MATCH(\"Push-to-talk\",ServicePrices[Type],0),MATCH(B$70,ServicePrices[#Headers],0)))*12","v":648},{"$f":"(INDEX(ServicePrices[],MATCH(\"Blackline Monitored\",ServicePrices[Type],0),MATCH(C$70,ServicePrices[#Headers],0))+\nINDEX(ServicePrices[],MATCH(\"Push-to-talk\",ServicePrices[Type],0),MATCH(C$70,ServicePrices[#Headers],0)))*12","v":648},{"$f":"(INDEX(ServicePrices[],MATCH(\"Blackline Monitored\",ServicePrices[Type],0),MATCH(D$70,ServicePrices[#Headers],0))+\nINDEX(ServicePrices[],MATCH(\"Push-to-talk\",ServicePrices[Type],0),MATCH(D$70,ServicePrices[#Headers],0)))*12","v":444},{"$f":"(INDEX(ServicePrices[],MATCH(\"Blackline Monitored\",ServicePrices[Type],0),MATCH(E$70,ServicePrices[#Headers],0))+\nINDEX(ServicePrices[],MATCH(\"Push-to-talk\",ServicePrices[Type],0),MATCH(E$70,ServicePrices[#Headers],0)))*12","v":528},{"$f":"(INDEX(ServicePrices[],MATCH(\"Blackline Monitored\",ServicePrices[Type],0),MATCH(F$70,ServicePrices[#Headers],0))+\nINDEX(ServicePrices[],MATCH(\"Push-to-talk\",ServicePrices[Type],0),MATCH(F$70,ServicePrices[#Headers],0)))*12","v":900}]
["BV",{"$f":"(INDEX(ServicePrices[],MATCH(\"Blackline Monitored\",ServicePrices[Type],0),MATCH(B$70,ServicePrices[#Headers],0))+\nINDEX(ServicePrices[],MATCH(\"Voice\",ServicePrices[Type],0),MATCH(B$70,ServicePrices[#Headers],0)))*12","v":720},{"$f":"(INDEX(ServicePrices[],MATCH(\"Blackline Monitored\",ServicePrices[Type],0),MATCH(C$70,ServicePrices[#Headers],0))+\nINDEX(ServicePrices[],MATCH(\"Voice\",ServicePrices[Type],0),MATCH(C$70,ServicePrices[#Headers],0)))*12","v":720},{"$f":"(INDEX(ServicePrices[],MATCH(\"Blackline Monitored\",ServicePrices[Type],0),MATCH(D$70,ServicePrices[#Headers],0))+\nINDEX(ServicePrices[],MATCH(\"Voice\",ServicePrices[Type],0),MATCH(D$70,ServicePrices[#Headers],0)))*12","v":492},{"$f":"(INDEX(ServicePrices[],MATCH(\"Blackline Monitored\",ServicePrices[Type],0),MATCH(E$70,ServicePrices[#Headers],0))+\nINDEX(ServicePrices[],MATCH(\"Voice\",ServicePrices[Type],0),MATCH(E$70,ServicePrices[#Headers],0)))*12","v":588},{"$f":"(INDEX(ServicePrices[],MATCH(\"Blackline Monitored\",ServicePrices[Type],0),MATCH(F$70,ServicePrices[#Headers],0))+\nINDEX(ServicePrices[],MATCH(\"Voice\",ServicePrices[Type],0),MATCH(F$70,ServicePrices[#Headers],0)))*12","v":984}]
["BVP",{"$f":"(INDEX(ServicePrices[],MATCH(\"Blackline Monitored\",ServicePrices[Type],0),MATCH(B$70,ServicePrices[#Headers],0))+\nINDEX(ServicePrices[],MATCH(\"Voice\",ServicePrices[Type],0),MATCH(B$70,ServicePrices[#Headers],0))+\nINDEX(ServicePrices[],MATCH(\"Push-to-talk\",ServicePrices[Type],0),MATCH(B$70,ServicePrices[#Headers],0)))*12","v":900},{"$f":"(INDEX(ServicePrices[],MATCH(\"Blackline Monitored\",ServicePrices[Type],0),MATCH(C$70,ServicePrices[#Headers],0))+\nINDEX(ServicePrices[],MATCH(\"Voice\",ServicePrices[Type],0),MATCH(C$70,ServicePrices[#Headers],0))+\nINDEX(ServicePrices[],MATCH(\"Push-to-talk\",ServicePrices[Type],0),MATCH(C$70,ServicePrices[#Headers],0)))*12","v":900},{"$f":"(INDEX(ServicePrices[],MATCH(\"Blackline Monitored\",ServicePrices[Type],0),MATCH(D$70,ServicePrices[#Headers],0))+\nINDEX(ServicePrices[],MATCH(\"Voice\",ServicePrices[Type],0),MATCH(D$70,ServicePrices[#Headers],0))+\nINDEX(ServicePrices[],MATCH(\"Push-to-talk\",ServicePrices[Type],0),MATCH(D$70,ServicePrices[#Headers],0)))*12","v":612},{"$f":"(INDEX(ServicePrices[],MATCH(\"Blackline Monitored\",ServicePrices[Type],0),MATCH(E$70,ServicePrices[#Headers],0))+\nINDEX(ServicePrices[],MATCH(\"Voice\",ServicePrices[Type],0),MATCH(E$70,ServicePrices[#Headers],0))+\nINDEX(ServicePrices[],MATCH(\"Push-to-talk\",ServicePrices[Type],0),MATCH(E$70,ServicePrices[#Headers],0)))*12","v":732},{"$f":"(INDEX(ServicePrices[],MATCH(\"Blackline Monitored\",ServicePrices[Type],0),MATCH(F$70,ServicePrices[#Headers],0))+\nINDEX(ServicePrices[],MATCH(\"Voice\",ServicePrices[Type],0),MATCH(F$70,ServicePrices[#Headers],0))+\nINDEX(ServicePrices[],MATCH(\"Push-to-talk\",ServicePrices[Type],0),MATCH(F$70,ServicePrices[#Headers],0)))*12","v":1212}]
[]
["Lease Service Plans","USD","CAD","GBP","EUR","AUD"]
["XX",0,0,0,0,0]
["XXP",{"$f":"ROUND(INDEX(ServicePrices[],MATCH(\"Push-to-talk\",ServicePrices[Type],0),MATCH(B$70,ServicePrices[#Headers],0))*Lease_Factor,0)","v":18},{"$f":"ROUND(INDEX(ServicePrices[],MATCH(\"Push-to-talk\",ServicePrices[Type],0),MATCH(C$70,ServicePrices[#Headers],0))*Lease_Factor,0)","v":18},{"$f":"ROUND(INDEX(ServicePrices[],MATCH(\"Push-to-talk\",ServicePrices[Type],0),MATCH(D$70,ServicePrices[#Headers],0))*Lease_Factor,0)","v":12},{"$f":"ROUND(INDEX(ServicePrices[],MATCH(\"Push-to-talk\",ServicePrices[Type],0),MATCH(E$70,ServicePrices[#Headers],0))*Lease_Factor,0)","v":14},{"$f":"ROUND(INDEX(ServicePrices[],MATCH(\"Push-to-talk\",ServicePrices[Type],0),MATCH(F$70,ServicePrices[#Headers],0))*Lease_Factor,0)","v":23}]
["SX",{"$f":"ROUND(INDEX(ServicePrices[],MATCH(\"Self-monitored\",ServicePrices[Type],0),MATCH(B$70,ServicePrices[#Headers],0))*Lease_Factor,0)","v":23},{"$f":"ROUND(INDEX(ServicePrices[],MATCH(\"Self-monitored\",ServicePrices[Type],0),MATCH(C$70,ServicePrices[#Headers],0))*Lease_Factor,0)","v":23},{"$f":"ROUND(INDEX(ServicePrices[],MATCH(\"Self-monitored\",ServicePrices[Type],0),MATCH(D$70,ServicePrices[#Headers],0))*Lease_Factor,0)","v":18},{"$f":"ROUND(INDEX(ServicePrices[],MATCH(\"Self-monitored\",ServicePrices[Type],0),MATCH(E$70,ServicePrices[#Headers],0))*Lease_Factor,0)","v":19},{"$f":"ROUND(INDEX(ServicePrices[],MATCH(\"Self-monitored\",ServicePrices[Type],0),MATCH(F$70,ServicePrices[#Headers],0))*Lease_Factor,0)","v":29}]
["SXP",{"$f":"ROUND((INDEX(ServicePrices[],MATCH(\"Self-monitored\",ServicePrices[Type],0),MATCH(B$70,ServicePrices[#Headers],0))+\nINDEX(ServicePrices[],MATCH(\"Push-to-talk\",ServicePrices[Type],0),MATCH(B$70,ServicePrices[#Headers],0)))*Lease_Factor,0)","v":41},{"$f":"ROUND((INDEX(ServicePrices[],MATCH(\"Self-monitored\",ServicePrices[Type],0),MATCH(C$70,ServicePrices[#Headers],0))+\nINDEX(ServicePrices[],MATCH(\"Push-to-talk\",ServicePrices[Type],0),MATCH(C$70,ServicePrices[#Headers],0)))*Lease_Factor,0)","v":41},{"$f":"ROUND((INDEX(ServicePrices[],MATCH(\"Self-monitored\",ServicePrices[Type],0),MATCH(D$70,ServicePrices[#Headers],0))+\nINDEX(ServicePrices[],MATCH(\"Push-to-talk\",ServicePrices[Type],0),MATCH(D$70,ServicePrices[#Headers],0)))*Lease_Factor,0)","v":30},{"$f":"ROUND((INDEX(ServicePrices[],MATCH(\"Self-monitored\",ServicePrices[Type],0),MATCH(E$70,ServicePrices[#Headers],0))+\nINDEX(ServicePrices[],MATCH(\"Push-to-talk\",ServicePrices[Type],0),MATCH(E$70,ServicePrices[#Headers],0)))*Lease_Factor,0)","v":34},{"$f":"ROUND((INDEX(ServicePrices[],MATCH(\"Self-monitored\",ServicePrices[Type],0),MATCH(F$70,ServicePrices[#Headers],0))+\nINDEX(ServicePrices[],MATCH(\"Push-to-talk\",ServicePrices[Type],0),MATCH(F$70,ServicePrices[#Headers],0)))*Lease_Factor,0)","v":52}]
["SV",{"$f":"ROUND((INDEX(ServicePrices[],MATCH(\"Self-monitored\",ServicePrices[Type],0),MATCH(B$70,ServicePrices[#Headers],0))+\nINDEX(ServicePrices[],MATCH(\"Voice\",ServicePrices[Type],0),MATCH(B$70,ServicePrices[#Headers],0)))*Lease_Factor,0)","v":48},{"$f":"ROUND((INDEX(ServicePrices[],MATCH(\"Self-monitored\",ServicePrices[Type],0),MATCH(C$70,ServicePrices[#Headers],0))+\nINDEX(ServicePrices[],MATCH(\"Voice\",ServicePrices[Type],0),MATCH(C$70,ServicePrices[#Headers],0)))*Lease_Factor,0)","v":48},{"$f":"ROUND((INDEX(ServicePrices[],MATCH(\"Self-monitored\",ServicePrices[Type],0),MATCH(D$70,ServicePrices[#Headers],0))+\nINDEX(ServicePrices[],MATCH(\"Voice\",ServicePrices[Type],0),MATCH(D$70,ServicePrices[#Headers],0)))*Lease_Factor,0)","v":35},{"$f":"ROUND((INDEX(ServicePrices[],MATCH(\"Self-monitored\",ServicePrices[Type],0),MATCH(E$70,ServicePrices[#Headers],0))+\nINDEX(ServicePrices[],MATCH(\"Voice\",ServicePrices[Type],0),MATCH(E$70,ServicePrices[#Headers],0)))*Lease_Factor,0)","v":40},{"$f":"ROUND((INDEX(ServicePrices[],MATCH(\"Self-monitored\",ServicePrices[Type],0),MATCH(F$70,ServicePrices[#Headers],0))+\nINDEX(ServicePrices[],MATCH(\"Voice\",ServicePrices[Type],0),MATCH(F$70,ServicePrices[#Headers],0)))*Lease_Factor,0)","v":60}]
["SVP",{"$f":"ROUND((INDEX(ServicePrices[],MATCH(\"Self-monitored\",ServicePrices[Type],0),MATCH(B$70,ServicePrices[#Headers],0))+\nINDEX(ServicePrices[],MATCH(\"Voice\",ServicePrices[Type],0),MATCH(B$70,ServicePrices[#Headers],0))+\nINDEX(ServicePrices[],MATCH(\"Push-to-talk\",ServicePrices[Type],0),MATCH(B$70,ServicePrices[#Headers],0)))*Lease_Factor,0)","v":66},{"$f":"ROUND((INDEX(ServicePrices[],MATCH(\"Self-monitored\",ServicePrices[Type],0),MATCH(C$70,ServicePrices[#Headers],0))+\nINDEX(ServicePrices[],MATCH(\"Voice\",ServicePrices[Type],0),MATCH(C$70,ServicePrices[#Headers],0))+\nINDEX(ServicePrices[],MATCH(\"Push-to-talk\",ServicePrices[Type],0),MATCH(C$70,ServicePrices[#Headers],0)))*Lease_Factor,0)","v":66},{"$f":"ROUND((INDEX(ServicePrices[],MATCH(\"Self-monitored\",ServicePrices[Type],0),MATCH(D$70,ServicePrices[#Headers],0))+\nINDEX(ServicePrices[],MATCH(\"Voice\",ServicePrices[Type],0),MATCH(D$70,ServicePrices[#Headers],0))+\nINDEX(ServicePrices[],MATCH(\"Push-to-talk\",ServicePrices[Type],0),MATCH(D$70,ServicePrices[#Headers],0)))*Lease_Factor,0)","v":47},{"$f":"ROUND((INDEX(ServicePrices[],MATCH(\"Self-monitored\",ServicePrices[Type],0),MATCH(E$70,ServicePrices[#Headers],0))+\nINDEX(ServicePrices[],MATCH(\"Voice\",ServicePrices[Type],0),MATCH(E$70,ServicePrices[#Headers],0))+\nINDEX(ServicePrices[],MATCH(\"Push-to-talk\",ServicePrices[Type],0),MATCH(E$70,ServicePrices[#Headers],0)))*Lease_Factor,0)","v":54},{"$f":"ROUND((INDEX(ServicePrices[],MATCH(\"Self-monitored\",ServicePrices[Type],0),MATCH(F$70,ServicePrices[#Headers],0))+\nINDEX(ServicePrices[],MATCH(\"Voice\",ServicePrices[Type],0),MATCH(F$70,ServicePrices[#Headers],0))+\nINDEX(ServicePrices[],MATCH(\"Push-to-talk\",ServicePrices[Type],0),MATCH(F$70,ServicePrices[#Headers],0)))*Lease_Factor,0)","v":83}]
["BX",{"$f":"ROUND(INDEX(ServicePrices[],MATCH(\"Blackline Monitored\",ServicePrices[Type],0),MATCH(B$70,ServicePrices[#Headers],0))*Lease_Factor,0)","v":47},{"$f":"ROUND(INDEX(ServicePrices[],MATCH(\"Blackline Monitored\",ServicePrices[Type],0),MATCH(C$70,ServicePrices[#Headers],0))*Lease_Factor,0)","v":47},{"$f":"ROUND(INDEX(ServicePrices[],MATCH(\"Blackline Monitored\",ServicePrices[Type],0),MATCH(D$70,ServicePrices[#Headers],0))*Lease_Factor,0)","v":32},{"$f":"ROUND(INDEX(ServicePrices[],MATCH(\"Blackline Monitored\",ServicePrices[Type],0),MATCH(E$70,ServicePrices[#Headers],0))*Lease_Factor,0)","v":38},{"$f":"ROUND(INDEX(ServicePrices[],MATCH(\"Blackline Monitored\",ServicePrices[Type],0),MATCH(F$70,ServicePrices[#Headers],0))*Lease_Factor,0)","v":67}]
["BXP",{"$f":"ROUND((INDEX(ServicePrices[],MATCH(\"Blackline Monitored\",ServicePrices[Type],0),MATCH(B$70,ServicePrices[#Headers],0))+\nINDEX(ServicePrices[],MATCH(\"Push-to-talk\",ServicePrices[Type],0),MATCH(B$70,ServicePrices[#Headers],0)))*Lease_Factor,0)","v":65},{"$f":"ROUND((INDEX(ServicePrices[],MATCH(\"Blackline Monitored\",ServicePrices[Type],0),MATCH(C$70,ServicePrices[#Headers],0))+\nINDEX(ServicePrices[],MATCH(\"Push-to-talk\",ServicePrices[Type],0),MATCH(C$70,ServicePrices[#Headers],0)))*Lease_Factor,0)","v":65},{"$f":"ROUND((INDEX(ServicePrices[],MATCH(\"Blackline Monitored\",ServicePrices[Type],0),MATCH(D$70,ServicePrices[#Headers],0))+\nINDEX(ServicePrices[],MATCH(\"Push-to-talk\",ServicePrices[Type],0),MATCH(D$70,ServicePrices[#Headers],0)))*Lease_Factor,0)","v":44},{"$f":"ROUND((INDEX(ServicePrices[],MATCH(\"Blackline Monitored\",ServicePrices[Type],0),MATCH(E$70,ServicePrices[#Headers],0))+\nINDEX(ServicePrices[],MATCH(\"Push-to-talk\",ServicePrices[Type],0),MATCH(E$70,ServicePrices[#Headers],0)))*Lease_Factor,0)","v":53},{"$f":"ROUND((INDEX(ServicePrices[],MATCH(\"Blackline Monitored\",ServicePrices[Type],0),MATCH(F$70,ServicePrices[#Headers],0))+\nINDEX(ServicePrices[],MATCH(\"Push-to-talk\",ServicePrices[Type],0),MATCH(F$70,ServicePrices[#Headers],0)))*Lease_Factor,0)","v":90}]
["BV",{"$f":"ROUND((INDEX(ServicePrices[],MATCH(\"Blackline Monitored\",ServicePrices[Type],0),MATCH(B$70,ServicePrices[#Headers],0))+\nINDEX(ServicePrices[],MATCH(\"Voice\",ServicePrices[Type],0),MATCH(B$70,ServicePrices[#Headers],0)))*Lease_Factor,0)","v":72},{"$f":"ROUND((INDEX(ServicePrices[],MATCH(\"Blackline Monitored\",ServicePrices[Type],0),MATCH(C$70,ServicePrices[#Headers],0))+\nINDEX(ServicePrices[],MATCH(\"Voice\",ServicePrices[Type],0),MATCH(C$70,ServicePrices[#Headers],0)))*Lease_Factor,0)","v":72},{"$f":"ROUND((INDEX(ServicePrices[],MATCH(\"Blackline Monitored\",ServicePrices[Type],0),MATCH(D$70,ServicePrices[#Headers],0))+\nINDEX(ServicePrices[],MATCH(\"Voice\",ServicePrices[Type],0),MATCH(D$70,ServicePrices[#Headers],0)))*Lease_Factor,0)","v":49},{"$f":"ROUND((INDEX(ServicePrices[],MATCH(\"Blackline Monitored\",ServicePrices[Type],0),MATCH(E$70,ServicePrices[#Headers],0))+\nINDEX(ServicePrices[],MATCH(\"Voice\",ServicePrices[Type],0),MATCH(E$70,ServicePrices[#Headers],0)))*Lease_Factor,0)","v":59},{"$f":"ROUND((INDEX(ServicePrices[],MATCH(\"Blackline Monitored\",ServicePrices[Type],0),MATCH(F$70,ServicePrices[#Headers],0))+\nINDEX(ServicePrices[],MATCH(\"Voice\",ServicePrices[Type],0),MATCH(F$70,ServicePrices[#Headers],0)))*Lease_Factor,0)","v":98}]
["BVP",{"$f":"ROUND((INDEX(ServicePrices[],MATCH(\"Blackline Monitored\",ServicePrices[Type],0),MATCH(B$70,ServicePrices[#Headers],0))+\nINDEX(ServicePrices[],MATCH(\"Voice\",ServicePrices[Type],0),MATCH(B$70,ServicePrices[#Headers],0))+\nINDEX(ServicePrices[],MATCH(\"Push-to-talk\",ServicePrices[Type],0),MATCH(B$70,ServicePrices[#Headers],0)))*Lease_Factor,0)","v":90},{"$f":"ROUND((INDEX(ServicePrices[],MATCH(\"Blackline Monitored\",ServicePrices[Type],0),MATCH(C$70,ServicePrices[#Headers],0))+\nINDEX(ServicePrices[],MATCH(\"Voice\",ServicePrices[Type],0),MATCH(C$70,ServicePrices[#Headers],0))+\nINDEX(ServicePrices[],MATCH(\"Push-to-talk\",ServicePrices[Type],0),MATCH(C$70,ServicePrices[#Headers],0)))*Lease_Factor,0)","v":90},{"$f":"ROUND((INDEX(ServicePrices[],MATCH(\"Blackline Monitored\",ServicePrices[Type],0),MATCH(D$70,ServicePrices[#Headers],0))+\nINDEX(ServicePrices[],MATCH(\"Voice\",ServicePrices[Type],0),MATCH(D$70,ServicePrices[#Headers],0))+\nINDEX(ServicePrices[],MATCH(\"Push-to-talk\",ServicePrices[Type],0),MATCH(D$70,ServicePrices[#Headers],0)))*Lease_Factor,0)","v":61},{"$f":"ROUND((INDEX(ServicePrices[],MATCH(\"Blackline Monitored\",ServicePrices[Type],0),MATCH(E$70,ServicePrices[#Headers],0))+\nINDEX(ServicePrices[],MATCH(\"Voice\",ServicePrices[Type],0),MATCH(E$70,ServicePrices[#Headers],0))+\nINDEX(ServicePrices[],MATCH(\"Push-to-talk\",ServicePrices[Type],0),MATCH(E$70,ServicePrices[#Headers],0)))*Lease_Factor,0)","v":73},{"$f":"ROUND((INDEX(ServicePrices[],MATCH(\"Blackline Monitored\",ServicePrices[Type],0),MATCH(F$70,ServicePrices[#Headers],0))+\nINDEX(ServicePrices[],MATCH(\"Voice\",ServicePrices[Type],0),MATCH(F$70,ServicePrices[#Headers],0))+\nINDEX(ServicePrices[],MATCH(\"Push-to-talk\",ServicePrices[Type],0),MATCH(F$70,ServicePrices[#Headers],0)))*Lease_Factor,0)","v":121}]
[]
["Lease Factor",1.2]
["Discount Rate",{"v":0.08,"d":"8%"}]
[]
["Bridge"]
["Type","USD","CAD","GBP","EUR","AUD"]
["Bridge",1332,1465,"N/A","N/A",1598]
["1Y Service",801,801,"N/A","N/A",879]
["2Y Service",785,785,"N/A","N/A",862]
["3Y Service",777,777,"N/A","N/A",853]
["4Y Service",769,769,"N/A","N/A",844]
["5Y Service",761,761,"N/A","N/A",836]
[]
["EXO Sattellite Service"]
["Type","USD","CAD","GBP","EUR","AUD"]
["3Y",2568,3102,1935,2271,3300]
["4Y",3232,3896,2436,2836,4160]
["5Y",3799,4570,2864,3304,4900]
[]
["Gas Expansion Modules"]
["Code","Sensor #1","Sensor #2","Sensor #3","Sensor #4","USD","CAD","GBP","EUR","AUD","eUSD","eCAD","eGBP","eEUR","eAUD"]
["00",{"$nulls":4},0,0,0,0,0,0,0,0,0,0]
["01","S","V",null,null,{"$f":"INDEX(BasePrices[],MATCH(\"EXO Pump\",BasePrices[Type],0),MATCH(F$113,BasePrices[#Headers],0))+\nIFERROR(ROUNDUP(INDEX(BasePrices[],MATCH(COUNTA($B115:$E115),BasePrices[SnrCnt],0),MATCH(F$113,BasePrices[#Headers],0))*2.2777777,0),0)+\nIFERROR(ROUNDUP(INDEX(SensorPricing[],MATCH($B115,SensorPricing[Sensor],0),MATCH(F$113,SensorPricing[#Headers],0))*2.2777777,0),0)+\nIFERROR(ROUNDUP(INDEX(SensorPricing[],MATCH($C115,SensorPricing[Sensor],0),MATCH(F$113,SensorPricing[#Headers],0))*2.2777777,0),0)+\nIFERROR(ROUNDUP(INDEX(SensorPricing[],MATCH($D115,SensorPricing[Sensor],0),MATCH(F$113,SensorPricing[#Headers],0))*2.2777777,0),0)+\nIFERROR(ROUNDUP(INDEX(SensorPricing[],MATCH($E115,SensorPricing[Sensor],0),MATCH(F$113,SensorPricing[#Headers],0))*2.2777777,0),0)","v":3631},{"$f":"INDEX(BasePrices[],MATCH(\"EXO Pump\",BasePrices[Type],0),MATCH(G$113,BasePrices[#Headers],0))+\nIFERROR(ROUNDUP(INDEX(BasePrices[],MATCH(COUNTA($B115:$E115),BasePrices[SnrCnt],0),MATCH(G$113,BasePrices[#Headers],0))*2.2777777,0),0)+\nIFERROR(ROUNDUP(INDEX(SensorPricing[],MATCH($B115,SensorPricing[Sensor],0),MATCH(G$113,SensorPricing[#Headers],0))*2.2777777,0),0)+\nIFERROR(ROUNDUP(INDEX(SensorPricing[],MATCH($C115,SensorPricing[Sensor],0),MATCH(G$113,SensorPricing[#Headers],0))*2.2777777,0),0)+\nIFERROR(ROUNDUP(INDEX(SensorPricing[],MATCH($D115,SensorPricing[Sensor],0),MATCH(G$113,SensorPricing[#Headers],0))*2.2777777,0),0)+\nIFERROR(ROUNDUP(INDEX(SensorPricing[],MATCH($E115,SensorPricing[Sensor],0),MATCH(G$113,SensorPricing[#Headers],0))*2.2777777,0),0)","v":4308},{"$f":"INDEX(BasePrices[],MATCH(\"EXO Pump\",BasePrices[Type],0),MATCH(H$113,BasePrices[#Headers],0))+\nIFERROR(ROUNDUP(INDEX(BasePrices[],MATCH(COUNTA($B115:$E115),BasePrices[SnrCnt],0),MATCH(H$113,BasePrices[#Headers],0))*2.2777777,0),0)+\nIFERROR(ROUNDUP(INDEX(SensorPricing[],MATCH($B115,SensorPricing[Sensor],0),MATCH(H$113,SensorPricing[#Headers],0))*2.2777777,0),0)+\nIFERROR(ROUNDUP(INDEX(SensorPricing[],MATCH($C115,SensorPricing[Sensor],0),MATCH(H$113,SensorPricing[#Headers],0))*2.2777777,0),0)+\nIFERROR(ROUNDUP(INDEX(SensorPricing[],MATCH($D115,SensorPricing[Sensor],0),MATCH(H$113,SensorPricing[#Headers],0))*2.2777777,0),0)+\nIFERROR(ROUNDUP(INDEX(SensorPricing[],MATCH($E115,SensorPricing[Sensor],0),MATCH(H$113,SensorPricing[#Headers],0))*2.2777777,0),0)","v":2495},{"$f":"INDEX(BasePrices[],MATCH(\"EXO Pump\",BasePrices[Type],0),MATCH(I$113,BasePrices[#Headers],0))+\nIFERROR(ROUNDUP(INDEX(BasePrices[],MATCH(COUNTA($B115:$E115),BasePrices[SnrCnt],0),MATCH(I$113,BasePrices[#Headers],0))*2.2777777,0),0)+\nIFERROR(ROUNDUP(INDEX(SensorPricing[],MATCH($B115,SensorPricing[Sensor],0),MATCH(I$113,SensorPricing[#Headers],0))*2.2777777,0),0)+\nIFERROR(ROUNDUP(INDEX(SensorPricing[],MATCH($C115,SensorPricing[Sensor],0),MATCH(I$113,SensorPricing[#Headers],0))*2.2777777,0),0)+\nIFERROR(ROUNDUP(INDEX(SensorPricing[],MATCH($D115,SensorPricing[Sensor],0),MATCH(I$113,SensorPricing[#Headers],0))*2.2777777,0),0)+\nIFERROR(ROUNDUP(INDEX(SensorPricing[],MATCH($E115,SensorPricing[Sensor],0),MATCH(I$113,SensorPricing[#Headers],0))*2.2777777,0),0)","v":2881},{"$f":"INDEX(BasePrices[],MATCH(\"EXO Pump\",BasePrices[Type],0),MATCH(J$113,BasePrices[#Headers],0))+\nIFERROR(ROUNDUP(INDEX(BasePrices[],MATCH(COUNTA($B115:$E115),BasePrices[SnrCnt],0),MATCH(J$113,BasePrices[#Headers],0))*2.2777777,0),0)+\nIFERROR(ROUNDUP(INDEX(SensorPricing[],MATCH($B115,SensorPricing[Sensor],0),MATCH(J$113,SensorPricing[#Headers],0))*2.2777777,0),0)+\nIFERROR(ROUNDUP(INDEX(SensorPricing[],MATCH($C115,SensorPricing[Sensor],0),MATCH(J$113,SensorPricing[#Headers],0))*2.2777777,0),0)+\nIFERROR(ROUNDUP(INDEX(SensorPricing[],MATCH($D115,SensorPricing[Sensor],0),MATCH(J$113,SensorPricing[#Headers],0))*2.2777777,0),0)+\nIFERROR(ROUNDUP(INDEX(SensorPricing[],MATCH($E115,SensorPricing[Sensor],0),MATCH(J$113,SensorPricing[#Headers],0))*2.2777777,0),0)","v":4839},{"$f":"IFERROR(ROUNDUP(INDEX(BasePrices[],MATCH(COUNTA($B115:$E115),BasePrices[SnrCnt],0),MATCH(F$113,BasePrices[#Headers],0))*0.2777777,0),0)+\nIFERROR(ROUNDUP(INDEX(SensorPricing[],MATCH($B115,SensorPricing[Sensor],0),MATCH(F$113,SensorPricing[#Headers],0))*0.2777777,0),0)+\nIFERROR(ROUNDUP(INDEX(SensorPricing[],MATCH($C115,SensorPricing[Sensor],0),MATCH(F$113,SensorPricing[#Headers],0))*0.2777777,0),0)+\nIFERROR(ROUNDUP(INDEX(SensorPricing[],MATCH($D115,SensorPricing[Sensor],0),MATCH(F$113,SensorPricing[#Headers],0))*0.2777777,0),0)+\nIFERROR(ROUNDUP(INDEX(SensorPricing[],MATCH($E115,SensorPricing[Sensor],0),MATCH(F$113,SensorPricing[#Headers],0))*0.2777777,0),0)","v":170},{"$f":"IFERROR(ROUNDUP(INDEX(BasePrices[],MATCH(COUNTA($B115:$E115),BasePrices[SnrCnt],0),MATCH(G$113,BasePrices[#Headers],0))*0.2777777,0),0)+\nIFERROR(ROUNDUP(INDEX(SensorPricing[],MATCH($B115,SensorPricing[Sensor],0),MATCH(G$113,SensorPricing[#Headers],0))*0.2777777,0),0)+\nIFERROR(ROUNDUP(INDEX(SensorPricing[],MATCH($C115,SensorPricing[Sensor],0),MATCH(G$113,SensorPricing[#Headers],0))*0.2777777,0),0)+\nIFERROR(ROUNDUP(INDEX(SensorPricing[],MATCH($D115,SensorPricing[Sensor],0),MATCH(G$113,SensorPricing[#Headers],0))*0.2777777,0),0)+\nIFERROR(ROUNDUP(INDEX(SensorPricing[],MATCH($E115,SensorPricing[Sensor],0),MATCH(G$113,SensorPricing[#Headers],0))*0.2777777,0),0)","v":198},{"$f":"IFERROR(ROUNDUP(INDEX(BasePrices[],MATCH(COUNTA($B115:$E115),BasePrices[SnrCnt],0),MATCH(H$113,BasePrices[#Headers],0))*0.2777777,0),0)+\nIFERROR(ROUNDUP(INDEX(SensorPricing[],MATCH($B115,SensorPricing[Sensor],0),MATCH(H$113,SensorPricing[#Headers],0))*0.2777777,0),0)+\nIFERROR(ROUNDUP(INDEX(SensorPricing[],MATCH($C115,SensorPricing[Sensor],0),MATCH(H$113,SensorPricing[#Headers],0))*0.2777777,0),0)+\nIFERROR(ROUNDUP(INDEX(SensorPricing[],MATCH($D115,SensorPricing[Sensor],0),MATCH(H$113,SensorPricing[#Headers],0))*0.2777777,0),0)+\nIFERROR(ROUNDUP(INDEX(SensorPricing[],MATCH($E115,SensorPricing[Sensor],0),MATCH(H$113,SensorPricing[#Headers],0))*0.2777777,0),0)","v":100},{"$f":"IFERROR(ROUNDUP(INDEX(BasePrices[],MATCH(COUNTA($B115:$E115),BasePrices[SnrCnt],0),MATCH(I$113,BasePrices[#Headers],0))*0.2777777,0),0)+\nIFERROR(ROUNDUP(INDEX(SensorPricing[],MATCH($B115,SensorPricing[Sensor],0),MATCH(I$113,SensorPricing[#Headers],0))*0.2777777,0),0)+\nIFERROR(ROUNDUP(INDEX(SensorPricing[],MATCH($C115,SensorPricing[Sensor],0),MATCH(I$113,SensorPricing[#Headers],0))*0.2777777,0),0)+\nIFERROR(ROUNDUP(INDEX(SensorPricing[],MATCH($D115,SensorPricing[Sensor],0),MATCH(I$113,SensorPricing[#Headers],0))*0.2777777,0),0)+\nIFERROR(ROUNDUP(INDEX(SensorPricing[],MATCH($E115,SensorPricing[Sensor],0),MATCH(I$113,SensorPricing[#Headers],0))*0.2777777,0),0)","v":119},{"$f":"IFERROR(ROUNDUP(INDEX(BasePrices[],MATCH(COUNTA($B115:$E115),BasePrices[SnrCnt],0),MATCH(J$113,BasePrices[#Headers],0))*0.2777777,0),0)+\nIFERROR(ROUNDUP(INDEX(SensorPricing[],MATCH($B115,SensorPricing[Sensor],0),MATCH(J$113,SensorPricing[#Headers],0))*0.2777777,0),0)+\nIFERROR(ROUNDUP(INDEX(SensorPricing[],MATCH($C115,SensorPricing[Sensor],0),MATCH(J$113,SensorPricing[#Headers],0))*0.2777777,0),0)+\nIFERROR(ROUNDUP(INDEX(SensorPricing[],MATCH($D115,SensorPricing[Sensor],0),MATCH(J$113,SensorPricing[#Headers],0))*0.2777777,0),0)+\nIFERROR(ROUNDUP(INDEX(SensorPricing[],MATCH($E115,SensorPricing[Sensor],0),MATCH(J$113,SensorPricing[#Headers],0))*0.2777777,0),0)","v":227}]
["02","2","A","S","V",{"$f":"INDEX(BasePrices[],MATCH(\"EXO Pump\",BasePrices[Type],0),MATCH(F$113,BasePrices[#Headers],0))+\nIFERROR(ROUNDUP(INDEX(BasePrices[],MATCH(COUNTA($B116:$E116),BasePrices[SnrCnt],0),MATCH(F$113,BasePrices[#Headers],0))*2.2777777,0),0)+\nIFERROR(ROUNDUP(INDEX(SensorPricing[],MATCH($B116,SensorPricing[Sensor],0),MATCH(F$113,SensorPricing[#Headers],0))*2.2777777,0),0)+\nIFERROR(ROUNDUP(INDEX(SensorPricing[],MATCH($C116,SensorPricing[Sensor],0),MATCH(F$113,SensorPricing[#Headers],0))*2.2777777,0),0)+\nIFERROR(ROUNDUP(INDEX(SensorPricing[],MATCH($D116,SensorPricing[Sensor],0),MATCH(F$113,SensorPricing[#Headers],0))*2.2777777,0),0)+\nIFERROR(ROUNDUP(INDEX(SensorPricing[],MATCH($E116,SensorPricing[Sensor],0),MATCH(F$113,SensorPricing[#Headers],0))*2.2777777,0),0)","v":4894},{"$f":"INDEX(BasePrices[],MATCH(\"EXO Pump\",BasePrices[Type],0),MATCH(G$113,BasePrices[#Headers],0))+\nIFERROR(ROUNDUP(INDEX(BasePrices[],MATCH(COUNTA($B116:$E116),BasePrices[SnrCnt],0),MATCH(G$113,BasePrices[#Headers],0))*2.2777777,0),0)+\nIFERROR(ROUNDUP(INDEX(SensorPricing[],MATCH($B116,SensorPricing[Sensor],0),MATCH(G$113,SensorPricing[#Headers],0))*2.2777777,0),0)+\nIFERROR(ROUNDUP(INDEX(SensorPricing[],MATCH($C116,SensorPricing[Sensor],0),MATCH(G$113,SensorPricing[#Headers],0))*2.2777777,0),0)+\nIFERROR(ROUNDUP(INDEX(SensorPricing[],MATCH($D116,SensorPricing[Sensor],0),MATCH(G$113,SensorPricing[#Headers],0))*2.2777777,0),0)+\nIFERROR(ROUNDUP(INDEX(SensorPricing[],MATCH($E116,SensorPricing[Sensor],0),MATCH(G$113,SensorPricing[#Headers],0))*2.2777777,0),0)","v":5789},{"$f":"INDEX(BasePrices[],MATCH(\"EXO Pump\",BasePrices[Type],0),MATCH(H$113,BasePrices[#Headers],0))+\nIFERROR(ROUNDUP(INDEX(BasePrices[],MATCH(COUNTA($B116:$E116),BasePrices[SnrCnt],0),MATCH(H$113,BasePrices[#Headers],0))*2.2777777,0),0)+\nIFERROR(ROUNDUP(INDEX(SensorPricing[],MATCH($B116,SensorPricing[Sensor],0),MATCH(H$113,SensorPricing[#Headers],0))*2.2777777,0),0)+\nIFERROR(ROUNDUP(INDEX(SensorPricing[],MATCH($C116,SensorPricing[Sensor],0),MATCH(H$113,SensorPricing[#Headers],0))*2.2777777,0),0)+\nIFERROR(ROUNDUP(INDEX(SensorPricing[],MATCH($D116,SensorPricing[Sensor],0),MATCH(H$113,SensorPricing[#Headers],0))*2.2777777,0),0)+\nIFERROR(ROUNDUP(INDEX(SensorPricing[],MATCH($E116,SensorPricing[Sensor],0),MATCH(H$113,SensorPricing[#Headers],0))*2.2777777,0),0)","v":3260},{"$f":"INDEX(BasePrices[],MATCH(\"EXO Pump\",BasePrices[Type],0),MATCH(I$113,BasePrices[#Headers],0))+\nIFERROR(ROUNDUP(INDEX(BasePrices[],MATCH(COUNTA($B116:$E116),BasePrices[SnrCnt],0),MATCH(I$113,BasePrices[#Headers],0))*2.2777777,0),0)+\nIFERROR(ROUNDUP(INDEX(SensorPricing[],MATCH($B116,SensorPricing[Sensor],0),MATCH(I$113,SensorPricing[#Headers],0))*2.2777777,0),0)+\nIFERROR(ROUNDUP(INDEX(SensorPricing[],MATCH($C116,SensorPricing[Sensor],0),MATCH(I$113,SensorPricing[#Headers],0))*2.2777777,0),0)+\nIFERROR(ROUNDUP(INDEX(SensorPricing[],MATCH($D116,SensorPricing[Sensor],0),MATCH(I$113,SensorPricing[#Headers],0))*2.2777777,0),0)+\nIFERROR(ROUNDUP(INDEX(SensorPricing[],MATCH($E116,SensorPricing[Sensor],0),MATCH(I$113,SensorPricing[#Headers],0))*2.2777777,0),0)","v":3848},{"$f":"INDEX(BasePrices[],MATCH(\"EXO Pump\",BasePrices[Type],0),MATCH(J$113,BasePrices[#Headers],0))+\nIFERROR(ROUNDUP(INDEX(BasePrices[],MATCH(COUNTA($B116:$E116),BasePrices[SnrCnt],0),MATCH(J$113,BasePrices[#Headers],0))*2.2777777,0),0)+\nIFERROR(ROUNDUP(INDEX(SensorPricing[],MATCH($B116,SensorPricing[Sensor],0),MATCH(J$113,SensorPricing[#Headers],0))*2.2777777,0),0)+\nIFERROR(ROUNDUP(INDEX(SensorPricing[],MATCH($C116,SensorPricing[Sensor],0),MATCH(J$113,SensorPricing[#Headers],0))*2.2777777,0),0)+\nIFERROR(ROUNDUP(INDEX(SensorPricing[],MATCH($D116,SensorPricing[Sensor],0),MATCH(J$113,SensorPricing[#Headers],0))*2.2777777,0),0)+\nIFERROR(ROUNDUP(INDEX(SensorPricing[],MATCH($E116,SensorPricing[Sensor],0),MATCH(J$113,SensorPricing[#Headers],0))*2.2777777,0),0)","v":6528},{"$f":"IFERROR(ROUNDUP(INDEX(BasePrices[],MATCH(COUNTA($B116:$E116),BasePrices[SnrCnt],0),MATCH(F$113,BasePrices[#Headers],0))*0.2777777,0),0)+\nIFERROR(ROUNDUP(INDEX(SensorPricing[],MATCH($B116,SensorPricing[Sensor],0),MATCH(F$113,SensorPricing[#Headers],0))*0.2777777,0),0)+\nIFERROR(ROUNDUP(INDEX(SensorPricing[],MATCH($C116,SensorPricing[Sensor],0),MATCH(F$113,SensorPricing[#Headers],0))*0.2777777,0),0)+\nIFERROR(ROUNDUP(INDEX(SensorPricing[],MATCH($D116,SensorPricing[Sensor],0),MATCH(F$113,SensorPricing[#Headers],0))*0.2777777,0),0)+\nIFERROR(ROUNDUP(INDEX(SensorPricing[],MATCH($E116,SensorPricing[Sensor],0),MATCH(F$113,SensorPricing[#Headers],0))*0.2777777,0),0)","v":325},{"$f":"IFERROR(ROUNDUP(INDEX(BasePrices[],MATCH(COUNTA($B116:$E116),BasePrices[SnrCnt],0),MATCH(G$113,BasePrices[#Headers],0))*0.2777777,0),0)+\nIFERROR(ROUNDUP(INDEX(SensorPricing[],MATCH($B116,SensorPricing[Sensor],0),MATCH(G$113,SensorPricing[#Headers],0))*0.2777777,0),0)+\nIFERROR(ROUNDUP(INDEX(SensorPricing[],MATCH($C116,SensorPricing[Sensor],0),MATCH(G$113,SensorPricing[#Headers],0))*0.2777777,0),0)+\nIFERROR(ROUNDUP(INDEX(SensorPricing[],MATCH($D116,SensorPricing[Sensor],0),MATCH(G$113,SensorPricing[#Headers],0))*0.2777777,0),0)+\nIFERROR(ROUNDUP(INDEX(SensorPricing[],MATCH($E116,SensorPricing[Sensor],0),MATCH(G$113,SensorPricing[#Headers],0))*0.2777777,0),0)","v":379},{"$f":"IFERROR(ROUNDUP(INDEX(BasePrices[],MATCH(COUNTA($B116:$E116),BasePrices[SnrCnt],0),MATCH(H$113,BasePrices[#Headers],0))*0.2777777,0),0)+\nIFERROR(ROUNDUP(INDEX(SensorPricing[],MATCH($B116,SensorPricing[Sensor],0),MATCH(H$113,SensorPricing[#Headers],0))*0.2777777,0),0)+\nIFERROR(ROUNDUP(INDEX(SensorPricing[],MATCH($C116,SensorPricing[Sensor],0),MATCH(H$113,SensorPricing[#Headers],0))*0.2777777,0),0)+\nIFERROR(ROUNDUP(INDEX(SensorPricing[],MATCH($D116,SensorPricing[Sensor],0),MATCH(H$113,SensorPricing[#Headers],0))*0.2777777,0),0)+\nIFERROR(ROUNDUP(INDEX(SensorPricing[],MATCH($E116,SensorPricing[Sensor],0),MATCH(H$113,SensorPricing[#Headers],0))*0.2777777,0),0)","v":193},{"$f":"IFERROR(ROUNDUP(INDEX(BasePrices[],MATCH(COUNTA($B116:$E116),BasePrices[SnrCnt],0),MATCH(I$113,BasePrices[#Headers],0))*0.2777777,0),0)+\nIFERROR(ROUNDUP(INDEX(SensorPricing[],MATCH($B116,SensorPricing[Sensor],0),MATCH(I$113,SensorPricing[#Headers],0))*0.2777777,0),0)+\nIFERROR(ROUNDUP(INDEX(SensorPricing[],MATCH($C116,SensorPricing[Sensor],0),MATCH(I$113,SensorPricing[#Headers],0))*0.2777777,0),0)+\nIFERROR(ROUNDUP(INDEX(SensorPricing[],MATCH($D116,SensorPricing[Sensor],0),MATCH(I$113,SensorPricing[#Headers],0))*0.2777777,0),0)+\nIFERROR(ROUNDUP(INDEX(SensorPricing[],MATCH($E116,SensorPricing[Sensor],0),MATCH(I$113,SensorPricing[#Headers],0))*0.2777777,0),0)","v":238},{"$f":"IFERROR(ROUNDUP(INDEX(BasePrices[],MATCH(COUNTA($B116:$E116),BasePrices[SnrCnt],0),MATCH(J$113,BasePrices[#Headers],0))*0.2777777,0),0)+\nIFERROR(ROUNDUP(INDEX(SensorPricing[],MATCH($B116,SensorPricing[Sensor],0),MATCH(J$113,SensorPricing[#Headers],0))*0.2777777,0),0)+\nIFERROR(ROUNDUP(INDEX(SensorPricing[],MATCH($C116,SensorPricing[Sensor],0),MATCH(J$113,SensorPricing[#Headers],0))*0.2777777,0),0)+\nIFERROR(ROUNDUP(INDEX(SensorPricing[],MATCH($D116,SensorPricing[Sensor],0),MATCH(J$113,SensorPricing[#Headers],0))*0.2777777,0),0)+\nIFERROR(ROUNDUP(INDEX(SensorPricing[],MATCH($E116,SensorPricing[Sensor],0),MATCH(J$113,SensorPricing[#Headers],0))*0.2777777,0),0)","v":434}]
["03","A","G","S","V",{"$f":"INDEX(BasePrices[],MATCH(\"EXO Pump\",BasePrices[Type],0),MATCH(F$113,BasePrices[#Headers],0))+\nIFERROR(ROUNDUP(INDEX(BasePrices[],MATCH(COUNTA($B117:$E117),BasePrices[SnrCnt],0),MATCH(F$113,BasePrices[#Headers],0))*2.2777777,0),0)+\nIFERROR(ROUNDUP(INDEX(SensorPricing[],MATCH($B117,SensorPricing[Sensor],0),MATCH(F$113,SensorPricing[#Headers],0))*2.2777777,0),0)+\nIFERROR(ROUNDUP(INDEX(SensorPricing[],MATCH($C117,SensorPricing[Sensor],0),MATCH(F$113,SensorPricing[#Headers],0))*2.2777777,0),0)+\nIFERROR(ROUNDUP(INDEX(SensorPricing[],MATCH($D117,SensorPricing[Sensor],0),MATCH(F$113,SensorPricing[#Headers],0))*2.2777777,0),0)+\nIFERROR(ROUNDUP(INDEX(SensorPricing[],MATCH($E117,SensorPricing[Sensor],0),MATCH(F$113,SensorPricing[#Headers],0))*2.2777777,0),0)","v":4081},{"$f":"INDEX(BasePrices[],MATCH(\"EXO Pump\",BasePrices[Type],0),MATCH(G$113,BasePrices[#Headers],0))+\nIFERROR(ROUNDUP(INDEX(BasePrices[],MATCH(COUNTA($B117:$E117),BasePrices[SnrCnt],0),MATCH(G$113,BasePrices[#Headers],0))*2.2777777,0),0)+\nIFERROR(ROUNDUP(INDEX(SensorPricing[],MATCH($B117,SensorPricing[Sensor],0),MATCH(G$113,SensorPricing[#Headers],0))*2.2777777,0),0)+\nIFERROR(ROUNDUP(INDEX(SensorPricing[],MATCH($C117,SensorPricing[Sensor],0),MATCH(G$113,SensorPricing[#Headers],0))*2.2777777,0),0)+\nIFERROR(ROUNDUP(INDEX(SensorPricing[],MATCH($D117,SensorPricing[Sensor],0),MATCH(G$113,SensorPricing[#Headers],0))*2.2777777,0),0)+\nIFERROR(ROUNDUP(INDEX(SensorPricing[],MATCH($E117,SensorPricing[Sensor],0),MATCH(G$113,SensorPricing[#Headers],0))*2.2777777,0),0)","v":4815},{"$f":"INDEX(BasePrices[],MATCH(\"EXO Pump\",BasePrices[Type],0),MATCH(H$113,BasePrices[#Headers],0))+\nIFERROR(ROUNDUP(INDEX(BasePrices[],MATCH(COUNTA($B117:$E117),BasePrices[SnrCnt],0),MATCH(H$113,BasePrices[#Headers],0))*2.2777777,0),0)+\nIFERROR(ROUNDUP(INDEX(SensorPricing[],MATCH($B117,SensorPricing[Sensor],0),MATCH(H$113,SensorPricing[#Headers],0))*2.2777777,0),0)+\nIFERROR(ROUNDUP(INDEX(SensorPricing[],MATCH($C117,SensorPricing[Sensor],0),MATCH(H$113,SensorPricing[#Headers],0))*2.2777777,0),0)+\nIFERROR(ROUNDUP(INDEX(SensorPricing[],MATCH($D117,SensorPricing[Sensor],0),MATCH(H$113,SensorPricing[#Headers],0))*2.2777777,0),0)+\nIFERROR(ROUNDUP(INDEX(SensorPricing[],MATCH($E117,SensorPricing[Sensor],0),MATCH(H$113,SensorPricing[#Headers],0))*2.2777777,0),0)","v":2773},{"$f":"INDEX(BasePrices[],MATCH(\"EXO Pump\",BasePrices[Type],0),MATCH(I$113,BasePrices[#Headers],0))+\nIFERROR(ROUNDUP(INDEX(BasePrices[],MATCH(COUNTA($B117:$E117),BasePrices[SnrCnt],0),MATCH(I$113,BasePrices[#Headers],0))*2.2777777,0),0)+\nIFERROR(ROUNDUP(INDEX(SensorPricing[],MATCH($B117,SensorPricing[Sensor],0),MATCH(I$113,SensorPricing[#Headers],0))*2.2777777,0),0)+\nIFERROR(ROUNDUP(INDEX(SensorPricing[],MATCH($C117,SensorPricing[Sensor],0),MATCH(I$113,SensorPricing[#Headers],0))*2.2777777,0),0)+\nIFERROR(ROUNDUP(INDEX(SensorPricing[],MATCH($D117,SensorPricing[Sensor],0),MATCH(I$113,SensorPricing[#Headers],0))*2.2777777,0),0)+\nIFERROR(ROUNDUP(INDEX(SensorPricing[],MATCH($E117,SensorPricing[Sensor],0),MATCH(I$113,SensorPricing[#Headers],0))*2.2777777,0),0)","v":3281},{"$f":"INDEX(BasePrices[],MATCH(\"EXO Pump\",BasePrices[Type],0),MATCH(J$113,BasePrices[#Headers],0))+\nIFERROR(ROUNDUP(INDEX(BasePrices[],MATCH(COUNTA($B117:$E117),BasePrices[SnrCnt],0),MATCH(J$113,BasePrices[#Headers],0))*2.2777777,0),0)+\nIFERROR(ROUNDUP(INDEX(SensorPricing[],MATCH($B117,SensorPricing[Sensor],0),MATCH(J$113,SensorPricing[#Headers],0))*2.2777777,0),0)+\nIFERROR(ROUNDUP(INDEX(SensorPricing[],MATCH($C117,SensorPricing[Sensor],0),MATCH(J$113,SensorPricing[#Headers],0))*2.2777777,0),0)+\nIFERROR(ROUNDUP(INDEX(SensorPricing[],MATCH($D117,SensorPricing[Sensor],0),MATCH(J$113,SensorPricing[#Headers],0))*2.2777777,0),0)+\nIFERROR(ROUNDUP(INDEX(SensorPricing[],MATCH($E117,SensorPricing[Sensor],0),MATCH(J$113,SensorPricing[#Headers],0))*2.2777777,0),0)","v":5446},{"$f":"IFERROR(ROUNDUP(INDEX(BasePrices[],MATCH(COUNTA($B117:$E117),BasePrices[SnrCnt],0),MATCH(F$113,BasePrices[#Headers],0))*0.2777777,0),0)+\nIFERROR(ROUNDUP(INDEX(SensorPricing[],MATCH($B117,SensorPricing[Sensor],0),MATCH(F$113,SensorPricing[#Headers],0))*0.2777777,0),0)+\nIFERROR(ROUNDUP(INDEX(SensorPricing[],MATCH($C117,SensorPricing[Sensor],0),MATCH(F$113,SensorPricing[#Headers],0))*0.2777777,0),0)+\nIFERROR(ROUNDUP(INDEX(SensorPricing[],MATCH($D117,SensorPricing[Sensor],0),MATCH(F$113,SensorPricing[#Headers],0))*0.2777777,0),0)+\nIFERROR(ROUNDUP(INDEX(SensorPricing[],MATCH($E117,SensorPricing[Sensor],0),MATCH(F$113,SensorPricing[#Headers],0))*0.2777777,0),0)","v":226},{"$f":"IFERROR(ROUNDUP(INDEX(BasePrices[],MATCH(COUNTA($B117:$E117),BasePrices[SnrCnt],0),MATCH(G$113,BasePrices[#Headers],0))*0.2777777,0),0)+\nIFERROR(ROUNDUP(INDEX(SensorPricing[],MATCH($B117,SensorPricing[Sensor],0),MATCH(G$113,SensorPricing[#Headers],0))*0.2777777,0),0)+\nIFERROR(ROUNDUP(INDEX(SensorPricing[],MATCH($C117,SensorPricing[Sensor],0),MATCH(G$113,SensorPricing[#Headers],0))*0.2777777,0),0)+\nIFERROR(ROUNDUP(INDEX(SensorPricing[],MATCH($D117,SensorPricing[Sensor],0),MATCH(G$113,SensorPricing[#Headers],0))*0.2777777,0),0)+\nIFERROR(ROUNDUP(INDEX(SensorPricing[],MATCH($E117,SensorPricing[Sensor],0),MATCH(G$113,SensorPricing[#Headers],0))*0.2777777,0),0)","v":261},{"$f":"IFERROR(ROUNDUP(INDEX(BasePrices[],MATCH(COUNTA($B117:$E117),BasePrices[SnrCnt],0),MATCH(H$113,BasePrices[#Headers],0))*0.2777777,0),0)+\nIFERROR(ROUNDUP(INDEX(SensorPricing[],MATCH($B117,SensorPricing[Sensor],0),MATCH(H$113,SensorPricing[#Headers],0))*0.2777777,0),0)+\nIFERROR(ROUNDUP(INDEX(SensorPricing[],MATCH($C117,SensorPricing[Sensor],0),MATCH(H$113,SensorPricing[#Headers],0))*0.2777777,0),0)+\nIFERROR(ROUNDUP(INDEX(SensorPricing[],MATCH($D117,SensorPricing[Sensor],0),MATCH(H$113,SensorPricing[#Headers],0))*0.2777777,0),0)+\nIFERROR(ROUNDUP(INDEX(SensorPricing[],MATCH($E117,SensorPricing[Sensor],0),MATCH(H$113,SensorPricing[#Headers],0))*0.2777777,0),0)","v":134},{"$f":"IFERROR(ROUNDUP(INDEX(BasePrices[],MATCH(COUNTA($B117:$E117),BasePrices[SnrCnt],0),MATCH(I$113,BasePrices[#Headers],0))*0.2777777,0),0)+\nIFERROR(ROUNDUP(INDEX(SensorPricing[],MATCH($B117,SensorPricing[Sensor],0),MATCH(I$113,SensorPricing[#Headers],0))*0.2777777,0),0)+\nIFERROR(ROUNDUP(INDEX(SensorPricing[],MATCH($C117,SensorPricing[Sensor],0),MATCH(I$113,SensorPricing[#Headers],0))*0.2777777,0),0)+\nIFERROR(ROUNDUP(INDEX(SensorPricing[],MATCH($D117,SensorPricing[Sensor],0),MATCH(I$113,SensorPricing[#Headers],0))*0.2777777,0),0)+\nIFERROR(ROUNDUP(INDEX(SensorPricing[],MATCH($E117,SensorPricing[Sensor],0),MATCH(I$113,SensorPricing[#Headers],0))*0.2777777,0),0)","v":169},{"$f":"IFERROR(ROUNDUP(INDEX(BasePrices[],MATCH(COUNTA($B117:$E117),BasePrices[SnrCnt],0),MATCH(J$113,BasePrices[#Headers],0))*0.2777777,0),0)+\nIFERROR(ROUNDUP(INDEX(SensorPricing[],MATCH($B117,SensorPricing[Sensor],0),MATCH(J$113,SensorPricing[#Headers],0))*0.2777777,0),0)+\nIFERROR(ROUNDUP(INDEX(SensorPricing[],MATCH($C117,SensorPricing[Sensor],0),MATCH(J$113,SensorPricing[#Headers],0))*0.2777777,0),0)+\nIFERROR(ROUNDUP(INDEX(SensorPricing[],MATCH($D117,SensorPricing[Sensor],0),MATCH(J$113,SensorPricing[#Headers],0))*0.2777777,0),0)+\nIFERROR(ROUNDUP(INDEX(SensorPricing[],MATCH($E117,SensorPricing[Sensor],0),MATCH(J$113,SensorPricing[#Headers],0))*0.2777777,0),0)","v":302}]
["04","A","H","S",null,{"$f":"INDEX(BasePrices[],MATCH(\"EXO Pump\",BasePrices[Type],0),MATCH(F$113,BasePrices[#Headers],0))+\nIFERROR(ROUNDUP(INDEX(BasePrices[],MATCH(COUNTA($B118:$E118),BasePrices[SnrCnt],0),MATCH(F$113,BasePrices[#Headers],0))*2.2777777,0),0)+\nIFERROR(ROUNDUP(INDEX(SensorPricing[],MATCH($B118,SensorPricing[Sensor],0),MATCH(F$113,SensorPricing[#Headers],0))*2.2777777,0),0)+\nIFERROR(ROUNDUP(INDEX(SensorPricing[],MATCH($C118,SensorPricing[Sensor],0),MATCH(F$113,SensorPricing[#Headers],0))*2.2777777,0),0)+\nIFERROR(ROUNDUP(INDEX(SensorPricing[],MATCH($D118,SensorPricing[Sensor],0),MATCH(F$113,SensorPricing[#Headers],0))*2.2777777,0),0)+\nIFERROR(ROUNDUP(INDEX(SensorPricing[],MATCH($E118,SensorPricing[Sensor],0),MATCH(F$113,SensorPricing[#Headers],0))*2.2777777,0),0)","v":2756},{"$f":"INDEX(BasePrices[],MATCH(\"EXO Pump\",BasePrices[Type],0),MATCH(G$113,BasePrices[#Headers],0))+\nIFERROR(ROUNDUP(INDEX(BasePrices[],MATCH(COUNTA($B118:$E118),BasePrices[SnrCnt],0),MATCH(G$113,BasePrices[#Headers],0))*2.2777777,0),0)+\nIFERROR(ROUNDUP(INDEX(SensorPricing[],MATCH($B118,SensorPricing[Sensor],0),MATCH(G$113,SensorPricing[#Headers],0))*2.2777777,0),0)+\nIFERROR(ROUNDUP(INDEX(SensorPricing[],MATCH($C118,SensorPricing[Sensor],0),MATCH(G$113,SensorPricing[#Headers],0))*2.2777777,0),0)+\nIFERROR(ROUNDUP(INDEX(SensorPricing[],MATCH($D118,SensorPricing[Sensor],0),MATCH(G$113,SensorPricing[#Headers],0))*2.2777777,0),0)+\nIFERROR(ROUNDUP(INDEX(SensorPricing[],MATCH($E118,SensorPricing[Sensor],0),MATCH(G$113,SensorPricing[#Headers],0))*2.2777777,0),0)","v":3239},{"$f":"INDEX(BasePrices[],MATCH(\"EXO Pump\",BasePrices[Type],0),MATCH(H$113,BasePrices[#Headers],0))+\nIFERROR(ROUNDUP(INDEX(BasePrices[],MATCH(COUNTA($B118:$E118),BasePrices[SnrCnt],0),MATCH(H$113,BasePrices[#Headers],0))*2.2777777,0),0)+\nIFERROR(ROUNDUP(INDEX(SensorPricing[],MATCH($B118,SensorPricing[Sensor],0),MATCH(H$113,SensorPricing[#Headers],0))*2.2777777,0),0)+\nIFERROR(ROUNDUP(INDEX(SensorPricing[],MATCH($C118,SensorPricing[Sensor],0),MATCH(H$113,SensorPricing[#Headers],0))*2.2777777,0),0)+\nIFERROR(ROUNDUP(INDEX(SensorPricing[],MATCH($D118,SensorPricing[Sensor],0),MATCH(H$113,SensorPricing[#Headers],0))*2.2777777,0),0)+\nIFERROR(ROUNDUP(INDEX(SensorPricing[],MATCH($E118,SensorPricing[Sensor],0),MATCH(H$113,SensorPricing[#Headers],0))*2.2777777,0),0)","v":1973},{"$f":"INDEX(BasePrices[],MATCH(\"EXO Pump\",BasePrices[Type],0),MATCH(I$113,BasePrices[#Headers],0))+\nIFERROR(ROUNDUP(INDEX(BasePrices[],MATCH(COUNTA($B118:$E118),BasePrices[SnrCnt],0),MATCH(I$113,BasePrices[#Headers],0))*2.2777777,0),0)+\nIFERROR(ROUNDUP(INDEX(SensorPricing[],MATCH($B118,SensorPricing[Sensor],0),MATCH(I$113,SensorPricing[#Headers],0))*2.2777777,0),0)+\nIFERROR(ROUNDUP(INDEX(SensorPricing[],MATCH($C118,SensorPricing[Sensor],0),MATCH(I$113,SensorPricing[#Headers],0))*2.2777777,0),0)+\nIFERROR(ROUNDUP(INDEX(SensorPricing[],MATCH($D118,SensorPricing[Sensor],0),MATCH(I$113,SensorPricing[#Headers],0))*2.2777777,0),0)+\nIFERROR(ROUNDUP(INDEX(SensorPricing[],MATCH($E118,SensorPricing[Sensor],0),MATCH(I$113,SensorPricing[#Headers],0))*2.2777777,0),0)","v":2294},{"$f":"INDEX(BasePrices[],MATCH(\"EXO Pump\",BasePrices[Type],0),MATCH(J$113,BasePrices[#Headers],0))+\nIFERROR(ROUNDUP(INDEX(BasePrices[],MATCH(COUNTA($B118:$E118),BasePrices[SnrCnt],0),MATCH(J$113,BasePrices[#Headers],0))*2.2777777,0),0)+\nIFERROR(ROUNDUP(INDEX(SensorPricing[],MATCH($B118,SensorPricing[Sensor],0),MATCH(J$113,SensorPricing[#Headers],0))*2.2777777,0),0)+\nIFERROR(ROUNDUP(INDEX(SensorPricing[],MATCH($C118,SensorPricing[Sensor],0),MATCH(J$113,SensorPricing[#Headers],0))*2.2777777,0),0)+\nIFERROR(ROUNDUP(INDEX(SensorPricing[],MATCH($D118,SensorPricing[Sensor],0),MATCH(J$113,SensorPricing[#Headers],0))*2.2777777,0),0)+\nIFERROR(ROUNDUP(INDEX(SensorPricing[],MATCH($E118,SensorPricing[Sensor],0),MATCH(J$113,SensorPricing[#Headers],0))*2.2777777,0),0)","v":3675},{"$f":"IFERROR(ROUNDUP(INDEX(BasePrices[],MATCH(COUNTA($B118:$E118),BasePrices[SnrCnt],0),MATCH(F$113,BasePrices[#Headers],0))*0.2777777,0),0)+\nIFERROR(ROUNDUP(INDEX(SensorPricing[],MATCH($B118,SensorPricing[Sensor],0),MATCH(F$113,SensorPricing[#Headers],0))*0.2777777,0),0)+\nIFERROR(ROUNDUP(INDEX(SensorPricing[],MATCH($C118,SensorPricing[Sensor],0),MATCH(F$113,SensorPricing[#Headers],0))*0.2777777,0),0)+\nIFERROR(ROUNDUP(INDEX(SensorPricing[],MATCH($D118,SensorPricing[Sensor],0),MATCH(F$113,SensorPricing[#Headers],0))*0.2777777,0),0)+\nIFERROR(ROUNDUP(INDEX(SensorPricing[],MATCH($E118,SensorPricing[Sensor],0),MATCH(F$113,SensorPricing[#Headers],0))*0.2777777,0),0)","v":63},{"$f":"IFERROR(ROUNDUP(INDEX(BasePrices[],MATCH(COUNTA($B118:$E118),BasePrices[SnrCnt],0),MATCH(G$113,BasePrices[#Headers],0))*0.2777777,0),0)+\nIFERROR(ROUNDUP(INDEX(SensorPricing[],MATCH($B118,SensorPricing[Sensor],0),MATCH(G$113,SensorPricing[#Headers],0))*0.2777777,0),0)+\nIFERROR(ROUNDUP(INDEX(SensorPricing[],MATCH($C118,SensorPricing[Sensor],0),MATCH(G$113,SensorPricing[#Headers],0))*0.2777777,0),0)+\nIFERROR(ROUNDUP(INDEX(SensorPricing[],MATCH($D118,SensorPricing[Sensor],0),MATCH(G$113,SensorPricing[#Headers],0))*0.2777777,0),0)+\nIFERROR(ROUNDUP(INDEX(SensorPricing[],MATCH($E118,SensorPricing[Sensor],0),MATCH(G$113,SensorPricing[#Headers],0))*0.2777777,0),0)","v":67},{"$f":"IFERROR(ROUNDUP(INDEX(BasePrices[],MATCH(COUNTA($B118:$E118),BasePrices[SnrCnt],0),MATCH(H$113,BasePrices[#Headers],0))*0.2777777,0),0)+\nIFERROR(ROUNDUP(INDEX(SensorPricing[],MATCH($B118,SensorPricing[Sensor],0),MATCH(H$113,SensorPricing[#Headers],0))*0.2777777,0),0)+\nIFERROR(ROUNDUP(INDEX(SensorPricing[],MATCH($C118,SensorPricing[Sensor],0),MATCH(H$113,SensorPricing[#Headers],0))*0.2777777,0),0)+\nIFERROR(ROUNDUP(INDEX(SensorPricing[],MATCH($D118,SensorPricing[Sensor],0),MATCH(H$113,SensorPricing[#Headers],0))*0.2777777,0),0)+\nIFERROR(ROUNDUP(INDEX(SensorPricing[],MATCH($E118,SensorPricing[Sensor],0),MATCH(H$113,SensorPricing[#Headers],0))*0.2777777,0),0)","v":36},{"$f":"IFERROR(ROUNDUP(INDEX(BasePrices[],MATCH(COUNTA($B118:$E118),BasePrices[SnrCnt],0),MATCH(I$113,BasePrices[#Headers],0))*0.2777777,0),0)+\nIFERROR(ROUNDUP(INDEX(SensorPricing[],MATCH($B118,SensorPricing[Sensor],0),MATCH(I$113,SensorPricing[#Headers],0))*0.2777777,0),0)+\nIFERROR(ROUNDUP(INDEX(SensorPricing[],MATCH($C118,SensorPricing[Sensor],0),MATCH(I$113,SensorPricing[#Headers],0))*0.2777777,0),0)+\nIFERROR(ROUNDUP(INDEX(SensorPricing[],MATCH($D118,SensorPricing[Sensor],0),MATCH(I$113,SensorPricing[#Headers],0))*0.2777777,0),0)+\nIFERROR(ROUNDUP(INDEX(SensorPricing[],MATCH($E118,SensorPricing[Sensor],0),MATCH(I$113,SensorPricing[#Headers],0))*0.2777777,0),0)","v":48},{"$f":"IFERROR(ROUNDUP(INDEX(BasePrices[],MATCH(COUNTA($B118:$E118),BasePrices[SnrCnt],0),MATCH(J$113,BasePrices[#Headers],0))*0.2777777,0),0)+\nIFERROR(ROUNDUP(INDEX(SensorPricing[],MATCH($B118,SensorPricing[Sensor],0),MATCH(J$113,SensorPricing[#Headers],0))*0.2777777,0),0)+\nIFERROR(ROUNDUP(INDEX(SensorPricing[],MATCH($C118,SensorPricing[Sensor],0),MATCH(J$113,SensorPricing[#Headers],0))*0.2777777,0),0)+\nIFERROR(ROUNDUP(INDEX(SensorPricing[],MATCH($D118,SensorPricing[Sensor],0),MATCH(J$113,SensorPricing[#Headers],0))*0.2777777,0),0)+\nIFERROR(ROUNDUP(INDEX(SensorPricing[],MATCH($E118,SensorPricing[Sensor],0),MATCH(J$113,SensorPricing[#Headers],0))*0.2777777,0),0)","v":85}]
["11","A","L","S","v",{"$f":"INDEX(BasePrices[],MATCH(\"EXO Pump\",BasePrices[Type],0),MATCH(F$113,BasePrices[#Headers],0))+\nIFERROR(ROUNDUP(INDEX(BasePrices[],MATCH(COUNTA($B119:$E119),BasePrices[SnrCnt],0),MATCH(F$113,BasePrices[#Headers],0))*2.2777777,0),0)+\nIFERROR(ROUNDUP(INDEX(SensorPricing[],MATCH($B119,SensorPricing[Sensor],0),MATCH(F$113,SensorPricing[#Headers],0))*2.2777777,0),0)+\nIFERROR(ROUNDUP(INDEX(SensorPricing[],MATCH($C119,SensorPricing[Sensor],0),MATCH(F$113,SensorPricing[#Headers],0))*2.2777777,0),0)+\nIFERROR(ROUNDUP(INDEX(SensorPricing[],MATCH($D119,SensorPricing[Sensor],0),MATCH(F$113,SensorPricing[#Headers],0))*2.2777777,0),0)+\nIFERROR(ROUNDUP(INDEX(SensorPricing[],MATCH($E119,SensorPricing[Sensor],0),MATCH(F$113,SensorPricing[#Headers],0))*2.2777777,0),0)","v":4074},{"$f":"INDEX(BasePrices[],MATCH(\"EXO Pump\",BasePrices[Type],0),MATCH(G$113,BasePrices[#Headers],0))+\nIFERROR(ROUNDUP(INDEX(BasePrices[],MATCH(COUNTA($B119:$E119),BasePrices[SnrCnt],0),MATCH(G$113,BasePrices[#Headers],0))*2.2777777,0),0)+\nIFERROR(ROUNDUP(INDEX(SensorPricing[],MATCH($B119,SensorPricing[Sensor],0),MATCH(G$113,SensorPricing[#Headers],0))*2.2777777,0),0)+\nIFERROR(ROUNDUP(INDEX(SensorPricing[],MATCH($C119,SensorPricing[Sensor],0),MATCH(G$113,SensorPricing[#Headers],0))*2.2777777,0),0)+\nIFERROR(ROUNDUP(INDEX(SensorPricing[],MATCH($D119,SensorPricing[Sensor],0),MATCH(G$113,SensorPricing[#Headers],0))*2.2777777,0),0)+\nIFERROR(ROUNDUP(INDEX(SensorPricing[],MATCH($E119,SensorPricing[Sensor],0),MATCH(G$113,SensorPricing[#Headers],0))*2.2777777,0),0)","v":4805},{"$f":"INDEX(BasePrices[],MATCH(\"EXO Pump\",BasePrices[Type],0),MATCH(H$113,BasePrices[#Headers],0))+\nIFERROR(ROUNDUP(INDEX(BasePrices[],MATCH(COUNTA($B119:$E119),BasePrices[SnrCnt],0),MATCH(H$113,BasePrices[#Headers],0))*2.2777777,0),0)+\nIFERROR(ROUNDUP(INDEX(SensorPricing[],MATCH($B119,SensorPricing[Sensor],0),MATCH(H$113,SensorPricing[#Headers],0))*2.2777777,0),0)+\nIFERROR(ROUNDUP(INDEX(SensorPricing[],MATCH($C119,SensorPricing[Sensor],0),MATCH(H$113,SensorPricing[#Headers],0))*2.2777777,0),0)+\nIFERROR(ROUNDUP(INDEX(SensorPricing[],MATCH($D119,SensorPricing[Sensor],0),MATCH(H$113,SensorPricing[#Headers],0))*2.2777777,0),0)+\nIFERROR(ROUNDUP(INDEX(SensorPricing[],MATCH($E119,SensorPricing[Sensor],0),MATCH(H$113,SensorPricing[#Headers],0))*2.2777777,0),0)","v":2768},{"$f":"INDEX(BasePrices[],MATCH(\"EXO Pump\",BasePrices[Type],0),MATCH(I$113,BasePrices[#Headers],0))+\nIFERROR(ROUNDUP(INDEX(BasePrices[],MATCH(COUNTA($B119:$E119),BasePrices[SnrCnt],0),MATCH(I$113,BasePrices[#Headers],0))*2.2777777,0),0)+\nIFERROR(ROUNDUP(INDEX(SensorPricing[],MATCH($B119,SensorPricing[Sensor],0),MATCH(I$113,SensorPricing[#Headers],0))*2.2777777,0),0)+\nIFERROR(ROUNDUP(INDEX(SensorPricing[],MATCH($C119,SensorPricing[Sensor],0),MATCH(I$113,SensorPricing[#Headers],0))*2.2777777,0),0)+\nIFERROR(ROUNDUP(INDEX(SensorPricing[],MATCH($D119,SensorPricing[Sensor],0),MATCH(I$113,SensorPricing[#Headers],0))*2.2777777,0),0)+\nIFERROR(ROUNDUP(INDEX(SensorPricing[],MATCH($E119,SensorPricing[Sensor],0),MATCH(I$113,SensorPricing[#Headers],0))*2.2777777,0),0)","v":3274},{"$f":"INDEX(BasePrices[],MATCH(\"EXO Pump\",BasePrices[Type],0),MATCH(J$113,BasePrices[#Headers],0))+\nIFERROR(ROUNDUP(INDEX(BasePrices[],MATCH(COUNTA($B119:$E119),BasePrices[SnrCnt],0),MATCH(J$113,BasePrices[#Headers],0))*2.2777777,0),0)+\nIFERROR(ROUNDUP(INDEX(SensorPricing[],MATCH($B119,SensorPricing[Sensor],0),MATCH(J$113,SensorPricing[#Headers],0))*2.2777777,0),0)+\nIFERROR(ROUNDUP(INDEX(SensorPricing[],MATCH($C119,SensorPricing[Sensor],0),MATCH(J$113,SensorPricing[#Headers],0))*2.2777777,0),0)+\nIFERROR(ROUNDUP(INDEX(SensorPricing[],MATCH($D119,SensorPricing[Sensor],0),MATCH(J$113,SensorPricing[#Headers],0))*2.2777777,0),0)+\nIFERROR(ROUNDUP(INDEX(SensorPricing[],MATCH($E119,SensorPricing[Sensor],0),MATCH(J$113,SensorPricing[#Headers],0))*2.2777777,0),0)","v":5437},{"$f":"IFERROR(ROUNDUP(INDEX(BasePrices[],MATCH(COUNTA($B119:$E119),BasePrices[SnrCnt],0),MATCH(F$113,BasePrices[#Headers],0))*0.2777777,0),0)+\nIFERROR(ROUNDUP(INDEX(SensorPricing[],MATCH($B119,SensorPricing[Sensor],0),MATCH(F$113,SensorPricing[#Headers],0))*0.2777777,0),0)+\nIFERROR(ROUNDUP(INDEX(SensorPricing[],MATCH($C119,SensorPricing[Sensor],0),MATCH(F$113,SensorPricing[#Headers],0))*0.2777777,0),0)+\nIFERROR(ROUNDUP(INDEX(SensorPricing[],MATCH($D119,SensorPricing[Sensor],0),MATCH(F$113,SensorPricing[#Headers],0))*0.2777777,0),0)+\nIFERROR(ROUNDUP(INDEX(SensorPricing[],MATCH($E119,SensorPricing[Sensor],0),MATCH(F$113,SensorPricing[#Headers],0))*0.2777777,0),0)","v":225},{"$f":"IFERROR(ROUNDUP(INDEX(BasePrices[],MATCH(COUNTA($B119:$E119),BasePrices[SnrCnt],0),MATCH(G$113,BasePrices[#Headers],0))*0.2777777,0),0)+\nIFERROR(ROUNDUP(INDEX(SensorPricing[],MATCH($B119,SensorPricing[Sensor],0),MATCH(G$113,SensorPricing[#Headers],0))*0.2777777,0),0)+\nIFERROR(ROUNDUP(INDEX(SensorPricing[],MATCH($C119,SensorPricing[Sensor],0),MATCH(G$113,SensorPricing[#Headers],0))*0.2777777,0),0)+\nIFERROR(ROUNDUP(INDEX(SensorPricing[],MATCH($D119,SensorPricing[Sensor],0),MATCH(G$113,SensorPricing[#Headers],0))*0.2777777,0),0)+\nIFERROR(ROUNDUP(INDEX(SensorPricing[],MATCH($E119,SensorPricing[Sensor],0),MATCH(G$113,SensorPricing[#Headers],0))*0.2777777,0),0)","v":259},{"$f":"IFERROR(ROUNDUP(INDEX(BasePrices[],MATCH(COUNTA($B119:$E119),BasePrices[SnrCnt],0),MATCH(H$113,BasePrices[#Headers],0))*0.2777777,0),0)+\nIFERROR(ROUNDUP(INDEX(SensorPricing[],MATCH($B119,SensorPricing[Sensor],0),MATCH(H$113,SensorPricing[#Headers],0))*0.2777777,0),0)+\nIFERROR(ROUNDUP(INDEX(SensorPricing[],MATCH($C119,SensorPricing[Sensor],0),MATCH(H$113,SensorPricing[#Headers],0))*0.2777777,0),0)+\nIFERROR(ROUNDUP(INDEX(SensorPricing[],MATCH($D119,SensorPricing[Sensor],0),MATCH(H$113,SensorPricing[#Headers],0))*0.2777777,0),0)+\nIFERROR(ROUNDUP(INDEX(SensorPricing[],MATCH($E119,SensorPricing[Sensor],0),MATCH(H$113,SensorPricing[#Headers],0))*0.2777777,0),0)","v":133},{"$f":"IFERROR(ROUNDUP(INDEX(BasePrices[],MATCH(COUNTA($B119:$E119),BasePrices[SnrCnt],0),MATCH(I$113,BasePrices[#Headers],0))*0.2777777,0),0)+\nIFERROR(ROUNDUP(INDEX(SensorPricing[],MATCH($B119,SensorPricing[Sensor],0),MATCH(I$113,SensorPricing[#Headers],0))*0.2777777,0),0)+\nIFERROR(ROUNDUP(INDEX(SensorPricing[],MATCH($C119,SensorPricing[Sensor],0),MATCH(I$113,SensorPricing[#Headers],0))*0.2777777,0),0)+\nIFERROR(ROUNDUP(INDEX(SensorPricing[],MATCH($D119,SensorPricing[Sensor],0),MATCH(I$113,SensorPricing[#Headers],0))*0.2777777,0),0)+\nIFERROR(ROUNDUP(INDEX(SensorPricing[],MATCH($E119,SensorPricing[Sensor],0),MATCH(I$113,SensorPricing[#Headers],0))*0.2777777,0),0)","v":168},{"$f":"IFERROR(ROUNDUP(INDEX(BasePrices[],MATCH(COUNTA($B119:$E119),BasePrices[SnrCnt],0),MATCH(J$113,BasePrices[#Headers],0))*0.2777777,0),0)+\nIFERROR(ROUNDUP(INDEX(SensorPricing[],MATCH($B119,SensorPricing[Sensor],0),MATCH(J$113,SensorPricing[#Headers],0))*0.2777777,0),0)+\nIFERROR(ROUNDUP(INDEX(SensorPricing[],MATCH($C119,SensorPricing[Sensor],0),MATCH(J$113,SensorPricing[#Headers],0))*0.2777777,0),0)+\nIFERROR(ROUNDUP(INDEX(SensorPricing[],MATCH($D119,SensorPricing[Sensor],0),MATCH(J$113,SensorPricing[#Headers],0))*0.2777777,0),0)+\nIFERROR(ROUNDUP(INDEX(SensorPricing[],MATCH($E119,SensorPricing[Sensor],0),MATCH(J$113,SensorPricing[#Headers],0))*0.2777777,0),0)","v":301}]
["05","G","L","N","V",{"$f":"INDEX(BasePrices[],MATCH(\"EXO Pump\",BasePrices[Type],0),MATCH(F$113,BasePrices[#Headers],0))+\nIFERROR(ROUNDUP(INDEX(BasePrices[],MATCH(COUNTA($B120:$E120),BasePrices[SnrCnt],0),MATCH(F$113,BasePrices[#Headers],0))*2.2777777,0),0)+\nIFERROR(ROUNDUP(INDEX(SensorPricing[],MATCH($B120,SensorPricing[Sensor],0),MATCH(F$113,SensorPricing[#Headers],0))*2.2777777,0),0)+\nIFERROR(ROUNDUP(INDEX(SensorPricing[],MATCH($C120,SensorPricing[Sensor],0),MATCH(F$113,SensorPricing[#Headers],0))*2.2777777,0),0)+\nIFERROR(ROUNDUP(INDEX(SensorPricing[],MATCH($D120,SensorPricing[Sensor],0),MATCH(F$113,SensorPricing[#Headers],0))*2.2777777,0),0)+\nIFERROR(ROUNDUP(INDEX(SensorPricing[],MATCH($E120,SensorPricing[Sensor],0),MATCH(F$113,SensorPricing[#Headers],0))*2.2777777,0),0)","v":4218},{"$f":"INDEX(BasePrices[],MATCH(\"EXO Pump\",BasePrices[Type],0),MATCH(G$113,BasePrices[#Headers],0))+\nIFERROR(ROUNDUP(INDEX(BasePrices[],MATCH(COUNTA($B120:$E120),BasePrices[SnrCnt],0),MATCH(G$113,BasePrices[#Headers],0))*2.2777777,0),0)+\nIFERROR(ROUNDUP(INDEX(SensorPricing[],MATCH($B120,SensorPricing[Sensor],0),MATCH(G$113,SensorPricing[#Headers],0))*2.2777777,0),0)+\nIFERROR(ROUNDUP(INDEX(SensorPricing[],MATCH($C120,SensorPricing[Sensor],0),MATCH(G$113,SensorPricing[#Headers],0))*2.2777777,0),0)+\nIFERROR(ROUNDUP(INDEX(SensorPricing[],MATCH($D120,SensorPricing[Sensor],0),MATCH(G$113,SensorPricing[#Headers],0))*2.2777777,0),0)+\nIFERROR(ROUNDUP(INDEX(SensorPricing[],MATCH($E120,SensorPricing[Sensor],0),MATCH(G$113,SensorPricing[#Headers],0))*2.2777777,0),0)","v":4979},{"$f":"INDEX(BasePrices[],MATCH(\"EXO Pump\",BasePrices[Type],0),MATCH(H$113,BasePrices[#Headers],0))+\nIFERROR(ROUNDUP(INDEX(BasePrices[],MATCH(COUNTA($B120:$E120),BasePrices[SnrCnt],0),MATCH(H$113,BasePrices[#Headers],0))*2.2777777,0),0)+\nIFERROR(ROUNDUP(INDEX(SensorPricing[],MATCH($B120,SensorPricing[Sensor],0),MATCH(H$113,SensorPricing[#Headers],0))*2.2777777,0),0)+\nIFERROR(ROUNDUP(INDEX(SensorPricing[],MATCH($C120,SensorPricing[Sensor],0),MATCH(H$113,SensorPricing[#Headers],0))*2.2777777,0),0)+\nIFERROR(ROUNDUP(INDEX(SensorPricing[],MATCH($D120,SensorPricing[Sensor],0),MATCH(H$113,SensorPricing[#Headers],0))*2.2777777,0),0)+\nIFERROR(ROUNDUP(INDEX(SensorPricing[],MATCH($E120,SensorPricing[Sensor],0),MATCH(H$113,SensorPricing[#Headers],0))*2.2777777,0),0)","v":2855},{"$f":"INDEX(BasePrices[],MATCH(\"EXO Pump\",BasePrices[Type],0),MATCH(I$113,BasePrices[#Headers],0))+\nIFERROR(ROUNDUP(INDEX(BasePrices[],MATCH(COUNTA($B120:$E120),BasePrices[SnrCnt],0),MATCH(I$113,BasePrices[#Headers],0))*2.2777777,0),0)+\nIFERROR(ROUNDUP(INDEX(SensorPricing[],MATCH($B120,SensorPricing[Sensor],0),MATCH(I$113,SensorPricing[#Headers],0))*2.2777777,0),0)+\nIFERROR(ROUNDUP(INDEX(SensorPricing[],MATCH($C120,SensorPricing[Sensor],0),MATCH(I$113,SensorPricing[#Headers],0))*2.2777777,0),0)+\nIFERROR(ROUNDUP(INDEX(SensorPricing[],MATCH($D120,SensorPricing[Sensor],0),MATCH(I$113,SensorPricing[#Headers],0))*2.2777777,0),0)+\nIFERROR(ROUNDUP(INDEX(SensorPricing[],MATCH($E120,SensorPricing[Sensor],0),MATCH(I$113,SensorPricing[#Headers],0))*2.2777777,0),0)","v":3391},{"$f":"INDEX(BasePrices[],MATCH(\"EXO Pump\",BasePrices[Type],0),MATCH(J$113,BasePrices[#Headers],0))+\nIFERROR(ROUNDUP(INDEX(BasePrices[],MATCH(COUNTA($B120:$E120),BasePrices[SnrCnt],0),MATCH(J$113,BasePrices[#Headers],0))*2.2777777,0),0)+\nIFERROR(ROUNDUP(INDEX(SensorPricing[],MATCH($B120,SensorPricing[Sensor],0),MATCH(J$113,SensorPricing[#Headers],0))*2.2777777,0),0)+\nIFERROR(ROUNDUP(INDEX(SensorPricing[],MATCH($C120,SensorPricing[Sensor],0),MATCH(J$113,SensorPricing[#Headers],0))*2.2777777,0),0)+\nIFERROR(ROUNDUP(INDEX(SensorPricing[],MATCH($D120,SensorPricing[Sensor],0),MATCH(J$113,SensorPricing[#Headers],0))*2.2777777,0),0)+\nIFERROR(ROUNDUP(INDEX(SensorPricing[],MATCH($E120,SensorPricing[Sensor],0),MATCH(J$113,SensorPricing[#Headers],0))*2.2777777,0),0)","v":5629},{"$f":"IFERROR(ROUNDUP(INDEX(BasePrices[],MATCH(COUNTA($B120:$E120),BasePrices[SnrCnt],0),MATCH(F$113,BasePrices[#Headers],0))*0.2777777,0),0)+\nIFERROR(ROUNDUP(INDEX(SensorPricing[],MATCH($B120,SensorPricing[Sensor],0),MATCH(F$113,SensorPricing[#Headers],0))*0.2777777,0),0)+\nIFERROR(ROUNDUP(INDEX(SensorPricing[],MATCH($C120,SensorPricing[Sensor],0),MATCH(F$113,SensorPricing[#Headers],0))*0.2777777,0),0)+\nIFERROR(ROUNDUP(INDEX(SensorPricing[],MATCH($D120,SensorPricing[Sensor],0),MATCH(F$113,SensorPricing[#Headers],0))*0.2777777,0),0)+\nIFERROR(ROUNDUP(INDEX(SensorPricing[],MATCH($E120,SensorPricing[Sensor],0),MATCH(F$113,SensorPricing[#Headers],0))*0.2777777,0),0)","v":243},{"$f":"IFERROR(ROUNDUP(INDEX(BasePrices[],MATCH(COUNTA($B120:$E120),BasePrices[SnrCnt],0),MATCH(G$113,BasePrices[#Headers],0))*0.2777777,0),0)+\nIFERROR(ROUNDUP(INDEX(SensorPricing[],MATCH($B120,SensorPricing[Sensor],0),MATCH(G$113,SensorPricing[#Headers],0))*0.2777777,0),0)+\nIFERROR(ROUNDUP(INDEX(SensorPricing[],MATCH($C120,SensorPricing[Sensor],0),MATCH(G$113,SensorPricing[#Headers],0))*0.2777777,0),0)+\nIFERROR(ROUNDUP(INDEX(SensorPricing[],MATCH($D120,SensorPricing[Sensor],0),MATCH(G$113,SensorPricing[#Headers],0))*0.2777777,0),0)+\nIFERROR(ROUNDUP(INDEX(SensorPricing[],MATCH($E120,SensorPricing[Sensor],0),MATCH(G$113,SensorPricing[#Headers],0))*0.2777777,0),0)","v":281},{"$f":"IFERROR(ROUNDUP(INDEX(BasePrices[],MATCH(COUNTA($B120:$E120),BasePrices[SnrCnt],0),MATCH(H$113,BasePrices[#Headers],0))*0.2777777,0),0)+\nIFERROR(ROUNDUP(INDEX(SensorPricing[],MATCH($B120,SensorPricing[Sensor],0),MATCH(H$113,SensorPricing[#Headers],0))*0.2777777,0),0)+\nIFERROR(ROUNDUP(INDEX(SensorPricing[],MATCH($C120,SensorPricing[Sensor],0),MATCH(H$113,SensorPricing[#Headers],0))*0.2777777,0),0)+\nIFERROR(ROUNDUP(INDEX(SensorPricing[],MATCH($D120,SensorPricing[Sensor],0),MATCH(H$113,SensorPricing[#Headers],0))*0.2777777,0),0)+\nIFERROR(ROUNDUP(INDEX(SensorPricing[],MATCH($E120,SensorPricing[Sensor],0),MATCH(H$113,SensorPricing[#Headers],0))*0.2777777,0),0)","v":144},{"$f":"IFERROR(ROUNDUP(INDEX(BasePrices[],MATCH(COUNTA($B120:$E120),BasePrices[SnrCnt],0),MATCH(I$113,BasePrices[#Headers],0))*0.2777777,0),0)+\nIFERROR(ROUNDUP(INDEX(SensorPricing[],MATCH($B120,SensorPricing[Sensor],0),MATCH(I$113,SensorPricing[#Headers],0))*0.2777777,0),0)+\nIFERROR(ROUNDUP(INDEX(SensorPricing[],MATCH($C120,SensorPricing[Sensor],0),MATCH(I$113,SensorPricing[#Headers],0))*0.2777777,0),0)+\nIFERROR(ROUNDUP(INDEX(SensorPricing[],MATCH($D120,SensorPricing[Sensor],0),MATCH(I$113,SensorPricing[#Headers],0))*0.2777777,0),0)+\nIFERROR(ROUNDUP(INDEX(SensorPricing[],MATCH($E120,SensorPricing[Sensor],0),MATCH(I$113,SensorPricing[#Headers],0))*0.2777777,0),0)","v":183},{"$f":"IFERROR(ROUNDUP(INDEX(BasePrices[],MATCH(COUNTA($B120:$E120),BasePrices[SnrCnt],0),MATCH(J$113,BasePrices[#Headers],0))*0.2777777,0),0)+\nIFERROR(ROUNDUP(INDEX(SensorPricing[],MATCH($B120,SensorPricing[Sensor],0),MATCH(J$113,SensorPricing[#Headers],0))*0.2777777,0),0)+\nIFERROR(ROUNDUP(INDEX(SensorPricing[],MATCH($C120,SensorPricing[Sensor],0),MATCH(J$113,SensorPricing[#Headers],0))*0.2777777,0),0)+\nIFERROR(ROUNDUP(INDEX(SensorPricing[],MATCH($D120,SensorPricing[Sensor],0),MATCH(J$113,SensorPricing[#Headers],0))*0.2777777,0),0)+\nIFERROR(ROUNDUP(INDEX(SensorPricing[],MATCH($E120,SensorPricing[Sensor],0),MATCH(J$113,SensorPricing[#Headers],0))*0.2777777,0),0)","v":325}]
["06","A","L","N","V",{"$f":"INDEX(BasePrices[],MATCH(\"EXO Pump\",BasePrices[Type],0),MATCH(F$113,BasePrices[#Headers],0))+\nIFERROR(ROUNDUP(INDEX(BasePrices[],MATCH(COUNTA($B121:$E121),BasePrices[SnrCnt],0),MATCH(F$113,BasePrices[#Headers],0))*2.2777777,0),0)+\nIFERROR(ROUNDUP(INDEX(SensorPricing[],MATCH($B121,SensorPricing[Sensor],0),MATCH(F$113,SensorPricing[#Headers],0))*2.2777777,0),0)+\nIFERROR(ROUNDUP(INDEX(SensorPricing[],MATCH($C121,SensorPricing[Sensor],0),MATCH(F$113,SensorPricing[#Headers],0))*2.2777777,0),0)+\nIFERROR(ROUNDUP(INDEX(SensorPricing[],MATCH($D121,SensorPricing[Sensor],0),MATCH(F$113,SensorPricing[#Headers],0))*2.2777777,0),0)+\nIFERROR(ROUNDUP(INDEX(SensorPricing[],MATCH($E121,SensorPricing[Sensor],0),MATCH(F$113,SensorPricing[#Headers],0))*2.2777777,0),0)","v":4211},{"$f":"INDEX(BasePrices[],MATCH(\"EXO Pump\",BasePrices[Type],0),MATCH(G$113,BasePrices[#Headers],0))+\nIFERROR(ROUNDUP(INDEX(BasePrices[],MATCH(COUNTA($B121:$E121),BasePrices[SnrCnt],0),MATCH(G$113,BasePrices[#Headers],0))*2.2777777,0),0)+\nIFERROR(ROUNDUP(INDEX(SensorPricing[],MATCH($B121,SensorPricing[Sensor],0),MATCH(G$113,SensorPricing[#Headers],0))*2.2777777,0),0)+\nIFERROR(ROUNDUP(INDEX(SensorPricing[],MATCH($C121,SensorPricing[Sensor],0),MATCH(G$113,SensorPricing[#Headers],0))*2.2777777,0),0)+\nIFERROR(ROUNDUP(INDEX(SensorPricing[],MATCH($D121,SensorPricing[Sensor],0),MATCH(G$113,SensorPricing[#Headers],0))*2.2777777,0),0)+\nIFERROR(ROUNDUP(INDEX(SensorPricing[],MATCH($E121,SensorPricing[Sensor],0),MATCH(G$113,SensorPricing[#Headers],0))*2.2777777,0),0)","v":4969},{"$f":"INDEX(BasePrices[],MATCH(\"EXO Pump\",BasePrices[Type],0),MATCH(H$113,BasePrices[#Headers],0))+\nIFERROR(ROUNDUP(INDEX(BasePrices[],MATCH(COUNTA($B121:$E121),BasePrices[SnrCnt],0),MATCH(H$113,BasePrices[#Headers],0))*2.2777777,0),0)+\nIFERROR(ROUNDUP(INDEX(SensorPricing[],MATCH($B121,SensorPricing[Sensor],0),MATCH(H$113,SensorPricing[#Headers],0))*2.2777777,0),0)+\nIFERROR(ROUNDUP(INDEX(SensorPricing[],MATCH($C121,SensorPricing[Sensor],0),MATCH(H$113,SensorPricing[#Headers],0))*2.2777777,0),0)+\nIFERROR(ROUNDUP(INDEX(SensorPricing[],MATCH($D121,SensorPricing[Sensor],0),MATCH(H$113,SensorPricing[#Headers],0))*2.2777777,0),0)+\nIFERROR(ROUNDUP(INDEX(SensorPricing[],MATCH($E121,SensorPricing[Sensor],0),MATCH(H$113,SensorPricing[#Headers],0))*2.2777777,0),0)","v":2850},{"$f":"INDEX(BasePrices[],MATCH(\"EXO Pump\",BasePrices[Type],0),MATCH(I$113,BasePrices[#Headers],0))+\nIFERROR(ROUNDUP(INDEX(BasePrices[],MATCH(COUNTA($B121:$E121),BasePrices[SnrCnt],0),MATCH(I$113,BasePrices[#Headers],0))*2.2777777,0),0)+\nIFERROR(ROUNDUP(INDEX(SensorPricing[],MATCH($B121,SensorPricing[Sensor],0),MATCH(I$113,SensorPricing[#Headers],0))*2.2777777,0),0)+\nIFERROR(ROUNDUP(INDEX(SensorPricing[],MATCH($C121,SensorPricing[Sensor],0),MATCH(I$113,SensorPricing[#Headers],0))*2.2777777,0),0)+\nIFERROR(ROUNDUP(INDEX(SensorPricing[],MATCH($D121,SensorPricing[Sensor],0),MATCH(I$113,SensorPricing[#Headers],0))*2.2777777,0),0)+\nIFERROR(ROUNDUP(INDEX(SensorPricing[],MATCH($E121,SensorPricing[Sensor],0),MATCH(I$113,SensorPricing[#Headers],0))*2.2777777,0),0)","v":3384},{"$f":"INDEX(BasePrices[],MATCH(\"EXO Pump\",BasePrices[Type],0),MATCH(J$113,BasePrices[#Headers],0))+\nIFERROR(ROUNDUP(INDEX(BasePrices[],MATCH(COUNTA($B121:$E121),BasePrices[SnrCnt],0),MATCH(J$113,BasePrices[#Headers],0))*2.2777777,0),0)+\nIFERROR(ROUNDUP(INDEX(SensorPricing[],MATCH($B121,SensorPricing[Sensor],0),MATCH(J$113,SensorPricing[#Headers],0))*2.2777777,0),0)+\nIFERROR(ROUNDUP(INDEX(SensorPricing[],MATCH($C121,SensorPricing[Sensor],0),MATCH(J$113,SensorPricing[#Headers],0))*2.2777777,0),0)+\nIFERROR(ROUNDUP(INDEX(SensorPricing[],MATCH($D121,SensorPricing[Sensor],0),MATCH(J$113,SensorPricing[#Headers],0))*2.2777777,0),0)+\nIFERROR(ROUNDUP(INDEX(SensorPricing[],MATCH($E121,SensorPricing[Sensor],0),MATCH(J$113,SensorPricing[#Headers],0))*2.2777777,0),0)","v":5620},{"$f":"IFERROR(ROUNDUP(INDEX(BasePrices[],MATCH(COUNTA($B121:$E121),BasePrices[SnrCnt],0),MATCH(F$113,BasePrices[#Headers],0))*0.2777777,0),0)+\nIFERROR(ROUNDUP(INDEX(SensorPricing[],MATCH($B121,SensorPricing[Sensor],0),MATCH(F$113,SensorPricing[#Headers],0))*0.2777777,0),0)+\nIFERROR(ROUNDUP(INDEX(SensorPricing[],MATCH($C121,SensorPricing[Sensor],0),MATCH(F$113,SensorPricing[#Headers],0))*0.2777777,0),0)+\nIFERROR(ROUNDUP(INDEX(SensorPricing[],MATCH($D121,SensorPricing[Sensor],0),MATCH(F$113,SensorPricing[#Headers],0))*0.2777777,0),0)+\nIFERROR(ROUNDUP(INDEX(SensorPricing[],MATCH($E121,SensorPricing[Sensor],0),MATCH(F$113,SensorPricing[#Headers],0))*0.2777777,0),0)","v":242},{"$f":"IFERROR(ROUNDUP(INDEX(BasePrices[],MATCH(COUNTA($B121:$E121),BasePrices[SnrCnt],0),MATCH(G$113,BasePrices[#Headers],0))*0.2777777,0),0)+\nIFERROR(ROUNDUP(INDEX(SensorPricing[],MATCH($B121,SensorPricing[Sensor],0),MATCH(G$113,SensorPricing[#Headers],0))*0.2777777,0),0)+\nIFERROR(ROUNDUP(INDEX(SensorPricing[],MATCH($C121,SensorPricing[Sensor],0),MATCH(G$113,SensorPricing[#Headers],0))*0.2777777,0),0)+\nIFERROR(ROUNDUP(INDEX(SensorPricing[],MATCH($D121,SensorPricing[Sensor],0),MATCH(G$113,SensorPricing[#Headers],0))*0.2777777,0),0)+\nIFERROR(ROUNDUP(INDEX(SensorPricing[],MATCH($E121,SensorPricing[Sensor],0),MATCH(G$113,SensorPricing[#Headers],0))*0.2777777,0),0)","v":279},{"$f":"IFERROR(ROUNDUP(INDEX(BasePrices[],MATCH(COUNTA($B121:$E121),BasePrices[SnrCnt],0),MATCH(H$113,BasePrices[#Headers],0))*0.2777777,0),0)+\nIFERROR(ROUNDUP(INDEX(SensorPricing[],MATCH($B121,SensorPricing[Sensor],0),MATCH(H$113,SensorPricing[#Headers],0))*0.2777777,0),0)+\nIFERROR(ROUNDUP(INDEX(SensorPricing[],MATCH($C121,SensorPricing[Sensor],0),MATCH(H$113,SensorPricing[#Headers],0))*0.2777777,0),0)+\nIFERROR(ROUNDUP(INDEX(SensorPricing[],MATCH($D121,SensorPricing[Sensor],0),MATCH(H$113,SensorPricing[#Headers],0))*0.2777777,0),0)+\nIFERROR(ROUNDUP(INDEX(SensorPricing[],MATCH($E121,SensorPricing[Sensor],0),MATCH(H$113,SensorPricing[#Headers],0))*0.2777777,0),0)","v":143},{"$f":"IFERROR(ROUNDUP(INDEX(BasePrices[],MATCH(COUNTA($B121:$E121),BasePrices[SnrCnt],0),MATCH(I$113,BasePrices[#Headers],0))*0.2777777,0),0)+\nIFERROR(ROUNDUP(INDEX(SensorPricing[],MATCH($B121,SensorPricing[Sensor],0),MATCH(I$113,SensorPricing[#Headers],0))*0.2777777,0),0)+\nIFERROR(ROUNDUP(INDEX(SensorPricing[],MATCH($C121,SensorPricing[Sensor],0),MATCH(I$113,SensorPricing[#Headers],0))*0.2777777,0),0)+\nIFERROR(ROUNDUP(INDEX(SensorPricing[],MATCH($D121,SensorPricing[Sensor],0),MATCH(I$113,SensorPricing[#Headers],0))*0.2777777,0),0)+\nIFERROR(ROUNDUP(INDEX(SensorPricing[],MATCH($E121,SensorPricing[Sensor],0),MATCH(I$113,SensorPricing[#Headers],0))*0.2777777,0),0)","v":182},{"$f":"IFERROR(ROUNDUP(INDEX(BasePrices[],MATCH(COUNTA($B121:$E121),BasePrices[SnrCnt],0),MATCH(J$113,BasePrices[#Headers],0))*0.2777777,0),0)+\nIFERROR(ROUNDUP(INDEX(SensorPricing[],MATCH($B121,SensorPricing[Sensor],0),MATCH(J$113,SensorPricing[#Headers],0))*0.2777777,0),0)+\nIFERROR(ROUNDUP(INDEX(SensorPricing[],MATCH($C121,SensorPricing[Sensor],0),MATCH(J$113,SensorPricing[#Headers],0))*0.2777777,0),0)+\nIFERROR(ROUNDUP(INDEX(SensorPricing[],MATCH($D121,SensorPricing[Sensor],0),MATCH(J$113,SensorPricing[#Headers],0))*0.2777777,0),0)+\nIFERROR(ROUNDUP(INDEX(SensorPricing[],MATCH($E121,SensorPricing[Sensor],0),MATCH(J$113,SensorPricing[#Headers],0))*0.2777777,0),0)","v":324}]
["07","2","G","N",null,{"$f":"INDEX(BasePrices[],MATCH(\"EXO Pump\",BasePrices[Type],0),MATCH(F$113,BasePrices[#Headers],0))+\nIFERROR(ROUNDUP(INDEX(BasePrices[],MATCH(COUNTA($B122:$E122),BasePrices[SnrCnt],0),MATCH(F$113,BasePrices[#Headers],0))*2.2777777,0),0)+\nIFERROR(ROUNDUP(INDEX(SensorPricing[],MATCH($B122,SensorPricing[Sensor],0),MATCH(F$113,SensorPricing[#Headers],0))*2.2777777,0),0)+\nIFERROR(ROUNDUP(INDEX(SensorPricing[],MATCH($C122,SensorPricing[Sensor],0),MATCH(F$113,SensorPricing[#Headers],0))*2.2777777,0),0)+\nIFERROR(ROUNDUP(INDEX(SensorPricing[],MATCH($D122,SensorPricing[Sensor],0),MATCH(F$113,SensorPricing[#Headers],0))*2.2777777,0),0)+\nIFERROR(ROUNDUP(INDEX(SensorPricing[],MATCH($E122,SensorPricing[Sensor],0),MATCH(F$113,SensorPricing[#Headers],0))*2.2777777,0),0)","v":3857},{"$f":"INDEX(BasePrices[],MATCH(\"EXO Pump\",BasePrices[Type],0),MATCH(G$113,BasePrices[#Headers],0))+\nIFERROR(ROUNDUP(INDEX(BasePrices[],MATCH(COUNTA($B122:$E122),BasePrices[SnrCnt],0),MATCH(G$113,BasePrices[#Headers],0))*2.2777777,0),0)+\nIFERROR(ROUNDUP(INDEX(SensorPricing[],MATCH($B122,SensorPricing[Sensor],0),MATCH(G$113,SensorPricing[#Headers],0))*2.2777777,0),0)+\nIFERROR(ROUNDUP(INDEX(SensorPricing[],MATCH($C122,SensorPricing[Sensor],0),MATCH(G$113,SensorPricing[#Headers],0))*2.2777777,0),0)+\nIFERROR(ROUNDUP(INDEX(SensorPricing[],MATCH($D122,SensorPricing[Sensor],0),MATCH(G$113,SensorPricing[#Headers],0))*2.2777777,0),0)+\nIFERROR(ROUNDUP(INDEX(SensorPricing[],MATCH($E122,SensorPricing[Sensor],0),MATCH(G$113,SensorPricing[#Headers],0))*2.2777777,0),0)","v":4561},{"$f":"INDEX(BasePrices[],MATCH(\"EXO Pump\",BasePrices[Type],0),MATCH(H$113,BasePrices[#Headers],0))+\nIFERROR(ROUNDUP(INDEX(BasePrices[],MATCH(COUNTA($B122:$E122),BasePrices[SnrCnt],0),MATCH(H$113,BasePrices[#Headers],0))*2.2777777,0),0)+\nIFERROR(ROUNDUP(INDEX(SensorPricing[],MATCH($B122,SensorPricing[Sensor],0),MATCH(H$113,SensorPricing[#Headers],0))*2.2777777,0),0)+\nIFERROR(ROUNDUP(INDEX(SensorPricing[],MATCH($C122,SensorPricing[Sensor],0),MATCH(H$113,SensorPricing[#Headers],0))*2.2777777,0),0)+\nIFERROR(ROUNDUP(INDEX(SensorPricing[],MATCH($D122,SensorPricing[Sensor],0),MATCH(H$113,SensorPricing[#Headers],0))*2.2777777,0),0)+\nIFERROR(ROUNDUP(INDEX(SensorPricing[],MATCH($E122,SensorPricing[Sensor],0),MATCH(H$113,SensorPricing[#Headers],0))*2.2777777,0),0)","v":2634},{"$f":"INDEX(BasePrices[],MATCH(\"EXO Pump\",BasePrices[Type],0),MATCH(I$113,BasePrices[#Headers],0))+\nIFERROR(ROUNDUP(INDEX(BasePrices[],MATCH(COUNTA($B122:$E122),BasePrices[SnrCnt],0),MATCH(I$113,BasePrices[#Headers],0))*2.2777777,0),0)+\nIFERROR(ROUNDUP(INDEX(SensorPricing[],MATCH($B122,SensorPricing[Sensor],0),MATCH(I$113,SensorPricing[#Headers],0))*2.2777777,0),0)+\nIFERROR(ROUNDUP(INDEX(SensorPricing[],MATCH($C122,SensorPricing[Sensor],0),MATCH(I$113,SensorPricing[#Headers],0))*2.2777777,0),0)+\nIFERROR(ROUNDUP(INDEX(SensorPricing[],MATCH($D122,SensorPricing[Sensor],0),MATCH(I$113,SensorPricing[#Headers],0))*2.2777777,0),0)+\nIFERROR(ROUNDUP(INDEX(SensorPricing[],MATCH($E122,SensorPricing[Sensor],0),MATCH(I$113,SensorPricing[#Headers],0))*2.2777777,0),0)","v":3095},{"$f":"INDEX(BasePrices[],MATCH(\"EXO Pump\",BasePrices[Type],0),MATCH(J$113,BasePrices[#Headers],0))+\nIFERROR(ROUNDUP(INDEX(BasePrices[],MATCH(COUNTA($B122:$E122),BasePrices[SnrCnt],0),MATCH(J$113,BasePrices[#Headers],0))*2.2777777,0),0)+\nIFERROR(ROUNDUP(INDEX(SensorPricing[],MATCH($B122,SensorPricing[Sensor],0),MATCH(J$113,SensorPricing[#Headers],0))*2.2777777,0),0)+\nIFERROR(ROUNDUP(INDEX(SensorPricing[],MATCH($C122,SensorPricing[Sensor],0),MATCH(J$113,SensorPricing[#Headers],0))*2.2777777,0),0)+\nIFERROR(ROUNDUP(INDEX(SensorPricing[],MATCH($D122,SensorPricing[Sensor],0),MATCH(J$113,SensorPricing[#Headers],0))*2.2777777,0),0)+\nIFERROR(ROUNDUP(INDEX(SensorPricing[],MATCH($E122,SensorPricing[Sensor],0),MATCH(J$113,SensorPricing[#Headers],0))*2.2777777,0),0)","v":5141},{"$f":"IFERROR(ROUNDUP(INDEX(BasePrices[],MATCH(COUNTA($B122:$E122),BasePrices[SnrCnt],0),MATCH(F$113,BasePrices[#Headers],0))*0.2777777,0),0)+\nIFERROR(ROUNDUP(INDEX(SensorPricing[],MATCH($B122,SensorPricing[Sensor],0),MATCH(F$113,SensorPricing[#Headers],0))*0.2777777,0),0)+\nIFERROR(ROUNDUP(INDEX(SensorPricing[],MATCH($C122,SensorPricing[Sensor],0),MATCH(F$113,SensorPricing[#Headers],0))*0.2777777,0),0)+\nIFERROR(ROUNDUP(INDEX(SensorPricing[],MATCH($D122,SensorPricing[Sensor],0),MATCH(F$113,SensorPricing[#Headers],0))*0.2777777,0),0)+\nIFERROR(ROUNDUP(INDEX(SensorPricing[],MATCH($E122,SensorPricing[Sensor],0),MATCH(F$113,SensorPricing[#Headers],0))*0.2777777,0),0)","v":198},{"$f":"IFERROR(ROUNDUP(INDEX(BasePrices[],MATCH(COUNTA($B122:$E122),BasePrices[SnrCnt],0),MATCH(G$113,BasePrices[#Headers],0))*0.2777777,0),0)+\nIFERROR(ROUNDUP(INDEX(SensorPricing[],MATCH($B122,SensorPricing[Sensor],0),MATCH(G$113,SensorPricing[#Headers],0))*0.2777777,0),0)+\nIFERROR(ROUNDUP(INDEX(SensorPricing[],MATCH($C122,SensorPricing[Sensor],0),MATCH(G$113,SensorPricing[#Headers],0))*0.2777777,0),0)+\nIFERROR(ROUNDUP(INDEX(SensorPricing[],MATCH($D122,SensorPricing[Sensor],0),MATCH(G$113,SensorPricing[#Headers],0))*0.2777777,0),0)+\nIFERROR(ROUNDUP(INDEX(SensorPricing[],MATCH($E122,SensorPricing[Sensor],0),MATCH(G$113,SensorPricing[#Headers],0))*0.2777777,0),0)","v":229},{"$f":"IFERROR(ROUNDUP(INDEX(BasePrices[],MATCH(COUNTA($B122:$E122),BasePrices[SnrCnt],0),MATCH(H$113,BasePrices[#Headers],0))*0.2777777,0),0)+\nIFERROR(ROUNDUP(INDEX(SensorPricing[],MATCH($B122,SensorPricing[Sensor],0),MATCH(H$113,SensorPricing[#Headers],0))*0.2777777,0),0)+\nIFERROR(ROUNDUP(INDEX(SensorPricing[],MATCH($C122,SensorPricing[Sensor],0),MATCH(H$113,SensorPricing[#Headers],0))*0.2777777,0),0)+\nIFERROR(ROUNDUP(INDEX(SensorPricing[],MATCH($D122,SensorPricing[Sensor],0),MATCH(H$113,SensorPricing[#Headers],0))*0.2777777,0),0)+\nIFERROR(ROUNDUP(INDEX(SensorPricing[],MATCH($E122,SensorPricing[Sensor],0),MATCH(H$113,SensorPricing[#Headers],0))*0.2777777,0),0)","v":117},{"$f":"IFERROR(ROUNDUP(INDEX(BasePrices[],MATCH(COUNTA($B122:$E122),BasePrices[SnrCnt],0),MATCH(I$113,BasePrices[#Headers],0))*0.2777777,0),0)+\nIFERROR(ROUNDUP(INDEX(SensorPricing[],MATCH($B122,SensorPricing[Sensor],0),MATCH(I$113,SensorPricing[#Headers],0))*0.2777777,0),0)+\nIFERROR(ROUNDUP(INDEX(SensorPricing[],MATCH($C122,SensorPricing[Sensor],0),MATCH(I$113,SensorPricing[#Headers],0))*0.2777777,0),0)+\nIFERROR(ROUNDUP(INDEX(SensorPricing[],MATCH($D122,SensorPricing[Sensor],0),MATCH(I$113,SensorPricing[#Headers],0))*0.2777777,0),0)+\nIFERROR(ROUNDUP(INDEX(SensorPricing[],MATCH($E122,SensorPricing[Sensor],0),MATCH(I$113,SensorPricing[#Headers],0))*0.2777777,0),0)","v":147},{"$f":"IFERROR(ROUNDUP(INDEX(BasePrices[],MATCH(COUNTA($B122:$E122),BasePrices[SnrCnt],0),MATCH(J$113,BasePrices[#Headers],0))*0.2777777,0),0)+\nIFERROR(ROUNDUP(INDEX(SensorPricing[],MATCH($B122,SensorPricing[Sensor],0),MATCH(J$113,SensorPricing[#Headers],0))*0.2777777,0),0)+\nIFERROR(ROUNDUP(INDEX(SensorPricing[],MATCH($C122,SensorPricing[Sensor],0),MATCH(J$113,SensorPricing[#Headers],0))*0.2777777,0),0)+\nIFERROR(ROUNDUP(INDEX(SensorPricing[],MATCH($D122,SensorPricing[Sensor],0),MATCH(J$113,SensorPricing[#Headers],0))*0.2777777,0),0)+\nIFERROR(ROUNDUP(INDEX(SensorPricing[],MATCH($E122,SensorPricing[Sensor],0),MATCH(J$113,SensorPricing[#Headers],0))*0.2777777,0),0)","v":265}]
["08","H","E","L","S",{"$f":"INDEX(BasePrices[],MATCH(\"EXO Pump\",BasePrices[Type],0),MATCH(F$113,BasePrices[#Headers],0))+\nIFERROR(ROUNDUP(INDEX(BasePrices[],MATCH(COUNTA($B123:$E123),BasePrices[SnrCnt],0),MATCH(F$113,BasePrices[#Headers],0))*2.2777777,0),0)+\nIFERROR(ROUNDUP(INDEX(SensorPricing[],MATCH($B123,SensorPricing[Sensor],0),MATCH(F$113,SensorPricing[#Headers],0))*2.2777777,0),0)+\nIFERROR(ROUNDUP(INDEX(SensorPricing[],MATCH($C123,SensorPricing[Sensor],0),MATCH(F$113,SensorPricing[#Headers],0))*2.2777777,0),0)+\nIFERROR(ROUNDUP(INDEX(SensorPricing[],MATCH($D123,SensorPricing[Sensor],0),MATCH(F$113,SensorPricing[#Headers],0))*2.2777777,0),0)+\nIFERROR(ROUNDUP(INDEX(SensorPricing[],MATCH($E123,SensorPricing[Sensor],0),MATCH(F$113,SensorPricing[#Headers],0))*2.2777777,0),0)","v":3110},{"$f":"INDEX(BasePrices[],MATCH(\"EXO Pump\",BasePrices[Type],0),MATCH(G$113,BasePrices[#Headers],0))+\nIFERROR(ROUNDUP(INDEX(BasePrices[],MATCH(COUNTA($B123:$E123),BasePrices[SnrCnt],0),MATCH(G$113,BasePrices[#Headers],0))*2.2777777,0),0)+\nIFERROR(ROUNDUP(INDEX(SensorPricing[],MATCH($B123,SensorPricing[Sensor],0),MATCH(G$113,SensorPricing[#Headers],0))*2.2777777,0),0)+\nIFERROR(ROUNDUP(INDEX(SensorPricing[],MATCH($C123,SensorPricing[Sensor],0),MATCH(G$113,SensorPricing[#Headers],0))*2.2777777,0),0)+\nIFERROR(ROUNDUP(INDEX(SensorPricing[],MATCH($D123,SensorPricing[Sensor],0),MATCH(G$113,SensorPricing[#Headers],0))*2.2777777,0),0)+\nIFERROR(ROUNDUP(INDEX(SensorPricing[],MATCH($E123,SensorPricing[Sensor],0),MATCH(G$113,SensorPricing[#Headers],0))*2.2777777,0),0)","v":3647},{"$f":"INDEX(BasePrices[],MATCH(\"EXO Pump\",BasePrices[Type],0),MATCH(H$113,BasePrices[#Headers],0))+\nIFERROR(ROUNDUP(INDEX(BasePrices[],MATCH(COUNTA($B123:$E123),BasePrices[SnrCnt],0),MATCH(H$113,BasePrices[#Headers],0))*2.2777777,0),0)+\nIFERROR(ROUNDUP(INDEX(SensorPricing[],MATCH($B123,SensorPricing[Sensor],0),MATCH(H$113,SensorPricing[#Headers],0))*2.2777777,0),0)+\nIFERROR(ROUNDUP(INDEX(SensorPricing[],MATCH($C123,SensorPricing[Sensor],0),MATCH(H$113,SensorPricing[#Headers],0))*2.2777777,0),0)+\nIFERROR(ROUNDUP(INDEX(SensorPricing[],MATCH($D123,SensorPricing[Sensor],0),MATCH(H$113,SensorPricing[#Headers],0))*2.2777777,0),0)+\nIFERROR(ROUNDUP(INDEX(SensorPricing[],MATCH($E123,SensorPricing[Sensor],0),MATCH(H$113,SensorPricing[#Headers],0))*2.2777777,0),0)","v":2189},{"$f":"INDEX(BasePrices[],MATCH(\"EXO Pump\",BasePrices[Type],0),MATCH(I$113,BasePrices[#Headers],0))+\nIFERROR(ROUNDUP(INDEX(BasePrices[],MATCH(COUNTA($B123:$E123),BasePrices[SnrCnt],0),MATCH(I$113,BasePrices[#Headers],0))*2.2777777,0),0)+\nIFERROR(ROUNDUP(INDEX(SensorPricing[],MATCH($B123,SensorPricing[Sensor],0),MATCH(I$113,SensorPricing[#Headers],0))*2.2777777,0),0)+\nIFERROR(ROUNDUP(INDEX(SensorPricing[],MATCH($C123,SensorPricing[Sensor],0),MATCH(I$113,SensorPricing[#Headers],0))*2.2777777,0),0)+\nIFERROR(ROUNDUP(INDEX(SensorPricing[],MATCH($D123,SensorPricing[Sensor],0),MATCH(I$113,SensorPricing[#Headers],0))*2.2777777,0),0)+\nIFERROR(ROUNDUP(INDEX(SensorPricing[],MATCH($E123,SensorPricing[Sensor],0),MATCH(I$113,SensorPricing[#Headers],0))*2.2777777,0),0)","v":2597},{"$f":"INDEX(BasePrices[],MATCH(\"EXO Pump\",BasePrices[Type],0),MATCH(J$113,BasePrices[#Headers],0))+\nIFERROR(ROUNDUP(INDEX(BasePrices[],MATCH(COUNTA($B123:$E123),BasePrices[SnrCnt],0),MATCH(J$113,BasePrices[#Headers],0))*2.2777777,0),0)+\nIFERROR(ROUNDUP(INDEX(SensorPricing[],MATCH($B123,SensorPricing[Sensor],0),MATCH(J$113,SensorPricing[#Headers],0))*2.2777777,0),0)+\nIFERROR(ROUNDUP(INDEX(SensorPricing[],MATCH($C123,SensorPricing[Sensor],0),MATCH(J$113,SensorPricing[#Headers],0))*2.2777777,0),0)+\nIFERROR(ROUNDUP(INDEX(SensorPricing[],MATCH($D123,SensorPricing[Sensor],0),MATCH(J$113,SensorPricing[#Headers],0))*2.2777777,0),0)+\nIFERROR(ROUNDUP(INDEX(SensorPricing[],MATCH($E123,SensorPricing[Sensor],0),MATCH(J$113,SensorPricing[#Headers],0))*2.2777777,0),0)","v":4154},{"$f":"IFERROR(ROUNDUP(INDEX(BasePrices[],MATCH(COUNTA($B123:$E123),BasePrices[SnrCnt],0),MATCH(F$113,BasePrices[#Headers],0))*0.2777777,0),0)+\nIFERROR(ROUNDUP(INDEX(SensorPricing[],MATCH($B123,SensorPricing[Sensor],0),MATCH(F$113,SensorPricing[#Headers],0))*0.2777777,0),0)+\nIFERROR(ROUNDUP(INDEX(SensorPricing[],MATCH($C123,SensorPricing[Sensor],0),MATCH(F$113,SensorPricing[#Headers],0))*0.2777777,0),0)+\nIFERROR(ROUNDUP(INDEX(SensorPricing[],MATCH($D123,SensorPricing[Sensor],0),MATCH(F$113,SensorPricing[#Headers],0))*0.2777777,0),0)+\nIFERROR(ROUNDUP(INDEX(SensorPricing[],MATCH($E123,SensorPricing[Sensor],0),MATCH(F$113,SensorPricing[#Headers],0))*0.2777777,0),0)","v":107},{"$f":"IFERROR(ROUNDUP(INDEX(BasePrices[],MATCH(COUNTA($B123:$E123),BasePrices[SnrCnt],0),MATCH(G$113,BasePrices[#Headers],0))*0.2777777,0),0)+\nIFERROR(ROUNDUP(INDEX(SensorPricing[],MATCH($B123,SensorPricing[Sensor],0),MATCH(G$113,SensorPricing[#Headers],0))*0.2777777,0),0)+\nIFERROR(ROUNDUP(INDEX(SensorPricing[],MATCH($C123,SensorPricing[Sensor],0),MATCH(G$113,SensorPricing[#Headers],0))*0.2777777,0),0)+\nIFERROR(ROUNDUP(INDEX(SensorPricing[],MATCH($D123,SensorPricing[Sensor],0),MATCH(G$113,SensorPricing[#Headers],0))*0.2777777,0),0)+\nIFERROR(ROUNDUP(INDEX(SensorPricing[],MATCH($E123,SensorPricing[Sensor],0),MATCH(G$113,SensorPricing[#Headers],0))*0.2777777,0),0)","v":117},{"$f":"IFERROR(ROUNDUP(INDEX(BasePrices[],MATCH(COUNTA($B123:$E123),BasePrices[SnrCnt],0),MATCH(H$113,BasePrices[#Headers],0))*0.2777777,0),0)+\nIFERROR(ROUNDUP(INDEX(SensorPricing[],MATCH($B123,SensorPricing[Sensor],0),MATCH(H$113,SensorPricing[#Headers],0))*0.2777777,0),0)+\nIFERROR(ROUNDUP(INDEX(SensorPricing[],MATCH($C123,SensorPricing[Sensor],0),MATCH(H$113,SensorPricing[#Headers],0))*0.2777777,0),0)+\nIFERROR(ROUNDUP(INDEX(SensorPricing[],MATCH($D123,SensorPricing[Sensor],0),MATCH(H$113,SensorPricing[#Headers],0))*0.2777777,0),0)+\nIFERROR(ROUNDUP(INDEX(SensorPricing[],MATCH($E123,SensorPricing[Sensor],0),MATCH(H$113,SensorPricing[#Headers],0))*0.2777777,0),0)","v":62},{"$f":"IFERROR(ROUNDUP(INDEX(BasePrices[],MATCH(COUNTA($B123:$E123),BasePrices[SnrCnt],0),MATCH(I$113,BasePrices[#Headers],0))*0.2777777,0),0)+\nIFERROR(ROUNDUP(INDEX(SensorPricing[],MATCH($B123,SensorPricing[Sensor],0),MATCH(I$113,SensorPricing[#Headers],0))*0.2777777,0),0)+\nIFERROR(ROUNDUP(INDEX(SensorPricing[],MATCH($C123,SensorPricing[Sensor],0),MATCH(I$113,SensorPricing[#Headers],0))*0.2777777,0),0)+\nIFERROR(ROUNDUP(INDEX(SensorPricing[],MATCH($D123,SensorPricing[Sensor],0),MATCH(I$113,SensorPricing[#Headers],0))*0.2777777,0),0)+\nIFERROR(ROUNDUP(INDEX(SensorPricing[],MATCH($E123,SensorPricing[Sensor],0),MATCH(I$113,SensorPricing[#Headers],0))*0.2777777,0),0)","v":85},{"$f":"IFERROR(ROUNDUP(INDEX(BasePrices[],MATCH(COUNTA($B123:$E123),BasePrices[SnrCnt],0),MATCH(J$113,BasePrices[#Headers],0))*0.2777777,0),0)+\nIFERROR(ROUNDUP(INDEX(SensorPricing[],MATCH($B123,SensorPricing[Sensor],0),MATCH(J$113,SensorPricing[#Headers],0))*0.2777777,0),0)+\nIFERROR(ROUNDUP(INDEX(SensorPricing[],MATCH($C123,SensorPricing[Sensor],0),MATCH(J$113,SensorPricing[#Headers],0))*0.2777777,0),0)+\nIFERROR(ROUNDUP(INDEX(SensorPricing[],MATCH($D123,SensorPricing[Sensor],0),MATCH(J$113,SensorPricing[#Headers],0))*0.2777777,0),0)+\nIFERROR(ROUNDUP(INDEX(SensorPricing[],MATCH($E123,SensorPricing[Sensor],0),MATCH(J$113,SensorPricing[#Headers],0))*0.2777777,0),0)","v":144}]
["09","A","H","L","V",{"$f":"INDEX(BasePrices[],MATCH(\"EXO Pump\",BasePrices[Type],0),MATCH(F$113,BasePrices[#Headers],0))+\nIFERROR(ROUNDUP(INDEX(BasePrices[],MATCH(COUNTA($B124:$E124),BasePrices[SnrCnt],0),MATCH(F$113,BasePrices[#Headers],0))*2.2777777,0),0)+\nIFERROR(ROUNDUP(INDEX(SensorPricing[],MATCH($B124,SensorPricing[Sensor],0),MATCH(F$113,SensorPricing[#Headers],0))*2.2777777,0),0)+\nIFERROR(ROUNDUP(INDEX(SensorPricing[],MATCH($C124,SensorPricing[Sensor],0),MATCH(F$113,SensorPricing[#Headers],0))*2.2777777,0),0)+\nIFERROR(ROUNDUP(INDEX(SensorPricing[],MATCH($D124,SensorPricing[Sensor],0),MATCH(F$113,SensorPricing[#Headers],0))*2.2777777,0),0)+\nIFERROR(ROUNDUP(INDEX(SensorPricing[],MATCH($E124,SensorPricing[Sensor],0),MATCH(F$113,SensorPricing[#Headers],0))*2.2777777,0),0)","v":4074},{"$f":"INDEX(BasePrices[],MATCH(\"EXO Pump\",BasePrices[Type],0),MATCH(G$113,BasePrices[#Headers],0))+\nIFERROR(ROUNDUP(INDEX(BasePrices[],MATCH(COUNTA($B124:$E124),BasePrices[SnrCnt],0),MATCH(G$113,BasePrices[#Headers],0))*2.2777777,0),0)+\nIFERROR(ROUNDUP(INDEX(SensorPricing[],MATCH($B124,SensorPricing[Sensor],0),MATCH(G$113,SensorPricing[#Headers],0))*2.2777777,0),0)+\nIFERROR(ROUNDUP(INDEX(SensorPricing[],MATCH($C124,SensorPricing[Sensor],0),MATCH(G$113,SensorPricing[#Headers],0))*2.2777777,0),0)+\nIFERROR(ROUNDUP(INDEX(SensorPricing[],MATCH($D124,SensorPricing[Sensor],0),MATCH(G$113,SensorPricing[#Headers],0))*2.2777777,0),0)+\nIFERROR(ROUNDUP(INDEX(SensorPricing[],MATCH($E124,SensorPricing[Sensor],0),MATCH(G$113,SensorPricing[#Headers],0))*2.2777777,0),0)","v":4805},{"$f":"INDEX(BasePrices[],MATCH(\"EXO Pump\",BasePrices[Type],0),MATCH(H$113,BasePrices[#Headers],0))+\nIFERROR(ROUNDUP(INDEX(BasePrices[],MATCH(COUNTA($B124:$E124),BasePrices[SnrCnt],0),MATCH(H$113,BasePrices[#Headers],0))*2.2777777,0),0)+\nIFERROR(ROUNDUP(INDEX(SensorPricing[],MATCH($B124,SensorPricing[Sensor],0),MATCH(H$113,SensorPricing[#Headers],0))*2.2777777,0),0)+\nIFERROR(ROUNDUP(INDEX(SensorPricing[],MATCH($C124,SensorPricing[Sensor],0),MATCH(H$113,SensorPricing[#Headers],0))*2.2777777,0),0)+\nIFERROR(ROUNDUP(INDEX(SensorPricing[],MATCH($D124,SensorPricing[Sensor],0),MATCH(H$113,SensorPricing[#Headers],0))*2.2777777,0),0)+\nIFERROR(ROUNDUP(INDEX(SensorPricing[],MATCH($E124,SensorPricing[Sensor],0),MATCH(H$113,SensorPricing[#Headers],0))*2.2777777,0),0)","v":2768},{"$f":"INDEX(BasePrices[],MATCH(\"EXO Pump\",BasePrices[Type],0),MATCH(I$113,BasePrices[#Headers],0))+\nIFERROR(ROUNDUP(INDEX(BasePrices[],MATCH(COUNTA($B124:$E124),BasePrices[SnrCnt],0),MATCH(I$113,BasePrices[#Headers],0))*2.2777777,0),0)+\nIFERROR(ROUNDUP(INDEX(SensorPricing[],MATCH($B124,SensorPricing[Sensor],0),MATCH(I$113,SensorPricing[#Headers],0))*2.2777777,0),0)+\nIFERROR(ROUNDUP(INDEX(SensorPricing[],MATCH($C124,SensorPricing[Sensor],0),MATCH(I$113,SensorPricing[#Headers],0))*2.2777777,0),0)+\nIFERROR(ROUNDUP(INDEX(SensorPricing[],MATCH($D124,SensorPricing[Sensor],0),MATCH(I$113,SensorPricing[#Headers],0))*2.2777777,0),0)+\nIFERROR(ROUNDUP(INDEX(SensorPricing[],MATCH($E124,SensorPricing[Sensor],0),MATCH(I$113,SensorPricing[#Headers],0))*2.2777777,0),0)","v":3274},{"$f":"INDEX(BasePrices[],MATCH(\"EXO Pump\",BasePrices[Type],0),MATCH(J$113,BasePrices[#Headers],0))+\nIFERROR(ROUNDUP(INDEX(BasePrices[],MATCH(COUNTA($B124:$E124),BasePrices[SnrCnt],0),MATCH(J$113,BasePrices[#Headers],0))*2.2777777,0),0)+\nIFERROR(ROUNDUP(INDEX(SensorPricing[],MATCH($B124,SensorPricing[Sensor],0),MATCH(J$113,SensorPricing[#Headers],0))*2.2777777,0),0)+\nIFERROR(ROUNDUP(INDEX(SensorPricing[],MATCH($C124,SensorPricing[Sensor],0),MATCH(J$113,SensorPricing[#Headers],0))*2.2777777,0),0)+\nIFERROR(ROUNDUP(INDEX(SensorPricing[],MATCH($D124,SensorPricing[Sensor],0),MATCH(J$113,SensorPricing[#Headers],0))*2.2777777,0),0)+\nIFERROR(ROUNDUP(INDEX(SensorPricing[],MATCH($E124,SensorPricing[Sensor],0),MATCH(J$113,SensorPricing[#Headers],0))*2.2777777,0),0)","v":5437},{"$f":"IFERROR(ROUNDUP(INDEX(BasePrices[],MATCH(COUNTA($B124:$E124),BasePrices[SnrCnt],0),MATCH(F$113,BasePrices[#Headers],0))*0.2777777,0),0)+\nIFERROR(ROUNDUP(INDEX(SensorPricing[],MATCH($B124,SensorPricing[Sensor],0),MATCH(F$113,SensorPricing[#Headers],0))*0.2777777,0),0)+\nIFERROR(ROUNDUP(INDEX(SensorPricing[],MATCH($C124,SensorPricing[Sensor],0),MATCH(F$113,SensorPricing[#Headers],0))*0.2777777,0),0)+\nIFERROR(ROUNDUP(INDEX(SensorPricing[],MATCH($D124,SensorPricing[Sensor],0),MATCH(F$113,SensorPricing[#Headers],0))*0.2777777,0),0)+\nIFERROR(ROUNDUP(INDEX(SensorPricing[],MATCH($E124,SensorPricing[Sensor],0),MATCH(F$113,SensorPricing[#Headers],0))*0.2777777,0),0)","v":225},{"$f":"IFERROR(ROUNDUP(INDEX(BasePrices[],MATCH(COUNTA($B124:$E124),BasePrices[SnrCnt],0),MATCH(G$113,BasePrices[#Headers],0))*0.2777777,0),0)+\nIFERROR(ROUNDUP(INDEX(SensorPricing[],MATCH($B124,SensorPricing[Sensor],0),MATCH(G$113,SensorPricing[#Headers],0))*0.2777777,0),0)+\nIFERROR(ROUNDUP(INDEX(SensorPricing[],MATCH($C124,SensorPricing[Sensor],0),MATCH(G$113,SensorPricing[#Headers],0))*0.2777777,0),0)+\nIFERROR(ROUNDUP(INDEX(SensorPricing[],MATCH($D124,SensorPricing[Sensor],0),MATCH(G$113,SensorPricing[#Headers],0))*0.2777777,0),0)+\nIFERROR(ROUNDUP(INDEX(SensorPricing[],MATCH($E124,SensorPricing[Sensor],0),MATCH(G$113,SensorPricing[#Headers],0))*0.2777777,0),0)","v":259},{"$f":"IFERROR(ROUNDUP(INDEX(BasePrices[],MATCH(COUNTA($B124:$E124),BasePrices[SnrCnt],0),MATCH(H$113,BasePrices[#Headers],0))*0.2777777,0),0)+\nIFERROR(ROUNDUP(INDEX(SensorPricing[],MATCH($B124,SensorPricing[Sensor],0),MATCH(H$113,SensorPricing[#Headers],0))*0.2777777,0),0)+\nIFERROR(ROUNDUP(INDEX(SensorPricing[],MATCH($C124,SensorPricing[Sensor],0),MATCH(H$113,SensorPricing[#Headers],0))*0.2777777,0),0)+\nIFERROR(ROUNDUP(INDEX(SensorPricing[],MATCH($D124,SensorPricing[Sensor],0),MATCH(H$113,SensorPricing[#Headers],0))*0.2777777,0),0)+\nIFERROR(ROUNDUP(INDEX(SensorPricing[],MATCH($E124,SensorPricing[Sensor],0),MATCH(H$113,SensorPricing[#Headers],0))*0.2777777,0),0)","v":133},{"$f":"IFERROR(ROUNDUP(INDEX(BasePrices[],MATCH(COUNTA($B124:$E124),BasePrices[SnrCnt],0),MATCH(I$113,BasePrices[#Headers],0))*0.2777777,0),0)+\nIFERROR(ROUNDUP(INDEX(SensorPricing[],MATCH($B124,SensorPricing[Sensor],0),MATCH(I$113,SensorPricing[#Headers],0))*0.2777777,0),0)+\nIFERROR(ROUNDUP(INDEX(SensorPricing[],MATCH($C124,SensorPricing[Sensor],0),MATCH(I$113,SensorPricing[#Headers],0))*0.2777777,0),0)+\nIFERROR(ROUNDUP(INDEX(SensorPricing[],MATCH($D124,SensorPricing[Sensor],0),MATCH(I$113,SensorPricing[#Headers],0))*0.2777777,0),0)+\nIFERROR(ROUNDUP(INDEX(SensorPricing[],MATCH($E124,SensorPricing[Sensor],0),MATCH(I$113,SensorPricing[#Headers],0))*0.2777777,0),0)","v":168},{"$f":"IFERROR(ROUNDUP(INDEX(BasePrices[],MATCH(COUNTA($B124:$E124),BasePrices[SnrCnt],0),MATCH(J$113,BasePrices[#Headers],0))*0.2777777,0),0)+\nIFERROR(ROUNDUP(INDEX(SensorPricing[],MATCH($B124,SensorPricing[Sensor],0),MATCH(J$113,SensorPricing[#Headers],0))*0.2777777,0),0)+\nIFERROR(ROUNDUP(INDEX(SensorPricing[],MATCH($C124,SensorPricing[Sensor],0),MATCH(J$113,SensorPricing[#Headers],0))*0.2777777,0),0)+\nIFERROR(ROUNDUP(INDEX(SensorPricing[],MATCH($D124,SensorPricing[Sensor],0),MATCH(J$113,SensorPricing[#Headers],0))*0.2777777,0),0)+\nIFERROR(ROUNDUP(INDEX(SensorPricing[],MATCH($E124,SensorPricing[Sensor],0),MATCH(J$113,SensorPricing[#Headers],0))*0.2777777,0),0)","v":301}]
["10","L","W",null,null,{"$f":"INDEX(BasePrices[],MATCH(\"EXO Pump\",BasePrices[Type],0),MATCH(F$113,BasePrices[#Headers],0))+\nIFERROR(ROUNDUP(INDEX(BasePrices[],MATCH(COUNTA($B125:$E125),BasePrices[SnrCnt],0),MATCH(F$113,BasePrices[#Headers],0))*2.2777777,0),0)+\nIFERROR(ROUNDUP(INDEX(SensorPricing[],MATCH($B125,SensorPricing[Sensor],0),MATCH(F$113,SensorPricing[#Headers],0))*2.2777777,0),0)+\nIFERROR(ROUNDUP(INDEX(SensorPricing[],MATCH($C125,SensorPricing[Sensor],0),MATCH(F$113,SensorPricing[#Headers],0))*2.2777777,0),0)+\nIFERROR(ROUNDUP(INDEX(SensorPricing[],MATCH($D125,SensorPricing[Sensor],0),MATCH(F$113,SensorPricing[#Headers],0))*2.2777777,0),0)+\nIFERROR(ROUNDUP(INDEX(SensorPricing[],MATCH($E125,SensorPricing[Sensor],0),MATCH(F$113,SensorPricing[#Headers],0))*2.2777777,0),0)","v":2804},{"$f":"INDEX(BasePrices[],MATCH(\"EXO Pump\",BasePrices[Type],0),MATCH(G$113,BasePrices[#Headers],0))+\nIFERROR(ROUNDUP(INDEX(BasePrices[],MATCH(COUNTA($B125:$E125),BasePrices[SnrCnt],0),MATCH(G$113,BasePrices[#Headers],0))*2.2777777,0),0)+\nIFERROR(ROUNDUP(INDEX(SensorPricing[],MATCH($B125,SensorPricing[Sensor],0),MATCH(G$113,SensorPricing[#Headers],0))*2.2777777,0),0)+\nIFERROR(ROUNDUP(INDEX(SensorPricing[],MATCH($C125,SensorPricing[Sensor],0),MATCH(G$113,SensorPricing[#Headers],0))*2.2777777,0),0)+\nIFERROR(ROUNDUP(INDEX(SensorPricing[],MATCH($D125,SensorPricing[Sensor],0),MATCH(G$113,SensorPricing[#Headers],0))*2.2777777,0),0)+\nIFERROR(ROUNDUP(INDEX(SensorPricing[],MATCH($E125,SensorPricing[Sensor],0),MATCH(G$113,SensorPricing[#Headers],0))*2.2777777,0),0)","v":3314},{"$f":"INDEX(BasePrices[],MATCH(\"EXO Pump\",BasePrices[Type],0),MATCH(H$113,BasePrices[#Headers],0))+\nIFERROR(ROUNDUP(INDEX(BasePrices[],MATCH(COUNTA($B125:$E125),BasePrices[SnrCnt],0),MATCH(H$113,BasePrices[#Headers],0))*2.2777777,0),0)+\nIFERROR(ROUNDUP(INDEX(SensorPricing[],MATCH($B125,SensorPricing[Sensor],0),MATCH(H$113,SensorPricing[#Headers],0))*2.2777777,0),0)+\nIFERROR(ROUNDUP(INDEX(SensorPricing[],MATCH($C125,SensorPricing[Sensor],0),MATCH(H$113,SensorPricing[#Headers],0))*2.2777777,0),0)+\nIFERROR(ROUNDUP(INDEX(SensorPricing[],MATCH($D125,SensorPricing[Sensor],0),MATCH(H$113,SensorPricing[#Headers],0))*2.2777777,0),0)+\nIFERROR(ROUNDUP(INDEX(SensorPricing[],MATCH($E125,SensorPricing[Sensor],0),MATCH(H$113,SensorPricing[#Headers],0))*2.2777777,0),0)","v":1998},{"$f":"INDEX(BasePrices[],MATCH(\"EXO Pump\",BasePrices[Type],0),MATCH(I$113,BasePrices[#Headers],0))+\nIFERROR(ROUNDUP(INDEX(BasePrices[],MATCH(COUNTA($B125:$E125),BasePrices[SnrCnt],0),MATCH(I$113,BasePrices[#Headers],0))*2.2777777,0),0)+\nIFERROR(ROUNDUP(INDEX(SensorPricing[],MATCH($B125,SensorPricing[Sensor],0),MATCH(I$113,SensorPricing[#Headers],0))*2.2777777,0),0)+\nIFERROR(ROUNDUP(INDEX(SensorPricing[],MATCH($C125,SensorPricing[Sensor],0),MATCH(I$113,SensorPricing[#Headers],0))*2.2777777,0),0)+\nIFERROR(ROUNDUP(INDEX(SensorPricing[],MATCH($D125,SensorPricing[Sensor],0),MATCH(I$113,SensorPricing[#Headers],0))*2.2777777,0),0)+\nIFERROR(ROUNDUP(INDEX(SensorPricing[],MATCH($E125,SensorPricing[Sensor],0),MATCH(I$113,SensorPricing[#Headers],0))*2.2777777,0),0)","v":2315},{"$f":"INDEX(BasePrices[],MATCH(\"EXO Pump\",BasePrices[Type],0),MATCH(J$113,BasePrices[#Headers],0))+\nIFERROR(ROUNDUP(INDEX(BasePrices[],MATCH(COUNTA($B125:$E125),BasePrices[SnrCnt],0),MATCH(J$113,BasePrices[#Headers],0))*2.2777777,0),0)+\nIFERROR(ROUNDUP(INDEX(SensorPricing[],MATCH($B125,SensorPricing[Sensor],0),MATCH(J$113,SensorPricing[#Headers],0))*2.2777777,0),0)+\nIFERROR(ROUNDUP(INDEX(SensorPricing[],MATCH($C125,SensorPricing[Sensor],0),MATCH(J$113,SensorPricing[#Headers],0))*2.2777777,0),0)+\nIFERROR(ROUNDUP(INDEX(SensorPricing[],MATCH($D125,SensorPricing[Sensor],0),MATCH(J$113,SensorPricing[#Headers],0))*2.2777777,0),0)+\nIFERROR(ROUNDUP(INDEX(SensorPricing[],MATCH($E125,SensorPricing[Sensor],0),MATCH(J$113,SensorPricing[#Headers],0))*2.2777777,0),0)","v":3740},{"$f":"IFERROR(ROUNDUP(INDEX(BasePrices[],MATCH(COUNTA($B125:$E125),BasePrices[SnrCnt],0),MATCH(F$113,BasePrices[#Headers],0))*0.2777777,0),0)+\nIFERROR(ROUNDUP(INDEX(SensorPricing[],MATCH($B125,SensorPricing[Sensor],0),MATCH(F$113,SensorPricing[#Headers],0))*0.2777777,0),0)+\nIFERROR(ROUNDUP(INDEX(SensorPricing[],MATCH($C125,SensorPricing[Sensor],0),MATCH(F$113,SensorPricing[#Headers],0))*0.2777777,0),0)+\nIFERROR(ROUNDUP(INDEX(SensorPricing[],MATCH($D125,SensorPricing[Sensor],0),MATCH(F$113,SensorPricing[#Headers],0))*0.2777777,0),0)+\nIFERROR(ROUNDUP(INDEX(SensorPricing[],MATCH($E125,SensorPricing[Sensor],0),MATCH(F$113,SensorPricing[#Headers],0))*0.2777777,0),0)","v":69},{"$f":"IFERROR(ROUNDUP(INDEX(BasePrices[],MATCH(COUNTA($B125:$E125),BasePrices[SnrCnt],0),MATCH(G$113,BasePrices[#Headers],0))*0.2777777,0),0)+\nIFERROR(ROUNDUP(INDEX(SensorPricing[],MATCH($B125,SensorPricing[Sensor],0),MATCH(G$113,SensorPricing[#Headers],0))*0.2777777,0),0)+\nIFERROR(ROUNDUP(INDEX(SensorPricing[],MATCH($C125,SensorPricing[Sensor],0),MATCH(G$113,SensorPricing[#Headers],0))*0.2777777,0),0)+\nIFERROR(ROUNDUP(INDEX(SensorPricing[],MATCH($D125,SensorPricing[Sensor],0),MATCH(G$113,SensorPricing[#Headers],0))*0.2777777,0),0)+\nIFERROR(ROUNDUP(INDEX(SensorPricing[],MATCH($E125,SensorPricing[Sensor],0),MATCH(G$113,SensorPricing[#Headers],0))*0.2777777,0),0)","v":76},{"$f":"IFERROR(ROUNDUP(INDEX(BasePrices[],MATCH(COUNTA($B125:$E125),BasePrices[SnrCnt],0),MATCH(H$113,BasePrices[#Headers],0))*0.2777777,0),0)+\nIFERROR(ROUNDUP(INDEX(SensorPricing[],MATCH($B125,SensorPricing[Sensor],0),MATCH(H$113,SensorPricing[#Headers],0))*0.2777777,0),0)+\nIFERROR(ROUNDUP(INDEX(SensorPricing[],MATCH($C125,SensorPricing[Sensor],0),MATCH(H$113,SensorPricing[#Headers],0))*0.2777777,0),0)+\nIFERROR(ROUNDUP(INDEX(SensorPricing[],MATCH($D125,SensorPricing[Sensor],0),MATCH(H$113,SensorPricing[#Headers],0))*0.2777777,0),0)+\nIFERROR(ROUNDUP(INDEX(SensorPricing[],MATCH($E125,SensorPricing[Sensor],0),MATCH(H$113,SensorPricing[#Headers],0))*0.2777777,0),0)","v":39},{"$f":"IFERROR(ROUNDUP(INDEX(BasePrices[],MATCH(COUNTA($B125:$E125),BasePrices[SnrCnt],0),MATCH(I$113,BasePrices[#Headers],0))*0.2777777,0),0)+\nIFERROR(ROUNDUP(INDEX(SensorPricing[],MATCH($B125,SensorPricing[Sensor],0),MATCH(I$113,SensorPricing[#Headers],0))*0.2777777,0),0)+\nIFERROR(ROUNDUP(INDEX(SensorPricing[],MATCH($C125,SensorPricing[Sensor],0),MATCH(I$113,SensorPricing[#Headers],0))*0.2777777,0),0)+\nIFERROR(ROUNDUP(INDEX(SensorPricing[],MATCH($D125,SensorPricing[Sensor],0),MATCH(I$113,SensorPricing[#Headers],0))*0.2777777,0),0)+\nIFERROR(ROUNDUP(INDEX(SensorPricing[],MATCH($E125,SensorPricing[Sensor],0),MATCH(I$113,SensorPricing[#Headers],0))*0.2777777,0),0)","v":51},{"$f":"IFERROR(ROUNDUP(INDEX(BasePrices[],MATCH(COUNTA($B125:$E125),BasePrices[SnrCnt],0),MATCH(J$113,BasePrices[#Headers],0))*0.2777777,0),0)+\nIFERROR(ROUNDUP(INDEX(SensorPricing[],MATCH($B125,SensorPricing[Sensor],0),MATCH(J$113,SensorPricing[#Headers],0))*0.2777777,0),0)+\nIFERROR(ROUNDUP(INDEX(SensorPricing[],MATCH($C125,SensorPricing[Sensor],0),MATCH(J$113,SensorPricing[#Headers],0))*0.2777777,0),0)+\nIFERROR(ROUNDUP(INDEX(SensorPricing[],MATCH($D125,SensorPricing[Sensor],0),MATCH(J$113,SensorPricing[#Headers],0))*0.2777777,0),0)+\nIFERROR(ROUNDUP(INDEX(SensorPricing[],MATCH($E125,SensorPricing[Sensor],0),MATCH(J$113,SensorPricing[#Headers],0))*0.2777777,0),0)","v":94}]
["11","6","A","L","V",{"$f":"INDEX(BasePrices[],MATCH(\"EXO Pump\",BasePrices[Type],0),MATCH(F$113,BasePrices[#Headers],0))+\nIFERROR(ROUNDUP(INDEX(BasePrices[],MATCH(COUNTA($B126:$E126),BasePrices[SnrCnt],0),MATCH(F$113,BasePrices[#Headers],0))*2.2777777,0),0)+\nIFERROR(ROUNDUP(INDEX(SensorPricing[],MATCH($B126,SensorPricing[Sensor],0),MATCH(F$113,SensorPricing[#Headers],0))*2.2777777,0),0)+\nIFERROR(ROUNDUP(INDEX(SensorPricing[],MATCH($C126,SensorPricing[Sensor],0),MATCH(F$113,SensorPricing[#Headers],0))*2.2777777,0),0)+\nIFERROR(ROUNDUP(INDEX(SensorPricing[],MATCH($D126,SensorPricing[Sensor],0),MATCH(F$113,SensorPricing[#Headers],0))*2.2777777,0),0)+\nIFERROR(ROUNDUP(INDEX(SensorPricing[],MATCH($E126,SensorPricing[Sensor],0),MATCH(F$113,SensorPricing[#Headers],0))*2.2777777,0),0)","v":4218},{"$f":"INDEX(BasePrices[],MATCH(\"EXO Pump\",BasePrices[Type],0),MATCH(G$113,BasePrices[#Headers],0))+\nIFERROR(ROUNDUP(INDEX(BasePrices[],MATCH(COUNTA($B126:$E126),BasePrices[SnrCnt],0),MATCH(G$113,BasePrices[#Headers],0))*2.2777777,0),0)+\nIFERROR(ROUNDUP(INDEX(SensorPricing[],MATCH($B126,SensorPricing[Sensor],0),MATCH(G$113,SensorPricing[#Headers],0))*2.2777777,0),0)+\nIFERROR(ROUNDUP(INDEX(SensorPricing[],MATCH($C126,SensorPricing[Sensor],0),MATCH(G$113,SensorPricing[#Headers],0))*2.2777777,0),0)+\nIFERROR(ROUNDUP(INDEX(SensorPricing[],MATCH($D126,SensorPricing[Sensor],0),MATCH(G$113,SensorPricing[#Headers],0))*2.2777777,0),0)+\nIFERROR(ROUNDUP(INDEX(SensorPricing[],MATCH($E126,SensorPricing[Sensor],0),MATCH(G$113,SensorPricing[#Headers],0))*2.2777777,0),0)","v":4979},{"$f":"INDEX(BasePrices[],MATCH(\"EXO Pump\",BasePrices[Type],0),MATCH(H$113,BasePrices[#Headers],0))+\nIFERROR(ROUNDUP(INDEX(BasePrices[],MATCH(COUNTA($B126:$E126),BasePrices[SnrCnt],0),MATCH(H$113,BasePrices[#Headers],0))*2.2777777,0),0)+\nIFERROR(ROUNDUP(INDEX(SensorPricing[],MATCH($B126,SensorPricing[Sensor],0),MATCH(H$113,SensorPricing[#Headers],0))*2.2777777,0),0)+\nIFERROR(ROUNDUP(INDEX(SensorPricing[],MATCH($C126,SensorPricing[Sensor],0),MATCH(H$113,SensorPricing[#Headers],0))*2.2777777,0),0)+\nIFERROR(ROUNDUP(INDEX(SensorPricing[],MATCH($D126,SensorPricing[Sensor],0),MATCH(H$113,SensorPricing[#Headers],0))*2.2777777,0),0)+\nIFERROR(ROUNDUP(INDEX(SensorPricing[],MATCH($E126,SensorPricing[Sensor],0),MATCH(H$113,SensorPricing[#Headers],0))*2.2777777,0),0)","v":2855},{"$f":"INDEX(BasePrices[],MATCH(\"EXO Pump\",BasePrices[Type],0),MATCH(I$113,BasePrices[#Headers],0))+\nIFERROR(ROUNDUP(INDEX(BasePrices[],MATCH(COUNTA($B126:$E126),BasePrices[SnrCnt],0),MATCH(I$113,BasePrices[#Headers],0))*2.2777777,0),0)+\nIFERROR(ROUNDUP(INDEX(SensorPricing[],MATCH($B126,SensorPricing[Sensor],0),MATCH(I$113,SensorPricing[#Headers],0))*2.2777777,0),0)+\nIFERROR(ROUNDUP(INDEX(SensorPricing[],MATCH($C126,SensorPricing[Sensor],0),MATCH(I$113,SensorPricing[#Headers],0))*2.2777777,0),0)+\nIFERROR(ROUNDUP(INDEX(SensorPricing[],MATCH($D126,SensorPricing[Sensor],0),MATCH(I$113,SensorPricing[#Headers],0))*2.2777777,0),0)+\nIFERROR(ROUNDUP(INDEX(SensorPricing[],MATCH($E126,SensorPricing[Sensor],0),MATCH(I$113,SensorPricing[#Headers],0))*2.2777777,0),0)","v":3391},{"$f":"INDEX(BasePrices[],MATCH(\"EXO Pump\",BasePrices[Type],0),MATCH(J$113,BasePrices[#Headers],0))+\nIFERROR(ROUNDUP(INDEX(BasePrices[],MATCH(COUNTA($B126:$E126),BasePrices[SnrCnt],0),MATCH(J$113,BasePrices[#Headers],0))*2.2777777,0),0)+\nIFERROR(ROUNDUP(INDEX(SensorPricing[],MATCH($B126,SensorPricing[Sensor],0),MATCH(J$113,SensorPricing[#Headers],0))*2.2777777,0),0)+\nIFERROR(ROUNDUP(INDEX(SensorPricing[],MATCH($C126,SensorPricing[Sensor],0),MATCH(J$113,SensorPricing[#Headers],0))*2.2777777,0),0)+\nIFERROR(ROUNDUP(INDEX(SensorPricing[],MATCH($D126,SensorPricing[Sensor],0),MATCH(J$113,SensorPricing[#Headers],0))*2.2777777,0),0)+\nIFERROR(ROUNDUP(INDEX(SensorPricing[],MATCH($E126,SensorPricing[Sensor],0),MATCH(J$113,SensorPricing[#Headers],0))*2.2777777,0),0)","v":5629},{"$f":"IFERROR(ROUNDUP(INDEX(BasePrices[],MATCH(COUNTA($B126:$E126),BasePrices[SnrCnt],0),MATCH(F$113,BasePrices[#Headers],0))*0.2777777,0),0)+\nIFERROR(ROUNDUP(INDEX(SensorPricing[],MATCH($B126,SensorPricing[Sensor],0),MATCH(F$113,SensorPricing[#Headers],0))*0.2777777,0),0)+\nIFERROR(ROUNDUP(INDEX(SensorPricing[],MATCH($C126,SensorPricing[Sensor],0),MATCH(F$113,SensorPricing[#Headers],0))*0.2777777,0),0)+\nIFERROR(ROUNDUP(INDEX(SensorPricing[],MATCH($D126,SensorPricing[Sensor],0),MATCH(F$113,SensorPricing[#Headers],0))*0.2777777,0),0)+\nIFERROR(ROUNDUP(INDEX(SensorPricing[],MATCH($E126,SensorPricing[Sensor],0),MATCH(F$113,SensorPricing[#Headers],0))*0.2777777,0),0)","v":243},{"$f":"IFERROR(ROUNDUP(INDEX(BasePrices[],MATCH(COUNTA($B126:$E126),BasePrices[SnrCnt],0),MATCH(G$113,BasePrices[#Headers],0))*0.2777777,0),0)+\nIFERROR(ROUNDUP(INDEX(SensorPricing[],MATCH($B126,SensorPricing[Sensor],0),MATCH(G$113,SensorPricing[#Headers],0))*0.2777777,0),0)+\nIFERROR(ROUNDUP(INDEX(SensorPricing[],MATCH($C126,SensorPricing[Sensor],0),MATCH(G$113,SensorPricing[#Headers],0))*0.2777777,0),0)+\nIFERROR(ROUNDUP(INDEX(SensorPricing[],MATCH($D126,SensorPricing[Sensor],0),MATCH(G$113,SensorPricing[#Headers],0))*0.2777777,0),0)+\nIFERROR(ROUNDUP(INDEX(SensorPricing[],MATCH($E126,SensorPricing[Sensor],0),MATCH(G$113,SensorPricing[#Headers],0))*0.2777777,0),0)","v":281},{"$f":"IFERROR(ROUNDUP(INDEX(BasePrices[],MATCH(COUNTA($B126:$E126),BasePrices[SnrCnt],0),MATCH(H$113,BasePrices[#Headers],0))*0.2777777,0),0)+\nIFERROR(ROUNDUP(INDEX(SensorPricing[],MATCH($B126,SensorPricing[Sensor],0),MATCH(H$113,SensorPricing[#Headers],0))*0.2777777,0),0)+\nIFERROR(ROUNDUP(INDEX(SensorPricing[],MATCH($C126,SensorPricing[Sensor],0),MATCH(H$113,SensorPricing[#Headers],0))*0.2777777,0),0)+\nIFERROR(ROUNDUP(INDEX(SensorPricing[],MATCH($D126,SensorPricing[Sensor],0),MATCH(H$113,SensorPricing[#Headers],0))*0.2777777,0),0)+\nIFERROR(ROUNDUP(INDEX(SensorPricing[],MATCH($E126,SensorPricing[Sensor],0),MATCH(H$113,SensorPricing[#Headers],0))*0.2777777,0),0)","v":144},{"$f":"IFERROR(ROUNDUP(INDEX(BasePrices[],MATCH(COUNTA($B126:$E126),BasePrices[SnrCnt],0),MATCH(I$113,BasePrices[#Headers],0))*0.2777777,0),0)+\nIFERROR(ROUNDUP(INDEX(SensorPricing[],MATCH($B126,SensorPricing[Sensor],0),MATCH(I$113,SensorPricing[#Headers],0))*0.2777777,0),0)+\nIFERROR(ROUNDUP(INDEX(SensorPricing[],MATCH($C126,SensorPricing[Sensor],0),MATCH(I$113,SensorPricing[#Headers],0))*0.2777777,0),0)+\nIFERROR(ROUNDUP(INDEX(SensorPricing[],MATCH($D126,SensorPricing[Sensor],0),MATCH(I$113,SensorPricing[#Headers],0))*0.2777777,0),0)+\nIFERROR(ROUNDUP(INDEX(SensorPricing[],MATCH($E126,SensorPricing[Sensor],0),MATCH(I$113,SensorPricing[#Headers],0))*0.2777777,0),0)","v":183},{"$f":"IFERROR(ROUNDUP(INDEX(BasePrices[],MATCH(COUNTA($B126:$E126),BasePrices[SnrCnt],0),MATCH(J$113,BasePrices[#Headers],0))*0.2777777,0),0)+\nIFERROR(ROUNDUP(INDEX(SensorPricing[],MATCH($B126,SensorPricing[Sensor],0),MATCH(J$113,SensorPricing[#Headers],0))*0.2777777,0),0)+\nIFERROR(ROUNDUP(INDEX(SensorPricing[],MATCH($C126,SensorPricing[Sensor],0),MATCH(J$113,SensorPricing[#Headers],0))*0.2777777,0),0)+\nIFERROR(ROUNDUP(INDEX(SensorPricing[],MATCH($D126,SensorPricing[Sensor],0),MATCH(J$113,SensorPricing[#Headers],0))*0.2777777,0),0)+\nIFERROR(ROUNDUP(INDEX(SensorPricing[],MATCH($E126,SensorPricing[Sensor],0),MATCH(J$113,SensorPricing[#Headers],0))*0.2777777,0),0)","v":325}]
["12","2","A","L","V",{"$f":"INDEX(BasePrices[],MATCH(\"EXO Pump\",BasePrices[Type],0),MATCH(F$113,BasePrices[#Headers],0))+\nIFERROR(ROUNDUP(INDEX(BasePrices[],MATCH(COUNTA($B127:$E127),BasePrices[SnrCnt],0),MATCH(F$113,BasePrices[#Headers],0))*2.2777777,0),0)+\nIFERROR(ROUNDUP(INDEX(SensorPricing[],MATCH($B127,SensorPricing[Sensor],0),MATCH(F$113,SensorPricing[#Headers],0))*2.2777777,0),0)+\nIFERROR(ROUNDUP(INDEX(SensorPricing[],MATCH($C127,SensorPricing[Sensor],0),MATCH(F$113,SensorPricing[#Headers],0))*2.2777777,0),0)+\nIFERROR(ROUNDUP(INDEX(SensorPricing[],MATCH($D127,SensorPricing[Sensor],0),MATCH(F$113,SensorPricing[#Headers],0))*2.2777777,0),0)+\nIFERROR(ROUNDUP(INDEX(SensorPricing[],MATCH($E127,SensorPricing[Sensor],0),MATCH(F$113,SensorPricing[#Headers],0))*2.2777777,0),0)","v":5031},{"$f":"INDEX(BasePrices[],MATCH(\"EXO Pump\",BasePrices[Type],0),MATCH(G$113,BasePrices[#Headers],0))+\nIFERROR(ROUNDUP(INDEX(BasePrices[],MATCH(COUNTA($B127:$E127),BasePrices[SnrCnt],0),MATCH(G$113,BasePrices[#Headers],0))*2.2777777,0),0)+\nIFERROR(ROUNDUP(INDEX(SensorPricing[],MATCH($B127,SensorPricing[Sensor],0),MATCH(G$113,SensorPricing[#Headers],0))*2.2777777,0),0)+\nIFERROR(ROUNDUP(INDEX(SensorPricing[],MATCH($C127,SensorPricing[Sensor],0),MATCH(G$113,SensorPricing[#Headers],0))*2.2777777,0),0)+\nIFERROR(ROUNDUP(INDEX(SensorPricing[],MATCH($D127,SensorPricing[Sensor],0),MATCH(G$113,SensorPricing[#Headers],0))*2.2777777,0),0)+\nIFERROR(ROUNDUP(INDEX(SensorPricing[],MATCH($E127,SensorPricing[Sensor],0),MATCH(G$113,SensorPricing[#Headers],0))*2.2777777,0),0)","v":5953},{"$f":"INDEX(BasePrices[],MATCH(\"EXO Pump\",BasePrices[Type],0),MATCH(H$113,BasePrices[#Headers],0))+\nIFERROR(ROUNDUP(INDEX(BasePrices[],MATCH(COUNTA($B127:$E127),BasePrices[SnrCnt],0),MATCH(H$113,BasePrices[#Headers],0))*2.2777777,0),0)+\nIFERROR(ROUNDUP(INDEX(SensorPricing[],MATCH($B127,SensorPricing[Sensor],0),MATCH(H$113,SensorPricing[#Headers],0))*2.2777777,0),0)+\nIFERROR(ROUNDUP(INDEX(SensorPricing[],MATCH($C127,SensorPricing[Sensor],0),MATCH(H$113,SensorPricing[#Headers],0))*2.2777777,0),0)+\nIFERROR(ROUNDUP(INDEX(SensorPricing[],MATCH($D127,SensorPricing[Sensor],0),MATCH(H$113,SensorPricing[#Headers],0))*2.2777777,0),0)+\nIFERROR(ROUNDUP(INDEX(SensorPricing[],MATCH($E127,SensorPricing[Sensor],0),MATCH(H$113,SensorPricing[#Headers],0))*2.2777777,0),0)","v":3342},{"$f":"INDEX(BasePrices[],MATCH(\"EXO Pump\",BasePrices[Type],0),MATCH(I$113,BasePrices[#Headers],0))+\nIFERROR(ROUNDUP(INDEX(BasePrices[],MATCH(COUNTA($B127:$E127),BasePrices[SnrCnt],0),MATCH(I$113,BasePrices[#Headers],0))*2.2777777,0),0)+\nIFERROR(ROUNDUP(INDEX(SensorPricing[],MATCH($B127,SensorPricing[Sensor],0),MATCH(I$113,SensorPricing[#Headers],0))*2.2777777,0),0)+\nIFERROR(ROUNDUP(INDEX(SensorPricing[],MATCH($C127,SensorPricing[Sensor],0),MATCH(I$113,SensorPricing[#Headers],0))*2.2777777,0),0)+\nIFERROR(ROUNDUP(INDEX(SensorPricing[],MATCH($D127,SensorPricing[Sensor],0),MATCH(I$113,SensorPricing[#Headers],0))*2.2777777,0),0)+\nIFERROR(ROUNDUP(INDEX(SensorPricing[],MATCH($E127,SensorPricing[Sensor],0),MATCH(I$113,SensorPricing[#Headers],0))*2.2777777,0),0)","v":3958},{"$f":"INDEX(BasePrices[],MATCH(\"EXO Pump\",BasePrices[Type],0),MATCH(J$113,BasePrices[#Headers],0))+\nIFERROR(ROUNDUP(INDEX(BasePrices[],MATCH(COUNTA($B127:$E127),BasePrices[SnrCnt],0),MATCH(J$113,BasePrices[#Headers],0))*2.2777777,0),0)+\nIFERROR(ROUNDUP(INDEX(SensorPricing[],MATCH($B127,SensorPricing[Sensor],0),MATCH(J$113,SensorPricing[#Headers],0))*2.2777777,0),0)+\nIFERROR(ROUNDUP(INDEX(SensorPricing[],MATCH($C127,SensorPricing[Sensor],0),MATCH(J$113,SensorPricing[#Headers],0))*2.2777777,0),0)+\nIFERROR(ROUNDUP(INDEX(SensorPricing[],MATCH($D127,SensorPricing[Sensor],0),MATCH(J$113,SensorPricing[#Headers],0))*2.2777777,0),0)+\nIFERROR(ROUNDUP(INDEX(SensorPricing[],MATCH($E127,SensorPricing[Sensor],0),MATCH(J$113,SensorPricing[#Headers],0))*2.2777777,0),0)","v":6711},{"$f":"IFERROR(ROUNDUP(INDEX(BasePrices[],MATCH(COUNTA($B127:$E127),BasePrices[SnrCnt],0),MATCH(F$113,BasePrices[#Headers],0))*0.2777777,0),0)+\nIFERROR(ROUNDUP(INDEX(SensorPricing[],MATCH($B127,SensorPricing[Sensor],0),MATCH(F$113,SensorPricing[#Headers],0))*0.2777777,0),0)+\nIFERROR(ROUNDUP(INDEX(SensorPricing[],MATCH($C127,SensorPricing[Sensor],0),MATCH(F$113,SensorPricing[#Headers],0))*0.2777777,0),0)+\nIFERROR(ROUNDUP(INDEX(SensorPricing[],MATCH($D127,SensorPricing[Sensor],0),MATCH(F$113,SensorPricing[#Headers],0))*0.2777777,0),0)+\nIFERROR(ROUNDUP(INDEX(SensorPricing[],MATCH($E127,SensorPricing[Sensor],0),MATCH(F$113,SensorPricing[#Headers],0))*0.2777777,0),0)","v":342},{"$f":"IFERROR(ROUNDUP(INDEX(BasePrices[],MATCH(COUNTA($B127:$E127),BasePrices[SnrCnt],0),MATCH(G$113,BasePrices[#Headers],0))*0.2777777,0),0)+\nIFERROR(ROUNDUP(INDEX(SensorPricing[],MATCH($B127,SensorPricing[Sensor],0),MATCH(G$113,SensorPricing[#Headers],0))*0.2777777,0),0)+\nIFERROR(ROUNDUP(INDEX(SensorPricing[],MATCH($C127,SensorPricing[Sensor],0),MATCH(G$113,SensorPricing[#Headers],0))*0.2777777,0),0)+\nIFERROR(ROUNDUP(INDEX(SensorPricing[],MATCH($D127,SensorPricing[Sensor],0),MATCH(G$113,SensorPricing[#Headers],0))*0.2777777,0),0)+\nIFERROR(ROUNDUP(INDEX(SensorPricing[],MATCH($E127,SensorPricing[Sensor],0),MATCH(G$113,SensorPricing[#Headers],0))*0.2777777,0),0)","v":399},{"$f":"IFERROR(ROUNDUP(INDEX(BasePrices[],MATCH(COUNTA($B127:$E127),BasePrices[SnrCnt],0),MATCH(H$113,BasePrices[#Headers],0))*0.2777777,0),0)+\nIFERROR(ROUNDUP(INDEX(SensorPricing[],MATCH($B127,SensorPricing[Sensor],0),MATCH(H$113,SensorPricing[#Headers],0))*0.2777777,0),0)+\nIFERROR(ROUNDUP(INDEX(SensorPricing[],MATCH($C127,SensorPricing[Sensor],0),MATCH(H$113,SensorPricing[#Headers],0))*0.2777777,0),0)+\nIFERROR(ROUNDUP(INDEX(SensorPricing[],MATCH($D127,SensorPricing[Sensor],0),MATCH(H$113,SensorPricing[#Headers],0))*0.2777777,0),0)+\nIFERROR(ROUNDUP(INDEX(SensorPricing[],MATCH($E127,SensorPricing[Sensor],0),MATCH(H$113,SensorPricing[#Headers],0))*0.2777777,0),0)","v":203},{"$f":"IFERROR(ROUNDUP(INDEX(BasePrices[],MATCH(COUNTA($B127:$E127),BasePrices[SnrCnt],0),MATCH(I$113,BasePrices[#Headers],0))*0.2777777,0),0)+\nIFERROR(ROUNDUP(INDEX(SensorPricing[],MATCH($B127,SensorPricing[Sensor],0),MATCH(I$113,SensorPricing[#Headers],0))*0.2777777,0),0)+\nIFERROR(ROUNDUP(INDEX(SensorPricing[],MATCH($C127,SensorPricing[Sensor],0),MATCH(I$113,SensorPricing[#Headers],0))*0.2777777,0),0)+\nIFERROR(ROUNDUP(INDEX(SensorPricing[],MATCH($D127,SensorPricing[Sensor],0),MATCH(I$113,SensorPricing[#Headers],0))*0.2777777,0),0)+\nIFERROR(ROUNDUP(INDEX(SensorPricing[],MATCH($E127,SensorPricing[Sensor],0),MATCH(I$113,SensorPricing[#Headers],0))*0.2777777,0),0)","v":252},{"$f":"IFERROR(ROUNDUP(INDEX(BasePrices[],MATCH(COUNTA($B127:$E127),BasePrices[SnrCnt],0),MATCH(J$113,BasePrices[#Headers],0))*0.2777777,0),0)+\nIFERROR(ROUNDUP(INDEX(SensorPricing[],MATCH($B127,SensorPricing[Sensor],0),MATCH(J$113,SensorPricing[#Headers],0))*0.2777777,0),0)+\nIFERROR(ROUNDUP(INDEX(SensorPricing[],MATCH($C127,SensorPricing[Sensor],0),MATCH(J$113,SensorPricing[#Headers],0))*0.2777777,0),0)+\nIFERROR(ROUNDUP(INDEX(SensorPricing[],MATCH($D127,SensorPricing[Sensor],0),MATCH(J$113,SensorPricing[#Headers],0))*0.2777777,0),0)+\nIFERROR(ROUNDUP(INDEX(SensorPricing[],MATCH($E127,SensorPricing[Sensor],0),MATCH(J$113,SensorPricing[#Headers],0))*0.2777777,0),0)","v":457}]

{"sheet":"Lookup","index":37,"n_rows":3094,"n_cols":26,"rows_kept":3094,"hidden":true}
["G7 Sensors",{"$nulls":4},"G7 Country Codes",{"$nulls":4},"Professional Services"]
["Gas","SensorCode","Type1","Currency",null,"Description","SKUCode","Type","Currency",null,"SKU","Description","Type","Currency","Value",null,"ModuleName","Available","Num","Sensor #1","Sensor #2","Sensor #3","Sensor #4","Name",null,"Currency"]
["HF","2","Q1","USD",null,"North America (3G/4G) - G7C","NA2","C","USD",null,"SER-PRO-ONB","Account Setup, onboarding and Go-Live for 1-50 devices.","ONB","USD",{"v":300,"d":"$300"},null,"None","Yes","00",{"$nulls":4},{"$f":"GasExpansionModules[[#This Row],[Num]]&\" - \"&GasExpansionModules[[#This Row],[ModuleName]]","v":"00 - None"},null,"AUD"]
["HF","2","Q1","CAD",null,"North America (3G/4G) - G7C","NA2","C","CAD",null,"SER-PRO-ONB-ADL","Additional devices over 50 included in SER-PRO-ONB. Price per device.","ONB","USD",{"v":4,"d":"$4"},null,"Refinery / Chem #1","Yes","01","S","V",null,null,{"$f":"GasExpansionModules[[#This Row],[Num]]&\" - \"&GasExpansionModules[[#This Row],[ModuleName]]&\" (\"&INDEX(G7Sensors[],MATCH(GasExpansionModules[[#This Row],[Sensor '#1]],G7Sensors[SensorCode],0),MATCH(\"Gas\",G7Sensors[#Headers],0))&\", \"&\nIFERROR(INDEX(G7Sensors[],MATCH(GasExpansionModules[[#This Row],[Sensor '#2]],G7Sensors[SensorCode],0),MATCH(\"Gas\",G7Sensors[#Headers],0))&IF(COUNTA(GasExpansionModules[[#This Row],[Sensor '#1]:[Sensor '#4]])>2,\", \",\"\"),\"\")&\nIFERROR(INDEX(G7Sensors[],MATCH(GasExpansionModules[[#This Row],[Sensor '#3]],G7Sensors[SensorCode],0),MATCH(\"Gas\",G7Sensors[#Headers],0))&IF(COUNTA(GasExpansionModules[[#This Row],[Sensor '#1]:[Sensor '#4]])>3,\", \",\"\"),\"\")&\nIFERROR(INDEX(G7Sensors[],MATCH(GasExpansionModules[[#This Row],[Sensor '#4]],G7Sensors[SensorCode],0),MATCH(\"Gas\",G7Sensors[#Headers],0))&IF(COUNTA(GasExpansionModules[[#This Row],[Sensor '#1]:[Sensor '#4]])>4,\", \",\"\"),\"\")&\")\"","v":"01 - Refinery / Chem #1 (SO2, PID)"},null,"CAD"]
["HF","2","Q1","AUD",null,"Outside of North America (3G/4G) - G7C","EU2","C","USD",null,"SER-PRO-ONB","Account Setup, onboarding and Go-Live for 1-50 devices.","ONB","CAD",{"v":390,"d":"$390"},null,"Refinery / Chem #2","Yes2","02","2","A","S","V",{"$f":"GasExpansionModules[[#This Row],[Num]]&\" - \"&GasExpansionModules[[#This Row],[ModuleName]]&\" (\"&INDEX(G7Sensors[],MATCH(GasExpansionModules[[#This Row],[Sensor '#1]],G7Sensors[SensorCode],0),MATCH(\"Gas\",G7Sensors[#Headers],0))&\", \"&\nIFERROR(INDEX(G7Sensors[],MATCH(GasExpansionModules[[#This Row],[Sensor '#2]],G7Sensors[SensorCode],0),MATCH(\"Gas\",G7Sensors[#Headers],0))&IF(COUNTA(GasExpansionModules[[#This Row],[Sensor '#1]:[Sensor '#4]])>2,\", \",\"\"),\"\")&\nIFERROR(INDEX(G7Sensors[],MATCH(GasExpansionModules[[#This Row],[Sensor '#3]],G7Sensors[SensorCode],0),MATCH(\"Gas\",G7Sensors[#Headers],0))&IF(COUNTA(GasExpansionModules[[#This Row],[Sensor '#1]:[Sensor '#4]])>3,\", \",\"\"),\"\")&\nIFERROR(INDEX(G7Sensors[],MATCH(GasExpansionModules[[#This Row],[Sensor '#4]],G7Sensors[SensorCode],0),MATCH(\"Gas\",G7Sensors[#Headers],0))&IF(COUNTA(GasExpansionModules[[#This Row],[Sensor '#1]:[Sensor '#4]])>4,\", \",\"\"),\"\")&\")\"","v":"02 - Refinery / Chem #2 (HF, NH3, SO2, PID)"},null,"EUR"]
["HF","2","Q1","EUR",null,"North America (900 MHz) - G7X","NA","X","USD",null,"SER-PRO-ONB-ADL","Additional devices over 50 included in SER-PRO-ONB. Price per device.","ONB","CAD",{"v":5,"d":"$5"},null,"Refinery / Chem #3","Yes2","03","6","A","S","V",{"$f":"GasExpansionModules[[#This Row],[Num]]&\" - \"&GasExpansionModules[[#This Row],[ModuleName]]&\" (\"&INDEX(G7Sensors[],MATCH(GasExpansionModules[[#This Row],[Sensor '#1]],G7Sensors[SensorCode],0),MATCH(\"Gas\",G7Sensors[#Headers],0))&\", \"&\nIFERROR(INDEX(G7Sensors[],MATCH(GasExpansionModules[[#This Row],[Sensor '#2]],G7Sensors[SensorCode],0),MATCH(\"Gas\",G7Sensors[#Headers],0))&IF(COUNTA(GasExpansionModules[[#This Row],[Sensor '#1]:[Sensor '#4]])>2,\", \",\"\"),\"\")&\nIFERROR(INDEX(G7Sensors[],MATCH(GasExpansionModules[[#This Row],[Sensor '#3]],G7Sensors[SensorCode],0),MATCH(\"Gas\",G7Sensors[#Headers],0))&IF(COUNTA(GasExpansionModules[[#This Row],[Sensor '#1]:[Sensor '#4]])>3,\", \",\"\"),\"\")&\nIFERROR(INDEX(G7Sensors[],MATCH(GasExpansionModules[[#This Row],[Sensor '#4]],G7Sensors[SensorCode],0),MATCH(\"Gas\",G7Sensors[#Headers],0))&IF(COUNTA(GasExpansionModules[[#This Row],[Sensor '#1]:[Sensor '#4]])>4,\", \",\"\"),\"\")&\")\"","v":"03 - Refinery / Chem #3 (Low-Range H2, NH3, SO2, PID)"},null,"GBP"]
["HF","2","Q1","GBP",null,"North America (900 MHz) - G7X","NA","X","CAD",null,"SER-PRO","Activation and professional onboarding","ONB","GBP","£ 75/10 devices",null,"Refinery / Chem #4","Yes","04","A","H","S",null,{"$f":"GasExpansionModules[[#This Row],[Num]]&\" - \"&GasExpansionModules[[#This Row],[ModuleName]]&\" (\"&INDEX(G7Sensors[],MATCH(GasExpansionModules[[#This Row],[Sensor '#1]],G7Sensors[SensorCode],0),MATCH(\"Gas\",G7Sensors[#Headers],0))&\", \"&\nIFERROR(INDEX(G7Sensors[],MATCH(GasExpansionModules[[#This Row],[Sensor '#2]],G7Sensors[SensorCode],0),MATCH(\"Gas\",G7Sensors[#Headers],0))&IF(COUNTA(GasExpansionModules[[#This Row],[Sensor '#1]:[Sensor '#4]])>2,\", \",\"\"),\"\")&\nIFERROR(INDEX(G7Sensors[],MATCH(GasExpansionModules[[#This Row],[Sensor '#3]],G7Sensors[SensorCode],0),MATCH(\"Gas\",G7Sensors[#Headers],0))&IF(COUNTA(GasExpansionModules[[#This Row],[Sensor '#1]:[Sensor '#4]])>3,\", \",\"\"),\"\")&\nIFERROR(INDEX(G7Sensors[],MATCH(GasExpansionModules[[#This Row],[Sensor '#4]],G7Sensors[SensorCode],0),MATCH(\"Gas\",G7Sensors[#Headers],0))&IF(COUNTA(GasExpansionModules[[#This Row],[Sensor '#1]:[Sensor '#4]])>4,\", \",\"\"),\"\")&\")\"","v":"04 - Refinery / Chem #4 (NH3, H2S, SO2)"},null,"USD"]
["HF","2","S","USD",null,"Europe/UK (3G/4G) - G7C","EU2","C","EUR",null,"SER-PRO","Activation and professional onboarding","ONB","EUR","€ 101/10 devices",null,"Refinery / Chem #5","Yes2","11","6","A","L","V",{"$f":"GasExpansionModules[[#This Row],[Num]]&\" - \"&GasExpansionModules[[#This Row],[ModuleName]]&\" (\"&INDEX(G7Sensors[],MATCH(GasExpansionModules[[#This Row],[Sensor '#1]],G7Sensors[SensorCode],0),MATCH(\"Gas\",G7Sensors[#Headers],0))&\", \"&\nIFERROR(INDEX(G7Sensors[],MATCH(GasExpansionModules[[#This Row],[Sensor '#2]],G7Sensors[SensorCode],0),MATCH(\"Gas\",G7Sensors[#Headers],0))&IF(COUNTA(GasExpansionModules[[#This Row],[Sensor '#1]:[Sensor '#4]])>2,\", \",\"\"),\"\")&\nIFERROR(INDEX(G7Sensors[],MATCH(GasExpansionModules[[#This Row],[Sensor '#3]],G7Sensors[SensorCode],0),MATCH(\"Gas\",G7Sensors[#Headers],0))&IF(COUNTA(GasExpansionModules[[#This Row],[Sensor '#1]:[Sensor '#4]])>3,\", \",\"\"),\"\")&\nIFERROR(INDEX(G7Sensors[],MATCH(GasExpansionModules[[#This Row],[Sensor '#4]],G7Sensors[SensorCode],0),MATCH(\"Gas\",G7Sensors[#Headers],0))&IF(COUNTA(GasExpansionModules[[#This Row],[Sensor '#1]:[Sensor '#4]])>4,\", \",\"\"),\"\")&\")\"","v":"11 - Refinery / Chem #5 (Low-Range H2, NH3, Cl2, PID)"}]
["HF","2","S","CAD",null,"Europe/UK (3G/4G) - G7C","EU2","C","GBP",null,"SER-PRO","Activation and professional onboarding","ONB","AUD","$ 120/10 devices",null,"Chem #1","Yes2","05","6","L","N","V",{"$f":"GasExpansionModules[[#This Row],[Num]]&\" - \"&GasExpansionModules[[#This Row],[ModuleName]]&\" (\"&INDEX(G7Sensors[],MATCH(GasExpansionModules[[#This Row],[Sensor '#1]],G7Sensors[SensorCode],0),MATCH(\"Gas\",G7Sensors[#Headers],0))&\", \"&\nIFERROR(INDEX(G7Sensors[],MATCH(GasExpansionModules[[#This Row],[Sensor '#2]],G7Sensors[SensorCode],0),MATCH(\"Gas\",G7Sensors[#Headers],0))&IF(COUNTA(GasExpansionModules[[#This Row],[Sensor '#1]:[Sensor '#4]])>2,\", \",\"\"),\"\")&\nIFERROR(INDEX(G7Sensors[],MATCH(GasExpansionModules[[#This Row],[Sensor '#3]],G7Sensors[SensorCode],0),MATCH(\"Gas\",G7Sensors[#Headers],0))&IF(COUNTA(GasExpansionModules[[#This Row],[Sensor '#1]:[Sensor '#4]])>3,\", \",\"\"),\"\")&\nIFERROR(INDEX(G7Sensors[],MATCH(GasExpansionModules[[#This Row],[Sensor '#4]],G7Sensors[SensorCode],0),MATCH(\"Gas\",G7Sensors[#Headers],0))&IF(COUNTA(GasExpansionModules[[#This Row],[Sensor '#1]:[Sensor '#4]])>4,\", \",\"\"),\"\")&\")\"","v":"05 - Chem #1 (Low-Range H2, Cl2, HCN, PID)"}]
["HF","2","S","AUD",null,"Australia / New Zealand (3G-4G) - G7C","AZ2","C","AUD",{"$nulls":7},"Hazmat #1","Yes","06","A","L","N","V",{"$f":"GasExpansionModules[[#This Row],[Num]]&\" - \"&GasExpansionModules[[#This Row],[ModuleName]]&\" (\"&INDEX(G7Sensors[],MATCH(GasExpansionModules[[#This Row],[Sensor '#1]],G7Sensors[SensorCode],0),MATCH(\"Gas\",G7Sensors[#Headers],0))&\", \"&\nIFERROR(INDEX(G7Sensors[],MATCH(GasExpansionModules[[#This Row],[Sensor '#2]],G7Sensors[SensorCode],0),MATCH(\"Gas\",G7Sensors[#Headers],0))&IF(COUNTA(GasExpansionModules[[#This Row],[Sensor '#1]:[Sensor '#4]])>2,\", \",\"\"),\"\")&\nIFERROR(INDEX(G7Sensors[],MATCH(GasExpansionModules[[#This Row],[Sensor '#3]],G7Sensors[SensorCode],0),MATCH(\"Gas\",G7Sensors[#Headers],0))&IF(COUNTA(GasExpansionModules[[#This Row],[Sensor '#1]:[Sensor '#4]])>3,\", \",\"\"),\"\")&\nIFERROR(INDEX(G7Sensors[],MATCH(GasExpansionModules[[#This Row],[Sensor '#4]],G7Sensors[SensorCode],0),MATCH(\"Gas\",G7Sensors[#Headers],0))&IF(COUNTA(GasExpansionModules[[#This Row],[Sensor '#1]:[Sensor '#4]])>4,\", \",\"\"),\"\")&\")\"","v":"06 - Hazmat #1 (NH3, Cl2, HCN, PID)"}]
["HF","2","S","EUR",null,"Australia / New Zealand (900 MHz) - G7X","AZ","X","AUD",{"$nulls":7},"Hazmat #2","Yes2","07","2","6","N",null,{"$f":"GasExpansionModules[[#This Row],[Num]]&\" - \"&GasExpansionModules[[#This Row],[ModuleName]]&\" (\"&INDEX(G7Sensors[],MATCH(GasExpansionModules[[#This Row],[Sensor '#1]],G7Sensors[SensorCode],0),MATCH(\"Gas\",G7Sensors[#Headers],0))&\", \"&\nIFERROR(INDEX(G7Sensors[],MATCH(GasExpansionModules[[#This Row],[Sensor '#2]],G7Sensors[SensorCode],0),MATCH(\"Gas\",G7Sensors[#Headers],0))&IF(COUNTA(GasExpansionModules[[#This Row],[Sensor '#1]:[Sensor '#4]])>2,\", \",\"\"),\"\")&\nIFERROR(INDEX(G7Sensors[],MATCH(GasExpansionModules[[#This Row],[Sensor '#3]],G7Sensors[SensorCode],0),MATCH(\"Gas\",G7Sensors[#Headers],0))&IF(COUNTA(GasExpansionModules[[#This Row],[Sensor '#1]:[Sensor '#4]])>3,\", \",\"\"),\"\")&\nIFERROR(INDEX(G7Sensors[],MATCH(GasExpansionModules[[#This Row],[Sensor '#4]],G7Sensors[SensorCode],0),MATCH(\"Gas\",G7Sensors[#Headers],0))&IF(COUNTA(GasExpansionModules[[#This Row],[Sensor '#1]:[Sensor '#4]])>4,\", \",\"\"),\"\")&\")\"","v":"07 - Hazmat #2 (HF, Low-Range H2, HCN)"}]
["HF","2","S","GBP",null,"Brazil (3G/4G) - G7C","BR2","C","USD",{"$nulls":7},"Hazmat #3","Yes2","12","2","A","L","V",{"$f":"GasExpansionModules[[#This Row],[Num]]&\" - \"&GasExpansionModules[[#This Row],[ModuleName]]&\" (\"&INDEX(G7Sensors[],MATCH(GasExpansionModules[[#This Row],[Sensor '#1]],G7Sensors[SensorCode],0),MATCH(\"Gas\",G7Sensors[#Headers],0))&\", \"&\nIFERROR(INDEX(G7Sensors[],MATCH(GasExpansionModules[[#This Row],[Sensor '#2]],G7Sensors[SensorCode],0),MATCH(\"Gas\",G7Sensors[#Headers],0))&IF(COUNTA(GasExpansionModules[[#This Row],[Sensor '#1]:[Sensor '#4]])>2,\", \",\"\"),\"\")&\nIFERROR(INDEX(G7Sensors[],MATCH(GasExpansionModules[[#This Row],[Sensor '#3]],G7Sensors[SensorCode],0),MATCH(\"Gas\",G7Sensors[#Headers],0))&IF(COUNTA(GasExpansionModules[[#This Row],[Sensor '#1]:[Sensor '#4]])>3,\", \",\"\"),\"\")&\nIFERROR(INDEX(G7Sensors[],MATCH(GasExpansionModules[[#This Row],[Sensor '#4]],G7Sensors[SensorCode],0),MATCH(\"Gas\",G7Sensors[#Headers],0))&IF(COUNTA(GasExpansionModules[[#This Row],[Sensor '#1]:[Sensor '#4]])>4,\", \",\"\"),\"\")&\")\"","v":"12 - Hazmat #3 (HF, NH3, Cl2, PID)"}]
["HF","2","Q2","USD",null,"Service Plans",{"$nulls":4},"Bridge",{"$nulls":5},"Clean Water #1","Yes2","08","E","H","L","S",{"$f":"GasExpansionModules[[#This Row],[Num]]&\" - \"&GasExpansionModules[[#This Row],[ModuleName]]&\" (\"&INDEX(G7Sensors[],MATCH(GasExpansionModules[[#This Row],[Sensor '#1]],G7Sensors[SensorCode],0),MATCH(\"Gas\",G7Sensors[#Headers],0))&\", \"&\nIFERROR(INDEX(G7Sensors[],MATCH(GasExpansionModules[[#This Row],[Sensor '#2]],G7Sensors[SensorCode],0),MATCH(\"Gas\",G7Sensors[#Headers],0))&IF(COUNTA(GasExpansionModules[[#This Row],[Sensor '#1]:[Sensor '#4]])>2,\", \",\"\"),\"\")&\nIFERROR(INDEX(G7Sensors[],MATCH(GasExpansionModules[[#This Row],[Sensor '#3]],G7Sensors[SensorCode],0),MATCH(\"Gas\",G7Sensors[#Headers],0))&IF(COUNTA(GasExpansionModules[[#This Row],[Sensor '#1]:[Sensor '#4]])>3,\", \",\"\"),\"\")&\nIFERROR(INDEX(G7Sensors[],MATCH(GasExpansionModules[[#This Row],[Sensor '#4]],G7Sensors[SensorCode],0),MATCH(\"Gas\",G7Sensors[#Headers],0))&IF(COUNTA(GasExpansionModules[[#This Row],[Sensor '#1]:[Sensor '#4]])>4,\", \",\"\"),\"\")&\")\"","v":"08 - Clean Water #1 (O3, H2S, Cl2, SO2)"}]
["HF","2","Q2","CAD",null,"Description","SKUCode","Type","Currency",null,"Description","SKUCode","Type","Currency",null,null,"Wastewater #1","Yes","09","A","H","L","V",{"$f":"GasExpansionModules[[#This Row],[Num]]&\" - \"&GasExpansionModules[[#This Row],[ModuleName]]&\" (\"&INDEX(G7Sensors[],MATCH(GasExpansionModules[[#This Row],[Sensor '#1]],G7Sensors[SensorCode],0),MATCH(\"Gas\",G7Sensors[#Headers],0))&\", \"&\nIFERROR(INDEX(G7Sensors[],MATCH(GasExpansionModules[[#This Row],[Sensor '#2]],G7Sensors[SensorCode],0),MATCH(\"Gas\",G7Sensors[#Headers],0))&IF(COUNTA(GasExpansionModules[[#This Row],[Sensor '#1]:[Sensor '#4]])>2,\", \",\"\"),\"\")&\nIFERROR(INDEX(G7Sensors[],MATCH(GasExpansionModules[[#This Row],[Sensor '#3]],G7Sensors[SensorCode],0),MATCH(\"Gas\",G7Sensors[#Headers],0))&IF(COUNTA(GasExpansionModules[[#This Row],[Sensor '#1]:[Sensor '#4]])>3,\", \",\"\"),\"\")&\nIFERROR(INDEX(G7Sensors[],MATCH(GasExpansionModules[[#This Row],[Sensor '#4]],G7Sensors[SensorCode],0),MATCH(\"Gas\",G7Sensors[#Headers],0))&IF(COUNTA(GasExpansionModules[[#This Row],[Sensor '#1]:[Sensor '#4]])>4,\", \",\"\"),\"\")&\")\"","v":"09 - Wastewater #1 (NH3, H2S, Cl2, PID)"}]
["HF","2","Q2","AUD",null,"System Access","XX","C","USD",null,"North America","NA2",null,"USD",null,null,"Pulp and Paper #1","Yes2","10","L","W",null,null,{"$f":"GasExpansionModules[[#This Row],[Num]]&\" - \"&GasExpansionModules[[#This Row],[ModuleName]]&\" (\"&INDEX(G7Sensors[],MATCH(GasExpansionModules[[#This Row],[Sensor '#1]],G7Sensors[SensorCode],0),MATCH(\"Gas\",G7Sensors[#Headers],0))&\", \"&\nIFERROR(INDEX(G7Sensors[],MATCH(GasExpansionModules[[#This Row],[Sensor '#2]],G7Sensors[SensorCode],0),MATCH(\"Gas\",G7Sensors[#Headers],0))&IF(COUNTA(GasExpansionModules[[#This Row],[Sensor '#1]:[Sensor '#4]])>2,\", \",\"\"),\"\")&\nIFERROR(INDEX(G7Sensors[],MATCH(GasExpansionModules[[#This Row],[Sensor '#3]],G7Sensors[SensorCode],0),MATCH(\"Gas\",G7Sensors[#Headers],0))&IF(COUNTA(GasExpansionModules[[#This Row],[Sensor '#1]:[Sensor '#4]])>3,\", \",\"\"),\"\")&\nIFERROR(INDEX(G7Sensors[],MATCH(GasExpansionModules[[#This Row],[Sensor '#4]],G7Sensors[SensorCode],0),MATCH(\"Gas\",G7Sensors[#Headers],0))&IF(COUNTA(GasExpansionModules[[#This Row],[Sensor '#1]:[Sensor '#4]])>4,\", \",\"\"),\"\")&\")\"","v":"10 - Pulp and Paper #1 (Cl2, ClO2)"}]
["HF","2","Q2","EUR",null,"System Access + PTT","XXP","C","USD",null,"North America","NA2",null,"CAD"]
["HF","2","Q2","GBP",null,"Self-Monitored (no voice)","SX","C","USD",null,"Australia / New Zealand","AZ2",null,"AUD"]
["COSH","5","P2","EUR",null,"Self-Monitored (no voice) + PTT","SXP","C","USD"]
["COSH","5","P2","GBP",null,"Self-Monitored + Voice","SV","C","USD"]
["COSH","5","Q2","EUR",null,"Self-Monitored + Voice + PTT","SVP","C","USD",null,"Training"]
["COSH","5","Q2","GBP",null,"Blackline 24/7 Monitored (no voice)","BX","C","USD",null,"SKU","Description","Type","Currency","Value"]
["NH3","A","P1","USD",null,"Blackline 24/7 Monitored (no voice) + PTT","BXP","C","USD",null,"SER-ONS","Onsite technical support services, daily rate per technician","TRN","USD",1250]
["NH3","A","P1","CAD",null,"Blackline 24/7 Monitored + Voice","BV","C","USD",null,"SER-ONS","Onsite technical support services, daily rate per technician","TRN","CAD",1250]
["NH3","A","P1","AUD",null,"Blackline 24/7 Monitored + Voice + PTT","BVP","C","USD",null,"SER-ONS","Onsite technical support services, daily rate per technician","TRN","EUR",750]
["NH3","A","P1","EUR",null,"System Access","XX","C","CAD",null,"SER-ONS","Onsite technical support services, daily rate per technician","TRN","GBP",750]
["NH3","A","P1","GBP",null,"System Access + PTT","XXP","C","CAD",null,"SER-ONS","Onsite technical support services, daily rate per technician","TRN","AUD",1250]
["NH3","A","Q1","USD",null,"Self-Monitored (no voice)","SX","C","CAD",null,"SER-PER-1","1-Day onsite training","TRN","USD",3500]
["NH3","A","Q1","CAD",null,"Self-Monitored (no voice) + PTT","SXP","C","CAD",null,"SER-PER-2","2-Day onsite training","TRN","USD",4500]
["NH3","A","Q1","AUD",null,"Self-Monitored + Voice","SV","C","CAD",null,"SER-PER-3","3-Day onsite training","TRN","USD",5500]
["NH3","A","Q1","EUR",null,"Self-Monitored + Voice + PTT","SVP","C","CAD",null,"SER-PER-4","4-Day onsite training","TRN","USD",6000]
["NH3","A","Q1","GBP",null,"Blackline 24/7 Monitored (no voice)","BX","C","CAD",null,"SER-PER-5","5-Day onsite training","TRN","USD",6500]
["NH3","A","S","USD",null,"Blackline 24/7 Monitored (no voice) + PTT","BXP","C","CAD",null,"SER-PER-1","1-Day onsite training","TRN","CAD",4200]
["NH3","A","S","CAD",null,"Blackline 24/7 Monitored + Voice","BV","C","CAD",null,"SER-PER-2","2-Day onsite training","TRN","CAD",5400]
["NH3","A","S","AUD",null,"Blackline 24/7 Monitored + Voice + PTT","BVP","C","CAD",null,"SER-PER-3","3-Day onsite training","TRN","CAD",6600]
["NH3","A","S","EUR",null,"System Access","XX","C","AUD",null,"SER-PER-4","4-Day onsite training","TRN","CAD",7200]
["NH3","A","S","GBP",null,"System Access + PTT","XXP","C","AUD",null,"SER-PER-5","5-Day onsite training","TRN","CAD",7800]
["NH3","A","P2","USD",null,"Self-Monitored (no voice)","SX","C","AUD",null,"SER-VIRTUAL","Virtual Training (per session)","TRN","USD",249]
["NH3","A","P2","CAD",null,"Self-Monitored (no voice) + PTT","SXP","C","AUD",null,"SER-VIRTUAL","Virtual Training (per session)","TRN","CAD",299]
["NH3","A","P2","AUD",null,"Self-Monitored + Voice","SV","C","AUD",null,"SER-LMS","Custom eLearning module development","TRN","USD",1000]
["NH3","A","P2","EUR",null,"Self-Monitored + Voice + PTT","SVP","C","AUD",null,"SER-LMS","Custom eLearning module development","TRN","CAD",1340]
["NH3","A","P2","GBP",null,"Blackline 24/7 Monitored (no voice)","BX","C","AUD",null,"SER-LMS","Custom eLearning module development","TRN","GBP",790]
["NH3","A","Q2","USD",null,"Blackline 24/7 Monitored (no voice) + PTT","BXP","C","AUD",null,"SER-LMS","Custom eLearning module development","TRN","EUR",910]
["NH3","A","Q2","CAD",null,"Blackline 24/7 Monitored + Voice","BV","C","AUD",null,"SER-LMS","Custom eLearning module development","TRN","AUD",1540]
["NH3","A","Q2","AUD",null,"Blackline 24/7 Monitored + Voice + PTT","BVP","C","AUD"]
["NH3","A","Q2","EUR",null,"System Access","XX","C","EUR",null,"Additonal Services"]
["NH3","A","Q2","GBP",null,"System Access + PTT","XXP","C","EUR",null,"SKU","Description","Type","Currency","Value"]
["High-range NH3 ","B","P1","USD",null,"Self-Monitored + Voice","SV","C","EUR",null,"FLP-ADD","Adding custom floor/site plans into Blackline Live, price per floor/site plan","ADL","USD",289]
["High-range NH3 ","B","P1","CAD",null,"Self-Monitored + Voice + PTT","SVP","C","EUR",null,"SER-SSO","Single sign-on, one time onboarding fee per customer (no recurring charge)","ADL","USD",3500]
["High-range NH3 ","B","P1","AUD",null,"Blackline 24/7 Monitored + Voice","BV","C","EUR",null,"FLP-ADD","Adding custom floor/site plans into Blackline Live, price per floor/site plan","ADL","CAD",289]
["High-range NH3 ","B","P1","EUR",null,"Blackline 24/7 Monitored + Voice + PTT","BVP","C","EUR",null,"SER-SSO","Single sign-on, one time onboarding fee per customer (no recurring charge)","ADL","CAD",3500]
["High-range NH3 ","B","P1","GBP",null,"System Access","XX","C","GBP",null,"FLP-ADD","Adding custom floor/site plans into Blackline Live, price per floor/site plan","ADL","GBP",149]
["High-range NH3 ","B","Q1","USD",null,"System Access + PTT","XXP","C","GBP",null,"SER-SSO","Single sign-on, one time onboarding fee per customer (no recurring charge)","ADL","GBP",1804]
["High-range NH3 ","B","Q1","CAD",null,"Self-Monitored + Voice","SV","C","GBP",null,"FLP-ADD","Adding custom floor/site plans into Blackline Live, price per floor/site plan","ADL","EUR",209]
["High-range NH3 ","B","Q1","AUD",null,"Self-Monitored + Voice + PTT","SVP","C","GBP",null,"SER-SSO","Single sign-on, one time onboarding fee per customer (no recurring charge)","ADL","EUR",2531]
["High-range NH3 ","B","Q1","EUR",null,"Blackline 24/7 Monitored + Voice","BV","C","GBP",null,"FLP-ADD","Adding custom floor/site plans into Blackline Live, price per floor/site plan","ADL","AUD",319]
["High-range NH3 ","B","Q1","GBP",null,"Blackline 24/7 Monitored + Voice + PTT","BVP","C","GBP",null,"SER-SSO","Single sign-on, one time onboarding fee per customer (no recurring charge)","ADL","AUD",3850]
["High-range NH3 ","B","S","USD",null,"System Access","XX","X","USD"]
["High-range NH3 ","B","S","CAD",null,"System Access + PTT","XXP","X","USD",null,"G8 Service Plans"]
["High-range NH3 ","B","S","AUD",null,"Self-Monitored (no voice)","SX","X","USD",null,"Description","SKUCode"]
["High-range NH3 ","B","S","EUR",null,"Self-Monitored (no voice) + PTT","SXP","X","USD",null,"Standard","S"]
["High-range NH3 ","B","S","GBP",null,"Blackline 24/7 Monitored (no voice)","BX","X","USD",null,"Pro","K"]
["High-range NH3 ","B","P2","USD",null,"Blackline 24/7 Monitored (no voice) + PTT","BXP","X","USD"]
["High-range NH3 ","B","P2","CAD",null,"System Access","XX","X","CAD"]
["High-range NH3 ","B","P2","AUD",null,"System Access + PTT","XXP","X","CAD",null,"G8 Monitoring Services"]
["High-range NH3 ","B","P2","EUR",null,"Self-Monitored (no voice)","SX","X","CAD",null,"Description","SKUCode","Type"]
["High-range NH3 ","B","P2","GBP",null,"Self-Monitored (no voice) + PTT","SXP","X","CAD",null,"None","X","L"]
["High-range NH3 ","B","Q2","USD",null,"Blackline 24/7 Monitored (no voice)","BX","X","CAD",null,"None","X","S"]
["High-range NH3 ","B","Q2","CAD",null,"Blackline 24/7 Monitored (no voice) + PTT","BXP","X","CAD",null,"Customer","X","K"]
["High-range NH3 ","B","Q2","AUD",null,"System Access","XX","X","AUD",null,"Blackline","B","K"]
["High-range NH3 ","B","Q2","EUR",null,"System Access + PTT","XXP","X","AUD",null,"Third-Party API","A","K"]
["High-range NH3 ","B","Q2","GBP",null,"Self-Monitored (no voice)","SX","X","AUD"]
["CO2","C","P1","USD",null,"Self-Monitored (no voice) + PTT","SXP","X","AUD",null,"G8 Voice"]
["CO2","C","P1","CAD",null,"Blackline 24/7 Monitored (no voice)","BX","X","AUD",null,"Description","SKUCode","Type"]
["CO2","C","P1","AUD",null,"Blackline 24/7 Monitored (no voice) + PTT","BXP","X","AUD",null,"None","X","L"]
["CO2","C","P1","EUR",null,"System Access","XX","X","EUR",null,"None","X","S"]
["CO2","C","P1","GBP",null,"System Access + PTT","XXP","X","EUR",null,"None","X","K"]
["CO2","C","Q1","USD",null,"System Access","XX","X","GBP",null,"Included","V","K"]
["CO2","C","Q1","CAD",null,"System Access + PTT","XXP","X","GBP"]
["CO2","C","Q1","AUD",{"$nulls":6},"G8 Push-to-Talk"]
["CO2","C","Q1","EUR",null,"EXO Country Codes",{"$nulls":4},"Description","SKUCode","Type"]
["CO2","C","Q1","GBP",null,"Description","SKUCode","Type","Currency",null,"None","X","L"]
["CO2","C","S","USD",null,"North America (4G/LTE)","NA2","C","USD",null,"Included","P","L"]
["CO2","C","S","CAD",null,"North America (4G/LTE)","NA2","C","CAD",null,"None","X","S"]
["CO2","C","S","AUD",null,"Outside of North America (4G/LTE)","EU2","C","USD",null,"Included","P","S"]
["CO2","C","S","EUR",null,"Europe/UK (4G/LTE)","EU2","C","EUR",null,"None","X","K"]
["CO2","C","S","GBP",null,"Europe/UK (4G/LTE)","EU2","C","GBP",null,"Included","P","K"]
["COSH","D","P2","USD",null,"Australia / New Zealand (4G/LTE)","AZ2","C","AUD"]
["COSH","D","P2","CAD",{"$nulls":6},"G8 Team Calling"]
["COSH","D","P2","AUD",null,"Voice",{"$nulls":4},"Description","SKUCode","Type"]
["COSH","D","Q2","USD",null,"Description","SKUCode","Type","Currency",null,"None","X","L",null,"None","X","L"]
["COSH","D","Q2","CAD",null,"No Voice","X","X",null,null,"None","X","S",null,"Included","T","L"]
["COSH","D","Q2","AUD",null,"No Voice","X","S",null,null,"None","X","K",null,"None","X","S"]
["O3","E","Q1","USD",null,"Voice included","V","S",{"$nulls":6},"Included","T","S"]
["O3","E","Q1","CAD",null,"No Voice","X","B",{"$nulls":6},"None","X","K"]
["O3","E","Q1","AUD",null,"Voice included","V","B",{"$nulls":6},"Included","T","K"]
["O3","E","Q1","EUR"]
["O3","E","Q1","GBP",null,"Oxygen Sensor",{"$nulls":4},"G8 Purchase Warranty"]
["O3","E","S","USD",null,"Description","SKUCode","Type",null,null,"Description","SKUCode","Type"]
["O3","E","S","CAD",null,"O2","O","F",null,null,"2-Years","2Y","2Y"]
["O3","E","S","AUD",null,"O2","O","I",null,null,"3-Years","3Y","3Y"]
["O3","E","S","EUR",null,"None","X","I",null,null,"4-Years","4Y","4Y"]
["O3","E","S","GBP",null,"O2","O","X",null,null,"5-Years","5Y","5Y"]
["O3","E","Q2","USD",null,"None","X","X"]
["O3","E","Q2","CAD",{"$nulls":6},"G8 Country Codes"]
["O3","E","Q2","AUD",{"$nulls":6},"Description","SKUCode","Type","Currency"]
["O3","E","Q2","EUR",{"$nulls":6},"North America (4G/LTE) - G8C","NA2","C","USD"]
["O3","E","Q2","GBP",{"$nulls":6},"North America (4G/LTE) - G8C","NA2","C","CAD"]
["H2","G","P1","EUR",{"$nulls":6},"Outside of North America (4G/LTE) - G8C","EU2","C","USD"]
["H2","G","P1","GBP",{"$nulls":6},"Europe/UK (4G/LTE) - G8C","EU2","C","EUR"]
["H2","G","Q1","EUR",{"$nulls":6},"Europe/UK (4G/LTE) - G8C","EU2","C","GBP"]
["H2","G","Q1","GBP",{"$nulls":6},"Australia / New Zealand (4G/LTE) - G8C","AZ2","C","AUD"]
["H2","G","P2","EUR"]
["H2","G","P2","GBP"]
["H2","G","Q2","EUR"]
["H2","G","Q2","GBP"]
["H2","G","S","EUR"]
["H2","G","S","GBP"]
["H2S","H","P1","USD"]
["H2S","H","P1","CAD"]
["H2S","H","P1","AUD"]
["H2S","H","P1","EUR"]
["H2S","H","P1","GBP"]
["H2S","H","Q1","USD"]
["H2S","H","Q1","CAD"]
["H2S","H","Q1","AUD"]
["H2S","H","Q1","EUR"]
["H2S","H","Q1","GBP"]
["H2S","H","S","USD"]
["H2S","H","S","CAD"]
["H2S","H","S","AUD"]
["H2S","H","S","EUR"]
["H2S","H","S","GBP"]
["H2S","H","P2","USD"]
["H2S","H","P2","CAD"]
["H2S","H","P2","AUD"]
["H2S","H","P2","EUR"]
["H2S","H","P2","GBP"]
["H2S","H","Q2","USD"]
["H2S","H","Q2","CAD"]
["H2S","H","Q2","AUD"]
["H2S","H","Q2","EUR"]
["H2S","H","Q2","GBP"]
["High-range H2S ","J","P1","USD"]
["High-range H2S ","J","P1","CAD"]
["High-range H2S ","J","P1","AUD"]
["High-range H2S ","J","P1","EUR"]
["High-range H2S ","J","P1","GBP"]
["High-range H2S ","J","Q1","USD"]
["High-range H2S ","J","Q1","CAD"]
["High-range H2S ","J","Q1","AUD"]
["High-range H2S ","J","Q1","EUR"]
["High-range H2S ","J","Q1","GBP"]
["High-range H2S ","J","S","USD"]
["High-range H2S ","J","S","CAD"]
["High-range H2S ","J","S","AUD"]
["High-range H2S ","J","S","EUR"]
["High-range H2S ","J","S","GBP"]
["High-range H2S ","J","P2","USD"]
["High-range H2S ","J","P2","CAD"]
["High-range H2S ","J","P2","AUD"]
["High-range H2S ","J","P2","EUR"]
["High-range H2S ","J","P2","GBP"]
["High-range H2S ","J","Q2","USD"]
["High-range H2S ","J","Q2","CAD"]
["High-range H2S ","J","Q2","AUD"]
["High-range H2S ","J","Q2","EUR"]
["High-range H2S ","J","Q2","GBP"]
["NO2 ","K","P1","USD"]
["NO2 ","K","P1","CAD"]
["NO2 ","K","P1","AUD"]
["NO2 ","K","P1","EUR"]
["NO2 ","K","P1","GBP"]
["NO2 ","K","Q1","USD"]
["NO2 ","K","Q1","CAD"]
["NO2 ","K","Q1","AUD"]
["NO2 ","K","Q1","EUR"]
["NO2 ","K","Q1","GBP"]
["NO2 ","K","S","USD"]
["NO2 ","K","S","CAD"]
["NO2 ","K","S","AUD"]
["NO2 ","K","S","EUR"]
["NO2 ","K","S","GBP"]
["NO2 ","K","P2","USD"]
["NO2 ","K","P2","CAD"]
["NO2 ","K","P2","AUD"]
["NO2 ","K","P2","EUR"]
["NO2 ","K","P2","GBP"]
["NO2 ","K","Q2","USD"]
["NO2 ","K","Q2","CAD"]
["NO2 ","K","Q2","AUD"]
["NO2 ","K","Q2","EUR"]
["NO2 ","K","Q2","GBP"]
["Cl2","L","Q1","USD"]
["Cl2","L","Q1","CAD"]
["Cl2","L","Q1","AUD"]
["Cl2","L","Q1","EUR"]
["Cl2","L","Q1","GBP"]
["Cl2","L","S","USD"]
["Cl2","L","S","CAD"]
["Cl2","L","S","AUD"]
["Cl2","L","S","EUR"]
["Cl2","L","S","GBP"]
["Cl2","L","Q2","USD"]
["Cl2","L","Q2","CAD"]
["Cl2","L","Q2","AUD"]
["Cl2","L","Q2","EUR"]
["Cl2","L","Q2","GBP"]
["CO ","M","P1","USD"]
["CO ","M","P1","CAD"]
["CO ","M","P1","AUD"]
["CO ","M","P1","EUR"]
["CO ","M","P1","GBP"]
["CO ","M","Q1","USD"]
["CO ","M","Q1","CAD"]
["CO ","M","Q1","AUD"]
["CO ","M","Q1","EUR"]
["CO ","M","Q1","GBP"]
["CO ","M","S","USD"]
["CO ","M","S","CAD"]
["CO ","M","S","AUD"]
["CO ","M","S","EUR"]
["CO ","M","S","GBP"]
["CO ","M","P2","USD"]
["CO ","M","P2","CAD"]
["CO ","M","P2","AUD"]
["CO ","M","P2","EUR"]
["CO ","M","P2","GBP"]
["CO ","M","Q2","USD"]
["CO ","M","Q2","CAD"]
["CO ","M","Q2","AUD"]
["CO ","M","Q2","EUR"]
["CO ","M","Q2","GBP"]
["HCN","N","P1","USD"]
["HCN","N","P1","CAD"]
["HCN","N","P1","AUD"]
["HCN","N","P1","EUR"]
["HCN","N","P1","GBP"]
["HCN","N","Q1","USD"]
["HCN","N","Q1","CAD"]
["HCN","N","Q1","AUD"]
["HCN","N","Q1","EUR"]
["HCN","N","Q1","GBP"]
["HCN","N","S","USD"]
["HCN","N","S","CAD"]
["HCN","N","S","AUD"]
["HCN","N","S","EUR"]
["HCN","N","S","GBP"]
["HCN","N","P2","USD"]
["HCN","N","P2","CAD"]
["HCN","N","P2","AUD"]
["HCN","N","P2","EUR"]
["HCN","N","P2","GBP"]
["HCN","N","Q2","USD"]
["HCN","N","Q2","CAD"]
["HCN","N","Q2","AUD"]
["HCN","N","Q2","EUR"]
["HCN","N","Q2","GBP"]
["O2","O","S","USD"]
["O2","O","S","CAD"]
["O2","O","S","AUD"]
["O2","O","S","EUR"]
["O2","O","S","GBP"]
["CO-H ","R","P1","USD"]
["CO-H ","R","P1","CAD"]
["CO-H ","R","P1","AUD"]
["CO-H ","R","P1","EUR"]
["CO-H ","R","P1","GBP"]
["CO-H ","R","Q1","USD"]
["CO-H ","R","Q1","CAD"]
["CO-H ","R","Q1","AUD"]
["CO-H ","R","Q1","EUR"]
["CO-H ","R","Q1","GBP"]
["CO-H ","R","S","USD"]
["CO-H ","R","S","CAD"]
["CO-H ","R","S","AUD"]
["CO-H ","R","S","EUR"]
["CO-H ","R","S","GBP"]
["CO-H ","R","P2","USD"]
["CO-H ","R","P2","CAD"]
["CO-H ","R","P2","AUD"]
["CO-H ","R","P2","EUR"]
["CO-H ","R","P2","GBP"]
["CO-H ","R","Q2","USD"]
["CO-H ","R","Q2","CAD"]
["CO-H ","R","Q2","AUD"]
["CO-H ","R","Q2","EUR"]
["CO-H ","R","Q2","GBP"]
["SO2","S","P1","USD"]
["SO2","S","P1","CAD"]
["SO2","S","P1","AUD"]
["SO2","S","P1","EUR"]
["SO2","S","P1","GBP"]
["SO2","S","Q1","USD"]
["SO2","S","Q1","CAD"]
["SO2","S","Q1","AUD"]
["SO2","S","Q1","EUR"]
["SO2","S","Q1","GBP"]
["SO2","S","S","USD"]
["SO2","S","S","CAD"]
["SO2","S","S","AUD"]
["SO2","S","S","EUR"]
["SO2","S","S","GBP"]
["SO2","S","P2","USD"]
["SO2","S","P2","CAD"]
["SO2","S","P2","AUD"]
["SO2","S","P2","EUR"]
["SO2","S","P2","GBP"]
["SO2","S","Q2","USD"]
["SO2","S","Q2","CAD"]
["SO2","S","Q2","AUD"]
["SO2","S","Q2","EUR"]
["SO2","S","Q2","GBP"]
["High-range CO ","T","P1","USD"]
["High-range CO ","T","P1","CAD"]
["High-range CO ","T","P1","AUD"]
["High-range CO ","T","P1","EUR"]
["High-range CO ","T","P1","GBP"]
["High-range CO ","T","Q1","USD"]
["High-range CO ","T","Q1","CAD"]
["High-range CO ","T","Q1","AUD"]
["High-range CO ","T","Q1","EUR"]
["High-range CO ","T","Q1","GBP"]
["High-range CO ","T","S","USD"]
["High-range CO ","T","S","CAD"]
["High-range CO ","T","S","AUD"]
["High-range CO ","T","S","EUR"]
["High-range CO ","T","S","GBP"]
["High-range CO ","T","P2","USD"]
["High-range CO ","T","P2","CAD"]
["High-range CO ","T","P2","AUD"]
["High-range CO ","T","P2","EUR"]
["High-range CO ","T","P2","GBP"]
["High-range CO ","T","Q2","USD"]
["High-range CO ","T","Q2","CAD"]
["High-range CO ","T","Q2","AUD"]
["High-range CO ","T","Q2","EUR"]
["High-range CO ","T","Q2","GBP"]
["PID","V","P1","USD"]
["PID","V","P1","CAD"]
["PID","V","P1","AUD"]
["PID","V","P1","EUR"]
["PID","V","P1","GBP"]
["PID","V","Q1","USD"]
["PID","V","Q1","CAD"]
["PID","V","Q1","AUD"]
["PID","V","Q1","EUR"]
["PID","V","Q1","GBP"]
["PID","V","S","USD"]
["PID","V","S","CAD"]
["PID","V","S","AUD"]
["PID","V","S","EUR"]
["PID","V","S","GBP"]
["ClO2","W","Q1","USD"]
["ClO2","W","Q1","CAD"]
["ClO2","W","Q1","AUD"]
["ClO2","W","Q1","EUR"]
["ClO2","W","Q1","GBP"]
["ClO2","W","S","USD"]
["ClO2","W","S","CAD"]
["ClO2","W","S","AUD"]
["ClO2","W","S","EUR"]
["ClO2","W","S","GBP"]
["ClO2","W","Q2","USD"]
["ClO2","W","Q2","CAD"]
["ClO2","W","Q2","AUD"]
["ClO2","W","Q2","EUR"]
["ClO2","W","Q2","GBP"]
["No Sensor ","X","P1","USD"]
["No Sensor ","X","P1","CAD"]
["No Sensor ","X","P1","AUD"]
["No Sensor ","X","P1","EUR"]
["No Sensor ","X","P1","GBP"]
["No Sensor ","X","Q1","USD"]
["No Sensor ","X","Q1","CAD"]
["No Sensor ","X","Q1","AUD"]
["No Sensor ","X","Q1","EUR"]
["No Sensor ","X","Q1","GBP"]
["No Sensor ","X","P2","USD"]
["No Sensor ","X","P2","CAD"]
["No Sensor ","X","P2","AUD"]
["No Sensor ","X","P2","EUR"]
["No Sensor ","X","P2","GBP"]
["No Sensor ","X","Q2","USD"]
["No Sensor ","X","Q2","CAD"]
["No Sensor ","X","Q2","AUD"]
["No Sensor ","X","Q2","EUR"]
["No Sensor ","X","Q2","GBP"]
["Low-Range H2","6"]
[]
[]
[]
[]
[]
[]
["EXO Sensors"]
["Gas","SensorCode","Type","Currency","Gas Expansion"]
["COSH","5","P2","GBP","00"]
["COSH","5","P2","EUR","00"]
["COSH","5","X2","GBP","00"]
["COSH","5","X2","EUR","00"]
["NH3 ","A","P1","USD","00"]
["NH3 ","A","P1","CAD","00"]
["NH3 ","A","P1","AUD","00"]
["NH3 ","A","P1","GBP","00"]
["NH3 ","A","P1","EUR","00"]
["NH3 ","A","X1","USD","00"]
["NH3 ","A","X1","CAD","00"]
["NH3 ","A","X1","AUD","00"]
["NH3 ","A","X1","GBP","00"]
["NH3 ","A","X1","EUR","00"]
["NH3 ","A","P2","USD","00"]
["NH3 ","A","P2","CAD","00"]
["NH3 ","A","P2","AUD","00"]
["NH3 ","A","P2","GBP","00"]
["NH3 ","A","P2","EUR","00"]
["NH3 ","A","X2","USD","00"]
["NH3 ","A","X2","CAD","00"]
["NH3 ","A","X2","AUD","00"]
["NH3 ","A","X2","GBP","00"]
["NH3 ","A","X2","EUR","00"]
["High-range NH3 ","B","P1","USD","00"]
["High-range NH3 ","B","P1","CAD","00"]
["High-range NH3 ","B","P1","AUD","00"]
["High-range NH3 ","B","P1","GBP","00"]
["High-range NH3 ","B","P1","EUR","00"]
["High-range NH3 ","B","X1","USD","00"]
["High-range NH3 ","B","X1","CAD","00"]
["High-range NH3 ","B","X1","AUD","00"]
["High-range NH3 ","B","X1","GBP","00"]
["High-range NH3 ","B","X1","EUR","00"]
["High-range NH3 ","B","P2","USD","00"]
["High-range NH3 ","B","P2","CAD","00"]
["High-range NH3 ","B","P2","AUD","00"]
["High-range NH3 ","B","P2","GBP","00"]
["High-range NH3 ","B","P2","EUR","00"]
["High-range NH3 ","B","X2","USD","00"]
["High-range NH3 ","B","X2","CAD","00"]
["High-range NH3 ","B","X2","AUD","00"]
["High-range NH3 ","B","X2","GBP","00"]
["High-range NH3 ","B","X2","EUR","00"]
["CO2 ","C","P1","USD","00"]
["CO2 ","C","P1","CAD","00"]
["CO2 ","C","P1","AUD","00"]
["CO2 ","C","P1","GBP","00"]
["CO2 ","C","P1","EUR","00"]
["CO2 ","C","X1","USD","00"]
["CO2 ","C","X1","CAD","00"]
["CO2 ","C","X1","AUD","00"]
["CO2 ","C","X1","GBP","00"]
["CO2 ","C","X1","EUR","00"]
["COSH","D","P2","USD","00"]
["COSH","D","P2","CAD","00"]
["COSH","D","P2","AUD","00"]
["COSH","D","X2","USD","00"]
["COSH","D","X2","CAD","00"]
["COSH","D","X2","AUD","00"]
["H2 ","G","P1","GBP","00"]
["H2 ","G","P1","EUR","00"]
["H2 ","G","X1","GBP","00"]
["H2 ","G","X1","EUR","00"]
["H2 ","G","P2","GBP","00"]
["H2 ","G","P2","EUR","00"]
["H2 ","G","X2","GBP","00"]
["H2 ","G","X2","EUR","00"]
["H2S ","H","P1","USD","00"]
["H2S ","H","P1","CAD","00"]
["H2S ","H","P1","AUD","00"]
["H2S ","H","P1","GBP","00"]
["H2S ","H","P1","EUR","00"]
["H2S ","H","X1","USD","00"]
["H2S ","H","X1","CAD","00"]
["H2S ","H","X1","AUD","00"]
["H2S ","H","X1","GBP","00"]
["H2S ","H","X1","EUR","00"]
["H2S ","H","P2","USD","00"]
["H2S ","H","P2","CAD","00"]
["H2S ","H","P2","AUD","00"]
["H2S ","H","P2","GBP","00"]
["H2S ","H","P2","EUR","00"]
["H2S ","H","X2","USD","00"]
["H2S ","H","X2","CAD","00"]
["H2S ","H","X2","AUD","00"]
["H2S ","H","X2","GBP","00"]
["H2S ","H","X2","EUR","00"]
["High-range H2S ","J","P1","USD","00"]
["High-range H2S ","J","P1","CAD","00"]
["High-range H2S ","J","P1","AUD","00"]
["High-range H2S ","J","P1","GBP","00"]
["High-range H2S ","J","P1","EUR","00"]
["High-range H2S ","J","X1","USD","00"]
["High-range H2S ","J","X1","CAD","00"]
["High-range H2S ","J","X1","AUD","00"]
["High-range H2S ","J","X1","GBP","00"]
["High-range H2S ","J","X1","EUR","00"]
["High-range H2S ","J","P2","USD","00"]
["High-range H2S ","J","P2","CAD","00"]
["High-range H2S ","J","P2","AUD","00"]
["High-range H2S ","J","P2","GBP","00"]
["High-range H2S ","J","P2","EUR","00"]
["High-range H2S ","J","X2","USD","00"]
["High-range H2S ","J","X2","CAD","00"]
["High-range H2S ","J","X2","AUD","00"]
["High-range H2S ","J","X2","GBP","00"]
["High-range H2S ","J","X2","EUR","00"]
["NO2 ","K","P1","USD","00"]
["NO2 ","K","P1","CAD","00"]
["NO2 ","K","P1","AUD","00"]
["NO2 ","K","P1","GBP","00"]
["NO2 ","K","P1","EUR","00"]
["NO2 ","K","X1","USD","00"]
["NO2 ","K","X1","CAD","00"]
["NO2 ","K","X1","AUD","00"]
["NO2 ","K","X1","GBP","00"]
["NO2 ","K","X1","EUR","00"]
["NO2 ","K","P2","USD","00"]
["NO2 ","K","P2","CAD","00"]
["NO2 ","K","P2","AUD","00"]
["NO2 ","K","P2","GBP","00"]
["NO2 ","K","P2","EUR","00"]
["NO2 ","K","X2","USD","00"]
["NO2 ","K","X2","CAD","00"]
["NO2 ","K","X2","AUD","00"]
["NO2 ","K","X2","GBP","00"]
["NO2 ","K","X2","EUR","00"]
["Cl2 ","L","X1","USD","00"]
["Cl2 ","L","X1","CAD","00"]
["Cl2 ","L","X1","AUD","00"]
["Cl2 ","L","X1","GBP","00"]
["Cl2 ","L","X1","EUR","00"]
["Cl2 ","L","X2","USD","00"]
["Cl2 ","L","X2","CAD","00"]
["Cl2 ","L","X2","AUD","00"]
["Cl2 ","L","X2","GBP","00"]
["Cl2 ","L","X2","EUR","00"]
["CO ","M","P1","USD","00"]
["CO ","M","P1","CAD","00"]
["CO ","M","P1","AUD","00"]
["CO ","M","P1","GBP","00"]
["CO ","M","P1","EUR","00"]
["CO ","M","X1","USD","00"]
["CO ","M","X1","CAD","00"]
["CO ","M","X1","AUD","00"]
["CO ","M","X1","GBP","00"]
["CO ","M","X1","EUR","00"]
["CO ","M","P2","USD","00"]
["CO ","M","P2","CAD","00"]
["CO ","M","P2","AUD","00"]
["CO ","M","P2","GBP","00"]
["CO ","M","P2","EUR","00"]
["CO ","M","X2","USD","00"]
["CO ","M","X2","CAD","00"]
["CO ","M","X2","AUD","00"]
["CO ","M","X2","GBP","00"]
["CO ","M","X2","EUR","00"]
["HCN ","N","X1","USD","00"]
["HCN ","N","X1","CAD","00"]
["HCN ","N","X1","AUD","00"]
["HCN ","N","X1","GBP","00"]
["HCN ","N","X1","EUR","00"]
["HCN ","N","X2","USD","00"]
["HCN ","N","X2","CAD","00"]
["HCN ","N","X2","AUD","00"]
["HCN ","N","X2","GBP","00"]
["HCN ","N","X2","EUR","00"]
["CO-H ","R","P1","USD","00"]
["CO-H ","R","P1","CAD","00"]
["CO-H ","R","P1","AUD","00"]
["CO-H ","R","P1","GBP","00"]
["CO-H ","R","P1","EUR","00"]
["CO-H ","R","X1","USD","00"]
["CO-H ","R","X1","CAD","00"]
["CO-H ","R","X1","AUD","00"]
["CO-H ","R","X1","GBP","00"]
["CO-H ","R","X1","EUR","00"]
["CO-H ","R","P2","USD","00"]
["CO-H ","R","P2","CAD","00"]
["CO-H ","R","P2","AUD","00"]
["CO-H ","R","P2","GBP","00"]
["CO-H ","R","P2","EUR","00"]
["CO-H ","R","X2","USD","00"]
["CO-H ","R","X2","CAD","00"]
["CO-H ","R","X2","AUD","00"]
["CO-H ","R","X2","GBP","00"]
["CO-H ","R","X2","EUR","00"]
["SO2 ","S","P1","USD","00"]
["SO2 ","S","P1","CAD","00"]
["SO2 ","S","P1","AUD","00"]
["SO2 ","S","P1","GBP","00"]
["SO2 ","S","P1","EUR","00"]
["SO2 ","S","X1","USD","00"]
["SO2 ","S","X1","CAD","00"]
["SO2 ","S","X1","AUD","00"]
["SO2 ","S","X1","GBP","00"]
["SO2 ","S","X1","EUR","00"]
["SO2 ","S","P2","USD","00"]
["SO2 ","S","P2","CAD","00"]
["SO2 ","S","P2","AUD","00"]
["SO2 ","S","P2","GBP","00"]
["SO2 ","S","P2","EUR","00"]
["SO2 ","S","X2","USD","00"]
["SO2 ","S","X2","CAD","00"]
["SO2 ","S","X2","AUD","00"]
["SO2 ","S","X2","GBP","00"]
["SO2 ","S","X2","EUR","00"]
["High-range CO ","T","P1","USD","00"]
["High-range CO ","T","P1","CAD","00"]
["High-range CO ","T","P1","AUD","00"]
["High-range CO ","T","P1","GBP","00"]
["High-range CO ","T","P1","EUR","00"]
["High-range CO ","T","X1","USD","00"]
["High-range CO ","T","X1","CAD","00"]
["High-range CO ","T","X1","AUD","00"]
["High-range CO ","T","X1","GBP","00"]
["High-range CO ","T","X1","EUR","00"]
["High-range CO ","T","P2","USD","00"]
["High-range CO ","T","P2","CAD","00"]
["High-range CO ","T","P2","AUD","00"]
["High-range CO ","T","P2","GBP","00"]
["High-range CO ","T","P2","EUR","00"]
["High-range CO ","T","X2","USD","00"]
["High-range CO ","T","X2","CAD","00"]
["High-range CO ","T","X2","AUD","00"]
["High-range CO ","T","X2","GBP","00"]
["High-range CO ","T","X2","EUR","00"]
["PID ","V","P1","USD","00"]
["PID ","V","P1","CAD","00"]
["PID ","V","P1","AUD","00"]
["PID ","V","P1","GBP","00"]
["PID ","V","P1","EUR","00"]
["PID ","V","X1","USD","00"]
["PID ","V","X1","CAD","00"]
["PID ","V","X1","AUD","00"]
["PID ","V","X1","GBP","00"]
["PID ","V","X1","EUR","00"]
["ClO2","W","X1","USD","00"]
["ClO2","W","X1","CAD","00"]
["ClO2","W","X1","AUD","00"]
["ClO2","W","X1","GBP","00"]
["ClO2","W","X1","EUR","00"]
["ClO2","W","X2","USD","00"]
["ClO2","W","X2","CAD","00"]
["ClO2","W","X2","AUD","00"]
["ClO2","W","X2","GBP","00"]
["ClO2","W","X2","EUR","00"]
["No Sensor ","X","P1","USD","00"]
["No Sensor ","X","P1","CAD","00"]
["No Sensor ","X","P1","AUD","00"]
["No Sensor ","X","P1","GBP","00"]
["No Sensor ","X","P1","EUR","00"]
["No Sensor ","X","X1","USD","00"]
["No Sensor ","X","X1","CAD","00"]
["No Sensor ","X","X1","AUD","00"]
["No Sensor ","X","X1","GBP","00"]
["No Sensor ","X","X1","EUR","00"]
["No Sensor ","X","P2","USD","00"]
["No Sensor ","X","P2","CAD","00"]
["No Sensor ","X","P2","AUD","00"]
["No Sensor ","X","P2","GBP","00"]
["No Sensor ","X","P2","EUR","00"]
["No Sensor ","X","X2","USD","00"]
["No Sensor ","X","X2","CAD","00"]
["No Sensor ","X","X2","AUD","00"]
["No Sensor ","X","X2","GBP","00"]
["No Sensor ","X","X2","EUR","00"]
["NH3 ","A","P1","USD","01"]
["NH3 ","A","P1","CAD","01"]
["NH3 ","A","P1","AUD","01"]
["NH3 ","A","P1","GBP","01"]
["NH3 ","A","P1","EUR","01"]
["NH3 ","A","X1","USD","01"]
["NH3 ","A","X1","CAD","01"]
["NH3 ","A","X1","AUD","01"]
["NH3 ","A","X1","GBP","01"]
["NH3 ","A","X1","EUR","01"]
["NH3 ","A","P2","USD","01"]
["NH3 ","A","P2","CAD","01"]
["NH3 ","A","P2","AUD","01"]
["NH3 ","A","P2","GBP","01"]
["NH3 ","A","P2","EUR","01"]
["NH3 ","A","X2","USD","01"]
["NH3 ","A","X2","CAD","01"]
["NH3 ","A","X2","AUD","01"]
["NH3 ","A","X2","GBP","01"]
["NH3 ","A","X2","EUR","01"]
["High-range NH3 ","B","P1","USD","01"]
["High-range NH3 ","B","P1","CAD","01"]
["High-range NH3 ","B","P1","AUD","01"]
["High-range NH3 ","B","P1","GBP","01"]
["High-range NH3 ","B","P1","EUR","01"]
["High-range NH3 ","B","X1","USD","01"]
["High-range NH3 ","B","X1","CAD","01"]
["High-range NH3 ","B","X1","AUD","01"]
["High-range NH3 ","B","X1","GBP","01"]
["High-range NH3 ","B","X1","EUR","01"]
["High-range NH3 ","B","P2","USD","01"]
["High-range NH3 ","B","P2","CAD","01"]
["High-range NH3 ","B","P2","AUD","01"]
["High-range NH3 ","B","P2","GBP","01"]
["High-range NH3 ","B","P2","EUR","01"]
["High-range NH3 ","B","X2","USD","01"]
["High-range NH3 ","B","X2","CAD","01"]
["High-range NH3 ","B","X2","AUD","01"]
["High-range NH3 ","B","X2","GBP","01"]
["High-range NH3 ","B","X2","EUR","01"]
["CO2 ","C","P1","USD","01"]
["CO2 ","C","P1","CAD","01"]
["CO2 ","C","P1","AUD","01"]
["CO2 ","C","P1","GBP","01"]
["CO2 ","C","P1","EUR","01"]
["CO2 ","C","X1","USD","01"]
["CO2 ","C","X1","CAD","01"]
["CO2 ","C","X1","AUD","01"]
["CO2 ","C","X1","GBP","01"]
["CO2 ","C","X1","EUR","01"]
["H2 ","G","P1","GBP","01"]
["H2 ","G","P1","EUR","01"]
["H2 ","G","X1","GBP","01"]
["H2 ","G","X1","EUR","01"]
["H2 ","G","P2","GBP","01"]
["H2 ","G","P2","EUR","01"]
["H2 ","G","X2","GBP","01"]
["H2 ","G","X2","EUR","01"]
["H2S ","H","P1","USD","01"]
["H2S ","H","P1","CAD","01"]
["H2S ","H","P1","AUD","01"]
["H2S ","H","P1","GBP","01"]
["H2S ","H","P1","EUR","01"]
["H2S ","H","X1","USD","01"]
["H2S ","H","X1","CAD","01"]
["H2S ","H","X1","AUD","01"]
["H2S ","H","X1","GBP","01"]
["H2S ","H","X1","EUR","01"]
["H2S ","H","P2","USD","01"]
["H2S ","H","P2","CAD","01"]
["H2S ","H","P2","AUD","01"]
["H2S ","H","P2","GBP","01"]
["H2S ","H","P2","EUR","01"]
["H2S ","H","X2","USD","01"]
["H2S ","H","X2","CAD","01"]
["H2S ","H","X2","AUD","01"]
["H2S ","H","X2","GBP","01"]
["H2S ","H","X2","EUR","01"]
["High-range H2S ","J","P1","USD","01"]
["High-range H2S ","J","P1","CAD","01"]
["High-range H2S ","J","P1","AUD","01"]
["High-range H2S ","J","P1","GBP","01"]
["High-range H2S ","J","P1","EUR","01"]
["High-range H2S ","J","X1","USD","01"]
["High-range H2S ","J","X1","CAD","01"]
["High-range H2S ","J","X1","AUD","01"]
["High-range H2S ","J","X1","GBP","01"]
["High-range H2S ","J","X1","EUR","01"]
["High-range H2S ","J","P2","USD","01"]
["High-range H2S ","J","P2","CAD","01"]
["High-range H2S ","J","P2","AUD","01"]
["High-range H2S ","J","P2","GBP","01"]
["High-range H2S ","J","P2","EUR","01"]
["High-range H2S ","J","X2","USD","01"]
["High-range H2S ","J","X2","CAD","01"]
["High-range H2S ","J","X2","AUD","01"]
["High-range H2S ","J","X2","GBP","01"]
["High-range H2S ","J","X2","EUR","01"]
["NO2 ","K","P1","USD","01"]
["NO2 ","K","P1","CAD","01"]
["NO2 ","K","P1","AUD","01"]
["NO2 ","K","P1","GBP","01"]
["NO2 ","K","P1","EUR","01"]
["NO2 ","K","X1","USD","01"]
["NO2 ","K","X1","CAD","01"]
["NO2 ","K","X1","AUD","01"]
["NO2 ","K","X1","GBP","01"]
["NO2 ","K","X1","EUR","01"]
["NO2 ","K","P2","USD","01"]
["NO2 ","K","P2","CAD","01"]
["NO2 ","K","P2","AUD","01"]
["NO2 ","K","P2","GBP","01"]
["NO2 ","K","P2","EUR","01"]
["NO2 ","K","X2","USD","01"]
["NO2 ","K","X2","CAD","01"]
["NO2 ","K","X2","AUD","01"]
["NO2 ","K","X2","GBP","01"]
["NO2 ","K","X2","EUR","01"]
["Cl2 ","L","X1","USD","01"]
["Cl2 ","L","X1","CAD","01"]
["Cl2 ","L","X1","AUD","01"]
["Cl2 ","L","X1","GBP","01"]
["Cl2 ","L","X1","EUR","01"]
["Cl2 ","L","X2","USD","01"]
["Cl2 ","L","X2","CAD","01"]
["Cl2 ","L","X2","AUD","01"]
["Cl2 ","L","X2","GBP","01"]
["Cl2 ","L","X2","EUR","01"]
["CO ","M","P1","USD","01"]
["CO ","M","P1","CAD","01"]
["CO ","M","P1","AUD","01"]
["CO ","M","P1","GBP","01"]
["CO ","M","P1","EUR","01"]
["CO ","M","X1","USD","01"]
["CO ","M","X1","CAD","01"]
["CO ","M","X1","AUD","01"]
["CO ","M","X1","GBP","01"]
["CO ","M","X1","EUR","01"]
["CO ","M","P2","USD","01"]
["CO ","M","P2","CAD","01"]
["CO ","M","P2","AUD","01"]
["CO ","M","P2","GBP","01"]
["CO ","M","P2","EUR","01"]
["CO ","M","X2","USD","01"]
["CO ","M","X2","CAD","01"]
["CO ","M","X2","AUD","01"]
["CO ","M","X2","GBP","01"]
["CO ","M","X2","EUR","01"]
["HCN ","N","X1","USD","01"]
["HCN ","N","X1","CAD","01"]
["HCN ","N","X1","AUD","01"]
["HCN ","N","X1","GBP","01"]
["HCN ","N","X1","EUR","01"]
["HCN ","N","X2","USD","01"]
["HCN ","N","X2","CAD","01"]
["HCN ","N","X2","AUD","01"]
["HCN ","N","X2","GBP","01"]
["HCN ","N","X2","EUR","01"]
["CO-H ","R","P1","USD","01"]
["CO-H ","R","P1","CAD","01"]
["CO-H ","R","P1","AUD","01"]
["CO-H ","R","P1","GBP","01"]
["CO-H ","R","P1","EUR","01"]
["CO-H ","R","X1","USD","01"]
["CO-H ","R","X1","CAD","01"]
["CO-H ","R","X1","AUD","01"]
["CO-H ","R","X1","GBP","01"]
["CO-H ","R","X1","EUR","01"]
["CO-H ","R","P2","USD","01"]
["CO-H ","R","P2","CAD","01"]
["CO-H ","R","P2","AUD","01"]
["CO-H ","R","P2","GBP","01"]
["CO-H ","R","P2","EUR","01"]
["CO-H ","R","X2","USD","01"]
["CO-H ","R","X2","CAD","01"]
["CO-H ","R","X2","AUD","01"]
["CO-H ","R","X2","GBP","01"]
["CO-H ","R","X2","EUR","01"]
["High-range CO ","T","P1","USD","01"]
["High-range CO ","T","P1","CAD","01"]
["High-range CO ","T","P1","AUD","01"]
["High-range CO ","T","P1","GBP","01"]
["High-range CO ","T","P1","EUR","01"]
["High-range CO ","T","X1","USD","01"]
["High-range CO ","T","X1","CAD","01"]
["High-range CO ","T","X1","AUD","01"]
["High-range CO ","T","X1","GBP","01"]
["High-range CO ","T","X1","EUR","01"]
["High-range CO ","T","P2","USD","01"]
["High-range CO ","T","P2","CAD","01"]
["High-range CO ","T","P2","AUD","01"]
["High-range CO ","T","P2","GBP","01"]
["High-range CO ","T","P2","EUR","01"]
["High-range CO ","T","X2","USD","01"]
["High-range CO ","T","X2","CAD","01"]
["High-range CO ","T","X2","AUD","01"]
["High-range CO ","T","X2","GBP","01"]
["High-range CO ","T","X2","EUR","01"]
["ClO2","W","X1","USD","01"]
["ClO2","W","X1","CAD","01"]
["ClO2","W","X1","AUD","01"]
["ClO2","W","X1","GBP","01"]
["ClO2","W","X1","EUR","01"]
["ClO2","W","X2","USD","01"]
["ClO2","W","X2","CAD","01"]
["ClO2","W","X2","AUD","01"]
["ClO2","W","X2","GBP","01"]
["ClO2","W","X2","EUR","01"]
["No Sensor ","X","P1","USD","01"]
["No Sensor ","X","P1","CAD","01"]
["No Sensor ","X","P1","AUD","01"]
["No Sensor ","X","P1","GBP","01"]
["No Sensor ","X","P1","EUR","01"]
["No Sensor ","X","X1","USD","01"]
["No Sensor ","X","X1","CAD","01"]
["No Sensor ","X","X1","AUD","01"]
["No Sensor ","X","X1","GBP","01"]
["No Sensor ","X","X1","EUR","01"]
["No Sensor ","X","P2","USD","01"]
["No Sensor ","X","P2","CAD","01"]
["No Sensor ","X","P2","AUD","01"]
["No Sensor ","X","P2","GBP","01"]
["No Sensor ","X","P2","EUR","01"]
["No Sensor ","X","X2","USD","01"]
["No Sensor ","X","X2","CAD","01"]
["No Sensor ","X","X2","AUD","01"]
["No Sensor ","X","X2","GBP","01"]
["No Sensor ","X","X2","EUR","01"]
["CO2 ","C","P1","USD","02"]
["CO2 ","C","P1","CAD","02"]
["CO2 ","C","P1","AUD","02"]
["CO2 ","C","P1","GBP","02"]
["CO2 ","C","P1","EUR","02"]
["CO2 ","C","X1","USD","02"]
["CO2 ","C","X1","CAD","02"]
["CO2 ","C","X1","AUD","02"]
["CO2 ","C","X1","GBP","02"]
["CO2 ","C","X1","EUR","02"]
["H2 ","G","P1","GBP","02"]
["H2 ","G","P1","EUR","02"]
["H2 ","G","X1","GBP","02"]
["H2 ","G","X1","EUR","02"]
["H2 ","G","P2","GBP","02"]
["H2 ","G","P2","EUR","02"]
["H2 ","G","X2","GBP","02"]
["H2 ","G","X2","EUR","02"]
["H2S ","H","P1","USD","02"]
["H2S ","H","P1","CAD","02"]
["H2S ","H","P1","AUD","02"]
["H2S ","H","P1","GBP","02"]
["H2S ","H","P1","EUR","02"]
["H2S ","H","X1","USD","02"]
["H2S ","H","X1","CAD","02"]
["H2S ","H","X1","AUD","02"]
["H2S ","H","X1","GBP","02"]
["H2S ","H","X1","EUR","02"]
["H2S ","H","P2","USD","02"]
["H2S ","H","P2","CAD","02"]
["H2S ","H","P2","AUD","02"]
["H2S ","H","P2","GBP","02"]
["H2S ","H","P2","EUR","02"]
["H2S ","H","X2","USD","02"]
["H2S ","H","X2","CAD","02"]
["H2S ","H","X2","AUD","02"]
["H2S ","H","X2","GBP","02"]
["H2S ","H","X2","EUR","02"]
["High-range H2S ","J","P1","USD","02"]
["High-range H2S ","J","P1","CAD","02"]
["High-range H2S ","J","P1","AUD","02"]
["High-range H2S ","J","P1","GBP","02"]
["High-range H2S ","J","P1","EUR","02"]
["High-range H2S ","J","X1","USD","02"]
["High-range H2S ","J","X1","CAD","02"]
["High-range H2S ","J","X1","AUD","02"]
["High-range H2S ","J","X1","GBP","02"]
["High-range H2S ","J","X1","EUR","02"]
["High-range H2S ","J","P2","USD","02"]
["High-range H2S ","J","P2","CAD","02"]
["High-range H2S ","J","P2","AUD","02"]
["High-range H2S ","J","P2","GBP","02"]
["High-range H2S ","J","P2","EUR","02"]
["High-range H2S ","J","X2","USD","02"]
["High-range H2S ","J","X2","CAD","02"]
["High-range H2S ","J","X2","AUD","02"]
["High-range H2S ","J","X2","GBP","02"]
["High-range H2S ","J","X2","EUR","02"]
["NO2 ","K","P1","USD","02"]
["NO2 ","K","P1","CAD","02"]
["NO2 ","K","P1","AUD","02"]
["NO2 ","K","P1","GBP","02"]
["NO2 ","K","P1","EUR","02"]
["NO2 ","K","X1","USD","02"]
["NO2 ","K","X1","CAD","02"]
["NO2 ","K","X1","AUD","02"]
["NO2 ","K","X1","GBP","02"]
["NO2 ","K","X1","EUR","02"]
["NO2 ","K","P2","USD","02"]
["NO2 ","K","P2","CAD","02"]
["NO2 ","K","P2","AUD","02"]
["NO2 ","K","P2","GBP","02"]
["NO2 ","K","P2","EUR","02"]
["NO2 ","K","X2","USD","02"]
["NO2 ","K","X2","CAD","02"]
["NO2 ","K","X2","AUD","02"]
["NO2 ","K","X2","GBP","02"]
["NO2 ","K","X2","EUR","02"]
["Cl2 ","L","X1","USD","02"]
["Cl2 ","L","X1","CAD","02"]
["Cl2 ","L","X1","AUD","02"]
["Cl2 ","L","X1","GBP","02"]
["Cl2 ","L","X1","EUR","02"]
["Cl2 ","L","X2","USD","02"]
["Cl2 ","L","X2","CAD","02"]
["Cl2 ","L","X2","AUD","02"]
["Cl2 ","L","X2","GBP","02"]
["Cl2 ","L","X2","EUR","02"]
["CO ","M","P1","USD","02"]
["CO ","M","P1","CAD","02"]
["CO ","M","P1","AUD","02"]
["CO ","M","P1","GBP","02"]
["CO ","M","P1","EUR","02"]
["CO ","M","X1","USD","02"]
["CO ","M","X1","CAD","02"]
["CO ","M","X1","AUD","02"]
["CO ","M","X1","GBP","02"]
["CO ","M","X1","EUR","02"]
["CO ","M","P2","USD","02"]
["CO ","M","P2","CAD","02"]
["CO ","M","P2","AUD","02"]
["CO ","M","P2","GBP","02"]
["CO ","M","P2","EUR","02"]
["CO ","M","X2","USD","02"]
["CO ","M","X2","CAD","02"]
["CO ","M","X2","AUD","02"]
["CO ","M","X2","GBP","02"]
["CO ","M","X2","EUR","02"]
["HCN ","N","X1","USD","02"]
["HCN ","N","X1","CAD","02"]
["HCN ","N","X1","AUD","02"]
["HCN ","N","X1","GBP","02"]
["HCN ","N","X1","EUR","02"]
["HCN ","N","X2","USD","02"]
["HCN ","N","X2","CAD","02"]
["HCN ","N","X2","AUD","02"]
["HCN ","N","X2","GBP","02"]
["HCN ","N","X2","EUR","02"]
["CO-H ","R","P1","USD","02"]
["CO-H ","R","P1","CAD","02"]
["CO-H ","R","P1","AUD","02"]
["CO-H ","R","P1","GBP","02"]
["CO-H ","R","P1","EUR","02"]
["CO-H ","R","X1","USD","02"]
["CO-H ","R","X1","CAD","02"]
["CO-H ","R","X1","AUD","02"]
["CO-H ","R","X1","GBP","02"]
["CO-H ","R","X1","EUR","02"]
["CO-H ","R","P2","USD","02"]
["CO-H ","R","P2","CAD","02"]
["CO-H ","R","P2","AUD","02"]
["CO-H ","R","P2","GBP","02"]
["CO-H ","R","P2","EUR","02"]
["CO-H ","R","X2","USD","02"]
["CO-H ","R","X2","CAD","02"]
["CO-H ","R","X2","AUD","02"]
["CO-H ","R","X2","GBP","02"]
["CO-H ","R","X2","EUR","02"]
["High-range CO ","T","P1","USD","02"]
["High-range CO ","T","P1","CAD","02"]
["High-range CO ","T","P1","AUD","02"]
["High-range CO ","T","P1","GBP","02"]
["High-range CO ","T","P1","EUR","02"]
["High-range CO ","T","X1","USD","02"]
["High-range CO ","T","X1","CAD","02"]
["High-range CO ","T","X1","AUD","02"]
["High-range CO ","T","X1","GBP","02"]
["High-range CO ","T","X1","EUR","02"]
["High-range CO ","T","P2","USD","02"]
["High-range CO ","T","P2","CAD","02"]
["High-range CO ","T","P2","AUD","02"]
["High-range CO ","T","P2","GBP","02"]
["High-range CO ","T","P2","EUR","02"]
["High-range CO ","T","X2","USD","02"]
["High-range CO ","T","X2","CAD","02"]
["High-range CO ","T","X2","AUD","02"]
["High-range CO ","T","X2","GBP","02"]
["High-range CO ","T","X2","EUR","02"]
["ClO2","W","X1","USD","02"]
["ClO2","W","X1","CAD","02"]
["ClO2","W","X1","AUD","02"]
["ClO2","W","X1","GBP","02"]
["ClO2","W","X1","EUR","02"]
["ClO2","W","X2","USD","02"]
["ClO2","W","X2","CAD","02"]
["ClO2","W","X2","AUD","02"]
["ClO2","W","X2","GBP","02"]
["ClO2","W","X2","EUR","02"]
["No Sensor ","X","P1","USD","02"]
["No Sensor ","X","P1","CAD","02"]
["No Sensor ","X","P1","AUD","02"]
["No Sensor ","X","P1","GBP","02"]
["No Sensor ","X","P1","EUR","02"]
["No Sensor ","X","X1","USD","02"]
["No Sensor ","X","X1","CAD","02"]
["No Sensor ","X","X1","AUD","02"]
["No Sensor ","X","X1","GBP","02"]
["No Sensor ","X","X1","EUR","02"]
["No Sensor ","X","P2","USD","02"]
["No Sensor ","X","P2","CAD","02"]
["No Sensor ","X","P2","AUD","02"]
["No Sensor ","X","P2","GBP","02"]
["No Sensor ","X","P2","EUR","02"]
["No Sensor ","X","X2","USD","02"]
["No Sensor ","X","X2","CAD","02"]
["No Sensor ","X","X2","AUD","02"]
["No Sensor ","X","X2","GBP","02"]
["No Sensor ","X","X2","EUR","02"]
["CO2 ","C","P1","USD","03"]
["CO2 ","C","P1","CAD","03"]
["CO2 ","C","P1","AUD","03"]
["CO2 ","C","P1","GBP","03"]
["CO2 ","C","P1","EUR","03"]
["CO2 ","C","X1","USD","03"]
["CO2 ","C","X1","CAD","03"]
["CO2 ","C","X1","AUD","03"]
["CO2 ","C","X1","GBP","03"]
["CO2 ","C","X1","EUR","03"]
["H2S ","H","P1","USD","03"]
["H2S ","H","P1","CAD","03"]
["H2S ","H","P1","AUD","03"]
["H2S ","H","P1","GBP","03"]
["H2S ","H","P1","EUR","03"]
["H2S ","H","X1","USD","03"]
["H2S ","H","X1","CAD","03"]
["H2S ","H","X1","AUD","03"]
["H2S ","H","X1","GBP","03"]
["H2S ","H","X1","EUR","03"]
["H2S ","H","P2","USD","03"]
["H2S ","H","P2","CAD","03"]
["H2S ","H","P2","AUD","03"]
["H2S ","H","P2","GBP","03"]
["H2S ","H","P2","EUR","03"]
["H2S ","H","X2","USD","03"]
["H2S ","H","X2","CAD","03"]
["H2S ","H","X2","AUD","03"]
["H2S ","H","X2","GBP","03"]
["H2S ","H","X2","EUR","03"]
["High-range H2S ","J","P1","USD","03"]
["High-range H2S ","J","P1","CAD","03"]
["High-range H2S ","J","P1","AUD","03"]
["High-range H2S ","J","P1","GBP","03"]
["High-range H2S ","J","P1","EUR","03"]
["High-range H2S ","J","X1","USD","03"]
["High-range H2S ","J","X1","CAD","03"]
["High-range H2S ","J","X1","AUD","03"]
["High-range H2S ","J","X1","GBP","03"]
["High-range H2S ","J","X1","EUR","03"]
["High-range H2S ","J","P2","USD","03"]
["High-range H2S ","J","P2","CAD","03"]
["High-range H2S ","J","P2","AUD","03"]
["High-range H2S ","J","P2","GBP","03"]
["High-range H2S ","J","P2","EUR","03"]
["High-range H2S ","J","X2","USD","03"]
["High-range H2S ","J","X2","CAD","03"]
["High-range H2S ","J","X2","AUD","03"]
["High-range H2S ","J","X2","GBP","03"]
["High-range H2S ","J","X2","EUR","03"]
["NO2 ","K","P1","USD","03"]
["NO2 ","K","P1","CAD","03"]
["NO2 ","K","P1","AUD","03"]
["NO2 ","K","P1","GBP","03"]
["NO2 ","K","P1","EUR","03"]
["NO2 ","K","X1","USD","03"]
["NO2 ","K","X1","CAD","03"]
["NO2 ","K","X1","AUD","03"]
["NO2 ","K","X1","GBP","03"]
["NO2 ","K","X1","EUR","03"]
["NO2 ","K","P2","USD","03"]
["NO2 ","K","P2","CAD","03"]
["NO2 ","K","P2","AUD","03"]
["NO2 ","K","P2","GBP","03"]
["NO2 ","K","P2","EUR","03"]
["NO2 ","K","X2","USD","03"]
["NO2 ","K","X2","CAD","03"]
["NO2 ","K","X2","AUD","03"]
["NO2 ","K","X2","GBP","03"]
["NO2 ","K","X2","EUR","03"]
["Cl2 ","L","X1","USD","03"]
["Cl2 ","L","X1","CAD","03"]
["Cl2 ","L","X1","AUD","03"]
["Cl2 ","L","X1","GBP","03"]
["Cl2 ","L","X1","EUR","03"]
["Cl2 ","L","X2","USD","03"]
["Cl2 ","L","X2","CAD","03"]
["Cl2 ","L","X2","AUD","03"]
["Cl2 ","L","X2","GBP","03"]
["Cl2 ","L","X2","EUR","03"]
["CO ","M","P1","USD","03"]
["CO ","M","P1","CAD","03"]
["CO ","M","P1","AUD","03"]
["CO ","M","P1","GBP","03"]
["CO ","M","P1","EUR","03"]
["CO ","M","X1","USD","03"]
["CO ","M","X1","CAD","03"]
["CO ","M","X1","AUD","03"]
["CO ","M","X1","GBP","03"]
["CO ","M","X1","EUR","03"]
["CO ","M","P2","USD","03"]
["CO ","M","P2","CAD","03"]
["CO ","M","P2","AUD","03"]
["CO ","M","P2","GBP","03"]
["CO ","M","P2","EUR","03"]
["CO ","M","X2","USD","03"]
["CO ","M","X2","CAD","03"]
["CO ","M","X2","AUD","03"]
["CO ","M","X2","GBP","03"]
["CO ","M","X2","EUR","03"]
["HCN ","N","X1","USD","03"]
["HCN ","N","X1","CAD","03"]
["HCN ","N","X1","AUD","03"]
["HCN ","N","X1","GBP","03"]
["HCN ","N","X1","EUR","03"]
["HCN ","N","X2","USD","03"]
["HCN ","N","X2","CAD","03"]
["HCN ","N","X2","AUD","03"]
["HCN ","N","X2","GBP","03"]
["HCN ","N","X2","EUR","03"]
["CO-H ","R","P1","USD","03"]
["CO-H ","R","P1","CAD","03"]
["CO-H ","R","P1","AUD","03"]
["CO-H ","R","P1","GBP","03"]
["CO-H ","R","P1","EUR","03"]
["CO-H ","R","X1","USD","03"]
["CO-H ","R","X1","CAD","03"]
["CO-H ","R","X1","AUD","03"]
["CO-H ","R","X1","GBP","03"]
["CO-H ","R","X1","EUR","03"]
["CO-H ","R","P2","USD","03"]
["CO-H ","R","P2","CAD","03"]
["CO-H ","R","P2","AUD","03"]
["CO-H ","R","P2","GBP","03"]
["CO-H ","R","P2","EUR","03"]
["CO-H ","R","X2","USD","03"]
["CO-H ","R","X2","CAD","03"]
["CO-H ","R","X2","AUD","03"]
["CO-H ","R","X2","GBP","03"]
["CO-H ","R","X2","EUR","03"]
["High-range CO ","T","P1","USD","03"]
["High-range CO ","T","P1","CAD","03"]
["High-range CO ","T","P1","AUD","03"]
["High-range CO ","T","P1","GBP","03"]
["High-range CO ","T","P1","EUR","03"]
["High-range CO ","T","X1","USD","03"]
["High-range CO ","T","X1","CAD","03"]
["High-range CO ","T","X1","AUD","03"]
["High-range CO ","T","X1","GBP","03"]
["High-range CO ","T","X1","EUR","03"]
["High-range CO ","T","P2","USD","03"]
["High-range CO ","T","P2","CAD","03"]
["High-range CO ","T","P2","AUD","03"]
["High-range CO ","T","P2","GBP","03"]
["High-range CO ","T","P2","EUR","03"]
["High-range CO ","T","X2","USD","03"]
["High-range CO ","T","X2","CAD","03"]
["High-range CO ","T","X2","AUD","03"]
["High-range CO ","T","X2","GBP","03"]
["High-range CO ","T","X2","EUR","03"]
["ClO2","W","X1","USD","03"]
["ClO2","W","X1","CAD","03"]
["ClO2","W","X1","AUD","03"]
["ClO2","W","X1","GBP","03"]
["ClO2","W","X1","EUR","03"]
["ClO2","W","X2","USD","03"]
["ClO2","W","X2","CAD","03"]
["ClO2","W","X2","AUD","03"]
["ClO2","W","X2","GBP","03"]
["ClO2","W","X2","EUR","03"]
["No Sensor ","X","P1","USD","03"]
["No Sensor ","X","P1","CAD","03"]
["No Sensor ","X","P1","AUD","03"]
["No Sensor ","X","P1","GBP","03"]
["No Sensor ","X","P1","EUR","03"]
["No Sensor ","X","X1","USD","03"]
["No Sensor ","X","X1","CAD","03"]
["No Sensor ","X","X1","AUD","03"]
["No Sensor ","X","X1","GBP","03"]
["No Sensor ","X","X1","EUR","03"]
["No Sensor ","X","P2","USD","03"]
["No Sensor ","X","P2","CAD","03"]
["No Sensor ","X","P2","AUD","03"]
["No Sensor ","X","P2","GBP","03"]
["No Sensor ","X","P2","EUR","03"]
["No Sensor ","X","X2","USD","03"]
["No Sensor ","X","X2","CAD","03"]
["No Sensor ","X","X2","AUD","03"]
["No Sensor ","X","X2","GBP","03"]
["No Sensor ","X","X2","EUR","03"]
["CO2 ","C","P1","USD","04"]
["CO2 ","C","P1","CAD","04"]
["CO2 ","C","P1","AUD","04"]
["CO2 ","C","P1","GBP","04"]
["CO2 ","C","P1","EUR","04"]
["CO2 ","C","X1","USD","04"]
["CO2 ","C","X1","CAD","04"]
["CO2 ","C","X1","AUD","04"]
["CO2 ","C","X1","GBP","04"]
["CO2 ","C","X1","EUR","04"]
["H2 ","G","P1","GBP","04"]
["H2 ","G","P1","EUR","04"]
["H2 ","G","X1","GBP","04"]
["H2 ","G","X1","EUR","04"]
["H2 ","G","P2","GBP","04"]
["H2 ","G","P2","EUR","04"]
["H2 ","G","X2","GBP","04"]
["H2 ","G","X2","EUR","04"]
["High-range H2S ","J","P1","USD","04"]
["High-range H2S ","J","P1","CAD","04"]
["High-range H2S ","J","P1","AUD","04"]
["High-range H2S ","J","P1","GBP","04"]
["High-range H2S ","J","P1","EUR","04"]
["High-range H2S ","J","X1","USD","04"]
["High-range H2S ","J","X1","CAD","04"]
["High-range H2S ","J","X1","AUD","04"]
["High-range H2S ","J","X1","GBP","04"]
["High-range H2S ","J","X1","EUR","04"]
["High-range H2S ","J","P2","USD","04"]
["High-range H2S ","J","P2","CAD","04"]
["High-range H2S ","J","P2","AUD","04"]
["High-range H2S ","J","P2","GBP","04"]
["High-range H2S ","J","P2","EUR","04"]
["High-range H2S ","J","X2","USD","04"]
["High-range H2S ","J","X2","CAD","04"]
["High-range H2S ","J","X2","AUD","04"]
["High-range H2S ","J","X2","GBP","04"]
["High-range H2S ","J","X2","EUR","04"]
["NO2 ","K","P1","USD","04"]
["NO2 ","K","P1","CAD","04"]
["NO2 ","K","P1","AUD","04"]
["NO2 ","K","P1","GBP","04"]
["NO2 ","K","P1","EUR","04"]
["NO2 ","K","X1","USD","04"]
["NO2 ","K","X1","CAD","04"]
["NO2 ","K","X1","AUD","04"]
["NO2 ","K","X1","GBP","04"]
["NO2 ","K","X1","EUR","04"]
["NO2 ","K","P2","USD","04"]
["NO2 ","K","P2","CAD","04"]
["NO2 ","K","P2","AUD","04"]
["NO2 ","K","P2","GBP","04"]
["NO2 ","K","P2","EUR","04"]
["NO2 ","K","X2","USD","04"]
["NO2 ","K","X2","CAD","04"]
["NO2 ","K","X2","AUD","04"]
["NO2 ","K","X2","GBP","04"]
["NO2 ","K","X2","EUR","04"]
["Cl2 ","L","X1","USD","04"]
["Cl2 ","L","X1","CAD","04"]
["Cl2 ","L","X1","AUD","04"]
["Cl2 ","L","X1","GBP","04"]
["Cl2 ","L","X1","EUR","04"]
["Cl2 ","L","X2","USD","04"]
["Cl2 ","L","X2","CAD","04"]
["Cl2 ","L","X2","AUD","04"]
["Cl2 ","L","X2","GBP","04"]
["Cl2 ","L","X2","EUR","04"]
["CO ","M","P1","USD","04"]
["CO ","M","P1","CAD","04"]
["CO ","M","P1","AUD","04"]
["CO ","M","P1","GBP","04"]
["CO ","M","P1","EUR","04"]
["CO ","M","X1","USD","04"]
["CO ","M","X1","CAD","04"]
["CO ","M","X1","AUD","04"]
["CO ","M","X1","GBP","04"]
["CO ","M","X1","EUR","04"]
["CO ","M","P2","USD","04"]
["CO ","M","P2","CAD","04"]
["CO ","M","P2","AUD","04"]
["CO ","M","P2","GBP","04"]
["CO ","M","P2","EUR","04"]
["CO ","M","X2","USD","04"]
["CO ","M","X2","CAD","04"]
["CO ","M","X2","AUD","04"]
["CO ","M","X2","GBP","04"]
["CO ","M","X2","EUR","04"]
["HCN ","N","X1","USD","04"]
["HCN ","N","X1","CAD","04"]
["HCN ","N","X1","AUD","04"]
["HCN ","N","X1","GBP","04"]
["HCN ","N","X1","EUR","04"]
["HCN ","N","X2","USD","04"]
["HCN ","N","X2","CAD","04"]
["HCN ","N","X2","AUD","04"]
["HCN ","N","X2","GBP","04"]
["HCN ","N","X2","EUR","04"]
["CO-H ","R","P1","USD","04"]
["CO-H ","R","P1","CAD","04"]
["CO-H ","R","P1","AUD","04"]
["CO-H ","R","P1","GBP","04"]
["CO-H ","R","P1","EUR","04"]
["CO-H ","R","X1","USD","04"]
["CO-H ","R","X1","CAD","04"]
["CO-H ","R","X1","AUD","04"]
["CO-H ","R","X1","GBP","04"]
["CO-H ","R","X1","EUR","04"]
["CO-H ","R","P2","USD","04"]
["CO-H ","R","P2","CAD","04"]
["CO-H ","R","P2","AUD","04"]
["CO-H ","R","P2","GBP","04"]
["CO-H ","R","P2","EUR","04"]
["CO-H ","R","X2","USD","04"]
["CO-H ","R","X2","CAD","04"]
["CO-H ","R","X2","AUD","04"]
["CO-H ","R","X2","GBP","04"]
["CO-H ","R","X2","EUR","04"]
["High-range CO ","T","P1","USD","04"]
["High-range CO ","T","P1","CAD","04"]
["High-range CO ","T","P1","AUD","04"]
["High-range CO ","T","P1","GBP","04"]
["High-range CO ","T","P1","EUR","04"]
["High-range CO ","T","X1","USD","04"]
["High-range CO ","T","X1","CAD","04"]
["High-range CO ","T","X1","AUD","04"]
["High-range CO ","T","X1","GBP","04"]
["High-range CO ","T","X1","EUR","04"]
["High-range CO ","T","P2","USD","04"]
["High-range CO ","T","P2","CAD","04"]
["High-range CO ","T","P2","AUD","04"]
["High-range CO ","T","P2","GBP","04"]
["High-range CO ","T","P2","EUR","04"]
["High-range CO ","T","X2","USD","04"]
["High-range CO ","T","X2","CAD","04"]
["High-range CO ","T","X2","AUD","04"]
["High-range CO ","T","X2","GBP","04"]
["High-range CO ","T","X2","EUR","04"]
["PID ","V","P1","USD","04"]
["PID ","V","P1","CAD","04"]
["PID ","V","P1","AUD","04"]
["PID ","V","P1","GBP","04"]
["PID ","V","P1","EUR","04"]
["PID ","V","X1","USD","04"]
["PID ","V","X1","CAD","04"]
["PID ","V","X1","AUD","04"]
["PID ","V","X1","GBP","04"]
["PID ","V","X1","EUR","04"]
["ClO2","W","X1","USD","04"]
["ClO2","W","X1","CAD","04"]
["ClO2","W","X1","AUD","04"]
["ClO2","W","X1","GBP","04"]
["ClO2","W","X1","EUR","04"]
["ClO2","W","X2","USD","04"]
["ClO2","W","X2","CAD","04"]
["ClO2","W","X2","AUD","04"]
["ClO2","W","X2","GBP","04"]
["ClO2","W","X2","EUR","04"]
["No Sensor ","X","P1","USD","04"]
["No Sensor ","X","P1","CAD","04"]
["No Sensor ","X","P1","AUD","04"]
["No Sensor ","X","P1","GBP","04"]
["No Sensor ","X","P1","EUR","04"]
["No Sensor ","X","X1","USD","04"]
["No Sensor ","X","X1","CAD","04"]
["No Sensor ","X","X1","AUD","04"]
["No Sensor ","X","X1","GBP","04"]
["No Sensor ","X","X1","EUR","04"]
["No Sensor ","X","P2","USD","04"]
["No Sensor ","X","P2","CAD","04"]
["No Sensor ","X","P2","AUD","04"]
["No Sensor ","X","P2","GBP","04"]
["No Sensor ","X","P2","EUR","04"]
["No Sensor ","X","X2","USD","04"]
["No Sensor ","X","X2","CAD","04"]
["No Sensor ","X","X2","AUD","04"]
["No Sensor ","X","X2","GBP","04"]
["No Sensor ","X","X2","EUR","04"]
["NH3 ","A","P1","USD","05"]
["NH3 ","A","P1","CAD","05"]
["NH3 ","A","P1","AUD","05"]
["NH3 ","A","P1","GBP","05"]
["NH3 ","A","P1","EUR","05"]
["NH3 ","A","X1","USD","05"]
["NH3 ","A","X1","CAD","05"]
["NH3 ","A","X1","AUD","05"]
["NH3 ","A","X1","GBP","05"]
["NH3 ","A","X1","EUR","05"]
["NH3 ","A","P2","USD","05"]
["NH3 ","A","P2","CAD","05"]
["NH3 ","A","P2","AUD","05"]
["NH3 ","A","P2","GBP","05"]
["NH3 ","A","P2","EUR","05"]
["NH3 ","A","X2","USD","05"]
["NH3 ","A","X2","CAD","05"]
["NH3 ","A","X2","AUD","05"]
["NH3 ","A","X2","GBP","05"]
["NH3 ","A","X2","EUR","05"]
["High-range NH3 ","B","P1","USD","05"]
["High-range NH3 ","B","P1","CAD","05"]
["High-range NH3 ","B","P1","AUD","05"]
["High-range NH3 ","B","P1","GBP","05"]
["High-range NH3 ","B","P1","EUR","05"]
["High-range NH3 ","B","X1","USD","05"]
["High-range NH3 ","B","X1","CAD","05"]
["High-range NH3 ","B","X1","AUD","05"]
["High-range NH3 ","B","X1","GBP","05"]
["High-range NH3 ","B","X1","EUR","05"]
["High-range NH3 ","B","P2","USD","05"]
["High-range NH3 ","B","P2","CAD","05"]
["High-range NH3 ","B","P2","AUD","05"]
["High-range NH3 ","B","P2","GBP","05"]
["High-range NH3 ","B","P2","EUR","05"]
["High-range NH3 ","B","X2","USD","05"]
["High-range NH3 ","B","X2","CAD","05"]
["High-range NH3 ","B","X2","AUD","05"]
["High-range NH3 ","B","X2","GBP","05"]
["High-range NH3 ","B","X2","EUR","05"]
["CO2 ","C","P1","USD","05"]
["CO2 ","C","P1","CAD","05"]
["CO2 ","C","P1","AUD","05"]
["CO2 ","C","P1","GBP","05"]
["CO2 ","C","P1","EUR","05"]
["CO2 ","C","X1","USD","05"]
["CO2 ","C","X1","CAD","05"]
["CO2 ","C","X1","AUD","05"]
["CO2 ","C","X1","GBP","05"]
["CO2 ","C","X1","EUR","05"]
["H2S ","H","P1","USD","05"]
["H2S ","H","P1","CAD","05"]
["H2S ","H","P1","AUD","05"]
["H2S ","H","P1","GBP","05"]
["H2S ","H","P1","EUR","05"]
["H2S ","H","X1","USD","05"]
["H2S ","H","X1","CAD","05"]
["H2S ","H","X1","AUD","05"]
["H2S ","H","X1","GBP","05"]
["H2S ","H","X1","EUR","05"]
["H2S ","H","P2","USD","05"]
["H2S ","H","P2","CAD","05"]
["H2S ","H","P2","AUD","05"]
["H2S ","H","P2","GBP","05"]
["H2S ","H","P2","EUR","05"]
["H2S ","H","X2","USD","05"]
["H2S ","H","X2","CAD","05"]
["H2S ","H","X2","AUD","05"]
["H2S ","H","X2","GBP","05"]
["H2S ","H","X2","EUR","05"]
["High-range H2S ","J","P1","USD","05"]
["High-range H2S ","J","P1","CAD","05"]
["High-range H2S ","J","P1","AUD","05"]
["High-range H2S ","J","P1","GBP","05"]
["High-range H2S ","J","P1","EUR","05"]
["High-range H2S ","J","X1","USD","05"]
["High-range H2S ","J","X1","CAD","05"]
["High-range H2S ","J","X1","AUD","05"]
["High-range H2S ","J","X1","GBP","05"]
["High-range H2S ","J","X1","EUR","05"]
["High-range H2S ","J","P2","USD","05"]
["High-range H2S ","J","P2","CAD","05"]
["High-range H2S ","J","P2","AUD","05"]
["High-range H2S ","J","P2","GBP","05"]
["High-range H2S ","J","P2","EUR","05"]
["High-range H2S ","J","X2","USD","05"]
["High-range H2S ","J","X2","CAD","05"]
["High-range H2S ","J","X2","AUD","05"]
["High-range H2S ","J","X2","GBP","05"]
["High-range H2S ","J","X2","EUR","05"]
["NO2 ","K","P1","USD","05"]
["NO2 ","K","P1","CAD","05"]
["NO2 ","K","P1","AUD","05"]
["NO2 ","K","P1","GBP","05"]
["NO2 ","K","P1","EUR","05"]
["NO2 ","K","X1","USD","05"]
["NO2 ","K","X1","CAD","05"]
["NO2 ","K","X1","AUD","05"]
["NO2 ","K","X1","GBP","05"]
["NO2 ","K","X1","EUR","05"]
["NO2 ","K","P2","USD","05"]
["NO2 ","K","P2","CAD","05"]
["NO2 ","K","P2","AUD","05"]
["NO2 ","K","P2","GBP","05"]
["NO2 ","K","P2","EUR","05"]
["NO2 ","K","X2","USD","05"]
["NO2 ","K","X2","CAD","05"]
["NO2 ","K","X2","AUD","05"]
["NO2 ","K","X2","GBP","05"]
["NO2 ","K","X2","EUR","05"]
["CO ","M","P1","USD","05"]
["CO ","M","P1","CAD","05"]
["CO ","M","P1","AUD","05"]
["CO ","M","P1","GBP","05"]
["CO ","M","P1","EUR","05"]
["CO ","M","X1","USD","05"]
["CO ","M","X1","CAD","05"]
["CO ","M","X1","AUD","05"]
["CO ","M","X1","GBP","05"]
["CO ","M","X1","EUR","05"]
["CO ","M","P2","USD","05"]
["CO ","M","P2","CAD","05"]
["CO ","M","P2","AUD","05"]
["CO ","M","P2","GBP","05"]
["CO ","M","P2","EUR","05"]
["CO ","M","X2","USD","05"]
["CO ","M","X2","CAD","05"]
["CO ","M","X2","AUD","05"]
["CO ","M","X2","GBP","05"]
["CO ","M","X2","EUR","05"]
["CO-H ","R","P1","USD","05"]
["CO-H ","R","P1","CAD","05"]
["CO-H ","R","P1","AUD","05"]
["CO-H ","R","P1","GBP","05"]
["CO-H ","R","P1","EUR","05"]
["CO-H ","R","X1","USD","05"]
["CO-H ","R","X1","CAD","05"]
["CO-H ","R","X1","AUD","05"]
["CO-H ","R","X1","GBP","05"]
["CO-H ","R","X1","EUR","05"]
["CO-H ","R","P2","USD","05"]
["CO-H ","R","P2","CAD","05"]
["CO-H ","R","P2","AUD","05"]
["CO-H ","R","P2","GBP","05"]
["CO-H ","R","P2","EUR","05"]
["CO-H ","R","X2","USD","05"]
["CO-H ","R","X2","CAD","05"]
["CO-H ","R","X2","AUD","05"]
["CO-H ","R","X2","GBP","05"]
["CO-H ","R","X2","EUR","05"]
["SO2 ","S","P1","USD","05"]
["SO2 ","S","P1","CAD","05"]
["SO2 ","S","P1","AUD","05"]
["SO2 ","S","P1","GBP","05"]
["SO2 ","S","P1","EUR","05"]
["SO2 ","S","X1","USD","05"]
["SO2 ","S","X1","CAD","05"]
["SO2 ","S","X1","AUD","05"]
["SO2 ","S","X1","GBP","05"]
["SO2 ","S","X1","EUR","05"]
["SO2 ","S","P2","USD","05"]
["SO2 ","S","P2","CAD","05"]
["SO2 ","S","P2","AUD","05"]
["SO2 ","S","P2","GBP","05"]
["SO2 ","S","P2","EUR","05"]
["SO2 ","S","X2","USD","05"]
["SO2 ","S","X2","CAD","05"]
["SO2 ","S","X2","AUD","05"]
["SO2 ","S","X2","GBP","05"]
["SO2 ","S","X2","EUR","05"]
["High-range CO ","T","P1","USD","05"]
["High-range CO ","T","P1","CAD","05"]
["High-range CO ","T","P1","AUD","05"]
["High-range CO ","T","P1","GBP","05"]
["High-range CO ","T","P1","EUR","05"]
["High-range CO ","T","X1","USD","05"]
["High-range CO ","T","X1","CAD","05"]
["High-range CO ","T","X1","AUD","05"]
["High-range CO ","T","X1","GBP","05"]
["High-range CO ","T","X1","EUR","05"]
["High-range CO ","T","P2","USD","05"]
["High-range CO ","T","P2","CAD","05"]
["High-range CO ","T","P2","AUD","05"]
["High-range CO ","T","P2","GBP","05"]
["High-range CO ","T","P2","EUR","05"]
["High-range CO ","T","X2","USD","05"]
["High-range CO ","T","X2","CAD","05"]
["High-range CO ","T","X2","AUD","05"]
["High-range CO ","T","X2","GBP","05"]
["High-range CO ","T","X2","EUR","05"]
["ClO2","W","X1","USD","05"]
["ClO2","W","X1","CAD","05"]
["ClO2","W","X1","AUD","05"]
["ClO2","W","X1","GBP","05"]
["ClO2","W","X1","EUR","05"]
["ClO2","W","X2","USD","05"]
["ClO2","W","X2","CAD","05"]
["ClO2","W","X2","AUD","05"]
["ClO2","W","X2","GBP","05"]
["ClO2","W","X2","EUR","05"]
["No Sensor ","X","P1","USD","05"]
["No Sensor ","X","P1","CAD","05"]
["No Sensor ","X","P1","AUD","05"]
["No Sensor ","X","P1","GBP","05"]
["No Sensor ","X","P1","EUR","05"]
["No Sensor ","X","X1","USD","05"]
["No Sensor ","X","X1","CAD","05"]
["No Sensor ","X","X1","AUD","05"]
["No Sensor ","X","X1","GBP","05"]
["No Sensor ","X","X1","EUR","05"]
["No Sensor ","X","P2","USD","05"]
["No Sensor ","X","P2","CAD","05"]
["No Sensor ","X","P2","AUD","05"]
["No Sensor ","X","P2","GBP","05"]
["No Sensor ","X","P2","EUR","05"]
["No Sensor ","X","X2","USD","05"]
["No Sensor ","X","X2","CAD","05"]
["No Sensor ","X","X2","AUD","05"]
["No Sensor ","X","X2","GBP","05"]
["No Sensor ","X","X2","EUR","05"]
["CO2 ","C","P1","USD","06"]
["CO2 ","C","P1","CAD","06"]
["CO2 ","C","P1","AUD","06"]
["CO2 ","C","P1","GBP","06"]
["CO2 ","C","P1","EUR","06"]
["CO2 ","C","X1","USD","06"]
["CO2 ","C","X1","CAD","06"]
["CO2 ","C","X1","AUD","06"]
["CO2 ","C","X1","GBP","06"]
["CO2 ","C","X1","EUR","06"]
["H2 ","G","P1","GBP","06"]
["H2 ","G","P1","EUR","06"]
["H2 ","G","X1","GBP","06"]
["H2 ","G","X1","EUR","06"]
["H2 ","G","P2","GBP","06"]
["H2 ","G","P2","EUR","06"]
["H2 ","G","X2","GBP","06"]
["H2 ","G","X2","EUR","06"]
["H2S ","H","P1","USD","06"]
["H2S ","H","P1","CAD","06"]
["H2S ","H","P1","AUD","06"]
["H2S ","H","P1","GBP","06"]
["H2S ","H","P1","EUR","06"]
["H2S ","H","X1","USD","06"]
["H2S ","H","X1","CAD","06"]
["H2S ","H","X1","AUD","06"]
["H2S ","H","X1","GBP","06"]
["H2S ","H","X1","EUR","06"]
["H2S ","H","P2","USD","06"]
["H2S ","H","P2","CAD","06"]
["H2S ","H","P2","AUD","06"]
["H2S ","H","P2","GBP","06"]
["H2S ","H","P2","EUR","06"]
["H2S ","H","X2","USD","06"]
["H2S ","H","X2","CAD","06"]
["H2S ","H","X2","AUD","06"]
["H2S ","H","X2","GBP","06"]
["H2S ","H","X2","EUR","06"]
["High-range H2S ","J","P1","USD","06"]
["High-range H2S ","J","P1","CAD","06"]
["High-range H2S ","J","P1","AUD","06"]
["High-range H2S ","J","P1","GBP","06"]
["High-range H2S ","J","P1","EUR","06"]
["High-range H2S ","J","X1","USD","06"]
["High-range H2S ","J","X1","CAD","06"]
["High-range H2S ","J","X1","AUD","06"]
["High-range H2S ","J","X1","GBP","06"]
["High-range H2S ","J","X1","EUR","06"]
["High-range H2S ","J","P2","USD","06"]
["High-range H2S ","J","P2","CAD","06"]
["High-range H2S ","J","P2","AUD","06"]
["High-range H2S ","J","P2","GBP","06"]
["High-range H2S ","J","P2","EUR","06"]
["High-range H2S ","J","X2","USD","06"]
["High-range H2S ","J","X2","CAD","06"]
["High-range H2S ","J","X2","AUD","06"]
["High-range H2S ","J","X2","GBP","06"]
["High-range H2S ","J","X2","EUR","06"]
["NO2 ","K","P1","USD","06"]
["NO2 ","K","P1","CAD","06"]
["NO2 ","K","P1","AUD","06"]
["NO2 ","K","P1","GBP","06"]
["NO2 ","K","P1","EUR","06"]
["NO2 ","K","X1","USD","06"]
["NO2 ","K","X1","CAD","06"]
["NO2 ","K","X1","AUD","06"]
["NO2 ","K","X1","GBP","06"]
["NO2 ","K","X1","EUR","06"]
["NO2 ","K","P2","USD","06"]
["NO2 ","K","P2","CAD","06"]
["NO2 ","K","P2","AUD","06"]
["NO2 ","K","P2","GBP","06"]
["NO2 ","K","P2","EUR","06"]
["NO2 ","K","X2","USD","06"]
["NO2 ","K","X2","CAD","06"]
["NO2 ","K","X2","AUD","06"]
["NO2 ","K","X2","GBP","06"]
["NO2 ","K","X2","EUR","06"]
["CO ","M","P1","USD","06"]
["CO ","M","P1","CAD","06"]
["CO ","M","P1","AUD","06"]
["CO ","M","P1","GBP","06"]
["CO ","M","P1","EUR","06"]
["CO ","M","X1","USD","06"]
["CO ","M","X1","CAD","06"]
["CO ","M","X1","AUD","06"]
["CO ","M","X1","GBP","06"]
["CO ","M","X1","EUR","06"]
["CO ","M","P2","USD","06"]
["CO ","M","P2","CAD","06"]
["CO ","M","P2","AUD","06"]
["CO ","M","P2","GBP","06"]
["CO ","M","P2","EUR","06"]
["CO ","M","X2","USD","06"]
["CO ","M","X2","CAD","06"]
["CO ","M","X2","AUD","06"]
["CO ","M","X2","GBP","06"]
["CO ","M","X2","EUR","06"]
["CO-H ","R","P1","USD","06"]
["CO-H ","R","P1","CAD","06"]
["CO-H ","R","P1","AUD","06"]
["CO-H ","R","P1","GBP","06"]
["CO-H ","R","P1","EUR","06"]
["CO-H ","R","X1","USD","06"]
["CO-H ","R","X1","CAD","06"]
["CO-H ","R","X1","AUD","06"]
["CO-H ","R","X1","GBP","06"]
["CO-H ","R","X1","EUR","06"]
["CO-H ","R","P2","USD","06"]
["CO-H ","R","P2","CAD","06"]
["CO-H ","R","P2","AUD","06"]
["CO-H ","R","P2","GBP","06"]
["CO-H ","R","P2","EUR","06"]
["CO-H ","R","X2","USD","06"]
["CO-H ","R","X2","CAD","06"]
["CO-H ","R","X2","AUD","06"]
["CO-H ","R","X2","GBP","06"]
["CO-H ","R","X2","EUR","06"]
["SO2 ","S","P1","USD","06"]
["SO2 ","S","P1","CAD","06"]
["SO2 ","S","P1","AUD","06"]
["SO2 ","S","P1","GBP","06"]
["SO2 ","S","P1","EUR","06"]
["SO2 ","S","X1","USD","06"]
["SO2 ","S","X1","CAD","06"]
["SO2 ","S","X1","AUD","06"]
["SO2 ","S","X1","GBP","06"]
["SO2 ","S","X1","EUR","06"]
["SO2 ","S","P2","USD","06"]
["SO2 ","S","P2","CAD","06"]
["SO2 ","S","P2","AUD","06"]
["SO2 ","S","P2","GBP","06"]
["SO2 ","S","P2","EUR","06"]
["SO2 ","S","X2","USD","06"]
["SO2 ","S","X2","CAD","06"]
["SO2 ","S","X2","AUD","06"]
["SO2 ","S","X2","GBP","06"]
["SO2 ","S","X2","EUR","06"]
["High-range CO ","T","P1","USD","06"]
["High-range CO ","T","P1","CAD","06"]
["High-range CO ","T","P1","AUD","06"]
["High-range CO ","T","P1","GBP","06"]
["High-range CO ","T","P1","EUR","06"]
["High-range CO ","T","X1","USD","06"]
["High-range CO ","T","X1","CAD","06"]
["High-range CO ","T","X1","AUD","06"]
["High-range CO ","T","X1","GBP","06"]
["High-range CO ","T","X1","EUR","06"]
["High-range CO ","T","P2","USD","06"]
["High-range CO ","T","P2","CAD","06"]
["High-range CO ","T","P2","AUD","06"]
["High-range CO ","T","P2","GBP","06"]
["High-range CO ","T","P2","EUR","06"]
["High-range CO ","T","X2","USD","06"]
["High-range CO ","T","X2","CAD","06"]
["High-range CO ","T","X2","AUD","06"]
["High-range CO ","T","X2","GBP","06"]
["High-range CO ","T","X2","EUR","06"]
["ClO2","W","X1","USD","06"]
["ClO2","W","X1","CAD","06"]
["ClO2","W","X1","AUD","06"]
["ClO2","W","X1","GBP","06"]
["ClO2","W","X1","EUR","06"]
["ClO2","W","X2","USD","06"]
["ClO2","W","X2","CAD","06"]
["ClO2","W","X2","AUD","06"]
["ClO2","W","X2","GBP","06"]
["ClO2","W","X2","EUR","06"]
["No Sensor ","X","P1","USD","06"]
["No Sensor ","X","P1","CAD","06"]
["No Sensor ","X","P1","AUD","06"]
["No Sensor ","X","P1","GBP","06"]
["No Sensor ","X","P1","EUR","06"]
["No Sensor ","X","X1","USD","06"]
["No Sensor ","X","X1","CAD","06"]
["No Sensor ","X","X1","AUD","06"]
["No Sensor ","X","X1","GBP","06"]
["No Sensor ","X","X1","EUR","06"]
["No Sensor ","X","P2","USD","06"]
["No Sensor ","X","P2","CAD","06"]
["No Sensor ","X","P2","AUD","06"]
["No Sensor ","X","P2","GBP","06"]
["No Sensor ","X","P2","EUR","06"]
["No Sensor ","X","X2","USD","06"]
["No Sensor ","X","X2","CAD","06"]
["No Sensor ","X","X2","AUD","06"]
["No Sensor ","X","X2","GBP","06"]
["No Sensor ","X","X2","EUR","06"]
["NH3 ","A","P1","USD","07"]
["NH3 ","A","P1","CAD","07"]
["NH3 ","A","P1","AUD","07"]
["NH3 ","A","P1","GBP","07"]
["NH3 ","A","P1","EUR","07"]
["NH3 ","A","X1","USD","07"]
["NH3 ","A","X1","CAD","07"]
["NH3 ","A","X1","AUD","07"]
["NH3 ","A","X1","GBP","07"]
["NH3 ","A","X1","EUR","07"]
["NH3 ","A","P2","USD","07"]
["NH3 ","A","P2","CAD","07"]
["NH3 ","A","P2","AUD","07"]
["NH3 ","A","P2","GBP","07"]
["NH3 ","A","P2","EUR","07"]
["NH3 ","A","X2","USD","07"]
["NH3 ","A","X2","CAD","07"]
["NH3 ","A","X2","AUD","07"]
["NH3 ","A","X2","GBP","07"]
["NH3 ","A","X2","EUR","07"]
["High-range NH3 ","B","P1","USD","07"]
["High-range NH3 ","B","P1","CAD","07"]
["High-range NH3 ","B","P1","AUD","07"]
["High-range NH3 ","B","P1","GBP","07"]
["High-range NH3 ","B","P1","EUR","07"]
["High-range NH3 ","B","X1","USD","07"]
["High-range NH3 ","B","X1","CAD","07"]
["High-range NH3 ","B","X1","AUD","07"]
["High-range NH3 ","B","X1","GBP","07"]
["High-range NH3 ","B","X1","EUR","07"]
["High-range NH3 ","B","P2","USD","07"]
["High-range NH3 ","B","P2","CAD","07"]
["High-range NH3 ","B","P2","AUD","07"]
["High-range NH3 ","B","P2","GBP","07"]
["High-range NH3 ","B","P2","EUR","07"]
["High-range NH3 ","B","X2","USD","07"]
["High-range NH3 ","B","X2","CAD","07"]
["High-range NH3 ","B","X2","AUD","07"]
["High-range NH3 ","B","X2","GBP","07"]
["High-range NH3 ","B","X2","EUR","07"]
["CO2 ","C","P1","USD","07"]
["CO2 ","C","P1","CAD","07"]
["CO2 ","C","P1","AUD","07"]
["CO2 ","C","P1","GBP","07"]
["CO2 ","C","P1","EUR","07"]
["CO2 ","C","X1","USD","07"]
["CO2 ","C","X1","CAD","07"]
["CO2 ","C","X1","AUD","07"]
["CO2 ","C","X1","GBP","07"]
["CO2 ","C","X1","EUR","07"]
["H2S ","H","P1","USD","07"]
["H2S ","H","P1","CAD","07"]
["H2S ","H","P1","AUD","07"]
["H2S ","H","P1","GBP","07"]
["H2S ","H","P1","EUR","07"]
["H2S ","H","X1","USD","07"]
["H2S ","H","X1","CAD","07"]
["H2S ","H","X1","AUD","07"]
["H2S ","H","X1","GBP","07"]
["H2S ","H","X1","EUR","07"]
["H2S ","H","P2","USD","07"]
["H2S ","H","P2","CAD","07"]
["H2S ","H","P2","AUD","07"]
["H2S ","H","P2","GBP","07"]
["H2S ","H","P2","EUR","07"]
["H2S ","H","X2","USD","07"]
["H2S ","H","X2","CAD","07"]
["H2S ","H","X2","AUD","07"]
["H2S ","H","X2","GBP","07"]
["H2S ","H","X2","EUR","07"]
["High-range H2S ","J","P1","USD","07"]
["High-range H2S ","J","P1","CAD","07"]
["High-range H2S ","J","P1","AUD","07"]
["High-range H2S ","J","P1","GBP","07"]
["High-range H2S ","J","P1","EUR","07"]
["High-range H2S ","J","X1","USD","07"]
["High-range H2S ","J","X1","CAD","07"]
["High-range H2S ","J","X1","AUD","07"]
["High-range H2S ","J","X1","GBP","07"]
["High-range H2S ","J","X1","EUR","07"]
["High-range H2S ","J","P2","USD","07"]
["High-range H2S ","J","P2","CAD","07"]
["High-range H2S ","J","P2","AUD","07"]
["High-range H2S ","J","P2","GBP","07"]
["High-range H2S ","J","P2","EUR","07"]
["High-range H2S ","J","X2","USD","07"]
["High-range H2S ","J","X2","CAD","07"]
["High-range H2S ","J","X2","AUD","07"]
["High-range H2S ","J","X2","GBP","07"]
["High-range H2S ","J","X2","EUR","07"]
["NO2 ","K","P1","USD","07"]
["NO2 ","K","P1","CAD","07"]
["NO2 ","K","P1","AUD","07"]
["NO2 ","K","P1","GBP","07"]
["NO2 ","K","P1","EUR","07"]
["NO2 ","K","X1","USD","07"]
["NO2 ","K","X1","CAD","07"]
["NO2 ","K","X1","AUD","07"]
["NO2 ","K","X1","GBP","07"]
["NO2 ","K","X1","EUR","07"]
["NO2 ","K","P2","USD","07"]
["NO2 ","K","P2","CAD","07"]
["NO2 ","K","P2","AUD","07"]
["NO2 ","K","P2","GBP","07"]
["NO2 ","K","P2","EUR","07"]
["NO2 ","K","X2","USD","07"]
["NO2 ","K","X2","CAD","07"]
["NO2 ","K","X2","AUD","07"]
["NO2 ","K","X2","GBP","07"]
["NO2 ","K","X2","EUR","07"]
["Cl2 ","L","X1","USD","07"]
["Cl2 ","L","X1","CAD","07"]
["Cl2 ","L","X1","AUD","07"]
["Cl2 ","L","X1","GBP","07"]
["Cl2 ","L","X1","EUR","07"]
["Cl2 ","L","X2","USD","07"]
["Cl2 ","L","X2","CAD","07"]
["Cl2 ","L","X2","AUD","07"]
["Cl2 ","L","X2","GBP","07"]
["Cl2 ","L","X2","EUR","07"]
["CO ","M","P1","USD","07"]
["CO ","M","P1","CAD","07"]
["CO ","M","P1","AUD","07"]
["CO ","M","P1","GBP","07"]
["CO ","M","P1","EUR","07"]
["CO ","M","X1","USD","07"]
["CO ","M","X1","CAD","07"]
["CO ","M","X1","AUD","07"]
["CO ","M","X1","GBP","07"]
["CO ","M","X1","EUR","07"]
["CO ","M","P2","USD","07"]
["CO ","M","P2","CAD","07"]
["CO ","M","P2","AUD","07"]
["CO ","M","P2","GBP","07"]
["CO ","M","P2","EUR","07"]
["CO ","M","X2","USD","07"]
["CO ","M","X2","CAD","07"]
["CO ","M","X2","AUD","07"]
["CO ","M","X2","GBP","07"]
["CO ","M","X2","EUR","07"]
["CO-H ","R","P1","USD","07"]
["CO-H ","R","P1","CAD","07"]
["CO-H ","R","P1","AUD","07"]
["CO-H ","R","P1","GBP","07"]
["CO-H ","R","P1","EUR","07"]
["CO-H ","R","X1","USD","07"]
["CO-H ","R","X1","CAD","07"]
["CO-H ","R","X1","AUD","07"]
["CO-H ","R","X1","GBP","07"]
["CO-H ","R","X1","EUR","07"]
["CO-H ","R","P2","USD","07"]
["CO-H ","R","P2","CAD","07"]
["CO-H ","R","P2","AUD","07"]
["CO-H ","R","P2","GBP","07"]
["CO-H ","R","P2","EUR","07"]
["CO-H ","R","X2","USD","07"]
["CO-H ","R","X2","CAD","07"]
["CO-H ","R","X2","AUD","07"]
["CO-H ","R","X2","GBP","07"]
["CO-H ","R","X2","EUR","07"]
["SO2 ","S","P1","USD","07"]
["SO2 ","S","P1","CAD","07"]
["SO2 ","S","P1","AUD","07"]
["SO2 ","S","P1","GBP","07"]
["SO2 ","S","P1","EUR","07"]
["SO2 ","S","X1","USD","07"]
["SO2 ","S","X1","CAD","07"]
["SO2 ","S","X1","AUD","07"]
["SO2 ","S","X1","GBP","07"]
["SO2 ","S","X1","EUR","07"]
["SO2 ","S","P2","USD","07"]
["SO2 ","S","P2","CAD","07"]
["SO2 ","S","P2","AUD","07"]
["SO2 ","S","P2","GBP","07"]
["SO2 ","S","P2","EUR","07"]
["SO2 ","S","X2","USD","07"]
["SO2 ","S","X2","CAD","07"]
["SO2 ","S","X2","AUD","07"]
["SO2 ","S","X2","GBP","07"]
["SO2 ","S","X2","EUR","07"]
["High-range CO ","T","P1","USD","07"]
["High-range CO ","T","P1","CAD","07"]
["High-range CO ","T","P1","AUD","07"]
["High-range CO ","T","P1","GBP","07"]
["High-range CO ","T","P1","EUR","07"]
["High-range CO ","T","X1","USD","07"]
["High-range CO ","T","X1","CAD","07"]
["High-range CO ","T","X1","AUD","07"]
["High-range CO ","T","X1","GBP","07"]
["High-range CO ","T","X1","EUR","07"]
["High-range CO ","T","P2","USD","07"]
["High-range CO ","T","P2","CAD","07"]
["High-range CO ","T","P2","AUD","07"]
["High-range CO ","T","P2","GBP","07"]
["High-range CO ","T","P2","EUR","07"]
["High-range CO ","T","X2","USD","07"]
["High-range CO ","T","X2","CAD","07"]
["High-range CO ","T","X2","AUD","07"]
["High-range CO ","T","X2","GBP","07"]
["High-range CO ","T","X2","EUR","07"]
["PID ","V","P1","USD","07"]
["PID ","V","P1","CAD","07"]
["PID ","V","P1","AUD","07"]
["PID ","V","P1","GBP","07"]
["PID ","V","P1","EUR","07"]
["PID ","V","X1","USD","07"]
["PID ","V","X1","CAD","07"]
["PID ","V","X1","AUD","07"]
["PID ","V","X1","GBP","07"]
["PID ","V","X1","EUR","07"]
["ClO2","W","X1","USD","07"]
["ClO2","W","X1","CAD","07"]
["ClO2","W","X1","AUD","07"]
["ClO2","W","X1","GBP","07"]
["ClO2","W","X1","EUR","07"]
["ClO2","W","X2","USD","07"]
["ClO2","W","X2","CAD","07"]
["ClO2","W","X2","AUD","07"]
["ClO2","W","X2","GBP","07"]
["ClO2","W","X2","EUR","07"]
["No Sensor ","X","P1","USD","07"]
["No Sensor ","X","P1","CAD","07"]
["No Sensor ","X","P1","AUD","07"]
["No Sensor ","X","P1","GBP","07"]
["No Sensor ","X","P1","EUR","07"]
["No Sensor ","X","X1","USD","07"]
["No Sensor ","X","X1","CAD","07"]
["No Sensor ","X","X1","AUD","07"]
["No Sensor ","X","X1","GBP","07"]
["No Sensor ","X","X1","EUR","07"]
["No Sensor ","X","P2","USD","07"]
["No Sensor ","X","P2","CAD","07"]
["No Sensor ","X","P2","AUD","07"]
["No Sensor ","X","P2","GBP","07"]
["No Sensor ","X","P2","EUR","07"]
["No Sensor ","X","X2","USD","07"]
["No Sensor ","X","X2","CAD","07"]
["No Sensor ","X","X2","AUD","07"]
["No Sensor ","X","X2","GBP","07"]
["No Sensor ","X","X2","EUR","07"]
["NH3 ","A","P1","USD","08"]
["NH3 ","A","P1","CAD","08"]
["NH3 ","A","P1","AUD","08"]
["NH3 ","A","P1","GBP","08"]
["NH3 ","A","P1","EUR","08"]
["NH3 ","A","X1","USD","08"]
["NH3 ","A","X1","CAD","08"]
["NH3 ","A","X1","AUD","08"]
["NH3 ","A","X1","GBP","08"]
["NH3 ","A","X1","EUR","08"]
["NH3 ","A","P2","USD","08"]
["NH3 ","A","P2","CAD","08"]
["NH3 ","A","P2","AUD","08"]
["NH3 ","A","P2","GBP","08"]
["NH3 ","A","P2","EUR","08"]
["NH3 ","A","X2","USD","08"]
["NH3 ","A","X2","CAD","08"]
["NH3 ","A","X2","AUD","08"]
["NH3 ","A","X2","GBP","08"]
["NH3 ","A","X2","EUR","08"]
["High-range NH3 ","B","P1","USD","08"]
["High-range NH3 ","B","P1","CAD","08"]
["High-range NH3 ","B","P1","AUD","08"]
["High-range NH3 ","B","P1","GBP","08"]
["High-range NH3 ","B","P1","EUR","08"]
["High-range NH3 ","B","X1","USD","08"]
["High-range NH3 ","B","X1","CAD","08"]
["High-range NH3 ","B","X1","AUD","08"]
["High-range NH3 ","B","X1","GBP","08"]
["High-range NH3 ","B","X1","EUR","08"]
["High-range NH3 ","B","P2","USD","08"]
["High-range NH3 ","B","P2","CAD","08"]
["High-range NH3 ","B","P2","AUD","08"]
["High-range NH3 ","B","P2","GBP","08"]
["High-range NH3 ","B","P2","EUR","08"]
["High-range NH3 ","B","X2","USD","08"]
["High-range NH3 ","B","X2","CAD","08"]
["High-range NH3 ","B","X2","AUD","08"]
["High-range NH3 ","B","X2","GBP","08"]
["High-range NH3 ","B","X2","EUR","08"]
["CO2 ","C","P1","USD","08"]
["CO2 ","C","P1","CAD","08"]
["CO2 ","C","P1","AUD","08"]
["CO2 ","C","P1","GBP","08"]
["CO2 ","C","P1","EUR","08"]
["CO2 ","C","X1","USD","08"]
["CO2 ","C","X1","CAD","08"]
["CO2 ","C","X1","AUD","08"]
["CO2 ","C","X1","GBP","08"]
["CO2 ","C","X1","EUR","08"]
["H2 ","G","P1","GBP","08"]
["H2 ","G","P1","EUR","08"]
["H2 ","G","X1","GBP","08"]
["H2 ","G","X1","EUR","08"]
["H2 ","G","P2","GBP","08"]
["H2 ","G","P2","EUR","08"]
["H2 ","G","X2","GBP","08"]
["H2 ","G","X2","EUR","08"]
["High-range H2S ","J","P1","USD","08"]
["High-range H2S ","J","P1","CAD","08"]
["High-range H2S ","J","P1","AUD","08"]
["High-range H2S ","J","P1","GBP","08"]
["High-range H2S ","J","P1","EUR","08"]
["High-range H2S ","J","X1","USD","08"]
["High-range H2S ","J","X1","CAD","08"]
["High-range H2S ","J","X1","AUD","08"]
["High-range H2S ","J","X1","GBP","08"]
["High-range H2S ","J","X1","EUR","08"]
["High-range H2S ","J","P2","USD","08"]
["High-range H2S ","J","P2","CAD","08"]
["High-range H2S ","J","P2","AUD","08"]
["High-range H2S ","J","P2","GBP","08"]
["High-range H2S ","J","P2","EUR","08"]
["High-range H2S ","J","X2","USD","08"]
["High-range H2S ","J","X2","CAD","08"]
["High-range H2S ","J","X2","AUD","08"]
["High-range H2S ","J","X2","GBP","08"]
["High-range H2S ","J","X2","EUR","08"]
["NO2 ","K","P1","USD","08"]
["NO2 ","K","P1","CAD","08"]
["NO2 ","K","P1","AUD","08"]
["NO2 ","K","P1","GBP","08"]
["NO2 ","K","P1","EUR","08"]
["NO2 ","K","X1","USD","08"]
["NO2 ","K","X1","CAD","08"]
["NO2 ","K","X1","AUD","08"]
["NO2 ","K","X1","GBP","08"]
["NO2 ","K","X1","EUR","08"]
["NO2 ","K","P2","USD","08"]
["NO2 ","K","P2","CAD","08"]
["NO2 ","K","P2","AUD","08"]
["NO2 ","K","P2","GBP","08"]
["NO2 ","K","P2","EUR","08"]
["NO2 ","K","X2","USD","08"]
["NO2 ","K","X2","CAD","08"]
["NO2 ","K","X2","AUD","08"]
["NO2 ","K","X2","GBP","08"]
["NO2 ","K","X2","EUR","08"]
["CO ","M","P1","USD","08"]
["CO ","M","P1","CAD","08"]
["CO ","M","P1","AUD","08"]
["CO ","M","P1","GBP","08"]
["CO ","M","P1","EUR","08"]
["CO ","M","X1","USD","08"]
["CO ","M","X1","CAD","08"]
["CO ","M","X1","AUD","08"]
["CO ","M","X1","GBP","08"]
["CO ","M","X1","EUR","08"]
["CO ","M","P2","USD","08"]
["CO ","M","P2","CAD","08"]
["CO ","M","P2","AUD","08"]
["CO ","M","P2","GBP","08"]
["CO ","M","P2","EUR","08"]
["CO ","M","X2","USD","08"]
["CO ","M","X2","CAD","08"]
["CO ","M","X2","AUD","08"]
["CO ","M","X2","GBP","08"]
["CO ","M","X2","EUR","08"]
["HCN ","N","X1","USD","08"]
["HCN ","N","X1","CAD","08"]
["HCN ","N","X1","AUD","08"]
["HCN ","N","X1","GBP","08"]
["HCN ","N","X1","EUR","08"]
["HCN ","N","X2","USD","08"]
["HCN ","N","X2","CAD","08"]
["HCN ","N","X2","AUD","08"]
["HCN ","N","X2","GBP","08"]
["HCN ","N","X2","EUR","08"]
["CO-H ","R","P1","USD","08"]
["CO-H ","R","P1","CAD","08"]
["CO-H ","R","P1","AUD","08"]
["CO-H ","R","P1","GBP","08"]
["CO-H ","R","P1","EUR","08"]
["CO-H ","R","X1","USD","08"]
["CO-H ","R","X1","CAD","08"]
["CO-H ","R","X1","AUD","08"]
["CO-H ","R","X1","GBP","08"]
["CO-H ","R","X1","EUR","08"]
["CO-H ","R","P2","USD","08"]
["CO-H ","R","P2","CAD","08"]
["CO-H ","R","P2","AUD","08"]
["CO-H ","R","P2","GBP","08"]
["CO-H ","R","P2","EUR","08"]
["CO-H ","R","X2","USD","08"]
["CO-H ","R","X2","CAD","08"]
["CO-H ","R","X2","AUD","08"]
["CO-H ","R","X2","GBP","08"]
["CO-H ","R","X2","EUR","08"]
["High-range CO ","T","P1","USD","08"]
["High-range CO ","T","P1","CAD","08"]
["High-range CO ","T","P1","AUD","08"]
["High-range CO ","T","P1","GBP","08"]
["High-range CO ","T","P1","EUR","08"]
["High-range CO ","T","X1","USD","08"]
["High-range CO ","T","X1","CAD","08"]
["High-range CO ","T","X1","AUD","08"]
["High-range CO ","T","X1","GBP","08"]
["High-range CO ","T","X1","EUR","08"]
["High-range CO ","T","P2","USD","08"]
["High-range CO ","T","P2","CAD","08"]
["High-range CO ","T","P2","AUD","08"]
["High-range CO ","T","P2","GBP","08"]
["High-range CO ","T","P2","EUR","08"]
["High-range CO ","T","X2","USD","08"]
["High-range CO ","T","X2","CAD","08"]
["High-range CO ","T","X2","AUD","08"]
["High-range CO ","T","X2","GBP","08"]
["High-range CO ","T","X2","EUR","08"]
["PID ","V","P1","USD","08"]
["PID ","V","P1","CAD","08"]
["PID ","V","P1","AUD","08"]
["PID ","V","P1","GBP","08"]
["PID ","V","P1","EUR","08"]
["PID ","V","X1","USD","08"]
["PID ","V","X1","CAD","08"]
["PID ","V","X1","AUD","08"]
["PID ","V","X1","GBP","08"]
["PID ","V","X1","EUR","08"]
["ClO2","W","X1","USD","08"]
["ClO2","W","X1","CAD","08"]
["ClO2","W","X1","AUD","08"]
["ClO2","W","X1","GBP","08"]
["ClO2","W","X1","EUR","08"]
["ClO2","W","X2","USD","08"]
["ClO2","W","X2","CAD","08"]
["ClO2","W","X2","AUD","08"]
["ClO2","W","X2","GBP","08"]
["ClO2","W","X2","EUR","08"]
["No Sensor ","X","P1","USD","08"]
["No Sensor ","X","P1","CAD","08"]
["No Sensor ","X","P1","AUD","08"]
["No Sensor ","X","P1","GBP","08"]
["No Sensor ","X","P1","EUR","08"]
["No Sensor ","X","X1","USD","08"]
["No Sensor ","X","X1","CAD","08"]
["No Sensor ","X","X1","AUD","08"]
["No Sensor ","X","X1","GBP","08"]
["No Sensor ","X","X1","EUR","08"]
["No Sensor ","X","P2","USD","08"]
["No Sensor ","X","P2","CAD","08"]
["No Sensor ","X","P2","AUD","08"]
["No Sensor ","X","P2","GBP","08"]
["No Sensor ","X","P2","EUR","08"]
["No Sensor ","X","X2","USD","08"]
["No Sensor ","X","X2","CAD","08"]
["No Sensor ","X","X2","AUD","08"]
["No Sensor ","X","X2","GBP","08"]
["No Sensor ","X","X2","EUR","08"]
["CO2 ","C","P1","USD","09"]
["CO2 ","C","P1","CAD","09"]
["CO2 ","C","P1","AUD","09"]
["CO2 ","C","P1","GBP","09"]
["CO2 ","C","P1","EUR","09"]
["CO2 ","C","X1","USD","09"]
["CO2 ","C","X1","CAD","09"]
["CO2 ","C","X1","AUD","09"]
["CO2 ","C","X1","GBP","09"]
["CO2 ","C","X1","EUR","09"]
["H2 ","G","P1","GBP","09"]
["H2 ","G","P1","EUR","09"]
["H2 ","G","X1","GBP","09"]
["H2 ","G","X1","EUR","09"]
["H2 ","G","P2","GBP","09"]
["H2 ","G","P2","EUR","09"]
["H2 ","G","X2","GBP","09"]
["H2 ","G","X2","EUR","09"]
["NO2 ","K","P1","USD","09"]
["NO2 ","K","P1","CAD","09"]
["NO2 ","K","P1","AUD","09"]
["NO2 ","K","P1","GBP","09"]
["NO2 ","K","P1","EUR","09"]
["NO2 ","K","X1","USD","09"]
["NO2 ","K","X1","CAD","09"]
["NO2 ","K","X1","AUD","09"]
["NO2 ","K","X1","GBP","09"]
["NO2 ","K","X1","EUR","09"]
["NO2 ","K","P2","USD","09"]
["NO2 ","K","P2","CAD","09"]
["NO2 ","K","P2","AUD","09"]
["NO2 ","K","P2","GBP","09"]
["NO2 ","K","P2","EUR","09"]
["NO2 ","K","X2","USD","09"]
["NO2 ","K","X2","CAD","09"]
["NO2 ","K","X2","AUD","09"]
["NO2 ","K","X2","GBP","09"]
["NO2 ","K","X2","EUR","09"]
["CO ","M","P1","USD","09"]
["CO ","M","P1","CAD","09"]
["CO ","M","P1","AUD","09"]
["CO ","M","P1","GBP","09"]
["CO ","M","P1","EUR","09"]
["CO ","M","X1","USD","09"]
["CO ","M","X1","CAD","09"]
["CO ","M","X1","AUD","09"]
["CO ","M","X1","GBP","09"]
["CO ","M","X1","EUR","09"]
["CO ","M","P2","USD","09"]
["CO ","M","P2","CAD","09"]
["CO ","M","P2","AUD","09"]
["CO ","M","P2","GBP","09"]
["CO ","M","P2","EUR","09"]
["CO ","M","X2","USD","09"]
["CO ","M","X2","CAD","09"]
["CO ","M","X2","AUD","09"]
["CO ","M","X2","GBP","09"]
["CO ","M","X2","EUR","09"]
["HCN ","N","X1","USD","09"]
["HCN ","N","X1","CAD","09"]
["HCN ","N","X1","AUD","09"]
["HCN ","N","X1","GBP","09"]
["HCN ","N","X1","EUR","09"]
["HCN ","N","X2","USD","09"]
["HCN ","N","X2","CAD","09"]
["HCN ","N","X2","AUD","09"]
["HCN ","N","X2","GBP","09"]
["HCN ","N","X2","EUR","09"]
["CO-H ","R","P1","USD","09"]
["CO-H ","R","P1","CAD","09"]
["CO-H ","R","P1","AUD","09"]
["CO-H ","R","P1","GBP","09"]
["CO-H ","R","P1","EUR","09"]
["CO-H ","R","X1","USD","09"]
["CO-H ","R","X1","CAD","09"]
["CO-H ","R","X1","AUD","09"]
["CO-H ","R","X1","GBP","09"]
["CO-H ","R","X1","EUR","09"]
["CO-H ","R","P2","USD","09"]
["CO-H ","R","P2","CAD","09"]
["CO-H ","R","P2","AUD","09"]
["CO-H ","R","P2","GBP","09"]
["CO-H ","R","P2","EUR","09"]
["CO-H ","R","X2","USD","09"]
["CO-H ","R","X2","CAD","09"]
["CO-H ","R","X2","AUD","09"]
["CO-H ","R","X2","GBP","09"]
["CO-H ","R","X2","EUR","09"]
["SO2 ","S","P1","USD","09"]
["SO2 ","S","P1","CAD","09"]
["SO2 ","S","P1","AUD","09"]
["SO2 ","S","P1","GBP","09"]
["SO2 ","S","P1","EUR","09"]
["SO2 ","S","X1","USD","09"]
["SO2 ","S","X1","CAD","09"]
["SO2 ","S","X1","AUD","09"]
["SO2 ","S","X1","GBP","09"]
["SO2 ","S","X1","EUR","09"]
["SO2 ","S","P2","USD","09"]
["SO2 ","S","P2","CAD","09"]
["SO2 ","S","P2","AUD","09"]
["SO2 ","S","P2","GBP","09"]
["SO2 ","S","P2","EUR","09"]
["SO2 ","S","X2","USD","09"]
["SO2 ","S","X2","CAD","09"]
["SO2 ","S","X2","AUD","09"]
["SO2 ","S","X2","GBP","09"]
["SO2 ","S","X2","EUR","09"]
["High-range CO ","T","P1","USD","09"]
["High-range CO ","T","P1","CAD","09"]
["High-range CO ","T","P1","AUD","09"]
["High-range CO ","T","P1","GBP","09"]
["High-range CO ","T","P1","EUR","09"]
["High-range CO ","T","X1","USD","09"]
["High-range CO ","T","X1","CAD","09"]
["High-range CO ","T","X1","AUD","09"]
["High-range CO ","T","X1","GBP","09"]
["High-range CO ","T","X1","EUR","09"]
["High-range CO ","T","P2","USD","09"]
["High-range CO ","T","P2","CAD","09"]
["High-range CO ","T","P2","AUD","09"]
["High-range CO ","T","P2","GBP","09"]
["High-range CO ","T","P2","EUR","09"]
["High-range CO ","T","X2","USD","09"]
["High-range CO ","T","X2","CAD","09"]
["High-range CO ","T","X2","AUD","09"]
["High-range CO ","T","X2","GBP","09"]
["High-range CO ","T","X2","EUR","09"]
["ClO2","W","X1","USD","09"]
["ClO2","W","X1","CAD","09"]
["ClO2","W","X1","AUD","09"]
["ClO2","W","X1","GBP","09"]
["ClO2","W","X1","EUR","09"]
["ClO2","W","X2","USD","09"]
["ClO2","W","X2","CAD","09"]
["ClO2","W","X2","AUD","09"]
["ClO2","W","X2","GBP","09"]
["ClO2","W","X2","EUR","09"]
["No Sensor ","X","P1","USD","09"]
["No Sensor ","X","P1","CAD","09"]
["No Sensor ","X","P1","AUD","09"]
["No Sensor ","X","P1","GBP","09"]
["No Sensor ","X","P1","EUR","09"]
["No Sensor ","X","X1","USD","09"]
["No Sensor ","X","X1","CAD","09"]
["No Sensor ","X","X1","AUD","09"]
["No Sensor ","X","X1","GBP","09"]
["No Sensor ","X","X1","EUR","09"]
["No Sensor ","X","P2","USD","09"]
["No Sensor ","X","P2","CAD","09"]
["No Sensor ","X","P2","AUD","09"]
["No Sensor ","X","P2","GBP","09"]
["No Sensor ","X","P2","EUR","09"]
["No Sensor ","X","X2","USD","09"]
["No Sensor ","X","X2","CAD","09"]
["No Sensor ","X","X2","AUD","09"]
["No Sensor ","X","X2","GBP","09"]
["No Sensor ","X","X2","EUR","09"]
["NH3 ","A","P1","USD","10"]
["NH3 ","A","P1","CAD","10"]
["NH3 ","A","P1","AUD","10"]
["NH3 ","A","P1","GBP","10"]
["NH3 ","A","P1","EUR","10"]
["NH3 ","A","X1","USD","10"]
["NH3 ","A","X1","CAD","10"]
["NH3 ","A","X1","AUD","10"]
["NH3 ","A","X1","GBP","10"]
["NH3 ","A","X1","EUR","10"]
["NH3 ","A","P2","USD","10"]
["NH3 ","A","P2","CAD","10"]
["NH3 ","A","P2","AUD","10"]
["NH3 ","A","P2","GBP","10"]
["NH3 ","A","P2","EUR","10"]
["NH3 ","A","X2","USD","10"]
["NH3 ","A","X2","CAD","10"]
["NH3 ","A","X2","AUD","10"]
["NH3 ","A","X2","GBP","10"]
["NH3 ","A","X2","EUR","10"]
["High-range NH3 ","B","P1","USD","10"]
["High-range NH3 ","B","P1","CAD","10"]
["High-range NH3 ","B","P1","AUD","10"]
["High-range NH3 ","B","P1","GBP","10"]
["High-range NH3 ","B","P1","EUR","10"]
["High-range NH3 ","B","X1","USD","10"]
["High-range NH3 ","B","X1","CAD","10"]
["High-range NH3 ","B","X1","AUD","10"]
["High-range NH3 ","B","X1","GBP","10"]
["High-range NH3 ","B","X1","EUR","10"]
["High-range NH3 ","B","P2","USD","10"]
["High-range NH3 ","B","P2","CAD","10"]
["High-range NH3 ","B","P2","AUD","10"]
["High-range NH3 ","B","P2","GBP","10"]
["High-range NH3 ","B","P2","EUR","10"]
["High-range NH3 ","B","X2","USD","10"]
["High-range NH3 ","B","X2","CAD","10"]
["High-range NH3 ","B","X2","AUD","10"]
["High-range NH3 ","B","X2","GBP","10"]
["High-range NH3 ","B","X2","EUR","10"]
["CO2 ","C","P1","USD","10"]
["CO2 ","C","P1","CAD","10"]
["CO2 ","C","P1","AUD","10"]
["CO2 ","C","P1","GBP","10"]
["CO2 ","C","P1","EUR","10"]
["CO2 ","C","X1","USD","10"]
["CO2 ","C","X1","CAD","10"]
["CO2 ","C","X1","AUD","10"]
["CO2 ","C","X1","GBP","10"]
["CO2 ","C","X1","EUR","10"]
["H2 ","G","P1","GBP","10"]
["H2 ","G","P1","EUR","10"]
["H2 ","G","X1","GBP","10"]
["H2 ","G","X1","EUR","10"]
["H2 ","G","P2","GBP","10"]
["H2 ","G","P2","EUR","10"]
["H2 ","G","X2","GBP","10"]
["H2 ","G","X2","EUR","10"]
["H2S ","H","P1","USD","10"]
["H2S ","H","P1","CAD","10"]
["H2S ","H","P1","AUD","10"]
["H2S ","H","P1","GBP","10"]
["H2S ","H","P1","EUR","10"]
["H2S ","H","X1","USD","10"]
["H2S ","H","X1","CAD","10"]
["H2S ","H","X1","AUD","10"]
["H2S ","H","X1","GBP","10"]
["H2S ","H","X1","EUR","10"]
["H2S ","H","P2","USD","10"]
["H2S ","H","P2","CAD","10"]
["H2S ","H","P2","AUD","10"]
["H2S ","H","P2","GBP","10"]
["H2S ","H","P2","EUR","10"]
["H2S ","H","X2","USD","10"]
["H2S ","H","X2","CAD","10"]
["H2S ","H","X2","AUD","10"]
["H2S ","H","X2","GBP","10"]
["H2S ","H","X2","EUR","10"]
["High-range H2S ","J","P1","USD","10"]
["High-range H2S ","J","P1","CAD","10"]
["High-range H2S ","J","P1","AUD","10"]
["High-range H2S ","J","P1","GBP","10"]
["High-range H2S ","J","P1","EUR","10"]
["High-range H2S ","J","X1","USD","10"]
["High-range H2S ","J","X1","CAD","10"]
["High-range H2S ","J","X1","AUD","10"]
["High-range H2S ","J","X1","GBP","10"]
["High-range H2S ","J","X1","EUR","10"]
["High-range H2S ","J","P2","USD","10"]
["High-range H2S ","J","P2","CAD","10"]
["High-range H2S ","J","P2","AUD","10"]
["High-range H2S ","J","P2","GBP","10"]
["High-range H2S ","J","P2","EUR","10"]
["High-range H2S ","J","X2","USD","10"]
["High-range H2S ","J","X2","CAD","10"]
["High-range H2S ","J","X2","AUD","10"]
["High-range H2S ","J","X2","GBP","10"]
["High-range H2S ","J","X2","EUR","10"]
["NO2 ","K","P1","USD","10"]
["NO2 ","K","P1","CAD","10"]
["NO2 ","K","P1","AUD","10"]
["NO2 ","K","P1","GBP","10"]
["NO2 ","K","P1","EUR","10"]
["NO2 ","K","X1","USD","10"]
["NO2 ","K","X1","CAD","10"]
["NO2 ","K","X1","AUD","10"]
["NO2 ","K","X1","GBP","10"]
["NO2 ","K","X1","EUR","10"]
["NO2 ","K","P2","USD","10"]
["NO2 ","K","P2","CAD","10"]
["NO2 ","K","P2","AUD","10"]
["NO2 ","K","P2","GBP","10"]
["NO2 ","K","P2","EUR","10"]
["NO2 ","K","X2","USD","10"]
["NO2 ","K","X2","CAD","10"]
["NO2 ","K","X2","AUD","10"]
["NO2 ","K","X2","GBP","10"]
["NO2 ","K","X2","EUR","10"]
["CO ","M","P1","USD","10"]
["CO ","M","P1","CAD","10"]
["CO ","M","P1","AUD","10"]
["CO ","M","P1","GBP","10"]
["CO ","M","P1","EUR","10"]
["CO ","M","X1","USD","10"]
["CO ","M","X1","CAD","10"]
["CO ","M","X1","AUD","10"]
["CO ","M","X1","GBP","10"]
["CO ","M","X1","EUR","10"]
["CO ","M","P2","USD","10"]
["CO ","M","P2","CAD","10"]
["CO ","M","P2","AUD","10"]
["CO ","M","P2","GBP","10"]
["CO ","M","P2","EUR","10"]
["CO ","M","X2","USD","10"]
["CO ","M","X2","CAD","10"]
["CO ","M","X2","AUD","10"]
["CO ","M","X2","GBP","10"]
["CO ","M","X2","EUR","10"]
["HCN ","N","X1","USD","10"]
["HCN ","N","X1","CAD","10"]
["HCN ","N","X1","AUD","10"]
["HCN ","N","X1","GBP","10"]
["HCN ","N","X1","EUR","10"]
["HCN ","N","X2","USD","10"]
["HCN ","N","X2","CAD","10"]
["HCN ","N","X2","AUD","10"]
["HCN ","N","X2","GBP","10"]
["HCN ","N","X2","EUR","10"]
["CO-H ","R","P1","USD","10"]
["CO-H ","R","P1","CAD","10"]
["CO-H ","R","P1","AUD","10"]
["CO-H ","R","P1","GBP","10"]
["CO-H ","R","P1","EUR","10"]
["CO-H ","R","X1","USD","10"]
["CO-H ","R","X1","CAD","10"]
["CO-H ","R","X1","AUD","10"]
["CO-H ","R","X1","GBP","10"]
["CO-H ","R","X1","EUR","10"]
["CO-H ","R","P2","USD","10"]
["CO-H ","R","P2","CAD","10"]
["CO-H ","R","P2","AUD","10"]
["CO-H ","R","P2","GBP","10"]
["CO-H ","R","P2","EUR","10"]
["CO-H ","R","X2","USD","10"]
["CO-H ","R","X2","CAD","10"]
["CO-H ","R","X2","AUD","10"]
["CO-H ","R","X2","GBP","10"]
["CO-H ","R","X2","EUR","10"]
["SO2 ","S","P1","USD","10"]
["SO2 ","S","P1","CAD","10"]
["SO2 ","S","P1","AUD","10"]
["SO2 ","S","P1","GBP","10"]
["SO2 ","S","P1","EUR","10"]
["SO2 ","S","X1","USD","10"]
["SO2 ","S","X1","CAD","10"]
["SO2 ","S","X1","AUD","10"]
["SO2 ","S","X1","GBP","10"]
["SO2 ","S","X1","EUR","10"]
["SO2 ","S","P2","USD","10"]
["SO2 ","S","P2","CAD","10"]
["SO2 ","S","P2","AUD","10"]
["SO2 ","S","P2","GBP","10"]
["SO2 ","S","P2","EUR","10"]
["SO2 ","S","X2","USD","10"]
["SO2 ","S","X2","CAD","10"]
["SO2 ","S","X2","AUD","10"]
["SO2 ","S","X2","GBP","10"]
["SO2 ","S","X2","EUR","10"]
["High-range CO ","T","P1","USD","10"]
["High-range CO ","T","P1","CAD","10"]
["High-range CO ","T","P1","AUD","10"]
["High-range CO ","T","P1","GBP","10"]
["High-range CO ","T","P1","EUR","10"]
["High-range CO ","T","X1","USD","10"]
["High-range CO ","T","X1","CAD","10"]
["High-range CO ","T","X1","AUD","10"]
["High-range CO ","T","X1","GBP","10"]
["High-range CO ","T","X1","EUR","10"]
["High-range CO ","T","P2","USD","10"]
["High-range CO ","T","P2","CAD","10"]
["High-range CO ","T","P2","AUD","10"]
["High-range CO ","T","P2","GBP","10"]
["High-range CO ","T","P2","EUR","10"]
["High-range CO ","T","X2","USD","10"]
["High-range CO ","T","X2","CAD","10"]
["High-range CO ","T","X2","AUD","10"]
["High-range CO ","T","X2","GBP","10"]
["High-range CO ","T","X2","EUR","10"]
["PID ","V","P1","USD","10"]
["PID ","V","P1","CAD","10"]
["PID ","V","P1","AUD","10"]
["PID ","V","P1","GBP","10"]
["PID ","V","P1","EUR","10"]
["PID ","V","X1","USD","10"]
["PID ","V","X1","CAD","10"]
["PID ","V","X1","AUD","10"]
["PID ","V","X1","GBP","10"]
["PID ","V","X1","EUR","10"]
["No Sensor ","X","P1","USD","10"]
["No Sensor ","X","P1","CAD","10"]
["No Sensor ","X","P1","AUD","10"]
["No Sensor ","X","P1","GBP","10"]
["No Sensor ","X","P1","EUR","10"]
["No Sensor ","X","X1","USD","10"]
["No Sensor ","X","X1","CAD","10"]
["No Sensor ","X","X1","AUD","10"]
["No Sensor ","X","X1","GBP","10"]
["No Sensor ","X","X1","EUR","10"]
["No Sensor ","X","P2","USD","10"]
["No Sensor ","X","P2","CAD","10"]
["No Sensor ","X","P2","AUD","10"]
["No Sensor ","X","P2","GBP","10"]
["No Sensor ","X","P2","EUR","10"]
["No Sensor ","X","X2","USD","10"]
["No Sensor ","X","X2","CAD","10"]
["No Sensor ","X","X2","AUD","10"]
["No Sensor ","X","X2","GBP","10"]
["No Sensor ","X","X2","EUR","10"]
["CO2 ","C","P1","USD","11"]
["CO2 ","C","P1","CAD","11"]
["CO2 ","C","P1","AUD","11"]
["CO2 ","C","P1","GBP","11"]
["CO2 ","C","P1","EUR","11"]
["CO2 ","C","X1","USD","11"]
["CO2 ","C","X1","CAD","11"]
["CO2 ","C","X1","AUD","11"]
["CO2 ","C","X1","GBP","11"]
["CO2 ","C","X1","EUR","11"]
["H2 ","G","P1","GBP","11"]
["H2 ","G","P1","EUR","11"]
["H2 ","G","X1","GBP","11"]
["H2 ","G","X1","EUR","11"]
["H2 ","G","P2","GBP","11"]
["H2 ","G","P2","EUR","11"]
["H2 ","G","X2","GBP","11"]
["H2 ","G","X2","EUR","11"]
["H2S ","H","P1","USD","11"]
["H2S ","H","P1","CAD","11"]
["H2S ","H","P1","AUD","11"]
["H2S ","H","P1","GBP","11"]
["H2S ","H","P1","EUR","11"]
["H2S ","H","X1","USD","11"]
["H2S ","H","X1","CAD","11"]
["H2S ","H","X1","AUD","11"]
["H2S ","H","X1","GBP","11"]
["H2S ","H","X1","EUR","11"]
["H2S ","H","P2","USD","11"]
["H2S ","H","P2","CAD","11"]
["H2S ","H","P2","AUD","11"]
["H2S ","H","P2","GBP","11"]
["H2S ","H","P2","EUR","11"]
["H2S ","H","X2","USD","11"]
["H2S ","H","X2","CAD","11"]
["H2S ","H","X2","AUD","11"]
["H2S ","H","X2","GBP","11"]
["H2S ","H","X2","EUR","11"]
["High-range H2S ","J","P1","USD","11"]
["High-range H2S ","J","P1","CAD","11"]
["High-range H2S ","J","P1","AUD","11"]
["High-range H2S ","J","P1","GBP","11"]
["High-range H2S ","J","P1","EUR","11"]
["High-range H2S ","J","X1","USD","11"]
["High-range H2S ","J","X1","CAD","11"]
["High-range H2S ","J","X1","AUD","11"]
["High-range H2S ","J","X1","GBP","11"]
["High-range H2S ","J","X1","EUR","11"]
["High-range H2S ","J","P2","USD","11"]
["High-range H2S ","J","P2","CAD","11"]
["High-range H2S ","J","P2","AUD","11"]
["High-range H2S ","J","P2","GBP","11"]
["High-range H2S ","J","P2","EUR","11"]
["High-range H2S ","J","X2","USD","11"]
["High-range H2S ","J","X2","CAD","11"]
["High-range H2S ","J","X2","AUD","11"]
["High-range H2S ","J","X2","GBP","11"]
["High-range H2S ","J","X2","EUR","11"]
["NO2 ","K","P1","USD","11"]
["NO2 ","K","P1","CAD","11"]
["NO2 ","K","P1","AUD","11"]
["NO2 ","K","P1","GBP","11"]
["NO2 ","K","P1","EUR","11"]
["NO2 ","K","X1","USD","11"]
["NO2 ","K","X1","CAD","11"]
["NO2 ","K","X1","AUD","11"]
["NO2 ","K","X1","GBP","11"]
["NO2 ","K","X1","EUR","11"]
["NO2 ","K","P2","USD","11"]
["NO2 ","K","P2","CAD","11"]
["NO2 ","K","P2","AUD","11"]
["NO2 ","K","P2","GBP","11"]
["NO2 ","K","P2","EUR","11"]
["NO2 ","K","X2","USD","11"]
["NO2 ","K","X2","CAD","11"]
["NO2 ","K","X2","AUD","11"]
["NO2 ","K","X2","GBP","11"]
["NO2 ","K","X2","EUR","11"]
["CO ","M","P1","USD","11"]
["CO ","M","P1","CAD","11"]
["CO ","M","P1","AUD","11"]
["CO ","M","P1","GBP","11"]
["CO ","M","P1","EUR","11"]
["CO ","M","X1","USD","11"]
["CO ","M","X1","CAD","11"]
["CO ","M","X1","AUD","11"]
["CO ","M","X1","GBP","11"]
["CO ","M","X1","EUR","11"]
["CO ","M","P2","USD","11"]
["CO ","M","P2","CAD","11"]
["CO ","M","P2","AUD","11"]
["CO ","M","P2","GBP","11"]
["CO ","M","P2","EUR","11"]
["CO ","M","X2","USD","11"]
["CO ","M","X2","CAD","11"]
["CO ","M","X2","AUD","11"]
["CO ","M","X2","GBP","11"]
["CO ","M","X2","EUR","11"]
["HCN ","N","X1","USD","11"]
["HCN ","N","X1","CAD","11"]
["HCN ","N","X1","AUD","11"]
["HCN ","N","X1","GBP","11"]
["HCN ","N","X1","EUR","11"]
["HCN ","N","X2","USD","11"]
["HCN ","N","X2","CAD","11"]
["HCN ","N","X2","AUD","11"]
["HCN ","N","X2","GBP","11"]
["HCN ","N","X2","EUR","11"]
["CO-H ","R","P1","USD","11"]
["CO-H ","R","P1","CAD","11"]
["CO-H ","R","P1","AUD","11"]
["CO-H ","R","P1","GBP","11"]
["CO-H ","R","P1","EUR","11"]
["CO-H ","R","X1","USD","11"]
["CO-H ","R","X1","CAD","11"]
["CO-H ","R","X1","AUD","11"]
["CO-H ","R","X1","GBP","11"]
["CO-H ","R","X1","EUR","11"]
["CO-H ","R","P2","USD","11"]
["CO-H ","R","P2","CAD","11"]
["CO-H ","R","P2","AUD","11"]
["CO-H ","R","P2","GBP","11"]
["CO-H ","R","P2","EUR","11"]
["CO-H ","R","X2","USD","11"]
["CO-H ","R","X2","CAD","11"]
["CO-H ","R","X2","AUD","11"]
["CO-H ","R","X2","GBP","11"]
["CO-H ","R","X2","EUR","11"]
["High-range CO ","T","P1","USD","11"]
["High-range CO ","T","P1","CAD","11"]
["High-range CO ","T","P1","AUD","11"]
["High-range CO ","T","P1","GBP","11"]
["High-range CO ","T","P1","EUR","11"]
["High-range CO ","T","X1","USD","11"]
["High-range CO ","T","X1","CAD","11"]
["High-range CO ","T","X1","AUD","11"]
["High-range CO ","T","X1","GBP","11"]
["High-range CO ","T","X1","EUR","11"]
["High-range CO ","T","P2","USD","11"]
["High-range CO ","T","P2","CAD","11"]
["High-range CO ","T","P2","AUD","11"]
["High-range CO ","T","P2","GBP","11"]
["High-range CO ","T","P2","EUR","11"]
["High-range CO ","T","X2","USD","11"]
["High-range CO ","T","X2","CAD","11"]
["High-range CO ","T","X2","AUD","11"]
["High-range CO ","T","X2","GBP","11"]
["High-range CO ","T","X2","EUR","11"]
["ClO2","W","X1","USD","11"]
["ClO2","W","X1","CAD","11"]
["ClO2","W","X1","AUD","11"]
["ClO2","W","X1","GBP","11"]
["ClO2","W","X1","EUR","11"]
["ClO2","W","X2","USD","11"]
["ClO2","W","X2","CAD","11"]
["ClO2","W","X2","AUD","11"]
["ClO2","W","X2","GBP","11"]
["ClO2","W","X2","EUR","11"]
["No Sensor ","X","P1","USD","11"]
["No Sensor ","X","P1","CAD","11"]
["No Sensor ","X","P1","AUD","11"]
["No Sensor ","X","P1","GBP","11"]
["No Sensor ","X","P1","EUR","11"]
["No Sensor ","X","X1","USD","11"]
["No Sensor ","X","X1","CAD","11"]
["No Sensor ","X","X1","AUD","11"]
["No Sensor ","X","X1","GBP","11"]
["No Sensor ","X","X1","EUR","11"]
["No Sensor ","X","P2","USD","11"]
["No Sensor ","X","P2","CAD","11"]
["No Sensor ","X","P2","AUD","11"]
["No Sensor ","X","P2","GBP","11"]
["No Sensor ","X","P2","EUR","11"]
["No Sensor ","X","X2","USD","11"]
["No Sensor ","X","X2","CAD","11"]
["No Sensor ","X","X2","AUD","11"]
["No Sensor ","X","X2","GBP","11"]
["No Sensor ","X","X2","EUR","11"]
["CO2 ","C","P1","USD","12"]
["CO2 ","C","P1","CAD","12"]
["CO2 ","C","P1","AUD","12"]
["CO2 ","C","P1","GBP","12"]
["CO2 ","C","P1","EUR","12"]
["CO2 ","C","X1","USD","12"]
["CO2 ","C","X1","CAD","12"]
["CO2 ","C","X1","AUD","12"]
["CO2 ","C","X1","GBP","12"]
["CO2 ","C","X1","EUR","12"]
["H2 ","G","P1","GBP","12"]
["H2 ","G","P1","EUR","12"]
["H2 ","G","X1","GBP","12"]
["H2 ","G","X1","EUR","12"]
["H2 ","G","P2","GBP","12"]
["H2 ","G","P2","EUR","12"]
["H2 ","G","X2","GBP","12"]
["H2 ","G","X2","EUR","12"]
["H2S ","H","P1","USD","12"]
["H2S ","H","P1","CAD","12"]
["H2S ","H","P1","AUD","12"]
["H2S ","H","P1","GBP","12"]
["H2S ","H","P1","EUR","12"]
["H2S ","H","X1","USD","12"]
["H2S ","H","X1","CAD","12"]
["H2S ","H","X1","AUD","12"]
["H2S ","H","X1","GBP","12"]
["H2S ","H","X1","EUR","12"]
["H2S ","H","P2","USD","12"]
["H2S ","H","P2","CAD","12"]
["H2S ","H","P2","AUD","12"]
["H2S ","H","P2","GBP","12"]
["H2S ","H","P2","EUR","12"]
["H2S ","H","X2","USD","12"]
["H2S ","H","X2","CAD","12"]
["H2S ","H","X2","AUD","12"]
["H2S ","H","X2","GBP","12"]
["H2S ","H","X2","EUR","12"]
["High-range H2S ","J","P1","USD","12"]
["High-range H2S ","J","P1","CAD","12"]
["High-range H2S ","J","P1","AUD","12"]
["High-range H2S ","J","P1","GBP","12"]
["High-range H2S ","J","P1","EUR","12"]
["High-range H2S ","J","X1","USD","12"]
["High-range H2S ","J","X1","CAD","12"]
["High-range H2S ","J","X1","AUD","12"]
["High-range H2S ","J","X1","GBP","12"]
["High-range H2S ","J","X1","EUR","12"]
["High-range H2S ","J","P2","USD","12"]
["High-range H2S ","J","P2","CAD","12"]
["High-range H2S ","J","P2","AUD","12"]
["High-range H2S ","J","P2","GBP","12"]
["High-range H2S ","J","P2","EUR","12"]
["High-range H2S ","J","X2","USD","12"]
["High-range H2S ","J","X2","CAD","12"]
["High-range H2S ","J","X2","AUD","12"]
["High-range H2S ","J","X2","GBP","12"]
["High-range H2S ","J","X2","EUR","12"]
["NO2 ","K","P1","USD","12"]
["NO2 ","K","P1","CAD","12"]
["NO2 ","K","P1","AUD","12"]
["NO2 ","K","P1","GBP","12"]
["NO2 ","K","P1","EUR","12"]
["NO2 ","K","X1","USD","12"]
["NO2 ","K","X1","CAD","12"]
["NO2 ","K","X1","AUD","12"]
["NO2 ","K","X1","GBP","12"]
["NO2 ","K","X1","EUR","12"]
["NO2 ","K","P2","USD","12"]
["NO2 ","K","P2","CAD","12"]
["NO2 ","K","P2","AUD","12"]
["NO2 ","K","P2","GBP","12"]
["NO2 ","K","P2","EUR","12"]
["NO2 ","K","X2","USD","12"]
["NO2 ","K","X2","CAD","12"]
["NO2 ","K","X2","AUD","12"]
["NO2 ","K","X2","GBP","12"]
["NO2 ","K","X2","EUR","12"]
["CO ","M","P1","USD","12"]
["CO ","M","P1","CAD","12"]
["CO ","M","P1","AUD","12"]
["CO ","M","P1","GBP","12"]
["CO ","M","P1","EUR","12"]
["CO ","M","X1","USD","12"]
["CO ","M","X1","CAD","12"]
["CO ","M","X1","AUD","12"]
["CO ","M","X1","GBP","12"]
["CO ","M","X1","EUR","12"]
["CO ","M","P2","USD","12"]
["CO ","M","P2","CAD","12"]
["CO ","M","P2","AUD","12"]
["CO ","M","P2","GBP","12"]
["CO ","M","P2","EUR","12"]
["CO ","M","X2","USD","12"]
["CO ","M","X2","CAD","12"]
["CO ","M","X2","AUD","12"]
["CO ","M","X2","GBP","12"]
["CO ","M","X2","EUR","12"]
["HCN ","N","X1","USD","12"]
["HCN ","N","X1","CAD","12"]
["HCN ","N","X1","AUD","12"]
["HCN ","N","X1","GBP","12"]
["HCN ","N","X1","EUR","12"]
["HCN ","N","X2","USD","12"]
["HCN ","N","X2","CAD","12"]
["HCN ","N","X2","AUD","12"]
["HCN ","N","X2","GBP","12"]
["HCN ","N","X2","EUR","12"]
["CO-H ","R","P1","USD","12"]
["CO-H ","R","P1","CAD","12"]
["CO-H ","R","P1","AUD","12"]
["CO-H ","R","P1","GBP","12"]
["CO-H ","R","P1","EUR","12"]
["CO-H ","R","X1","USD","12"]
["CO-H ","R","X1","CAD","12"]
["CO-H ","R","X1","AUD","12"]
["CO-H ","R","X1","GBP","12"]
["CO-H ","R","X1","EUR","12"]
["CO-H ","R","P2","USD","12"]
["CO-H ","R","P2","CAD","12"]
["CO-H ","R","P2","AUD","12"]
["CO-H ","R","P2","GBP","12"]
["CO-H ","R","P2","EUR","12"]
["CO-H ","R","X2","USD","12"]
["CO-H ","R","X2","CAD","12"]
["CO-H ","R","X2","AUD","12"]
["CO-H ","R","X2","GBP","12"]
["CO-H ","R","X2","EUR","12"]
["SO2 ","S","P1","USD","12"]
["SO2 ","S","P1","CAD","12"]
["SO2 ","S","P1","AUD","12"]
["SO2 ","S","P1","GBP","12"]
["SO2 ","S","P1","EUR","12"]
["SO2 ","S","X1","USD","12"]
["SO2 ","S","X1","CAD","12"]
["SO2 ","S","X1","AUD","12"]
["SO2 ","S","X1","GBP","12"]
["SO2 ","S","X1","EUR","12"]
["SO2 ","S","P2","USD","12"]
["SO2 ","S","P2","CAD","12"]
["SO2 ","S","P2","AUD","12"]
["SO2 ","S","P2","GBP","12"]
["SO2 ","S","P2","EUR","12"]
["SO2 ","S","X2","USD","12"]
["SO2 ","S","X2","CAD","12"]
["SO2 ","S","X2","AUD","12"]
["SO2 ","S","X2","GBP","12"]
["SO2 ","S","X2","EUR","12"]
["High-range CO ","T","P1","USD","12"]
["High-range CO ","T","P1","CAD","12"]
["High-range CO ","T","P1","AUD","12"]
["High-range CO ","T","P1","GBP","12"]
["High-range CO ","T","P1","EUR","12"]
["High-range CO ","T","X1","USD","12"]
["High-range CO ","T","X1","CAD","12"]
["High-range CO ","T","X1","AUD","12"]
["High-range CO ","T","X1","GBP","12"]
["High-range CO ","T","X1","EUR","12"]
["High-range CO ","T","P2","USD","12"]
["High-range CO ","T","P2","CAD","12"]
["High-range CO ","T","P2","AUD","12"]
["High-range CO ","T","P2","GBP","12"]
["High-range CO ","T","P2","EUR","12"]
["High-range CO ","T","X2","USD","12"]
["High-range CO ","T","X2","CAD","12"]
["High-range CO ","T","X2","AUD","12"]
["High-range CO ","T","X2","GBP","12"]
["High-range CO ","T","X2","EUR","12"]
["ClO2","W","X1","USD","12"]
["ClO2","W","X1","CAD","12"]
["ClO2","W","X1","AUD","12"]
["ClO2","W","X1","GBP","12"]
["ClO2","W","X1","EUR","12"]
["ClO2","W","X2","USD","12"]
["ClO2","W","X2","CAD","12"]
["ClO2","W","X2","AUD","12"]
["ClO2","W","X2","GBP","12"]
["ClO2","W","X2","EUR","12"]
["No Sensor ","X","P1","USD","12"]
["No Sensor ","X","P1","CAD","12"]
["No Sensor ","X","P1","AUD","12"]
["No Sensor ","X","P1","GBP","12"]
["No Sensor ","X","P1","EUR","12"]
["No Sensor ","X","X1","USD","12"]
["No Sensor ","X","X1","CAD","12"]
["No Sensor ","X","X1","AUD","12"]
["No Sensor ","X","X1","GBP","12"]
["No Sensor ","X","X1","EUR","12"]
["No Sensor ","X","P2","USD","12"]
["No Sensor ","X","P2","CAD","12"]
["No Sensor ","X","P2","AUD","12"]
["No Sensor ","X","P2","GBP","12"]
["No Sensor ","X","P2","EUR","12"]
["No Sensor ","X","X2","USD","12"]
["No Sensor ","X","X2","CAD","12"]
["No Sensor ","X","X2","AUD","12"]
["No Sensor ","X","X2","GBP","12"]
["No Sensor ","X","X2","EUR","12"]
[]
["Combustible Sensors"]
["Gas","SensorCode","Type1","Currency"]
["LEL-IR","I","Q1","USD"]
["LEL-IR","I","Q1","CAD"]
["LEL-IR","I","Q1","AUD"]
["LEL-IR","I","Q1","EUR"]
["LEL-IR","I","Q1","GBP"]
["LEL-MPS","F","Q1","USD"]
["LEL-MPS","F","Q1","CAD"]
["LEL-MPS","F","Q1","AUD"]
["LEL-MPS","F","Q1","EUR"]
["LEL-MPS","F","Q1","GBP"]
["None","X","Q1","USD"]
["None","X","Q1","CAD"]
["None","X","Q1","AUD"]
["None","X","Q1","EUR"]
["None","X","Q1","GBP"]
["LEL-MPS","F","P1","USD"]
["LEL-MPS","F","P1","CAD"]
["LEL-MPS","F","P1","AUD"]
["LEL-MPS","F","P1","EUR"]
["LEL-MPS","F","P1","GBP"]
["None","X","P1","USD"]
["None","X","P1","CAD"]
["None","X","P1","AUD"]
["None","X","P1","EUR"]
["None","X","P1","GBP"]