Workbook

Sheet Attachment 1 - Summary
B1: Group 40524-23254, SCHOOL BUSES (Statewide) Attachment 1 - Specifications and Pricing (Revised October 15, 2026)
B2: PC69857 AT New York City, LLC
B3: The Contractor has been awarded the following Items, and shall offer Base Items, Optional Equipment and Additional Body Sections sold under the Contract at net prices that are equal to the applicable NYS Contract Price that is listed on the Contract Pricelist, or less. An Authorized User may choose to add one (1) or more of the Optional Equipment from the list of Optional Equipment, and/or Additional Body Sections, associated with the Base Item (see Contract Section 3.7 Optional Equipment and Additional Body Sections). Additional Options offered by the Contractor, that are listed on the OEM or Contractor-Published Pricelist(s), may also be requested by the Authorized User (see Contract Section 3.8 Additional Options).
B4: Name and description of worksheets included in this workbook:
B5: Tab Name | C5: Description of Tab or Item | D5: Fuel Types Awarded | E5: Item Availability by County (Under this Contract) | F5: Pupil Capacity | G5: Tab Color
B6: Attachment 1 - Summary | C6: Summary of Attachment 1 - Specifications and Pricing (this worksheet)
B7: C (Item 1-D) | C7: Lot C (Item 1-D): Type C, Conventional Bus | D7: Diesel, Gasoline | E7: Bronx, Kings, Nassau, New York, Queens, Richmond, Suffolk, Westchester, and Rockland Counties. For all other counties, please see Contract PC69861, Leonard Bus Sales, Inc. | F7: Minimum 24
B8: C (Item 2-D) | C8: Lot C (Item 2-D): Type C, Conventional Bus | D8: Diesel, Gasoline, LPG | E8: Bronx, Kings, Nassau, New York, Queens, Richmond, Suffolk, Westchester, and Rockland Counties. For all other counties, please see Contract PC69861, Leonard Bus Sales, Inc. | F8: Minimum 46
B9: C (Item 2-EV) | C9: Lot C (Item 2-EV): Type C, Conventional Bus | D9: Electric | E9: Bronx, Kings, Nassau, New York, Queens, Richmond, Suffolk, Westchester, and Rockland Counties. For all other counties, please see Contract PC69861, Leonard Bus Sales, Inc. | F9: Minimum 46
B10: C (Item 3-D) | C10: Lot C (Item 3-D): Type C, Conventional Bus | D10: Diesel, Gasoline | E10: Bronx, Kings, Nassau, New York, Queens, Richmond, Suffolk, Westchester, and Rockland Counties. For all other counties, please see Contract PC69861, Leonard Bus Sales, Inc. | F10: Minimum 58
B11: C (Item 4-D) | C11: Lot C (Item 4-D): Type C, Conventional Bus | D11: Diesel, Gasoline, LPG | E11: Bronx, Kings, Nassau, New York, Queens, Richmond, Suffolk, Westchester, and Rockland Counties. For all other counties, please see Contract PC69861, Leonard Bus Sales, Inc. | F11: Minimum 64
B12: C (Item 4-EV) | C12: Lot C (Item 4-EV): Type C, Conventional Bus | D12: Electric | E12: Bronx, Kings, Nassau, New York, Queens, Richmond, Suffolk, Westchester, and Rockland Counties. For all other counties, please see Contract PC69861, Leonard Bus Sales, Inc. | F12: Minimum 64

Sheet A (Item 2-G)
B1: GROUP 40524-23000, SCHOOL BUSES (Statewide) Appendix C: Number 2: Contract Pricelist (September 15, 2022)
B2: ='Attachment 1 - Summary'!B2 -> PC69857 AT New York City, LLC
B3: LOT A (Item 2-G)
B4: Type A-1, SRW, Cutaway, 4 Rows (Gasoline; Minimum 16 Pupils)
B6: PART 1: Product information for the Base Item(s) Awarded | G6: Chevrolet / Collins Bus | I6: Ford Transit / Collins Bus
B7: Category | C7: Information provided in Yellow Cells | G7: Gasoline | I7: Gasoline | J7: Diesel
B8: Engine | C8: Information identifying the engine for the fuel type offered. | G8: Make L20 Chevy OEM 8 cylinders 4.8L 285HP @ 5400rpm | I8: TI-VCT V6 6 CYL 3.7L 275@6000RPM | J8: POWER STROKE TURBO I5 6 CYL 3.2L 185@3000 RPM
B9: NYS DOT Approval Number | C9: The NYS DOT Approval Number for the School Bus. Only School Buses approved by NYS DOT Passenger Carrier Safety Bureau for use as 2016 and newer Models, as indicated by a NYS DOT Approval Number, shall be delivered pursuant to the Contract. | G9: 511-NY-16-00WC-CBC | I9: 678-NY-16-00WC-CBC | J9: 678-NY-16-00WC-CBC
B10: Chassis Make | C10: The OEM company name of a Chassis. | G10: Chevy / GMC | I10: Ford | J10: Ford
B11: Chassis Model | C11: The Model name of the Chassis. | G11: 33503 | I11: Transit | J11: Transit
B12: Chassis Model Code | C12: The OEM code used to identify the subset of the Chassis Model. | G12: 3500 | I12: T350 | J12: T350
B13: Body Make | C13: The OEM company name of a Body. | G13: Collins Bus | I13: Collins Bus | J13: Collins Bus
B14: Body Model | C14: The Model name of the Body. | G14: SH400 | I14: TH408 | J14: TH408
B15: Body Model Code | C15: The OEM code used to identify the subset of the Body Model. | G15: SH400 | I15: TH408 | J15: TH408
B16: Pick Up Allowance | C16: The dollar amount, per School Bus, that will be deducted from the Base Item NYS Contract Price, if the Authorized User elects to pick up the School Bus at the Contractor's location. | G16: 100 | I16: 100 | J16: 100
B17: Delivery Time | C17: The estimated delivery time for the School Bus, expressed in number of calendar days, required to make delivery after receipt of a final Purchase Order (After Receipt of Order (“ARO”)). | G17: 210 days ARO | I17: 210 Days ARO | J17: 210 Days ARO
B19: PART 2: Pricing for the Base Item, Additional Body Section, and Additional Options | G19: Chevrolet / Collins Bus | I19: Ford Transit / Collins Bus
B20: Category | C20: Information provided in Yellow Cells | G20: Gasoline | I20: Gasoline | J20: Diesel
B21: Base Item NYS Contract Price | C21: The per unit NYS Contract Price (dollar amount) for the School Bus described in the Base Item Specifications. The Base Item NYS Contract Price includes any OEM fees, all customs duties and charges, all vehicle preparation and clean-up charges, NYS DOT inspection, installation charges, delivery and all other incidentals normally included with providing a School Bus, but excludes Optional Equipment, Additional Body Section(s), and Additional Options. | G21: 57180.651 | I21: 58302.75 | J21: 64198.959
B22: Additional Body Section NYS Contract Price | C22: The per unit NYS Contract Price (dollar amount) for adding one (1) Additional Body Section, excluding seats and other interior features, to the Base Item and the applicable Base Item NYS Contract Price. | G22: 941.391 | I22: Not Available | J22: Not Available
B23: Additional Options NYS Discount | C23: The minimum percentage amount that shall be deducted from the MSRP for all Additional Options purchased under the Contract for this Item. | G23: 1 | I23: 1 | J23: 1
B25: PART 3: Base Item Specifications | G25: Chevrolet / Collins Bus | I25: Ford Transit / Collins Bus
B26: Category | C26: Specification | D26: Information provided in Yellow Cells | G26: Gasoline | I26: Gasoline | J26: Diesel
B27: General | C27: A conversion School Bus constructed using a cutaway front-section vehicle with a left side driver’s door, with a GVWR of 10,000 pounds or less. | D27: Gross Vehicle Weight Rating (GVWR) [lbs]: | G27: 9900 | I27: 9,500 Lbs. | J27: 9,500 Lbs.
B28: Capacity | C28: Minimum four (4) rows for sixteen (16) Pupils | D28: Number of rows: | G28: 4 | I28: 4 | J28: 4
D29: Number of Pupils: | G29: 16 | I29: 16 | J29: 16
B30: Rear Wheels | C30: Single Rear Wheel (SRW)
B31: Dimensions | D31: Wheelbase [inches]: | G31: 139" | I31: 156" | J31: 156"
D32: Length (bumper to bumper) [inches]: | G32: 242.23" | I32: 248" | J32: 248"
D33: Body width (inside) [inches]: | G33: 78" | I33: 77.9" | J33: 77.9"
D34: Body headroom (standard) [inches]: | G34: 75.3" | I34: 73.8" | J34: 73.8"
D35: Cowl to rear axle length [inches]: | G35: 210.88" Center of Back of Hood to rear interior skin | I35: 216.78" Center of Back of Hood to rear interior skin | J35: 216.78" Center of Back of Hood to rear interior skin
B36: Front Axle | D36: Gross Axle Weight Rating (GAWR) [lbs]: | G36: 4,300lbs. | I36: 4130 lbs | J36: 4130 lbs
D37: Front axle capacity [lbs]: | G37: 4,300lbs. | I37: 4130 lbs. | J37: 4130 lbs.
B38: Rear Axle | D38: Gross Axle Weight Rating (GAWR) [lbs]: | G38: 6,084lbs | I38: 6000 lbs | J38: 6000 lbs
D39: Rear axle capacity [lbs]: | G39: 6,084lbs | I39: 6000 lbs. | J39: 6000 lbs.
B40: Steering | C40: Power steering
B41: Tires | C41: Tires shall meet the minimum requirements for the Chassis Model, as published by the Chassis manufacturer. | D41: Front radial tires size (load range letter) | G41: LT/245/75R 16.0 E | I41: 235/65R 16C | J41: 235/65R 16C
D42: Front radial tires capacity | G42: 3,042lbs. | I42: 3195 lbs | J42: 3195 lbs
D43: Rear radial tires size (load range letter) | G43: LT/245/75R 16.0 E | I43: 235/65R 16C | J43: 235/65R 16C
...

Sheet A (Item 3-G)
B1: GROUP 40524-23000, SCHOOL BUSES (Statewide) Appendix C: Number 2: Contract Pricelist (September 15, 2022)
B2: ='Attachment 1 - Summary'!B2 -> PC69857 AT New York City, LLC
B3: LOT A (Item 3-G)
B4: Type A-2, DRW, Cutaway, 4 Rows (Gasoline; Minimum 20 Pupils)
B6: PART 1: Product information for the Base Item(s) Awarded | G6: Chevrolet / Collins Bus | I6: Ford E-Series / Collins Bus | K6: Ford Transit / Collins Bus
B7: Category | C7: Information provided in Yellow Cells | G7: Gasoline | I7: Gasoline | K7: Gasoline | L7: Diesel
B8: Engine | C8: Information identifying the engine for the fuel type offered. | G8: L96 8 CYL 6.0L 342@5,500 RPM | I8: EFI V10 10 CYL 6.8L 305@4250RPM 420@3250 | K8: TI-VCT V6 6 CYL 3.7L 275@6000RPM | L8: POWER STROKE TURBO I5 6 CYL 3.2L 185@3000 RPM
B9: NYS DOT Approval Number | C9: The NYS DOT Approval Number for the School Bus. Only School Buses approved by NYS DOT Passenger Carrier Safety Bureau for use as 2016 and newer Models, as indicated by a NYS DOT Approval Number, shall be delivered pursuant to the Contract. | G9: 680-NY-20-00WC-CBC | I9: 679-NY-20-00WC-CBC | K9: 694-NY-20-00WC-CBC | L9: 694-NY-20-00WC-CBC
B10: Chassis Make | C10: The OEM company name of a Chassis. | G10: Chevy / GMC | I10: Ford | K10: Ford | L10: Ford
B11: Chassis Model | C11: The Model name of the Chassis. | G11: 33503 | I11: E350 | K11: Transit | L11: Transit
B12: Chassis Model Code | C12: The OEM code used to identify the subset of the Chassis Model. | G12: 3500 | I12: E3F | K12: T350 | L12: T350
B13: Body Make | C13: The OEM company name of a Body. | G13: Collins Bus | I13: Collins Bus | K13: Collins Bus | L13: Collins Bus
B14: Body Model | C14: The Model name of the Body. | G14: DH400 | I14: DH400F | K14: TH500 | L14: TH500
B15: Body Model Code | C15: The OEM code used to identify the subset of the Body Model. | G15: DH400 | I15: DH400F | K15: TH500 | L15: TH500
B16: Pick Up Allowance | C16: The dollar amount, per School Bus, that will be deducted from the Base Item NYS Contract Price, if the Authorized User elects to pick up the School Bus at the Contractor's location. | G16: 100 | I16: 100 | K16: 100 | L16: 100
B17: Delivery Time | C17: The estimated delivery time for the School Bus, expressed in number of calendar days, required to make delivery after receipt of a final Purchase Order (After Receipt of Order (“ARO”)). | G17: 210 Days ARO | I17: 210 Days ARO | K17: 210 Days ARO | L17: 210 Days ARO
B19: PART 2: Pricing for the Base Item, Additional Body Section, and Additional Options | G19: Chevrolet / Collins Bus | I19: Ford E-Series / Collins Bus | K19: Ford Transit / Collins Bus
B20: Category | C20: Information provided in Yellow Cells | G20: Gasoline | I20: Gasoline | K20: Gasoline | L20: Diesel
B21: Base Item NYS Contract Price | C21: The per unit NYS Contract Price (dollar amount) for the School Bus described in the Base Item Specifications. The Base Item NYS Contract Price includes any OEM fees, all customs duties and charges, all vehicle preparation and clean-up charges, NYS DOT inspection, installation charges, delivery and all other incidentals normally included with providing a School Bus, but excludes Optional Equipment, Additional Body Section(s), and Additional Options. | G21: 57903.483 | I21: 57430.956 | K21: 59385.777 | L21: 64974.294
B22: Additional Body Section NYS Contract Price | C22: The per unit NYS Contract Price (dollar amount) for adding one (1) Additional Body Section, excluding seats and other interior features, to the Base Item and the applicable Base Item NYS Contract Price. | G22: 1543.344 | I22: 1543.344 | K22: Not Available | L22: Not Available
B23: Additional Options NYS Discount | C23: The minimum percentage amount that shall be deducted from the MSRP for all Additional Options purchased under the Contract for this Item. | G23: 1 | I23: 1 | K23: 1 | L23: 1
B25: PART 3: Base Item Specifications | G25: Chevrolet / Collins Bus | I25: Ford E-Series / Collins Bus | K25: Ford Transit / Collins Bus
B26: Category | C26: Specification | D26: Information provided in Yellow Cells | G26: Gasoline | I26: Gasoline | K26: Gasoline | L26: Diesel
B27: General | C27: A conversion School Bus constructed using a cutaway front-section vehicle with a left side driver’s door, with a GVWR equal to or greater than 10,001 pounds and less than or equal to 21,500 pounds. | D27: Gross Vehicle Weight Rating (GVWR) [lbs]: | G27: 12300 | I27: 11,500 lbs. | K27: 10,360 lbs. | L27: 10,360 lbs.
B28: Capacity | C28: Minimum four (4) rows for twenty (20) Pupils. | D28: Number of rows: | G28: 4 | I28: 4 | K28: 5 | L28: 5
D29: Number of Pupils: | G29: 20 | I29: 20 | K29: 20 | L29: 20
B30: Rear Wheels | C30: Dual Rear Wheel (DRW)
B31: Dimensions | D31: Wheelbase [inches]: | G31: 139" | I31: 138" | K31: 156" | L31: 156"
D32: Length (bumper to bumper) [inches]: | G32: 242.23" | I32: 236.15" | K32: 272" | L32: 272"
D33: Body width (inside) [inches]: | G33: 91" | I33: 91" | K33: 77.9" | L33: 77.9"
D34: Body headroom (standard) [inches]: | G34: 76.5" | I34: 76.5" | K34: 73.8" | L34: 73.8"
D35: Cowl to rear axle length [inches]: | G35: 210.88" | I35: 210.88" | K35: 168" | L35: 168"
B36: Front Axle | D36: Gross Axle Weight Rating (GAWR) [lbs]: | G36: 4,300 Lbs. | I36: 4,600 lbs. | K36: 4130lbs. | L36: 4130lbs.
D37: Front axle capacity [lbs]: | G37: 4,300 Lbs. | I37: 4,600 lbs. | K37: 4130lbs. | L37: 4130lbs.
B38: Rear Axle | D38: Gross Axle Weight Rating (GAWR) [lbs]: | G38: 8,600 Lbs. | I38: 7,800 lbs. | K38: 7275 lbs. | L38: 7275 lbs.
D39: Rear axle capacity [lbs]: | G39: 8,600 Lbs. | I39: 7,800 lbs. | K39: 7275 lbs. | L39: 7275 lbs.
B40: Steering | C40: Power steering
B41: Tires | C41: Tires shall meet the minimum requirements for the Chassis Model, as published by the Chassis manufacturer. | D41: Front radial tires size (load range letter) | G41: 225/75R 16E | I41: 225/75R 16.0 E | K41: LT195/75R 16C | L41: LT195/75R 16C
D42: Front radial tires capacity | G42: 2680 | I42: 2680 | K42: 2150 | L42: 2150
D43: Rear radial tires size (load range letter) | G43: 225/75R 16E | I43: 225/75R 16.0 E | K43: LT195/75R 16C | L43: LT195/75R 16C
...

Sheet A (Item 4-G)
B1: GROUP 40524-23254, SCHOOL BUSES (Statewide) Attachment 1 - Specifications and Pricing (December 13, 2022)
B2: ='Attachment 1 - Summary'!B2 -> PC69857 AT New York City, LLC
B3: LOT A (Item 4-G)
B4: Type A-2, DRW, Cutaway, 4 Rows (Gasoline; Minimum 24 Pupils)
B6: PART 1: Product information for the Base Item(s) Awarded | G6: Chevrolet / Collins Bus | I6: Ford E-Series / Collins Bus
B7: Category | C7: Information provided in Yellow Cells | G7: Gasoline | I7: Gasoline
B8: Engine | C8: Information identifying the engine for the fuel type offered. | G8: L96 8 CYL 6.0L 342@5,500 RPM | I8: EFI V10 10 CYL 6.8L 305@4250RPM 420@3250
B9: NYS DOT Approval Number | C9: The NYS DOT Approval Number for the School Bus. Only School Buses approved by NYS DOT Passenger Carrier Safety Bureau for use as 2016 and newer Models, as indicated by a NYS DOT Approval Number, shall be delivered pursuant to the Contract. | G9: 596-NY-24-00WC-CBC | I9: 695-NY-24-00WC-CBC
B10: Chassis Make | C10: The OEM company name of a Chassis. | G10: Chevy / GMC | I10: Ford
B11: Chassis Model | C11: The Model name of the Chassis. | G11: 33503 | I11: E350
B12: Chassis Model Code | C12: The OEM code used to identify the subset of the Chassis Model. | G12: 3500 | I12: E3F
B13: Body Make | C13: The OEM company name of a Body. | G13: Collins Bus | I13: Collins Bus
B14: Body Model | C14: The Model name of the Body. | G14: DH400 | I14: DH416
B15: Body Model Code | C15: The OEM code used to identify the subset of the Body Model. | G15: DH400 | I15: DH416
B16: Pick Up Allowance | C16: The dollar amount, per School Bus, that will be deducted from the Base Item NYS Contract Price, if the Authorized User elects to pick up the School Bus at the Contractor's location. | G16: 100 | I16: 100
B17: Delivery Time | C17: The estimated delivery time for the School Bus, expressed in number of calendar days, required to make delivery after receipt of a final Purchase Order (After Receipt of Order (“ARO”)). | G17: 210 Days ARO | I17: 210 Days ARO
B19: PART 2: Pricing for the Base Item, Additional Body Section, and Additional Options | G19: Chevrolet / Collins Bus | I19: Ford E-Series / Collins Bus
B20: Category | C20: Information provided in Yellow Cells | G20: Gasoline | I20: Gasoline
B21: Base Item NYS Contract Price | C21: The per unit NYS Contract Price (dollar amount) for the School Bus described in the Base Item Specifications. The Base Item NYS Contract Price includes any OEM fees, all customs duties and charges, all vehicle preparation and clean-up charges, NYS DOT inspection, installation charges, delivery and all other incidentals normally included with providing a School Bus, but excludes Optional Equipment, Additional Body Section(s), and Additional Options. | G21: 58501.773 | I21: 60195.3
B22: Additional Body Section NYS Contract Price | C22: The per unit NYS Contract Price (dollar amount) for adding one (1) Additional Body Section, excluding seats and other interior features, to the Base Item and the applicable Base Item NYS Contract Price. | G22: 1543.344 | I22: 1543.344
B23: Additional Options NYS Discount | C23: The minimum percentage amount that shall be deducted from the MSRP for all Additional Options purchased under the Contract for this Item. | G23: 1 | I23: 1
B25: PART 3: Base Item Specifications | G25: Chevrolet / Collins Bus | I25: Ford E-Series / Collins Bus
B26: Category | C26: Specification | D26: Information provided in Yellow Cells | G26: Gasoline | I26: Gasoline
B27: General | C27: A conversion School Bus constructed using a cutaway front-section vehicle with a left side driver’s door, with a GVWR equal to or greater than 10,001 pounds and less than or equal to 21,500 pounds. | D27: Gross Vehicle Weight Rating (GVWR) [lbs]: | G27: 12300 | I27: 11,500 lbs.
B28: Capacity | C28: Minimum four (4) rows for twenty-four (24) Pupils. | D28: Number of rows: | G28: 4 | I28: 4
D29: Number of Pupils: | G29: 24 | I29: 24
B30: Rear Wheels | C30: Dual Rear Wheel (DRW)
B31: Dimensions | D31: Wheelbase [inches]: | G31: 139" | I31: 138"
D32: Length (bumper to bumper) [inches]: | G32: 242.23" | I32: 236.15"
D33: Body width (inside) [inches]: | G33: 91" | I33: 91"
D34: Body headroom (standard) [inches]: | G34: 76.5" | I34: 76.5"
D35: Cowl to rear axle length [inches]: | G35: 210.88" | I35: 210.88"
B36: Front Axle | D36: Gross Axle Weight Rating (GAWR) [lbs]: | G36: 4,300 Lbs. | I36: 4,600 lbs.
D37: Front axle capacity [lbs]: | G37: 4,300 Lbs. | I37: 4,600 lbs.
B38: Rear Axle | D38: Gross Axle Weight Rating (GAWR) [lbs]: | G38: 8,600 Lbs. | I38: 7,800 lbs.
D39: Rear axle capacity [lbs]: | G39: 8,600 Lbs. | I39: 7,800 lbs.
B40: Steering | C40: Power steering
B41: Tires | C41: Tires shall meet the minimum requirements for the Chassis Model, as published by the Chassis manufacturer. | D41: Front radial tires size (load range letter) | G41: 225/75R 16E | I41: 225/75R 16.0 E
D42: Front radial tires capacity | G42: 2680 | I42: 2680
D43: Rear radial tires size (load range letter) | G43: 225/75R 16E | I43: 225/75R 16.0 E
...

Sheet C (Item 1-D)
A1: GROUP 40524-23254, SCHOOL BUSES (Statewide) Attachment 1 - Specifications and Pricing (Revised October 15, 2026)
A2: PC69857 AT New York City, LLC
A3: LOT C (Item 1-D)
A4: Type C, 28 Pupil Conventional Front-Engine Bus (Diesel, Minimum 28 Pupils)
A6: PART 1: Product information for the Base Item(s) Awarded | F6: IC Bus | G6: IC Bus
A7: Category | B7: Information provided in Yellow Cells | F7: Diesel | G7: Gas
A8: Engine | B8: Information identifying the engine for the fuel type offered. | F8: 12ERP, Engine, Diesel Cummins B6.7 220HP | G8: 12DLP, Engine, Gasoline (PSI 8.8L) 265HP
A9: NYS DOT Approval Number | B9: The NYS DOT Approval Number for the School Bus. Only School Buses approved by NYS DOT Passenger Carrier Safety Bureau for use as 2022 and newer Models, as indicated by a NYS DOT Approval Number, shall be delivered pursuant to the Contract. | F9: 1753-NY-30-00WC-ATC | G9: 1753-NY-30-00WC-ATC
A10: Chassis Make | B10: The OEM company name of a Chassis. | F10: IC BUS | G10: IC BUS
A11: Chassis Model | B11: The Model name of the Chassis. | F11: CE | G11: CE
A12: Chassis Model Code | B12: The OEM code used to identify the subset of the Chassis Model. | F12: PB105 | G12: PB105 | I12: `
A13: Body Make | B13: The OEM company name of a Body. | F13: IC BUS | G13: IC BUS
A14: Body Model | B14: The Model name of the Body. | F14: CE | G14: CE
A15: Body Model Code | B15: The OEM code used to identify the subset of the Body Model. | F15: PB105 | G15: PB105
A16: Pick Up Allowance | B16: The dollar amount, per School Bus, that will be deducted from the Base Item NYS Contract Price, if the Authorized User elects to pick up the School Bus at the Contractor's location. | F16: 0 | G16: 0
A17: Delivery Time | B17: The estimated delivery time for the School Bus, expressed in number of calendar days, required to make delivery after receipt of a final Purchase Order (After Receipt of Order (“ARO”)). | F17: 180-300 Days | G17: 180-300 Days
A19: PART 2: Pricing for the Base Item, Additional Body Section, and Additional Options | F19: IC Bus | G19: IC Bus
A20: Category | B20: Information provided in Yellow Cells | F20: Diesel | G20: Gas
A21: Base Item NYS Contract Price | B21: The per unit NYS Contract Price (dollar amount) for the School Bus described in the Base Item Specifications. The Base Item NYS Contract Price includes any OEM fees, all customs duties and charges, all vehicle preparation and clean-up charges, NYS DOT inspection, installation charges, delivery and all other incidentals normally included with providing a School Bus, but excludes Optional Equipment, Additional Body Section(s), and Additional Options. | F21: =127210*('PPI Adj'!D6) -> 148454.07 | G21: =124971*('PPI Adj'!D6) -> 145841.16
A22: Additional Options NYS Discount | B22: The minimum percentage amount that shall be deducted from the MSRP for all Additional Options purchased under the Contract for this Item. | F22: 16 | G22: 16
A24: PART 3: Base Item Specifications | F24: IC Bus | G24: IC Bus
A25: Category | B25: Specification | C25: Information provided in Yellow Cells | F25: Diesel | G25: Gas
A26: General | B26: A School Bus with a Body installed upon a cowl and Chassis constructed using a chassis with a hood and front fender assembly. All of the engine is in front of the windshield and the entrance door is behind the front wheels. This is also known as a conventional school bus. This type also includes the cutaway truck chassis or truck chassis with cab, with or without a left side door, and with a GVWR greater than 16,000 pounds. | C26: Gross Vehicle Weight Rating (GVWR) [lbs]: | F26: 25500 | G26: 25500
A27: Capacity | B27: Minimum twenty-eight (28) Pupils. | C27: Number of rows: | F27: 5 | G27: 5
C28: Number of Pupils: | F28: 30 | G28: 30
A29: Rear Wheels | B29: Dual Rear Wheel (DRW)
A30: Dimensions | C30: Wheelbase [inches]: | F30: 170 | G30: 170
C31: Length (bumper to bumper) [inches]: | F31: 300.14 | G31: 300.14
C32: Body width (inside) [inches]: | F32: 90 | G32: 90
C33: Body headroom (standard) [inches]: | F33: 78 | G33: 78
C34: Cowl to rear axle length [inches]: | F34: 144.2 | G34: 144.2
A35: Cowl/Hood | B35: Forward tilting style cowl/hood assembly.
A36: Front Axle | C36: Gross Axle Weight Rating (GAWR) [lbs]: | F36: 8000 | G36: 8000
C37: Front axle capacity [lbs]: | F37: 8000 | G37: 8000
A38: Rear Axle | C38: Gross Axle Weight Rating (GAWR) [lbs]: | F38: 17500 | G38: 17500
C39: Rear axle capacity [lbs]: | F39: 17500 | G39: 17500
A40: Steering | B40: Power steering
A41: Brakes | B41: Chassis manufacturer's typical full air service brake system. A liquid-cooled, engine-lubricated air compressor, that is compliant with FMVSS (49 CFR 571.121.S5.1.1.), shall be provided. The air brake system shall be equipped with an automatic drain valve on the wet tank that may be unheated, a valve that can be manually opened on each air tank, and an air dryer/ejector that may be unheated. The system shall include a spring set parking brake. System shall be compliant with FMVSS (49 CFR 571.121), including the latest revision thereof. All brakes shall have automatic slack adjusters. | C41: Air Compressor size, Make & Model: | F41: CUMMINS 18.7 CFM | G41: CUMMINS 18.7 CFM
C42: Air Dryer size, Make & Model: | F42: BENDIX AD-9 | G42: BENDIX AD-9
A44: Brakes | B44: Antilock Brake System (ABS), and an audio & visual warning system for system malfunctions.
...

Sheet C (Item 2-D)
A1: ='C (Item 1-D)'!$A$1 -> GROUP 40524-23254, SCHOOL BUSES (Statewide) Attachment 1 - Specifications and Pricing (Revised October 15, 2026)
A2: PC69857 AT New York City, LLC
A3: LOT C (Item 2-D)
A4: Type C, 46 Pupil Conventional Front-Engine Bus (Diesel, Minimum 46 Pupils)
A6: PART 1: Product information for the Base Item(s) Awarded | F6: IC Bus | G6: IC Bus | H6: IC Bus
A7: Category | B7: Information provided in Yellow Cells | F7: Diesel | G7: Gas | H7: LPG
A8: Engine | B8: Information identifying the engine for the fuel type offered. | F8: 12ERP, Engine, Diesel Cummins B6.7 220HP | G8: 12DLP, Engine, Gasoline (PSI 8.8L) 265HP | H8: 12PAD, PSI 8.8L LPG, 270HP
A9: NYS DOT Approval Number | B9: The NYS DOT Approval Number for the School Bus. Only School Buses approved by NYS DOT Passenger Carrier Safety Bureau for use as 2022 and newer Models, as indicated by a NYS DOT Approval Number, shall be delivered pursuant to the Contract. | F9: 1825-NY-48-00WC-ATC | G9: 1825-NY-48-00WC-ATC | H9: 1825-NY-48-00WC-ATC
A10: Chassis Make | B10: The OEM company name of a Chassis. | F10: IC BUS | G10: IC BUS | H10: IC BUS
A11: Chassis Model | B11: The Model name of the Chassis. | F11: CE | G11: CE | H11: CE
A12: Chassis Model Code | B12: The OEM code used to identify the subset of the Chassis Model. | F12: PB105 | G12: PB105 | H12: PB105
A13: Body Make | B13: The OEM company name of a Body. | F13: IC BUS | G13: IC BUS | H13: IC BUS
A14: Body Model | B14: The Model name of the Body. | F14: CE | G14: CE | H14: CE
A15: Body Model Code | B15: The OEM code used to identify the subset of the Body Model. | F15: PB105 | G15: PB105 | H15: PB105
A16: Pick Up Allowance | B16: The dollar amount, per School Bus, that will be deducted from the Base Item NYS Contract Price, if the Authorized User elects to pick up the School Bus at the Contractor's location. | F16: 0 | G16: 0 | H16: 0
A17: Delivery Time | B17: The estimated delivery time for the School Bus, expressed in number of calendar days, required to make delivery after receipt of a final Purchase Order (After Receipt of Order (“ARO”)). | F17: 180-300 Days | G17: 180-300 Days | H17: 180-300 Days
A19: PART 2: Pricing for the Base Item, Additional Body Section, and Additional Options | F19: IC Bus | G19: IC Bus | H19: IC Bus
A20: Category | B20: Information provided in Yellow Cells | F20: Diesel | G20: Gas | H20: LPG
A21: Base Item NYS Contract Price | B21: The per unit NYS Contract Price (dollar amount) for the School Bus described in the Base Item Specifications. The Base Item NYS Contract Price includes any OEM fees, all customs duties and charges, all vehicle preparation and clean-up charges, NYS DOT inspection, installation charges, delivery and all other incidentals normally included with providing a School Bus, but excludes Optional Equipment, Additional Body Section(s), and Additional Options. | F21: =131695*('PPI Adj'!D6) -> 153688.07 | G21: =129521*('PPI Adj'!D6) -> 151151.01 | H21: =140295*('PPI Adj'!D6) -> 163724.27
A22: Additional Options NYS Discount | B22: The minimum percentage amount that shall be deducted from the MSRP for all Additional Options purchased under the Contract for this Item. | F22: 16 | G22: 16 | H22: 16
A24: PART 3: Base Item Specifications | F24: IC Bus | G24: IC Bus | H24: IC Bus
A25: Category | B25: Specification | C25: Information provided in Yellow Cells | F25: Diesel | G25: Gas | H25: LPG
A26: General | B26: A School Bus with a Body installed upon a cowl and Chassis constructed using a chassis with a hood and front fender assembly. All of the engine is in front of the windshield and the entrance door is behind the front wheels. This is also known as a conventional school bus. This type also includes the cutaway truck chassis or truck chassis with cab, with or without a left side door, and with a GVWR greater than 16,000 pounds. | C26: Gross Vehicle Weight Rating (GVWR) [lbs]: | F26: 27800 | G26: 27800 | H26: 27800
A27: Capacity | B27: Minimum forty-six (46) Pupils. | C27: Number of rows: | F27: 8 | G27: 8 | H27: 8
C28: Number of Pupils: | F28: 48 | G28: 48 | H28: 48
A29: Rear Wheels | B29: Dual Rear Wheel (DRW)
A30: Dimensions | C30: Wheelbase [inches]: | F30: 218 | G30: 218 | H30: 218
C31: Length (bumper to bumper) [inches]: | F31: 381.14 | G31: 381.14 | H31: 381.14
C32: Body width (inside) [inches]: | F32: 90 | G32: 90 | H32: 90
C33: Body headroom (standard) [inches]: | F33: 78 | G33: 78 | H33: 78
C34: Cowl to rear axle length [inches]: | F34: 191.49 | G34: 191.49 | H34: 191.49
A35: Cowl/Hood | B35: Forward tilting style cowl/hood assembly.
A36: Front Axle | C36: Gross Axle Weight Rating (GAWR) [lbs]: | F36: 8000 | G36: 8000 | H36: 8000
C37: Front axle capacity [lbs]: | F37: 8000 | G37: 8000 | H37: 8000
A38: Rear Axle | C38: Gross Axle Weight Rating (GAWR) [lbs]: | F38: 19800 | G38: 19800 | H38: 19800
C39: Rear axle capacity [lbs]: | F39: 19800 | G39: 19800 | H39: 19800
A40: Steering | B40: Power steering
A41: Brakes | B41: Chassis manufacturer's typical full air service brake system. A liquid-cooled, engine-lubricated air compressor, that is compliant with FMVSS (49 CFR 571.121.S5.1.1.), shall be provided. The air brake system shall be equipped with an automatic drain valve on the wet tank that may be unheated, a valve that can be manually opened on each air tank, and an air dryer/ejector that may be unheated. The system shall include a spring set parking brake. System shall be compliant with FMVSS (49 CFR 571.121), including the latest revision thereof. All brakes shall have automatic slack adjusters. | C41: Air Compressor size, Make & Model: | F41: CUMMINS 18.7 CFM | G41: CUMMINS 18.7 CFM | H41: CUMMINS 18.7 CFM
C42: Air Dryer size, Make & Model: | F42: BENDIX AD-9 | G42: BENDIX AD-9 | H42: BENDIX AD-9
A44: Brakes | B44: Antilock Brake System (ABS), and an audio & visual warning system for system malfunctions.
...

Sheet C (Item 2-EV)
A1: ='C (Item 1-D)'!$A$1 -> GROUP 40524-23254, SCHOOL BUSES (Statewide) Attachment 1 - Specifications and Pricing (Revised October 15, 2026)
A2: PC69857 AT New York City, LLC
A3: LOT C (Item 2-EV)
A4: Type C, 46 Pupil Conventional Front-Engine Bus (Electric, Minimum 46 Pupils)
A6: PART 1: Product information for the Base Item(s) Awarded | F6: IC Bus
A7: Category | B7: Information provided in Yellow Cells | F7: ELECTRIC
A8: Engine | B8: Information identifying the engine for the fuel type offered. | F8: Dana SUMO TM4 Motor/Inverter System, 335hp/255kW (peak), 255hp/190kW (continuous).
A9: NYS DOT Approval Number | B9: The NYS DOT Approval Number for the School Bus. Only School Buses approved by NYS DOT Passenger Carrier Safety Bureau for use as 2022 and newer Models, as indicated by a NYS DOT Approval Number, shall be delivered pursuant to the Contract. | F9: 2194-NY-48-00WC-ATC
A10: Chassis Make | B10: The OEM company name of a Chassis. | F10: IC BUS
A11: Chassis Model | B11: The Model name of the Chassis | F11: CE
A12: Chassis Model Code | B12: The OEM code used to identify the subset of the Chassis Model. | F12: PB10E
A13: Body Make | B13: The OEM company name of a Body. | F13: IC BUS
A14: Body Model | B14: The Model name of the Body | F14: CE
A15: Body Model Code | B15: The OEM code used to identify the subset of the Body Model. | F15: PB10E
A16: Pick Up Allowance | B16: The dollar amount, per School Bus, that will be deducted from the Base Item NYS Contract Price, if the Authorized User elects to pick up the School Bus at the Contractor's location. | F16: 0
A17: Delivery Time | B17: The estimated delivery time for the School Bus, expressed in number of calendar days, required to make delivery after receipt of a final Purchase Order (After Receipt of Order (“ARO”)) | F17: 180-300 Days
A19: PART 2: Pricing for the Base Item, Additional Body Section, and Additional Options | F19: IC Bus
A20: Category | B20: Information provided in Yellow Cells | F20: ELECTRIC
A21: Base Item NYS Contract Price | B21: The per unit NYS Contract Price (dollar amount) for the School Bus described in the Base Item Specifications. The Base Item NYS Contract Price includes any OEM fees, all customs duties and charges, all vehicle preparation and clean-up charges, NYS DOT inspection, installation charges, delivery and all other incidentals normally included with providing a School Bus, but excludes Optional Equipment, Additional Body Section(s), and Additional Options. | F21: =370482*('PPI Adj'!D6) -> 432352.49
A22: Additional Options NYS Discount | B22: The minimum percentage amount that shall be deducted from the MSRP for all Additional Options purchased under the Contract for this Item. | F22: 16
A24: PART 3: Base Item Specifications | F24: IC Bus
A25: Category | B25: Specification | C25: Information provided in Yellow Cells | F25: ELECTRIC
A26: General | B26: A School Bus with a Body installed upon a cowl and Chassis constructed using a chassis with a hood and front fender assembly. All of the engine is in front of the windshield and the entrance door is behind the front wheels. This is also known as a conventional school bus. This type also includes the cutaway truck chassis or truck chassis with cab, with or without a left side door, and with a GVWR greater than 16,000 pounds. | C26: Gross Vehicle Weight Rating (GVWR) [lbs]: | F26: 30280
A27: Capacity | B27: Minimum forty-six (46) Pupils. | C27: Number of rows: | F27: 8
C28: Number of Pupils: | F28: 48
A29: Rear Wheels | B29: Dual Rear Wheel (DRW)
A30: Dimensions | C30: Wheelbase [inches]: | F30: 218
C31: Length (bumper to bumper) [inches]: | F31: 381.14
C32: Body width (inside) [inches]: | F32: 90
C33: Body headroom (standard) [inches]: | F33: 78
C34: Cowl to rear axle length [inches]: | F34: 191.49
A35: Cowl/Hood | B35: Forward tilting style cowl/hood assembly.
A36: Front Axle | C36: Gross Axle Weight Rating (GAWR) [lbs]: | F36: 10000
C37: Front axle capacity [lbs]: | F37: 10000
A38: Rear Axle | C38: Gross Axle Weight Rating (GAWR) [lbs]: | F38: 20280
C39: Rear axle capacity [lbs]: | F39: 21000
A40: Steering | B40: Power steering
A41: Brakes | B41: Chassis manufacturer's typical full air service brake system. A liquid-cooled, engine-lubricated air compressor, that is compliant with FMVSS (49 CFR 571.121.S5.1.1.), shall be provided. The air brake system shall be equipped with an automatic drain valve on the wet tank that may be unheated, a valve that can be manually opened on each air tank, and an air dryer/ejector that may be unheated. The system shall include a spring set parking brake. System shall be compliant with FMVSS (49 CFR 571.121), including the latest revision thereof. All brakes shall have automatic slack adjusters. | C41: Air Compressor size, Make & Model: | F41: Quanxing 10.6 CFM
C42: Air Dryer size, Make & Model: | F42: Bendix ADIP
A44: Brakes | B44: Antilock Brake System (ABS), and an audio & visual warning system for system malfunctions.
...

Sheet C (Item 3-D)
A1: ='C (Item 1-D)'!$A$1 -> GROUP 40524-23254, SCHOOL BUSES (Statewide) Attachment 1 - Specifications and Pricing (Revised October 15, 2026)
A2: PC69857 AT New York City, LLC
A3: LOT C (Item 3-D)
A4: Type C, 58 Pupil Conventional Front-Engine Bus (Diesel, Minimum 58 Pupils)
A6: PART 1: Product information for the Base Item(s) Awarded | F6: IC Bus | G6: IC Bus
A7: Category | B7: Information provided in Yellow Cells | F7: Diesel | G7: Gas
A8: Engine | B8: Information identifying the engine for the fuel type offered. | F8: 12ERP, Engine, Diesel Cummins B6.7 220HP | G8: 12DLP, Engine, Gasoline (PSI 8.8L) 265HP
A9: NYS DOT Approval Number | B9: The NYS DOT Approval Number for the School Bus. Only School Buses approved by NYS DOT Passenger Carrier Safety Bureau for use as 2022 and newer Models, as indicated by a NYS DOT Approval Number, shall be delivered pursuant to the Contract. | F9: 2134-NY-60-00WC-ATC | G9: 2134-NY-60-00WC-ATC
A10: Chassis Make | B10: The OEM company name of a Chassis. | F10: IC BUS | G10: IC BUS
A11: Chassis Model | B11: The Model name of the Chassis. | F11: CE | G11: CE
A12: Chassis Model Code | B12: The OEM code used to identify the subset of the Chassis Model. | F12: PB105 | G12: PB105
A13: Body Make | B13: The OEM company name of a Body. | F13: IC BUS | G13: IC BUS
A14: Body Model | B14: The Model name of the Body. | F14: CE | G14: CE
A15: Body Model Code | B15: The OEM code used to identify the subset of the Body Model. | F15: PB105 | G15: PB105
A16: Pick Up Allowance | B16: The dollar amount, per School Bus, that will be deducted from the Base Item NYS Contract Price, if the Authorized User elects to pick up the School Bus at the Contractor's location. | F16: 0 | G16: 0
A17: Delivery Time | B17: The estimated delivery time for the School Bus, expressed in number of calendar days, required to make delivery after receipt of a final Purchase Order (After Receipt of Order (“ARO”)). | F17: 180-300 Days | G17: 180-300 Days
A19: PART 2: Pricing for the Base Item, Additional Body Section, and Additional Options | F19: IC Bus | G19: IC Bus
A20: Category | B20: Information provided in Yellow Cells | F20: Diesel | G20: Gas
A21: Base Item NYS Contract Price | B21: The per unit NYS Contract Price (dollar amount) for the School Bus described in the Base Item Specifications. The Base Item NYS Contract Price includes any OEM fees, all customs duties and charges, all vehicle preparation and clean-up charges, NYS DOT inspection, installation charges, delivery and all other incidentals normally included with providing a School Bus, but excludes Optional Equipment, Additional Body Section(s), and Additional Options. | F21: =133733*('PPI Adj'!D6) -> 156066.41 | G21: =131590*('PPI Adj'!D6) -> 153565.53
A22: Additional Options NYS Discount | B22: The minimum percentage amount that shall be deducted from the MSRP for all Additional Options purchased under the Contract for this Item. | F22: 16 | G22: 16
A24: PART 3: Base Item Specifications | F24: IC Bus | G24: IC Bus
A25: Category | B25: Specification | C25: Information provided in Yellow Cells | F25: Diesel | G25: Gas
A26: General | B26: A School Bus with a Body installed upon a cowl and Chassis constructed using a chassis with a hood and front fender assembly. All of the engine is in front of the windshield and the entrance door is behind the front wheels. This is also known as a conventional school bus. This type also includes the cutaway truck chassis or truck chassis with cab, with or without a left side door, and with a GVWR greater than 16,000 pounds. | C26: Gross Vehicle Weight Rating (GVWR) [lbs]: | F26: 27800 | G26: 27800
A27: Capacity | B27: Minimum fifty-eight (58) Pupils. | C27: Number of rows: | F27: 10 | G27: 10
C28: Number of Pupils: | F28: 60 | G28: 60
A29: Rear Wheels | B29: Dual Rear Wheel (DRW)
A30: Dimensions | C30: Wheelbase [inches]: | F30: 236 | G30: 236
C31: Length (bumper to bumper) [inches]: | F31: 408.14 | G31: 408.14
C32: Body width (inside) [inches]: | F32: 90 | G32: 90
C33: Body headroom (standard) [inches]: | F33: 78 | G33: 78
C34: Cowl to rear axle length [inches]: | F34: 210.92 | G34: 210.92
A35: Cowl/Hood | B35: Forward tilting style cowl/hood assembly.
A36: Front Axle | C36: Gross Axle Weight Rating (GAWR) [lbs]: | F36: 8000 | G36: 8000
C37: Front axle capacity [lbs]: | F37: 8000 | G37: 8000
A38: Rear Axle | C38: Gross Axle Weight Rating (GAWR) [lbs]: | F38: 19800 | G38: 19800
C39: Rear axle capacity [lbs]: | F39: 19800 | G39: 19800
A40: Steering | B40: Power steering
A41: Brakes | B41: Chassis manufacturer's typical full air service brake system. A liquid-cooled, engine-lubricated air compressor, that is compliant with FMVSS (49 CFR 571.121.S5.1.1.), shall be provided. The air brake system shall be equipped with an automatic drain valve on the wet tank that may be unheated, a valve that can be manually opened on each air tank, and an air dryer/ejector that may be unheated. The system shall include a spring set parking brake. System shall be compliant with FMVSS (49 CFR 571.121), including the latest revision thereof. All brakes shall have automatic slack adjusters. | C41: Air Compressor size, Make & Model: | F41: 18.7 CFM, Cummins | G41: 18.7 CFM, Cummins
C42: Air Dryer size, Make & Model: | F42: AD-9, Bendix, 04EBS | G42: AD-9, Bendix, 04EBS
A44: Brakes | B44: Antilock Brake System (ABS), and an audio & visual warning system for system malfunctions.
...

Sheet C (Item 4-D)
A1: ='C (Item 1-D)'!$A$1 -> GROUP 40524-23254, SCHOOL BUSES (Statewide) Attachment 1 - Specifications and Pricing (Revised October 15, 2026)
A2: PC69857 AT New York City, LLC
A3: LOT C (Item 4-D)
A4: Type C, 64 Pupil Conventional Front-Engine Bus (Diesel, Minimum 64 Pupils)
A6: PART 1: Product information for the Base Item(s) Awarded | F6: IC Bus
A7: Category | B7: Information provided in Yellow Cells | F7: Diesel | G7: Gas | H7: LPG
A8: Engine | B8: Information identifying the engine for the fuel type offered. | F8: 12ERP, Engine, Diesel Cummins B6.7 220HP | G8: 12DLP, Engine, Gasoline (PSI 8.8L) 265HP | H8: 12PAD, PSI 8.8L LPG, 270HP
A9: NYS DOT Approval Number | B9: The NYS DOT Approval Number for the School Bus. Only School Buses approved by NYS DOT Passenger Carrier Safety Bureau for use as 2022 and newer Models, as indicated by a NYS DOT Approval Number, shall be delivered pursuant to the Contract. | F9: 2101-NY-66-00WC-ATC | G9: 2101-NY-66-00WC-ATC | H9: 2101-NY-66-00WC-ATC
A10: Chassis Make | B10: The OEM company name of a Chassis. | F10: IC BUS | G10: IC BUS | H10: IC BUS
A11: Chassis Model | B11: The Model name of the Chassis. | F11: CE | G11: CE | H11: CE
A12: Chassis Model Code | B12: The OEM code used to identify the subset of the Chassis Model. | F12: PB105 | G12: MA055 | H12: PB105
A13: Body Make | B13: The OEM company name of a Body. | F13: IC BUS | G13: IC BUS | H13: IC BUS
A14: Body Model | B14: The Model name of the Body. | F14: CE | G14: CE | H14: CE
A15: Body Model Code | B15: The OEM code used to identify the subset of the Body Model. | F15: PB105 | G15: MA055 | H15: PB105
A16: Pick Up Allowance | B16: The dollar amount, per School Bus, that will be deducted from the Base Item NYS Contract Price, if the Authorized User elects to pick up the School Bus at the Contractor's location. | F16: 0 | G16: 0 | H16: 0
A17: Delivery Time | B17: The estimated delivery time for the School Bus, expressed in number of calendar days, required to make delivery after receipt of a final Purchase Order (After Receipt of Order (“ARO”)). | F17: 180-300 Days | G17: 180-300 Days | H17: 180-300 Days
A19: PART 2: Pricing for the Base Item, Additional Body Section, and Additional Options | F19: IC Bus
A20: Category | B20: Information provided in Yellow Cells | F20: Diesel | G20: Gas | H20: LPG
A21: Base Item NYS Contract Price | B21: The per unit NYS Contract Price (dollar amount) for the School Bus described in the Base Item Specifications. The Base Item NYS Contract Price includes any OEM fees, all customs duties and charges, all vehicle preparation and clean-up charges, NYS DOT inspection, installation charges, delivery and all other incidentals normally included with providing a School Bus, but excludes Optional Equipment, Additional Body Section(s), and Additional Options. | F21: =135093*('PPI Adj'!D6) -> 157653.53 | G21: =132696*('PPI Adj'!D6) -> 154856.23 | H21: =143624*('PPI Adj'!D6) -> 167609.21
A22: Additional Options NYS Discount | B22: The minimum percentage amount that shall be deducted from the MSRP for all Additional Options purchased under the Contract for this Item. | F22: 16 | G22: 16 | H22: 16
A24: PART 3: Base Item Specifications | F24: IC Bus
A25: Category | B25: Specification | C25: Information provided in Yellow Cells | F25: Diesel | G25: Gas | H25: LPG
A26: General | B26: A School Bus with a Body installed upon a cowl and Chassis constructed using a chassis with a hood and front fender assembly. All of the engine is in front of the windshield and the entrance door is behind the front wheels. This is also known as a conventional school bus. This type also includes the cutaway truck chassis or truck chassis with cab, with or without a left side door, and with a GVWR greater than 16,000 pounds. | C26: Gross Vehicle Weight Rating (GVWR) [lbs]: | F26: 29800 | G26: 29800 | H26: 29800
A27: Capacity | B27: Minimum sixty-four (64) Pupils. | C27: Number of rows: | F27: 11 | G27: 11 | H27: 11
C28: Number of Pupils: | F28: 66 | G28: 66 | H28: 66
A29: Rear Wheels | B29: Dual Rear Wheel (DRW)
A30: Dimensions | C30: Wheelbase [inches]: | F30: 254 | G30: 254 | H30: 254
C31: Length (bumper to bumper) [inches]: | F31: 435.14 | G31: 435.14 | H31: 435.14
C32: Body width (inside) [inches]: | F32: 90 | G32: 90 | H32: 90
C33: Body headroom (standard) [inches]: | F33: 78 | G33: 78 | H33: 78
C34: Cowl to rear axle length [inches]: | F34: 228.92 | G34: 228.92 | H34: 228.92
A35: Cowl/Hood | B35: Forward tilting style cowl/hood assembly.
A36: Front Axle | C36: Gross Axle Weight Rating (GAWR) [lbs]: | F36: 10000 | G36: 10000 | H36: 10000
C37: Front axle capacity [lbs]: | F37: 10000 | G37: 10000 | H37: 10000
A38: Rear Axle | C38: Gross Axle Weight Rating (GAWR) [lbs]: | F38: 19800 | G38: 19800 | H38: 19800
C39: Rear axle capacity [lbs]: | F39: 19800 | G39: 19800 | H39: 19800
A40: Steering | B40: Power steering
A41: Brakes | B41: Chassis manufacturer's typical full air service brake system. A liquid-cooled, engine-lubricated air compressor, that is compliant with FMVSS (49 CFR 571.121.S5.1.1.), shall be provided. The air brake system shall be equipped with an automatic drain valve on the wet tank that may be unheated, a valve that can be manually opened on each air tank, and an air dryer/ejector that may be unheated. The system shall include a spring set parking brake. System shall be compliant with FMVSS (49 CFR 571.121), including the latest revision thereof. All brakes shall have automatic slack adjusters. | C41: Air Compressor size, Make & Model: | F41: 18.7 CFM, Cummins | G41: 18.7 CFM, Cummins | H41: 18.7 CFM, Cummins
C42: Air Dryer size, Make & Model: | F42: AD-9, Bendix, 04EBS | G42: AD-9, Bendix, 04EBS | H42: AD-9, Bendix, 04EBS
A44: Brakes | B44: Antilock Brake System (ABS), and an audio & visual warning system for system malfunctions.
...

Sheet C (Item 4-EV)
A1: ='C (Item 1-D)'!$A$1 -> GROUP 40524-23254, SCHOOL BUSES (Statewide) Attachment 1 - Specifications and Pricing (Revised October 15, 2026)
A2: PC69857 AT New York City, LLC
A3: LOT C (Item 4-EV)
A4: Type C, 64 Pupil Conventional Front-Engine Bus (Electric, Minimum 64 Pupils)
A6: PART 1: Product information for the Base Item(s) Awarded | F6: IC Bus
A7: Category | B7: Information provided in Yellow Cells | F7: ELECTRIC
A8: Engine | B8: Information identifying the engine for the fuel type offered. | F8: Dana SUMO TM4 Motor/Inverter System, 335hp/255kW (peak), 255hp/190kW (continuous).
A9: NYS DOT Approval Number | B9: The NYS DOT Approval Number for the School Bus. Only School Buses approved by NYS DOT Passenger Carrier Safety Bureau for use as 2022 and newer Models, as indicated by a NYS DOT Approval Number, shall be delivered pursuant to the Contract. | F9: 2195-NY-66-00WC-ATC
A10: Chassis Make | B10: The OEM company name of a Chassis. | F10: IC BUS
A11: Chassis Model | B11: The Model name of the Chassis | F11: CE Series Electric
A12: Chassis Model Code | B12: The OEM code used to identify the subset of the Chassis Model. | F12: PB10E
A13: Body Make | B13: The OEM company name of a Body. | F13: IC BUS
A14: Body Model | B14: The Model name of the Body | F14: PB10E
A15: Body Model Code | B15: The OEM code used to identify the subset of the Body Model. | F15: CE Series
A16: Pick Up Allowance | B16: The dollar amount, per School Bus, that will be deducted from the Base Item NYS Contract Price, if the Authorized User elects to pick up the School Bus at the Contractor's location. | F16: 0
A17: Delivery Time | B17: The estimated delivery time for the School Bus, expressed in number of calendar days, required to make delivery after receipt of a final Purchase Order (After Receipt of Order (“ARO”)) | F17: 180-300 Days
A19: PART 2: Pricing for the Base Item, Additional Body Section, and Additional Options | F19: IC Bus
A20: Category | B20: Information provided in Yellow Cells | F20: ELECTRIC
A21: Base Item NYS Contract Price | B21: The per unit NYS Contract Price (dollar amount) for the School Bus described in the Base Item Specifications. The Base Item NYS Contract Price includes any OEM fees, all customs duties and charges, all vehicle preparation and clean-up charges, NYS DOT inspection, installation charges, delivery and all other incidentals normally included with providing a School Bus, but excludes Optional Equipment, Additional Body Section(s), and Additional Options. | F21: =376178*('PPI Adj'!D6) -> 438999.73
A22: Additional Options NYS Discount | B22: The minimum percentage amount that shall be deducted from the MSRP for all Additional Options purchased under the Contract for this Item. | F22: 16
A24: PART 3: Base Item Specifications | F24: IC Bus
A25: Category | B25: Specification | C25: Information provided in Yellow Cells | F25: ELECTRIC
A26: General | B26: A School Bus with a Body installed upon a cowl and Chassis constructed using a chassis with a hood and front fender assembly. All of the engine is in front of the windshield and the entrance door is behind the front wheels. This is also known as a conventional school bus. This type also includes the cutaway truck chassis or truck chassis with cab, with or without a left side door, and with a GVWR greater than 16,000 pounds. | C26: Gross Vehicle Weight Rating (GVWR) [lbs]: | F26: 33000
A27: Capacity | B27: Minimum forty-six (46) Pupils. | C27: Number of rows: | F27: 11
C28: Number of Pupils: | F28: 66
A29: Rear Wheels | B29: Dual Rear Wheel (DRW)
A30: Dimensions | C30: Wheelbase [inches]: | F30: 254
C31: Length (bumper to bumper) [inches]: | F31: 435.14
C32: Body width (inside) [inches]: | F32: 90
C33: Body headroom (standard) [inches]: | F33: 78
C34: Cowl to rear axle length [inches]: | F34: 228.92
A35: Cowl/Hood | B35: Forward tilting style cowl/hood assembly.
A36: Front Axle | C36: Gross Axle Weight Rating (GAWR) [lbs]: | F36: 10000
C37: Front axle capacity [lbs]: | F37: 10000
A38: Rear Axle | C38: Gross Axle Weight Rating (GAWR) [lbs]: | F38: 23000
C39: Rear axle capacity [lbs]: | F39: 23000
A40: Steering | B40: Power steering
A41: Brakes | B41: Chassis manufacturer's typical full air service brake system. A liquid-cooled, engine-lubricated air compressor, that is compliant with FMVSS (49 CFR 571.121.S5.1.1.), shall be provided. The air brake system shall be equipped with an automatic drain valve on the wet tank that may be unheated, a valve that can be manually opened on each air tank, and an air dryer/ejector that may be unheated. The system shall include a spring set parking brake. System shall be compliant with FMVSS (49 CFR 571.121), including the latest revision thereof. All brakes shall have automatic slack adjusters. | C41: Air Compressor size, Make & Model: | F41: Quanxing 10.6 CFM
C42: Air Dryer size, Make & Model: | F42: Bendix ADIP
A44: Brakes | B44: Antilock Brake System (ABS), and an audio & visual warning system for system malfunctions.
...

Sheet PPI Adj
A1: Hide before posting
B2: PPI Series ID | D2: WPU1413
B3: 08/2022 PPI | D3: 322.792 | E3: 10/2017 PPI | G3: 243.1
B4: 10/2026 PPI | D4: 376.62 | E4: =B4 -> 10/2026 PPI | G4: =D4 -> 376.62
B5: Adj. Factor | D5: =D4/D3 -> 1.1667575 | E5: Adj. Factor | G5: =G4/G3 -> 1.549239
B6: Round to 1000th | D6: =ROUND(D5,3) -> 1.167 | E6: Round to 1000th | G6: =ROUND(G5,3) -> 1.549
