Workbook

Sheet Attachment 1 - Summary
B1: Group 40524-23254, SCHOOL BUSES (Statewide) Attachment 1 - Specifications and Pricing (Revised October 15, 2026)
B2: PC69857 AT New York City, LLC
B3: The Contractor has been awarded the following Items, and shall offer Base Items, Optional Equipment and Additional Body Sections sold under the Contract at net prices that are equal to the applicable NYS Contract Price that is listed on the Contract Pricelist, or less. An Authorized User may choose to add one (1) or more of the Optional Equipment from the list of Optional Equipment, and/or Additional Body Sections, associated with the Base Item (see Contract Section 3.7 Optional Equipment and Additional Body Sections). Additional Options offered by the Contractor, that are listed on the OEM or Contractor-Published Pricelist(s), may also be requested by the Authorized User (see Contract Section 3.8 Additional Options).
B4: Name and description of worksheets included in this workbook:
B5: Tab Name | C5: Description of Tab or Item | D5: Fuel Types Awarded | E5: Item Availability by County (Under this Contract) | F5: Pupil Capacity | G5: Tab Color
B6: Attachment 1 - Summary | C6: Summary of Attachment 1 - Specifications and Pricing (this worksheet)
B7: C (Item 1-D) | C7: Lot C (Item 1-D): Type C, Conventional Bus | D7: Diesel, Gasoline | E7: Bronx, Kings, Nassau, New York, Queens, Richmond, Suffolk, Westchester, and Rockland Counties. For all other counties, please see Contract PC69861, Leonard Bus Sales, Inc. | F7: Minimum 24
B8: C (Item 2-D) | C8: Lot C (Item 2-D): Type C, Conventional Bus | D8: Diesel, Gasoline, LPG | E8: Bronx, Kings, Nassau, New York, Queens, Richmond, Suffolk, Westchester, and Rockland Counties. For all other counties, please see Contract PC69861, Leonard Bus Sales, Inc. | F8: Minimum 46
B9: C (Item 2-EV) | C9: Lot C (Item 2-EV): Type C, Conventional Bus | D9: Electric | E9: Bronx, Kings, Nassau, New York, Queens, Richmond, Suffolk, Westchester, and Rockland Counties. For all other counties, please see Contract PC69861, Leonard Bus Sales, Inc. | F9: Minimum 46
B10: C (Item 3-D) | C10: Lot C (Item 3-D): Type C, Conventional Bus | D10: Diesel, Gasoline | E10: Bronx, Kings, Nassau, New York, Queens, Richmond, Suffolk, Westchester, and Rockland Counties. For all other counties, please see Contract PC69861, Leonard Bus Sales, Inc. | F10: Minimum 58
B11: C (Item 4-D) | C11: Lot C (Item 4-D): Type C, Conventional Bus | D11: Diesel, Gasoline, LPG | E11: Bronx, Kings, Nassau, New York, Queens, Richmond, Suffolk, Westchester, and Rockland Counties. For all other counties, please see Contract PC69861, Leonard Bus Sales, Inc. | F11: Minimum 64
B12: C (Item 4-EV) | C12: Lot C (Item 4-EV): Type C, Conventional Bus | D12: Electric | E12: Bronx, Kings, Nassau, New York, Queens, Richmond, Suffolk, Westchester, and Rockland Counties. For all other counties, please see Contract PC69861, Leonard Bus Sales, Inc. | F12: Minimum 64

Sheet A (Item 2-G)
B1: GROUP 40524-23000, SCHOOL BUSES (Statewide) Appendix C: Number 2: Contract Pricelist (September 15, 2022)
B2: ='Attachment 1 - Summary'!B2 -> PC69857 AT New York City, LLC
B3: LOT A (Item 2-G)
B4: Type A-1, SRW, Cutaway, 4 Rows (Gasoline; Minimum 16 Pupils)
B6: PART 1: Product information for the Base Item(s) Awarded | G6: Chevrolet / Collins Bus | I6: Ford Transit / Collins Bus
B7: Category | C7: Information provided in Yellow Cells | G7: Gasoline | I7: Gasoline | J7: Diesel
B8: Engine | C8: Information identifying the engine for the fuel type offered. | G8: Make L20 Chevy OEM 8 cylinders 4.8L 285HP @ 5400rpm | I8: TI-VCT V6 6 CYL 3.7L 275@6000RPM | J8: POWER STROKE TURBO I5 6 CYL 3.2L 185@3000 RPM
B9: NYS DOT Approval Number | C9: The NYS DOT Approval Number for the School Bus. Only School Buses approved by NYS DOT Passenger Carrier Safety Bureau for use as 2016 and newer Models, as indicated by a NYS DOT Approval Number, shall be delivered pursuant to the Contract. | G9: 511-NY-16-00WC-CBC | I9: 678-NY-16-00WC-CBC | J9: 678-NY-16-00WC-CBC
B10: Chassis Make | C10: The OEM company name of a Chassis. | G10: Chevy / GMC | I10: Ford | J10: Ford
B11: Chassis Model | C11: The Model name of the Chassis. | G11: 33503 | I11: Transit | J11: Transit
B12: Chassis Model Code | C12: The OEM code used to identify the subset of the Chassis Model. | G12: 3500 | I12: T350 | J12: T350
B13: Body Make | C13: The OEM company name of a Body. | G13: Collins Bus | I13: Collins Bus | J13: Collins Bus
B14: Body Model | C14: The Model name of the Body. | G14: SH400 | I14: TH408 | J14: TH408
B15: Body Model Code | C15: The OEM code used to identify the subset of the Body Model. | G15: SH400 | I15: TH408 | J15: TH408
B16: Pick Up Allowance | C16: The dollar amount, per School Bus, that will be deducted from the Base Item NYS Contract Price, if the Authorized User elects to pick up the School Bus at the Contractor's location. | G16: 100 | I16: 100 | J16: 100
B17: Delivery Time | C17: The estimated delivery time for the School Bus, expressed in number of calendar days, required to make delivery after receipt of a final Purchase Order (After Receipt of Order (“ARO”)). | G17: 210 days ARO | I17: 210 Days ARO | J17: 210 Days ARO
B19: PART 2: Pricing for the Base Item, Additional Body Section, and Additional Options | G19: Chevrolet / Collins Bus | I19: Ford Transit / Collins Bus
B20: Category | C20: Information provided in Yellow Cells | G20: Gasoline | I20: Gasoline | J20: Diesel
B21: Base Item NYS Contract Price | C21: The per unit NYS Contract Price (dollar amount) for the School Bus described in the Base Item Specifications. The Base Item NYS Contract Price includes any OEM fees, all customs duties and charges, all vehicle preparation and clean-up charges, NYS DOT inspection, installation charges, delivery and all other incidentals normally included with providing a School Bus, but excludes Optional Equipment, Additional Body Section(s), and Additional Options. | G21: 57180.651 | I21: 58302.75 | J21: 64198.959
B22: Additional Body Section NYS Contract Price | C22: The per unit NYS Contract Price (dollar amount) for adding one (1) Additional Body Section, excluding seats and other interior features, to the Base Item and the applicable Base Item NYS Contract Price. | G22: 941.391 | I22: Not Available | J22: Not Available
B23: Additional Options NYS Discount | C23: The minimum percentage amount that shall be deducted from the MSRP for all Additional Options purchased under the Contract for this Item. | G23: 1 | I23: 1 | J23: 1
B25: PART 3: Base Item Specifications | G25: Chevrolet / Collins Bus | I25: Ford Transit / Collins Bus
B26: Category | C26: Specification | D26: Information provided in Yellow Cells | G26: Gasoline | I26: Gasoline | J26: Diesel
B27: General | C27: A conversion School Bus constructed using a cutaway front-section vehicle with a left side driver’s door, with a GVWR of 10,000 pounds or less. | D27: Gross Vehicle Weight Rating (GVWR) [lbs]: | G27: 9900 | I27: 9,500 Lbs. | J27: 9,500 Lbs.
B28: Capacity | C28: Minimum four (4) rows for sixteen (16) Pupils | D28: Number of rows: | G28: 4 | I28: 4 | J28: 4
D29: Number of Pupils: | G29: 16 | I29: 16 | J29: 16
B30: Rear Wheels | C30: Single Rear Wheel (SRW)
B31: Dimensions | D31: Wheelbase [inches]: | G31: 139" | I31: 156" | J31: 156"
D32: Length (bumper to bumper) [inches]: | G32: 242.23" | I32: 248" | J32: 248"
D33: Body width (inside) [inches]: | G33: 78" | I33: 77.9" | J33: 77.9"
D34: Body headroom (standard) [inches]: | G34: 75.3" | I34: 73.8" | J34: 73.8"
D35: Cowl to rear axle length [inches]: | G35: 210.88" Center of Back of Hood to rear interior skin | I35: 216.78" Center of Back of Hood to rear interior skin | J35: 216.78" Center of Back of Hood to rear interior skin
B36: Front Axle | D36: Gross Axle Weight Rating (GAWR) [lbs]: | G36: 4,300lbs. | I36: 4130 lbs | J36: 4130 lbs
D37: Front axle capacity [lbs]: | G37: 4,300lbs. | I37: 4130 lbs. | J37: 4130 lbs.
B38: Rear Axle | D38: Gross Axle Weight Rating (GAWR) [lbs]: | G38: 6,084lbs | I38: 6000 lbs | J38: 6000 lbs
D39: Rear axle capacity [lbs]: | G39: 6,084lbs | I39: 6000 lbs. | J39: 6000 lbs.
B40: Steering | C40: Power steering
B41: Tires | C41: Tires shall meet the minimum requirements for the Chassis Model, as published by the Chassis manufacturer. | D41: Front radial tires size (load range letter) | G41: LT/245/75R 16.0 E | I41: 235/65R 16C | J41: 235/65R 16C
D42: Front radial tires capacity | G42: 3,042lbs. | I42: 3195 lbs | J42: 3195 lbs
D43: Rear radial tires size (load range letter) | G43: LT/245/75R 16.0 E | I43: 235/65R 16C | J43: 235/65R 16C
D44: Rear radial tires capacity | G44: 3,042lbs. | I44: 3195 lbs | J44: 3195 lbs
D45: Front Tires Option Code: | G45: XHH | I45: TC8 | J45: TC8
D46: Front Tires Make & Tread Designation: | G46: All Season | I46: Continental | J46: Continental
D47: Rear Tires Option Code: | G47: YHH | I47: TC8 | J47: TC8
D48: Rear Tires Make & Tread Designation: | G48: All Season | I48: Continental | J48: Continental
B49: Transmission | C49: Automatic transmission | D49: Number of forward gears: | G49: 6 | I49: 6 | J49: 6
D50: Gears direct or w/O.D.?: | G50: W/OD | I50: W / OD | J50: W / OD
D51: Option Code, Make & Model: | G51: 6L90 | I51: 6R80 | J51: 6R80
B52: Engine | C52: Engine shall have a manufacturer's standard water cooled engine complete with accessories, as called for under classification. Engine shall develop full-rated torque and horsepower without requiring the use of premium grade fuel for any condition of operation. If a Diesel engine is offered, it shall develop full-rated torque and horsepower with the use of both ultra low sulfur grade diesel fuel and renewable diesel fuel.
B53: Alternator | C53: Alternator shall be of the integrally-rectified type, with an SAE continuous ampere output rating that is capable of at least powering all electrical devices energized simultaneously and an additional output of ten (10) or more amperes; and shall be driven by a single serpentine belt (or equivalent) or gear driven, and shall have full-transistor type voltage regulators. Wiring harness sizes shall be not less than the alternator manufacturer's recommendations. | D53: Option Code, Make & Model: | G53: OEM / GM | I53: Ford OEM | J53: Ford OEM
D54: Capacity [amps]: | G54: 145 | I54: 230 | J54: 230
B55: Battery(ies) | D55: Model or Option Code: | G55: Standard OEM | I55: Ford OEM | J55: Ford OEM
D56: Number of batteries: | G56: 1 | I56: 2 | J56: 2
D57: CCA of each battery: | G57: 600CCA | I57: 760 CCA | J57: 760 CCA
B58: Electrical | C58: Units shall have headlights turned on when the engine is running.
B59: Electrical | C59: Driver's compartment dome light shall be so directed to provide illumination for the bus driver and be controlled by an independent switch.
B60: Electrical | C60: All exterior lamps, except headlamps, shall be Light Emitting Diode (LED) design that meet applicable SAE standards.
B61: Horns | C61: An electrical horn(s) shall be provided that meets SAE standard J377.
B62: Door (Entrance) | D62: Type and clear width [inches]: | G62: Manual 25" | I62: Manual 25" | J62: Manual 25"
B63: Fuel Tank(s) | C63: Gasoline and diesel engines Base Items shall have a Twenty-Five (25) gallon fuel capacity. LPG and CNG shall have the minimum construction and protection required by NFPA. | D63: Capacity [gallons]: | G63: 33 | I63: 25 | J63: 25
B64: Mirrors | C64: The exterior driving mirrors shall be the heated defrosting type with their own switch and pilot light. Crossview mirrors shall be provided at front corners of each bus.
B65: Seating | C65: Manufacturer's standard or optional seat spacing that meets or exceeds the NYCRR minimum requirement for the respective class of School Bus with the minimum Pupil capacity stated above.
B66: Seatbelt (ambulatory) | C66: Type II seat belts shall be provided for each individual seating space. Seat belts shall meet current federal safety standards and shall be of a type approved by, and installed in accordance with, the rules and regulations established by NYS DOT in subdivision five (5) of section three-hundred eighty-three (383) of the New York State Vehicle and Traffic Laws dated July 30, 1986 and NYCRR, Title 17, Part 720, or the latest revision thereof.
B67: Stop Arm(s) (Power) | C67: Shall be entrance-door activated, electric or air-positioning type, and be provided streetside on all School Buses. It shall be compliant with FMVSS (49 CFR 571.131). | D67: Make & Model: | G67: Specialty / 7500 | I67: Specialty 7500 | J67: Specialty 7500
B68: "School Bus" Signs | C68: Both front and rear shall comply with Article 9, Section 375.20 of the New York State Vehicle and Traffic Law.
B69: 8 Lamp Warning System (School Bus) | C69: Shall be compliant with SAE J887. | D69: Make & Model: | G69: Inpower | I69: Inpower 7500 | J69: Inpower 7500
B70: Exterior Reflective Markings | C70: All units with a capacity of ten (10) or more Pupils shall be equipped with exterior reflective markings as required by FMVSS (49 CFR 571.217) and NYCRR (Title 15, Department of Motor Vehicles, Part D, 46.12).
B71: Floor | C71: Manufacturer's standard insulated floor design shall be provided throughout the School Bus.
B72: Heaters | C72: Minimum passenger compartment heating shall meet the requirements of NYCRR, Title 17, Part 720.4(I) Heaters, or the latest revision thereof.
B73: Door (Rear Emergency Exit) | C73: Shall include lower glass.
B75: PART 4: Optional Equipment NYS Contract Pricing | G75: Chevrolet / Collins Bus | I75: Ford Transit / Collins Bus
B76: Optional Equipment (see Specifications and Equipment Provided below) | G76: Gasoline | I76: Gasoline | J76: Diesel
B77: Capacity - Add One (1) Row of Seating | G77: 1526.25 | I77: Not Available | J77: Not Available
B78: Capacity - Delete One (1) Row of Seating | G78: -1526.25 | I78: -1120.878 | J78: -1120.878
B79: Child Presence Check / Alarm | G79: 661.782 | I79: 661.782 | J79: 661.782
B80: Glass (Tinted) | G80: 1019.535 | I80: 1019.535 | J80: 1019.535
B81: Rear Axle, "No Spin" | G81: 471.306 | I81: 487.179 | J81: 487.179
B82: Tires (Snow) | G82: 732.6 | I82: 732.6 | J82: 732.6
B83: Tires (All-Season) | G83: Included in Base Item | I83: Included in Base Item | J83: Included in Base Item
B84: Floor With Recessed Wheelchair Restraint Track For One Wheelchair Station. | G84: 427.35 | I84: 427.35 | J84: 427.35
B85: Floor (Flat) With Recessed Wheelchair Track Throughout Entire Body | G85: 6715.5 | I85: Not Available | J85: Not Available
B86: Wheelchair Lift | G86: 6411.471 | I86: 6411.471 | J86: 6411.471
B87: White Roof | G87: Included in Base Item | I87: Included in Base Item | J87: Included in Base Item
B88: Crossing Arm | G88: 499.389 | I88: 499.389 | J88: 499.389
B89: Additional Passenger Area Heater (Under Passenger Seat) | G89: 738.705 | I89: 738.705 | J89: 738.705
B90: Auxiliary Engine Coolant Heater | G90: Not Available | I90: Not Available | J90: Not Available
B91: Vandal Lock | G91: 206.349 | I91: 206.349 | J91: 206.349
B92: Air Conditioning | G92: 3235.65 | I92: 3235.65 | J92: 3235.65
B93: School Bus Safety Camera | G93: 1953.6 | I93: 1953.6 | J93: 1953.6
B94: Multifunction School Activity Bus | G94: 0 | I94: 0 | J94: 0
B96: PART 4: Optional Equipment Specifications | G96: Chevrolet / Collins Bus | I96: Ford Transit / Collins Bus
B97: Optional Equipment | C97: Specification | D97: Information provided in Yellow Cells | G97: Gasoline | I97: Gasoline | J97: Diesel
B98: Capacity - Add One (1) Row of Seating | C98: Add one (1) row of seating to an Additional Body Section that has been added to the Base Item. | I98: Not Available | J98: Not Available
B99: Capacity - Delete One (1) Row of Seating | C99: Delete one (1) full row of seating (both left and right sides) without removing a Body section from the Base Item, or altering the spacing between the remaining seats.
B100: Child Presence Check / Alarm | C100: Shall be the Child Check-mate System Model EP 2, or Compatible Equivalent. | D100: Make & Model: | G100: Child Check-mate EP-2 | I100: Child Check-mate EP-2 | J100: Child Check-mate EP-2
B101: Glass (Tinted) | C101: The School Bus windshield and Body windows shall have the manufacturer's typical options that provide tinted glass windows throughout the vehicle and shall comply with Article 9, Section 375.12a. of the New York State Vehicle and Traffic Law.
B102: Rear Axle, "No Spin" | C102: The manufacturer’s standard device (e.g., power-lock, limited-slip, no-spin, positive-traction). | D102: Type of device: | G102: Limited Slip | I102: Limited Slip | J102: Limited Slip
B103: Tires (Snow) | C103: Snow tread tires shall be provided on all drive wheels. Tires shall be Federal class D/A, STC (with snow traction capability), or class S/T, or A/T, AP with STC, or other class with STC. Tires of the same size and ply-rating as front tires shall be furnished on the rear wheels. The price entered for this Optional Equipment shall be for two (2) tires. | D103: Rear radial tires size (load range letter) | G103: LT245/75R 16E | I103: LT235/65R 16C | J103: LT235/65R 16C
D104: Rear radial tires capacity | G104: 2403 | I104: 3195 | J104: 3195
D105: Rear Tires Option Code: | G105: N/A - Aftermarket Tire | I105: N/A - Aftermarket Tire | J105: N/A - Aftermarket Tire
...

Sheet A (Item 3-G)
B1: GROUP 40524-23000, SCHOOL BUSES (Statewide) Appendix C: Number 2: Contract Pricelist (September 15, 2022)
B2: ='Attachment 1 - Summary'!B2 -> PC69857 AT New York City, LLC
B3: LOT A (Item 3-G)
B4: Type A-2, DRW, Cutaway, 4 Rows (Gasoline; Minimum 20 Pupils)
B6: PART 1: Product information for the Base Item(s) Awarded | G6: Chevrolet / Collins Bus | I6: Ford E-Series / Collins Bus | K6: Ford Transit / Collins Bus
B7: Category | C7: Information provided in Yellow Cells | G7: Gasoline | I7: Gasoline | K7: Gasoline | L7: Diesel
B8: Engine | C8: Information identifying the engine for the fuel type offered. | G8: L96 8 CYL 6.0L 342@5,500 RPM | I8: EFI V10 10 CYL 6.8L 305@4250RPM 420@3250 | K8: TI-VCT V6 6 CYL 3.7L 275@6000RPM | L8: POWER STROKE TURBO I5 6 CYL 3.2L 185@3000 RPM
B9: NYS DOT Approval Number | C9: The NYS DOT Approval Number for the School Bus. Only School Buses approved by NYS DOT Passenger Carrier Safety Bureau for use as 2016 and newer Models, as indicated by a NYS DOT Approval Number, shall be delivered pursuant to the Contract. | G9: 680-NY-20-00WC-CBC | I9: 679-NY-20-00WC-CBC | K9: 694-NY-20-00WC-CBC | L9: 694-NY-20-00WC-CBC
B10: Chassis Make | C10: The OEM company name of a Chassis. | G10: Chevy / GMC | I10: Ford | K10: Ford | L10: Ford
B11: Chassis Model | C11: The Model name of the Chassis. | G11: 33503 | I11: E350 | K11: Transit | L11: Transit
B12: Chassis Model Code | C12: The OEM code used to identify the subset of the Chassis Model. | G12: 3500 | I12: E3F | K12: T350 | L12: T350
B13: Body Make | C13: The OEM company name of a Body. | G13: Collins Bus | I13: Collins Bus | K13: Collins Bus | L13: Collins Bus
B14: Body Model | C14: The Model name of the Body. | G14: DH400 | I14: DH400F | K14: TH500 | L14: TH500
B15: Body Model Code | C15: The OEM code used to identify the subset of the Body Model. | G15: DH400 | I15: DH400F | K15: TH500 | L15: TH500
B16: Pick Up Allowance | C16: The dollar amount, per School Bus, that will be deducted from the Base Item NYS Contract Price, if the Authorized User elects to pick up the School Bus at the Contractor's location. | G16: 100 | I16: 100 | K16: 100 | L16: 100
B17: Delivery Time | C17: The estimated delivery time for the School Bus, expressed in number of calendar days, required to make delivery after receipt of a final Purchase Order (After Receipt of Order (“ARO”)). | G17: 210 Days ARO | I17: 210 Days ARO | K17: 210 Days ARO | L17: 210 Days ARO
B19: PART 2: Pricing for the Base Item, Additional Body Section, and Additional Options | G19: Chevrolet / Collins Bus | I19: Ford E-Series / Collins Bus | K19: Ford Transit / Collins Bus
B20: Category | C20: Information provided in Yellow Cells | G20: Gasoline | I20: Gasoline | K20: Gasoline | L20: Diesel
B21: Base Item NYS Contract Price | C21: The per unit NYS Contract Price (dollar amount) for the School Bus described in the Base Item Specifications. The Base Item NYS Contract Price includes any OEM fees, all customs duties and charges, all vehicle preparation and clean-up charges, NYS DOT inspection, installation charges, delivery and all other incidentals normally included with providing a School Bus, but excludes Optional Equipment, Additional Body Section(s), and Additional Options. | G21: 57903.483 | I21: 57430.956 | K21: 59385.777 | L21: 64974.294
B22: Additional Body Section NYS Contract Price | C22: The per unit NYS Contract Price (dollar amount) for adding one (1) Additional Body Section, excluding seats and other interior features, to the Base Item and the applicable Base Item NYS Contract Price. | G22: 1543.344 | I22: 1543.344 | K22: Not Available | L22: Not Available
B23: Additional Options NYS Discount | C23: The minimum percentage amount that shall be deducted from the MSRP for all Additional Options purchased under the Contract for this Item. | G23: 1 | I23: 1 | K23: 1 | L23: 1
B25: PART 3: Base Item Specifications | G25: Chevrolet / Collins Bus | I25: Ford E-Series / Collins Bus | K25: Ford Transit / Collins Bus
B26: Category | C26: Specification | D26: Information provided in Yellow Cells | G26: Gasoline | I26: Gasoline | K26: Gasoline | L26: Diesel
B27: General | C27: A conversion School Bus constructed using a cutaway front-section vehicle with a left side driver’s door, with a GVWR equal to or greater than 10,001 pounds and less than or equal to 21,500 pounds. | D27: Gross Vehicle Weight Rating (GVWR) [lbs]: | G27: 12300 | I27: 11,500 lbs. | K27: 10,360 lbs. | L27: 10,360 lbs.
B28: Capacity | C28: Minimum four (4) rows for twenty (20) Pupils. | D28: Number of rows: | G28: 4 | I28: 4 | K28: 5 | L28: 5
D29: Number of Pupils: | G29: 20 | I29: 20 | K29: 20 | L29: 20
B30: Rear Wheels | C30: Dual Rear Wheel (DRW)
B31: Dimensions | D31: Wheelbase [inches]: | G31: 139" | I31: 138" | K31: 156" | L31: 156"
D32: Length (bumper to bumper) [inches]: | G32: 242.23" | I32: 236.15" | K32: 272" | L32: 272"
D33: Body width (inside) [inches]: | G33: 91" | I33: 91" | K33: 77.9" | L33: 77.9"
D34: Body headroom (standard) [inches]: | G34: 76.5" | I34: 76.5" | K34: 73.8" | L34: 73.8"
D35: Cowl to rear axle length [inches]: | G35: 210.88" | I35: 210.88" | K35: 168" | L35: 168"
B36: Front Axle | D36: Gross Axle Weight Rating (GAWR) [lbs]: | G36: 4,300 Lbs. | I36: 4,600 lbs. | K36: 4130lbs. | L36: 4130lbs.
D37: Front axle capacity [lbs]: | G37: 4,300 Lbs. | I37: 4,600 lbs. | K37: 4130lbs. | L37: 4130lbs.
B38: Rear Axle | D38: Gross Axle Weight Rating (GAWR) [lbs]: | G38: 8,600 Lbs. | I38: 7,800 lbs. | K38: 7275 lbs. | L38: 7275 lbs.
D39: Rear axle capacity [lbs]: | G39: 8,600 Lbs. | I39: 7,800 lbs. | K39: 7275 lbs. | L39: 7275 lbs.
B40: Steering | C40: Power steering
B41: Tires | C41: Tires shall meet the minimum requirements for the Chassis Model, as published by the Chassis manufacturer. | D41: Front radial tires size (load range letter) | G41: 225/75R 16E | I41: 225/75R 16.0 E | K41: LT195/75R 16C | L41: LT195/75R 16C
D42: Front radial tires capacity | G42: 2680 | I42: 2680 | K42: 2150 | L42: 2150
D43: Rear radial tires size (load range letter) | G43: 225/75R 16E | I43: 225/75R 16.0 E | K43: LT195/75R 16C | L43: LT195/75R 16C
D44: Rear radial tires capacity | G44: 2470 | I44: 2470 | K44: 2040 lbs | L44: 2040 lbs
D45: Front Tires Option Code: | G45: XHF | I45: T67 | K45: TB8 | L45: TB8
D46: Front Tires Make & Tread Designation: | G46: All Season | I46: All Season | K46: HANCOOK | L46: HANCOOK
D47: Rear Tires Option Code: | G47: YHF | I47: T67 | K47: TB8 | L47: TB8
D48: Rear Tires Make & Tread Designation: | G48: All Season | I48: All Season | K48: HANCOOK | L48: HANCOOK
B49: Transmission | C49: Automatic transmission | D49: Number of forward gears: | G49: 6 | I49: 6 | K49: 6 | L49: 6
D50: Gears direct or w/O.D.?: | G50: W/OD | I50: W/OD | K50: W/OD | L50: W/OD
D51: Option Code, Make & Model: | G51: 6L90 | I51: 6R140 | K51: 6R80 OEM | L51: 6R80 OEM
B52: Engine | C52: Engine shall have a manufacturer's standard water cooled engine complete with accessories, as called for under classification. Engine shall develop full-rated torque and horsepower without requiring the use of premium grade fuel for any condition of operation. If a Diesel engine is offered, it shall develop full-rated torque and horsepower with the use of both ultra low sulfur grade diesel fuel and renewable diesel fuel.
B53: Alternator | C53: Alternator shall be of the integrally-rectified type, with an SAE continuous ampere output rating that is capable of at least powering all electrical devices energized simultaneously and an additional output of ten (10) or more amperes; and shall be driven by a single serpentine belt (or equivalent) or gear driven, and shall have full-transistor type voltage regulators. Wiring harness sizes shall be not less than the alternator manufacturer's recommendations. | D53: Option Code, Make & Model: | G53: Standard OEM | I53: Ford OEM | K53: FORD OEM | L53: FORD OEM
D54: Capacity [amps]: | G54: 145 | I54: 155 | K54: 230 AMP | L54: 230 AMP
B55: Battery(ies) | D55: Model or Option Code: | G55: Standard OEM | I55: Ford OEM | K55: FORD OEM | L55: FORD OEM
D56: Number of batteries: | G56: 1 | I56: 1 | K56: 2 | L56: 2
D57: CCA of each battery: | G57: 600 CCA | I57: 650CCA | K57: 760 CCA | L57: 760 CCA
B58: Electrical | C58: Units shall have headlights turned on when the engine is running.
B59: Electrical | C59: Driver's compartment dome light shall be so directed to provide illumination for the bus driver and be controlled by an independent switch.
B60: Electrical | C60: All exterior lamps, except headlamps, shall be Light Emitting Diode (LED) design that meet applicable SAE standards.
B61: Horns | C61: An electrical horn(s) shall be provided that meets SAE standard J377.
B62: Door (Entrance) | D62: Type and clear width [inches]: | G62: Manual 25" | I62: Manual 25" | K62: MANUAL 25" | L62: MANUAL 25"
B63: Fuel Tank(s) | C63: Gasoline and diesel engines Base Items shall have a Twenty-Five (25) gallon fuel capacity. LPG and CNG shall have the minimum construction and protection required by NFPA. | D63: Capacity [gallons]: | G63: 33 | I63: 40 | K63: 25 | L63: 25
B64: Mirrors | C64: The exterior driving mirrors shall be the heated defrosting type with their own switch and pilot light. Crossview mirrors shall be provided at front corners of each bus.
B65: Seating | C65: Manufacturer's standard or optional seat spacing that meets or exceeds the NYCRR minimum requirement for the respective class of School Bus with the minimum Pupil capacity stated above.
B66: Seatbelt (ambulatory) | C66: Seat belts shall be provided for each individual seating space. Seat belts shall meet current federal safety standards and shall be of a type approved by, and installed in accordance with, the rules and regulations established by NYS DOT in subdivision five (5) of section three-hundred eighty-three (383) of the New York State Vehicle and Traffic Laws dated July 30, 1986 and NYCRR, Title 17, Part 720, or the latest revision thereof.
B67: Stop Arm(s) (Power) | C67: Shall be entrance-door activated, electric or air-positioning type, and be provided streetside on all School Buses. It shall be compliant with FMVSS (49 CFR 571.131). | D67: Make & Model: | G67: Specialty 7500 | I67: Specialty 7500 | K67: Specialty 7500 | L67: Specialty 7500
B68: "School Bus" Signs | C68: Both front and rear shall comply with Article 9, Section 375.20 of the New York State Vehicle and Traffic Law.
B69: 8 Lamp Warning System (School Bus) | C69: Shall be compliant with SAE J887. | D69: Make & Model: | G69: Inpower 7500 | I69: Inpower 7500 | K69: Inpower 7500 | L69: Inpower 7500
B70: Exterior Reflective Markings | C70: All units with a capacity of ten (10) or more Pupils shall be equipped with exterior reflective markings as required by FMVSS (49 CFR 571.217) and NYCRR (Title 15, Department of Motor Vehicles, Part D, 46.12).
B71: Floor | C71: Manufacturer's standard insulated floor design shall be provided throughout the School Bus.
B72: Heaters | C72: Minimum passenger compartment heating shall meet the requirements of NYCRR, Title 17, Part 720.4(I) Heaters, or the latest revision thereof.
B73: Door (Rear Emergency Exit) | C73: Shall include lower glass.
B75: PART 4: Optional Equipment NYS Contract Pricing | G75: Chevrolet / Collins Bus | I75: Ford E-Series / Collins Bus | K75: Ford Transit / Collins Bus
B76: Optional Equipment (see Specifications and Equipment Provided below) | G76: Gasoline | I76: Gasoline | K76: Gasoline | L76: Diesel
B77: Capacity - Add One (1) Row of Seating | G77: 820.512 | I77: 820.512 | K77: Not Available | L77: Not Available
B78: Capacity - Delete One (1) Row of Seating | G78: -820.512 | I78: -820.512 | K78: -1120.878 | L78: -1120.878
B79: Child Presence Check / Alarm | G79: 661.782 | I79: 661.782 | K79: 661.782 | L79: 661.782
B80: Glass (Tinted) | G80: 1019.535 | I80: 1019.535 | K80: 1019.535 | L80: 1019.535
B81: Rear Axle, "No Spin" | G81: 471.306 | I81: 471.306 | K81: 487.179 | L81: 487.179
B82: Tires (Snow) | G82: 1221 | I82: 1221 | K82: 1709.4 | L82: 1709.4
B83: Tires (All-Season) | G83: Included in Base Item | I83: Included in Base Item | K83: Included in Base Item | L83: Included in Base Item
B84: Floor With Recessed Wheelchair Restraint Track For One Wheelchair Station. | G84: 427.35 | I84: 427.35 | K84: 427.35 | L84: 427.35
B85: Floor (Flat) With Recessed Wheelchair Track Throughout Entire Body | G85: 6349.2 | I85: 6349.2 | K85: Not Available | L85: Not Available
B86: Wheelchair Lift | G86: 6411.471 | I86: 6411.471 | K86: 6411.471 | L86: 6411.471
B87: Roof Ventilator / Emergency Exit | G87: 396.825 | I87: 396.825 | K87: 396.825 | L87: 396.825
B88: White Roof | G88: Included in Base Item | I88: Included in Base Item | K88: Included in Base Item | L88: Included in Base Item
B89: Crossing Arm | G89: 499.389 | I89: 499.389 | K89: 499.389 | L89: 499.389
B90: Additional Passenger Area Heater (Under Passenger Seat) | G90: 738.705 | I90: 738.705 | K90: 738.705 | L90: 738.705
B91: Auxiliary Engine Coolant Heater | G91: Not Available | I91: Not Available | K91: Not Available | L91: Not Available
B92: Vandal Lock | G92: 206.349 | I92: 206.349 | K92: 206.349 | L92: 206.349
B93: Air Conditioning | G93: 3235.65 | I93: 3235.65 | K93: 3235.65 | L93: 3235.65
B94: School Bus Safety Camera | G94: 1953.6 | I94: 1953.6 | K94: 1953.6 | L94: 1953.6
B95: Multifunction School Activity Bus | G95: 0 | I95: 0 | K95: 0 | L95: 0
B97: PART 4: Optional Equipment Specifications | G97: Chevrolet / Collins Bus | I97: Ford E-Series / Collins Bus | K97: Ford Transit / Collins Bus
B98: Optional Equipment | C98: Specification | D98: Information provided in Yellow Cells | G98: Gasoline | I98: Gasoline | K98: Gasoline | L98: Diesel
B99: Capacity - Add One (1) Row of Seating | C99: Add one (1) row of seating to an Additional Body Section that has been added to the Base Item.
B100: Capacity - Delete One (1) Row of Seating | C100: Delete one (1) full row of seating (both left and right sides) without removing a Body section from the Base Item, or altering the spacing between the remaining seats.
B101: Child Presence Check / Alarm | C101: Shall be the Child Check-mate System Model EP 2, or Compatible Equivalent. | D101: Make & Model: | G101: Child Check-mate EP-2 | I101: Child Check-mate EP-2 | K101: Child Check-mate EP-2 | L101: Child Check-mate EP-2
B102: Glass (Tinted) | C102: The School Bus windshield and Body windows shall have the manufacturer's typical options that provide tinted glass windows throughout the vehicle and shall comply with Article 9, Section 375.12a. of the New York State Vehicle and Traffic Law.
B103: Rear Axle, "No Spin" | C103: The manufacturer’s standard device (e.g., power-lock, limited-slip, no-spin, positive-traction). | D103: Type of device: | G103: Limited Slip | I103: Limited Slip | K103: Limited Slip | L103: Limited Slip
B104: Tires (Snow) | C104: Snow tread tires shall be provided on all drive wheels. Tires shall be Federal class D/A, STC (with snow traction capability), or class S/T, or A/T, AP with STC, or other class with STC. The price entered for this Optional Equipment shall be for four (4) tires. Tires furnished on the rear wheels shall be the same size and adequate for axle's GAWR. | D104: Rear radial tires size (load range letter) | G104: LT225/75R 16E | I104: LT225/75R 16 E | K104: LT195/ 75R 16 D | L104: LT195/ 75R 16 D
D105: Rear radial tires capacity | G105: 1984 | I105: 1984 | K105: 2337 | L105: 2337
...

Sheet A (Item 4-G)
B1: GROUP 40524-23254, SCHOOL BUSES (Statewide) Attachment 1 - Specifications and Pricing (December 13, 2022)
B2: ='Attachment 1 - Summary'!B2 -> PC69857 AT New York City, LLC
B3: LOT A (Item 4-G)
B4: Type A-2, DRW, Cutaway, 4 Rows (Gasoline; Minimum 24 Pupils)
B6: PART 1: Product information for the Base Item(s) Awarded | G6: Chevrolet / Collins Bus | I6: Ford E-Series / Collins Bus
B7: Category | C7: Information provided in Yellow Cells | G7: Gasoline | I7: Gasoline
B8: Engine | C8: Information identifying the engine for the fuel type offered. | G8: L96 8 CYL 6.0L 342@5,500 RPM | I8: EFI V10 10 CYL 6.8L 305@4250RPM 420@3250
B9: NYS DOT Approval Number | C9: The NYS DOT Approval Number for the School Bus. Only School Buses approved by NYS DOT Passenger Carrier Safety Bureau for use as 2016 and newer Models, as indicated by a NYS DOT Approval Number, shall be delivered pursuant to the Contract. | G9: 596-NY-24-00WC-CBC | I9: 695-NY-24-00WC-CBC
B10: Chassis Make | C10: The OEM company name of a Chassis. | G10: Chevy / GMC | I10: Ford
B11: Chassis Model | C11: The Model name of the Chassis. | G11: 33503 | I11: E350
B12: Chassis Model Code | C12: The OEM code used to identify the subset of the Chassis Model. | G12: 3500 | I12: E3F
B13: Body Make | C13: The OEM company name of a Body. | G13: Collins Bus | I13: Collins Bus
B14: Body Model | C14: The Model name of the Body. | G14: DH400 | I14: DH416
B15: Body Model Code | C15: The OEM code used to identify the subset of the Body Model. | G15: DH400 | I15: DH416
B16: Pick Up Allowance | C16: The dollar amount, per School Bus, that will be deducted from the Base Item NYS Contract Price, if the Authorized User elects to pick up the School Bus at the Contractor's location. | G16: 100 | I16: 100
B17: Delivery Time | C17: The estimated delivery time for the School Bus, expressed in number of calendar days, required to make delivery after receipt of a final Purchase Order (After Receipt of Order (“ARO”)). | G17: 210 Days ARO | I17: 210 Days ARO
B19: PART 2: Pricing for the Base Item, Additional Body Section, and Additional Options | G19: Chevrolet / Collins Bus | I19: Ford E-Series / Collins Bus
B20: Category | C20: Information provided in Yellow Cells | G20: Gasoline | I20: Gasoline
B21: Base Item NYS Contract Price | C21: The per unit NYS Contract Price (dollar amount) for the School Bus described in the Base Item Specifications. The Base Item NYS Contract Price includes any OEM fees, all customs duties and charges, all vehicle preparation and clean-up charges, NYS DOT inspection, installation charges, delivery and all other incidentals normally included with providing a School Bus, but excludes Optional Equipment, Additional Body Section(s), and Additional Options. | G21: 58501.773 | I21: 60195.3
B22: Additional Body Section NYS Contract Price | C22: The per unit NYS Contract Price (dollar amount) for adding one (1) Additional Body Section, excluding seats and other interior features, to the Base Item and the applicable Base Item NYS Contract Price. | G22: 1543.344 | I22: 1543.344
B23: Additional Options NYS Discount | C23: The minimum percentage amount that shall be deducted from the MSRP for all Additional Options purchased under the Contract for this Item. | G23: 1 | I23: 1
B25: PART 3: Base Item Specifications | G25: Chevrolet / Collins Bus | I25: Ford E-Series / Collins Bus
B26: Category | C26: Specification | D26: Information provided in Yellow Cells | G26: Gasoline | I26: Gasoline
B27: General | C27: A conversion School Bus constructed using a cutaway front-section vehicle with a left side driver’s door, with a GVWR equal to or greater than 10,001 pounds and less than or equal to 21,500 pounds. | D27: Gross Vehicle Weight Rating (GVWR) [lbs]: | G27: 12300 | I27: 11,500 lbs.
B28: Capacity | C28: Minimum four (4) rows for twenty-four (24) Pupils. | D28: Number of rows: | G28: 4 | I28: 4
D29: Number of Pupils: | G29: 24 | I29: 24
B30: Rear Wheels | C30: Dual Rear Wheel (DRW)
B31: Dimensions | D31: Wheelbase [inches]: | G31: 139" | I31: 138"
D32: Length (bumper to bumper) [inches]: | G32: 242.23" | I32: 236.15"
D33: Body width (inside) [inches]: | G33: 91" | I33: 91"
D34: Body headroom (standard) [inches]: | G34: 76.5" | I34: 76.5"
D35: Cowl to rear axle length [inches]: | G35: 210.88" | I35: 210.88"
B36: Front Axle | D36: Gross Axle Weight Rating (GAWR) [lbs]: | G36: 4,300 Lbs. | I36: 4,600 lbs.
D37: Front axle capacity [lbs]: | G37: 4,300 Lbs. | I37: 4,600 lbs.
B38: Rear Axle | D38: Gross Axle Weight Rating (GAWR) [lbs]: | G38: 8,600 Lbs. | I38: 7,800 lbs.
D39: Rear axle capacity [lbs]: | G39: 8,600 Lbs. | I39: 7,800 lbs.
B40: Steering | C40: Power steering
B41: Tires | C41: Tires shall meet the minimum requirements for the Chassis Model, as published by the Chassis manufacturer. | D41: Front radial tires size (load range letter) | G41: 225/75R 16E | I41: 225/75R 16.0 E
D42: Front radial tires capacity | G42: 2680 | I42: 2680
D43: Rear radial tires size (load range letter) | G43: 225/75R 16E | I43: 225/75R 16.0 E
D44: Rear radial tires capacity | G44: 2470 | I44: 2470
D45: Front Tires Option Code: | G45: XHF | I45: T67
D46: Front Tires Make & Tread Designation: | G46: All Season | I46: All Season
D47: Rear Tires Option Code: | G47: YHF | I47: T67
D48: Rear Tires Make & Tread Designation: | G48: All Season | I48: All Season
B49: Transmission | C49: Automatic transmission | D49: Number of forward gears: | G49: 6 | I49: 6
D50: Gears direct or w/O.D.?: | G50: W/OD | I50: W/OD
D51: Option Code, Make & Model: | G51: 6L90 | I51: 6R140
B52: Engine | C52: Engine shall have a manufacturer's standard water cooled engine complete with accessories, as called for under classification. Engine shall develop full-rated torque and horsepower without requiring the use of premium grade fuel for any condition of operation. If a Diesel engine is offered, it shall develop full-rated torque and horsepower with the use of both ultra low sulfur grade diesel fuel and renewable diesel fuel.
B53: Alternator | C53: Alternator shall be of the integrally-rectified type, with an SAE continuous ampere output rating that is capable of at least powering all electrical devices energized simultaneously and an additional output of ten (10) or more amperes; and shall be driven by a single serpentine belt (or equivalent) or gear driven, and shall have full-transistor type voltage regulators. Wiring harness sizes shall be not less than the alternator manufacturer's recommendations. | D53: Option Code, Make & Model: | G53: Standard OEM | I53: Ford OEM
D54: Capacity [amps]: | G54: 145 | I54: 155
B55: Battery(ies) | D55: Model or Option Code: | G55: Standard OEM | I55: Ford OEM
D56: Number of batteries: | G56: 1 | I56: 1
D57: CCA of each battery: | G57: 600 CCA | I57: 650CCA
B58: Electrical | C58: Units shall have headlights turned on when the engine is running.
B59: Electrical | C59: Driver's compartment dome light shall be so directed to provide illumination for the bus driver and be controlled by an independent switch.
B60: Electrical | C60: All exterior lamps, except headlamps, shall be Light Emitting Diode (LED) design that meet applicable SAE standards.
B61: Horns | C61: An electrical horn(s) shall be provided that meets SAE standard J377.
B62: Door (Entrance) | D62: Type and clear width [inches]: | G62: Manual 25" | I62: Manual 25"
B63: Fuel Tank(s) | C63: Gasoline and diesel engines Base Items shall have a Thirty (30) gallon fuel capacity. LPG and CNG shall have the minimum construction and protection required by NFPA. | D63: Capacity [gallons]: | G63: 33 | I63: 40
B64: Mirrors | C64: The exterior driving mirrors shall be the heated defrosting type with their own switch and pilot light. Crossview mirrors shall be provided at front corners of each bus.
B65: Seating | C65: Manufacturer's standard or optional seat spacing that meets or exceeds the NYCRR minimum requirement for the respective class of School Bus with the minimum Pupil capacity stated above.
B66: Seatbelt (ambulatory) | C66: Seat belts shall be provided for each individual seating space. Seat belts shall meet current federal safety standards and shall be of a type approved by, and installed in accordance with, the rules and regulations established by NYS DOT in subdivision five (5) of section three-hundred eighty-three (383) of the New York State Vehicle and Traffic Laws dated July 30, 1986 and NYCRR, Title 17, Part 720, or the latest revision thereof.
B67: Stop Arm(s) (Power) | C67: Shall be entrance-door activated, electric or air-positioning type, and be provided streetside on all School Buses. It shall be compliant with FMVSS (49 CFR 571.131). | D67: Make & Model: | G67: Specialty 7500 | I67: Specialty 7500
B68: "School Bus" Signs | C68: Both front and rear shall comply with Article 9, Section 375.20 of the New York State Vehicle and Traffic Law.
B69: 8 Lamp Warning System (School Bus) | C69: Shall be compliant with SAE J887. | D69: Make & Model: | G69: Inpower 7500 | I69: Inpower 7500
B70: Exterior Reflective Markings | C70: All units with a capacity of ten (10) or more Pupils shall be equipped with exterior reflective markings as required by FMVSS (49 CFR 571.217) and NYCRR (Title 15, Department of Motor Vehicles, Part D, 46.12).
B71: Floor | C71: Manufacturer's standard insulated floor design shall be provided throughout the School Bus.
B72: Heaters | C72: Minimum passenger compartment heating shall meet the requirements of NYCRR, Title 17, Part 720.4(I) Heaters, or the latest revision thereof.
B73: Door (Rear Emergency Exit) | C73: Shall include lower glass.
B75: PART 4: Optional Equipment NYS Contract Pricing | G75: Chevrolet / Collins Bus | I75: Ford E-Series / Collins Bus
B76: Optional Equipment (see Specifications and Equipment Provided below) | G76: Gasoline | I76: Gasoline
B77: Capacity - Add One (1) Row of Seating | G77: 820.512 | I77: 820.512
B78: Capacity - Delete One (1) Row of Seating | G78: -820.512 | I78: -820.512
B79: Child Presence Check / Alarm | G79: 661.782 | I79: 661.782
B80: Glass (Tinted) | G80: 1019.535 | I80: 1019.535
B81: Rear Axle, "No Spin" | G81: 471.306 | I81: 471.306
B82: Tires (Snow) | G82: 1221 | I82: 1221
B83: Tires (All-Season) | G83: Included in Base Item | I83: Included in Base Item
B84: Floor With Recessed Wheelchair Restraint Track For One Wheelchair Station. | G84: 427.35 | I84: 427.35
B85: Floor (Flat) With Recessed Wheelchair Track Throughout Entire Body | G85: 6349.2 | I85: 6349.2
B86: Wheelchair Lift | G86: 6411.471 | I86: 6411.471
B87: Roof Ventilator / Emergency Exit | G87: 396.825 | I87: 396.825
B88: White Roof | G88: Included in Base Item | I88: Included in Base Item
B89: Crossing Arm | G89: 499.389 | I89: 499.389
B90: Additional Passenger Area Heater (Under Passenger Seat) | G90: 738.705 | I90: 738.705
B91: Auxiliary Engine Coolant Heater | G91: Not Available | I91: Not Available
B92: Vandal Lock | G92: 206.349 | I92: 206.349
B93: Air Conditioning | G93: 3235.65 | I93: 3235.65
B94: School Bus Safety Camera | G94: 1953.6 | I94: 1953.6
B95: Multifunction School Activity Bus | G95: 0 | I95: 0
B97: PART 4: Optional Equipment Specifications | G97: Chevrolet / Collins Bus | I97: Ford E-Series / Collins Bus
B98: Optional Equipment | C98: Specification | D98: Information provided in Yellow Cells | G98: Gasoline | I98: Gasoline
B99: Capacity - Add One (1) Row of Seating | C99: Add one (1) row of seating to an Additional Body Section that has been added to the Base Item.
B100: Capacity - Delete One (1) Row of Seating | C100: Delete one (1) full row of seating (both left and right sides) without removing a Body section from the Base Item, or altering the spacing between the remaining seats.
B101: Child Presence Check / Alarm | C101: Shall be the Child Check-mate System Model EP 2, or Compatible Equivalent. | D101: Make & Model: | G101: Child Check-mate EP-2 | I101: Child Check-mate EP-2
B102: Glass (Tinted) | C102: The School Bus windshield and Body windows shall have the manufacturer's typical options that provide tinted glass windows throughout the vehicle and shall comply with Article 9, Section 375.12a. of the New York State Vehicle and Traffic Law.
B103: Rear Axle, "No Spin" | C103: The manufacturer’s standard device (e.g., power-lock, limited-slip, no-spin, positive-traction). | D103: Type of device: | G103: Limited Slip | I103: Limited Slip
B104: Tires (Snow) | C104: Snow tread tires shall be provided on all drive wheels. Tires shall be Federal class D/A, STC (with snow traction capability), or class S/T, or A/T, AP with STC, or other class with STC. The price entered for this Optional Equipment shall be for four (4) tires. Tires furnished on the rear wheels shall be the same size and adequate for axle's GAWR. | D104: Rear radial tires size (load range letter) | G104: LT225 / 75R 16E | I104: LT225/75R 16 E
D105: Rear radial tires capacity | G105: 1984 | I105: 1984
...

Sheet C (Item 1-D)
A1: GROUP 40524-23254, SCHOOL BUSES (Statewide) Attachment 1 - Specifications and Pricing (Revised October 15, 2026)
A2: PC69857 AT New York City, LLC
A3: LOT C (Item 1-D)
A4: Type C, 28 Pupil Conventional Front-Engine Bus (Diesel, Minimum 28 Pupils)
A6: PART 1: Product information for the Base Item(s) Awarded | F6: IC Bus | G6: IC Bus
A7: Category | B7: Information provided in Yellow Cells | F7: Diesel | G7: Gas
A8: Engine | B8: Information identifying the engine for the fuel type offered. | F8: 12ERP, Engine, Diesel Cummins B6.7 220HP | G8: 12DLP, Engine, Gasoline (PSI 8.8L) 265HP
A9: NYS DOT Approval Number | B9: The NYS DOT Approval Number for the School Bus. Only School Buses approved by NYS DOT Passenger Carrier Safety Bureau for use as 2022 and newer Models, as indicated by a NYS DOT Approval Number, shall be delivered pursuant to the Contract. | F9: 1753-NY-30-00WC-ATC | G9: 1753-NY-30-00WC-ATC
A10: Chassis Make | B10: The OEM company name of a Chassis. | F10: IC BUS | G10: IC BUS
A11: Chassis Model | B11: The Model name of the Chassis. | F11: CE | G11: CE
A12: Chassis Model Code | B12: The OEM code used to identify the subset of the Chassis Model. | F12: PB105 | G12: PB105 | I12: `
A13: Body Make | B13: The OEM company name of a Body. | F13: IC BUS | G13: IC BUS
A14: Body Model | B14: The Model name of the Body. | F14: CE | G14: CE
A15: Body Model Code | B15: The OEM code used to identify the subset of the Body Model. | F15: PB105 | G15: PB105
A16: Pick Up Allowance | B16: The dollar amount, per School Bus, that will be deducted from the Base Item NYS Contract Price, if the Authorized User elects to pick up the School Bus at the Contractor's location. | F16: 0 | G16: 0
A17: Delivery Time | B17: The estimated delivery time for the School Bus, expressed in number of calendar days, required to make delivery after receipt of a final Purchase Order (After Receipt of Order (“ARO”)). | F17: 180-300 Days | G17: 180-300 Days
A19: PART 2: Pricing for the Base Item, Additional Body Section, and Additional Options | F19: IC Bus | G19: IC Bus
A20: Category | B20: Information provided in Yellow Cells | F20: Diesel | G20: Gas
A21: Base Item NYS Contract Price | B21: The per unit NYS Contract Price (dollar amount) for the School Bus described in the Base Item Specifications. The Base Item NYS Contract Price includes any OEM fees, all customs duties and charges, all vehicle preparation and clean-up charges, NYS DOT inspection, installation charges, delivery and all other incidentals normally included with providing a School Bus, but excludes Optional Equipment, Additional Body Section(s), and Additional Options. | F21: =127210*('PPI Adj'!D6) -> 148454.07 | G21: =124971*('PPI Adj'!D6) -> 145841.16
A22: Additional Options NYS Discount | B22: The minimum percentage amount that shall be deducted from the MSRP for all Additional Options purchased under the Contract for this Item. | F22: 16 | G22: 16
A24: PART 3: Base Item Specifications | F24: IC Bus | G24: IC Bus
A25: Category | B25: Specification | C25: Information provided in Yellow Cells | F25: Diesel | G25: Gas
A26: General | B26: A School Bus with a Body installed upon a cowl and Chassis constructed using a chassis with a hood and front fender assembly. All of the engine is in front of the windshield and the entrance door is behind the front wheels. This is also known as a conventional school bus. This type also includes the cutaway truck chassis or truck chassis with cab, with or without a left side door, and with a GVWR greater than 16,000 pounds. | C26: Gross Vehicle Weight Rating (GVWR) [lbs]: | F26: 25500 | G26: 25500
A27: Capacity | B27: Minimum twenty-eight (28) Pupils. | C27: Number of rows: | F27: 5 | G27: 5
C28: Number of Pupils: | F28: 30 | G28: 30
A29: Rear Wheels | B29: Dual Rear Wheel (DRW)
A30: Dimensions | C30: Wheelbase [inches]: | F30: 170 | G30: 170
C31: Length (bumper to bumper) [inches]: | F31: 300.14 | G31: 300.14
C32: Body width (inside) [inches]: | F32: 90 | G32: 90
C33: Body headroom (standard) [inches]: | F33: 78 | G33: 78
C34: Cowl to rear axle length [inches]: | F34: 144.2 | G34: 144.2
A35: Cowl/Hood | B35: Forward tilting style cowl/hood assembly.
A36: Front Axle | C36: Gross Axle Weight Rating (GAWR) [lbs]: | F36: 8000 | G36: 8000
C37: Front axle capacity [lbs]: | F37: 8000 | G37: 8000
A38: Rear Axle | C38: Gross Axle Weight Rating (GAWR) [lbs]: | F38: 17500 | G38: 17500
C39: Rear axle capacity [lbs]: | F39: 17500 | G39: 17500
A40: Steering | B40: Power steering
A41: Brakes | B41: Chassis manufacturer's typical full air service brake system. A liquid-cooled, engine-lubricated air compressor, that is compliant with FMVSS (49 CFR 571.121.S5.1.1.), shall be provided. The air brake system shall be equipped with an automatic drain valve on the wet tank that may be unheated, a valve that can be manually opened on each air tank, and an air dryer/ejector that may be unheated. The system shall include a spring set parking brake. System shall be compliant with FMVSS (49 CFR 571.121), including the latest revision thereof. All brakes shall have automatic slack adjusters. | C41: Air Compressor size, Make & Model: | F41: CUMMINS 18.7 CFM | G41: CUMMINS 18.7 CFM
C42: Air Dryer size, Make & Model: | F42: BENDIX AD-9 | G42: BENDIX AD-9
A44: Brakes | B44: Antilock Brake System (ABS), and an audio & visual warning system for system malfunctions.
A45: Tires | B45: Tires shall meet the minimum requirements for the Chassis Model, as published by the Chassis manufacturer. | C45: Front radial tires size (load range letter) | F45: 10R22.5, G | G45: 10R22.5, G
C46: Front radial tires capacity | F46: 5677 | G46: 5677
C47: Rear radial tires size (load range letter) | F47: 10R22.5, G | G47: 10R22.5, G
C48: Rear radial tires capacity | F48: 5355 | G48: 5355
C49: Front Tires Option Code: | F49: 7372115809 | G49: 7372115809
C50: Front Tires Make & Tread Designation: | F50: Hankook AH37 | G50: Hankook AH37
C51: Rear Tires Option Code: | F51: 7372115415 | G51: 7372115415
C52: Rear Tires Make & Tread Designation: | F52: Hankook AH37 | G52: Hankook AH37
A53: Transmission | B53: Automatic transmission with manufacturer's standard or optional temperature indicator at the operator's control panel. | C53: Number of forward gears: | F53: 6 | G53: 6
C54: Gears direct or w/O.D.?: | F54: Double Overdrive | G54: Double Overdrive
C55: Option Code, Make & Model: | F55: 13ARV, 2500 PTS | G55: 13ARV, 2500 PTS
A56: Engine | B56: Engine shall have a manufacturer's standard water cooled engine complete with accessories, as called for under classification. Engine shall develop full-rated torque and horsepower without requiring the use of premium grade fuel for any condition of operation. The Diesel engine shall develop full-rated torque and horsepower with the use of both ultra low sulfur grade diesel fuel and renewable diesel fuel.
A57: Engine Equipment | B57: Engine shall include silicone radiator and heater hoses (or equivalently rated/warranted). Diesel engine shall include cold weather starting aid.
A58: Alternator | B58: Alternator shall be of the integrally-rectified type, with an SAE continuous ampere output rating that is capable of at least powering all electrical devices energized simultaneously and an additional output of ten (10) or more amperes; and shall be driven by a single serpentine belt (or equivalent) or gear driven, and shall have full-transistor type voltage regulators. Wiring harness sizes shall be not less than the alternator manufacturer's recommendations. | C58: Option Code, Make & Model: | F58: 08GXG LN AVI160P2003 | G58: 08GXG LN AVI160P2003
C59: Capacity [amps]: | F59: 240 | G59: 240
A60: Battery(ies) | B60: Three (3) "No Maintenance" type batteries with a total capacity of 2400-CCA and a 145-minute reserve capacity. The battery cables (- and +) shall be the same size and weight and be equal to (or better than) the larger cable recommended by the School Bus manufacturer. | C60: Model or Option Code: | F60: 08NBX | G60: 08NBX
C61: Number of batteries: | F61: 3 | G61: 3
C62: Cold Cranking Amp (CCA) rating of each battery at 0oF | F62: 2850 | G62: 2850
A63: Electrical | B63: Units shall have headlights turned on when the engine is running.
A64: Electrical | B64: Driver's compartment dome light shall be so directed to provide illumination for the bus driver and be controlled by an independent switch.
A65: Electrical | B65: All exterior lamps, except headlamps, shall be Light Emitting Diode (LED) design that meet applicable SAE standards.
A66: Horns | B66: An electrical horn(s) shall be provided that meets SAE standard J377. An air horn shall not be an approved Compatible Equivalent.
A67: Door (Entrance) | B67: Minimum 24 inch opening. | C67: Type and clear width [inches]: | F67: Air, 32 | G67: AIR, 32
A68: Stepwell (Entrance) | B68: Structural, tread and riser members shall be constructed entirely of rust/corrosion-resistant steel, components and fasteners or materials of equivalent or stronger structural integrity. Manufacturer's standard floor/stair coverings shall be used for finish surfaces.
A69: Fuel Tank(s) | B69: Diesel and gasoline engine Base Items shall have a thirty (30) gallon fuel capacity. LPG and CNG shall have the minimum construction and protection required by NFPA | C69: Capacity [gallons/cu. ft.]: | F69: 40 | G69: 60
C70: Number and location of fuel tanks: | F70: 1 tank, Between the frame rails and behind the rear axle | G70: 1 tank, Between the frame rails and behind the rear axle
A71: Mirrors | B71: The vertical rectangular exterior driving mirrors shall be the heated defrosting type with their own switch and pilot light. Crossview mirrors shall be provided at front corners of each bus.
A72: Seating | B72: Manufacturer's standard or optional seat spacing that meets or exceeds the NYCRR minimum requirement for the respective class of School Bus with the minimum Pupil capacity stated above.
A73: Seatbelt (ambulatory) | B73: Seat belts shall be provided for each individual seating space. Seat belts shall meet current federal safety standards and shall be of a type approved by, and installed in accordance, with the rules and regulations established by NYS DOT in subdivision five (5) of section three-hundred eighty-three (383) of the New York State Vehicle and Traffic Laws dated July 30, 1986 and NYCRR, Title 17, Part 720, or the latest revision thereof.
A74: Stop Arm(s) (Power) | B74: Shall be entrance-door activated, electric or air-positioning type, and be provided streetside on all School Buses. It shall be compliant with FMVSS (49 CFR 571.131). Buses with a capacity of 45 persons or more shall have an additional and same model stop-arm at the rear streetside of the bus. | C74: Make & Model: | F74: Specialty 2980 | G74: Specialty 2980
A75: "School Bus" Signs | B75: Both front and rear shall comply with Article 9, Section 375.20 of the New York State Vehicle and Traffic Law.
A76: 8 Lamp Warning System (School Bus) | B76: Shall be compliant with SAE J887. | C76: Make & Model: | F76: Sound Off 49NGJ | G76: Sound Off 49NGJ
A77: Exterior Reflective Markings | B77: All units with a capacity of ten (10) or more Pupils shall be equipped with exterior reflective markings as required by FMVSS (49 CFR 571.217) and NYCRR (Title 15, Department of Motor Vehicles, Part D, 46.12).
A78: Floor | B78: Manufacturer's standard insulated floor design shall be provided throughout the School Bus.
A79: Heaters | B79: Minimum passenger compartment heating shall meet the requirements of NYCRR, Title 17, Part 720.4(I) Heaters, or the latest revision thereof.
A80: Door (Rear Emergency Exit) | B80: Shall include lower glass.
A82: PART 4: Optional Equipment NYS Contract Pricing | F82: IC Bus | G82: IC Bus
A83: Optional Equipment (see Specifications and Equipment Provided below) | F83: Diesel | G83: Gas
A84: Capacity - Delete One (1) Row of Seating | F84: =-500*('PPI Adj'!D6) -> -583.5 | G84: =-500*('PPI Adj'!D6) -> -583.5
A85: Child Presence Check / Alarm | F85: =361*('PPI Adj'!D6) -> 421.287 | G85: =361*('PPI Adj'!D6) -> 421.287
A86: Glass (Tinted) | F86: =500*('PPI Adj'!D6) -> 583.5 | G86: =500*('PPI Adj'!D6) -> 583.5
A87: Rear Axle, "No Spin" | F87: Included in Base Item | G87: Included in Base Item
A88: Tires (Snow) | F88: =250*('PPI Adj'!D6) -> 291.75 | G88: =250*('PPI Adj'!D6) -> 291.75
A89: Tires (All-Season) | F89: Included in Base Item | G89: Included in Base Item
A90: Floor With Recessed Wheelchair Restraint Track For One Wheelchair Station. | F90: =300*('PPI Adj'!D6) -> 350.1 | G90: =300*('PPI Adj'!D6) -> 350.1
A91: Floor (Flat) With Recessed Wheelchair Track Throughout Entire Body | F91: Not Available | G91: Not Available
A92: Wheelchair Lift | F92: =8605*('PPI Adj'!D6) -> 10042.035 | G92: =8605*('PPI Adj'!D6) -> 10042.035
A93: Roof Ventilator / Emergency Exit | F93: Included in Base Item | G93: Included in Base Item
A94: White Roof | F94: =790*('PPI Adj'!D6) -> 921.93 | G94: =790*('PPI Adj'!D6) -> 921.93
A95: High Headroom | F95: Included in Base Item | G95: Included in Base Item
A96: Crossing Arm | F96: =48*('PPI Adj'!D6) -> 56.016 | G96: =48*('PPI Adj'!D6) -> 56.016
A97: Auxiliary Engine Coolant Heater | F97: =6902*('PPI Adj'!D6) -> 8054.634 | G97: =6902*('PPI Adj'!D6) -> 8054.634
A98: Vandal Lock | F98: =593*('PPI Adj'!D6) -> 692.031 | G98: =593*('PPI Adj'!D6) -> 692.031
A99: Air Conditioning | F99: =12300*('PPI Adj'!D6) -> 14354.1 | G99: =12300*('PPI Adj'!D6) -> 14354.1
A100: School Bus Safety Camera | F100: =3055*('PPI Adj'!D6) -> 3565.185 | G100: =3055*('PPI Adj'!D6) -> 3565.185
A101: Delete Exterior LED Lamps | F101: =-893*('PPI Adj'!D6) -> -1042.131 | G101: =-893*('PPI Adj'!D6) -> -1042.131
A102: Multifunction School Activity Bus | F102: =-946*('PPI Adj'!D6) -> -1103.982 | G102: =-946*('PPI Adj'!D6) -> -1103.982
A104: PART 4: Optional Equipment Specifications | F104: IC Bus | G104: IC Bus
A105: Optional Equipment | B105: Specification | C105: Information provided in Yellow Cells | F105: Diesel | G105: Gas
A106: Capacity - Delete One (1) Row of Seating | B106: Delete one (1) full row of seating (both left and right sides) without removing a Body section from the Base Item, or altering the spacing between the remaining seats.
...

Sheet C (Item 2-D)
A1: ='C (Item 1-D)'!$A$1 -> GROUP 40524-23254, SCHOOL BUSES (Statewide) Attachment 1 - Specifications and Pricing (Revised October 15, 2026)
A2: PC69857 AT New York City, LLC
A3: LOT C (Item 2-D)
A4: Type C, 46 Pupil Conventional Front-Engine Bus (Diesel, Minimum 46 Pupils)
A6: PART 1: Product information for the Base Item(s) Awarded | F6: IC Bus | G6: IC Bus | H6: IC Bus
A7: Category | B7: Information provided in Yellow Cells | F7: Diesel | G7: Gas | H7: LPG
A8: Engine | B8: Information identifying the engine for the fuel type offered. | F8: 12ERP, Engine, Diesel Cummins B6.7 220HP | G8: 12DLP, Engine, Gasoline (PSI 8.8L) 265HP | H8: 12PAD, PSI 8.8L LPG, 270HP
A9: NYS DOT Approval Number | B9: The NYS DOT Approval Number for the School Bus. Only School Buses approved by NYS DOT Passenger Carrier Safety Bureau for use as 2022 and newer Models, as indicated by a NYS DOT Approval Number, shall be delivered pursuant to the Contract. | F9: 1825-NY-48-00WC-ATC | G9: 1825-NY-48-00WC-ATC | H9: 1825-NY-48-00WC-ATC
A10: Chassis Make | B10: The OEM company name of a Chassis. | F10: IC BUS | G10: IC BUS | H10: IC BUS
A11: Chassis Model | B11: The Model name of the Chassis. | F11: CE | G11: CE | H11: CE
A12: Chassis Model Code | B12: The OEM code used to identify the subset of the Chassis Model. | F12: PB105 | G12: PB105 | H12: PB105
A13: Body Make | B13: The OEM company name of a Body. | F13: IC BUS | G13: IC BUS | H13: IC BUS
A14: Body Model | B14: The Model name of the Body. | F14: CE | G14: CE | H14: CE
A15: Body Model Code | B15: The OEM code used to identify the subset of the Body Model. | F15: PB105 | G15: PB105 | H15: PB105
A16: Pick Up Allowance | B16: The dollar amount, per School Bus, that will be deducted from the Base Item NYS Contract Price, if the Authorized User elects to pick up the School Bus at the Contractor's location. | F16: 0 | G16: 0 | H16: 0
A17: Delivery Time | B17: The estimated delivery time for the School Bus, expressed in number of calendar days, required to make delivery after receipt of a final Purchase Order (After Receipt of Order (“ARO”)). | F17: 180-300 Days | G17: 180-300 Days | H17: 180-300 Days
A19: PART 2: Pricing for the Base Item, Additional Body Section, and Additional Options | F19: IC Bus | G19: IC Bus | H19: IC Bus
A20: Category | B20: Information provided in Yellow Cells | F20: Diesel | G20: Gas | H20: LPG
A21: Base Item NYS Contract Price | B21: The per unit NYS Contract Price (dollar amount) for the School Bus described in the Base Item Specifications. The Base Item NYS Contract Price includes any OEM fees, all customs duties and charges, all vehicle preparation and clean-up charges, NYS DOT inspection, installation charges, delivery and all other incidentals normally included with providing a School Bus, but excludes Optional Equipment, Additional Body Section(s), and Additional Options. | F21: =131695*('PPI Adj'!D6) -> 153688.07 | G21: =129521*('PPI Adj'!D6) -> 151151.01 | H21: =140295*('PPI Adj'!D6) -> 163724.27
A22: Additional Options NYS Discount | B22: The minimum percentage amount that shall be deducted from the MSRP for all Additional Options purchased under the Contract for this Item. | F22: 16 | G22: 16 | H22: 16
A24: PART 3: Base Item Specifications | F24: IC Bus | G24: IC Bus | H24: IC Bus
A25: Category | B25: Specification | C25: Information provided in Yellow Cells | F25: Diesel | G25: Gas | H25: LPG
A26: General | B26: A School Bus with a Body installed upon a cowl and Chassis constructed using a chassis with a hood and front fender assembly. All of the engine is in front of the windshield and the entrance door is behind the front wheels. This is also known as a conventional school bus. This type also includes the cutaway truck chassis or truck chassis with cab, with or without a left side door, and with a GVWR greater than 16,000 pounds. | C26: Gross Vehicle Weight Rating (GVWR) [lbs]: | F26: 27800 | G26: 27800 | H26: 27800
A27: Capacity | B27: Minimum forty-six (46) Pupils. | C27: Number of rows: | F27: 8 | G27: 8 | H27: 8
C28: Number of Pupils: | F28: 48 | G28: 48 | H28: 48
A29: Rear Wheels | B29: Dual Rear Wheel (DRW)
A30: Dimensions | C30: Wheelbase [inches]: | F30: 218 | G30: 218 | H30: 218
C31: Length (bumper to bumper) [inches]: | F31: 381.14 | G31: 381.14 | H31: 381.14
C32: Body width (inside) [inches]: | F32: 90 | G32: 90 | H32: 90
C33: Body headroom (standard) [inches]: | F33: 78 | G33: 78 | H33: 78
C34: Cowl to rear axle length [inches]: | F34: 191.49 | G34: 191.49 | H34: 191.49
A35: Cowl/Hood | B35: Forward tilting style cowl/hood assembly.
A36: Front Axle | C36: Gross Axle Weight Rating (GAWR) [lbs]: | F36: 8000 | G36: 8000 | H36: 8000
C37: Front axle capacity [lbs]: | F37: 8000 | G37: 8000 | H37: 8000
A38: Rear Axle | C38: Gross Axle Weight Rating (GAWR) [lbs]: | F38: 19800 | G38: 19800 | H38: 19800
C39: Rear axle capacity [lbs]: | F39: 19800 | G39: 19800 | H39: 19800
A40: Steering | B40: Power steering
A41: Brakes | B41: Chassis manufacturer's typical full air service brake system. A liquid-cooled, engine-lubricated air compressor, that is compliant with FMVSS (49 CFR 571.121.S5.1.1.), shall be provided. The air brake system shall be equipped with an automatic drain valve on the wet tank that may be unheated, a valve that can be manually opened on each air tank, and an air dryer/ejector that may be unheated. The system shall include a spring set parking brake. System shall be compliant with FMVSS (49 CFR 571.121), including the latest revision thereof. All brakes shall have automatic slack adjusters. | C41: Air Compressor size, Make & Model: | F41: CUMMINS 18.7 CFM | G41: CUMMINS 18.7 CFM | H41: CUMMINS 18.7 CFM
C42: Air Dryer size, Make & Model: | F42: BENDIX AD-9 | G42: BENDIX AD-9 | H42: BENDIX AD-9
A44: Brakes | B44: Antilock Brake System (ABS), and an audio & visual warning system for system malfunctions.
A45: Tires | B45: Tires shall meet the minimum requirements for the Chassis Model, as published by the Chassis manufacturer. | C45: Front radial tires size (load range letter) | F45: 10R22.5 (G | G45: 10R22.5 (G | H45: 10R22.5 (G
C46: Front radial tires capacity | F46: 5677 | G46: 5677 | H46: 5677
C47: Rear radial tires size (load range letter) | F47: 10R22.5 (G | G47: 10R22.5 (G | H47: 10R22.5 (G
C48: Rear radial tires capacity | F48: 5355 | G48: 5355 | H48: 5355
C49: Front Tires Option Code: | F49: 7372115809 | G49: 7372115809 | H49: 7372115809
C50: Front Tires Make & Tread Designation: | F50: Hankook AH37 | G50: Hankook AH37 | H50: Hankook AH37
C51: Rear Tires Option Code: | F51: 7372115809 | G51: 7372115809 | H51: 7372115809
C52: Rear Tires Make & Tread Designation: | F52: Hankook AH37 | G52: Hankook AH37 | H52: Hankook AH37
A53: Transmission | B53: Automatic transmission with manufacturer's standard or optional temperature indicator at the operator's control panel. | C53: Number of forward gears: | F53: 6 | G53: 6 | H53: 6
C54: Gears direct or w/O.D.?: | F54: Double Overdrive | G54: Double Overdrive | H54: Double Overdrive
C55: Option Code, Make & Model: | F55: 13ARV, 2500 PTS | G55: 13ARV, 2500 PTS | H55: 13ARV, 2500 PTS
A56: Engine | B56: Engine shall have a manufacturer's standard water cooled engine complete with accessories, as called for under classification. Engine shall develop full-rated torque and horsepower without requiring the use of premium grade fuel for any condition of operation. The Diesel engine shall develop full-rated torque and horsepower with the use of both ultra low sulfur grade diesel fuel and renewable diesel fuel.
A57: Engine Equipment | B57: Engine shall include silicone radiator and heater hoses (or equivalently rated/warranted). Diesel engine shall include cold weather starting aid.
A58: Alternator | B58: Alternator shall be of the integrally-rectified type, with an SAE continuous ampere output rating that is capable of at least powering all electrical devices energized simultaneously and an additional output of ten (10) or more amperes; and shall be driven by a single serpentine belt (or equivalent) or gear driven, and shall have full-transistor type voltage regulators. Wiring harness sizes shall be not less than the alternator manufacturer's recommendations. | C58: Option Code, Make & Model: | F58: 08GXG LN AVI160P2003 | G58: 08GXG LN AVI160P2003 | H58: 08GXG LN AVI160P2003
C59: Capacity [amps]: | F59: 240 | G59: 240 | H59: 240
A60: Battery(ies) | B60: Three (3) "No Maintenance" type batteries with a total capacity of 2400-CCA and a 145-minute reserve capacity. The battery cables (- and +) shall be the same size and weight and be equal to (or better than) the larger cable recommended by the School Bus manufacturer. | C60: Model or Option Code: | F60: 08NBX | G60: 08NBX | H60: 08NBX
C61: Number of batteries: | F61: 3 | G61: 3 | H61: 3
C62: Cold Cranking Amp (CCA) rating of each battery at 0oF | F62: 2850 | G62: 2850 | H62: 2850
A63: Electrical | B63: Units shall have headlights turned on when the engine is running.
A64: Electrical | B64: Driver's compartment dome light shall be so directed to provide illumination for the bus driver and be controlled by an independent switch.
A65: Electrical | B65: All exterior lamps, except headlamps, shall be Light Emitting Diode (LED) design that meet applicable SAE standards.
A66: Horns | B66: An electrical horn(s) shall be provided that meets SAE standard J377. An air horn shall not be an approved Compatible Equivalent.
A67: Door (Entrance) | B67: Minimum 24 inch opening. | C67: Type and clear width [inches]: | F67: Air, 32 | G67: Air, 32 | H67: Air, 32
A68: Stepwell (Entrance) | B68: Structural, tread and riser members shall be constructed entirely of rust/corrosion-resistant steel, components and fasteners or materials of equivalent or stronger structural integrity. Manufacturer's standard floor/stair coverings shall be used for finish surfaces.
A69: Fuel Tank(s) | B69: Diesel and gasoline engine Base Items shall have a thirty (30) gallon fuel capacity. LPG and CNG shall have the minimum construction and protection required by NFPA | C69: Capacity [gallons/cu. ft.]: | F69: 65 | G69: 65 | H69: 65
C70: Number and location of fuel tanks: | F70: 1 tank, Between the frame rails and behind the rear axle | G70: 1 tank, Between the frame rails and behind the rear axle | H70: 1 tank, Between the frame rails and behind the rear axle
A71: Mirrors | B71: The vertical rectangular exterior driving mirrors shall be the heated defrosting type with their own switch and pilot light. Crossview mirrors shall be provided at front corners of each bus.
A72: Seating | B72: Manufacturer's standard or optional seat spacing that meets or exceeds the NYCRR minimum requirement for the respective class of School Bus with the minimum Pupil capacity stated above.
A73: Seatbelt (ambulatory) | B73: Seat belts shall be provided for each individual seating space. Seat belts shall meet current federal safety standards and shall be of a type approved by, and installed in accordance, with the rules and regulations established by NYS DOT in subdivision five (5) of section three-hundred eighty-three (383) of the New York State Vehicle and Traffic Laws dated July 30, 1986 and NYCRR, Title 17, Part 720, or the latest revision thereof.
A74: Stop Arm(s) (Power) | B74: Shall be entrance-door activated, electric or air-positioning type, and be provided streetside on all School Buses. It shall be compliant with FMVSS (49 CFR 571.131). Buses with a capacity of 45 persons or more shall have an additional and same model stop-arm at the rear streetside of the bus. | C74: Make & Model: | F74: Specialty 2980 | G74: Specialty 2980 | H74: Specialty 2980
A75: "School Bus" Signs | B75: Both front and rear shall comply with Article 9, Section 375.20 of the New York State Vehicle and Traffic Law.
A76: 8 Lamp Warning System (School Bus) | B76: Shall be compliant with SAE J887. | C76: Make & Model: | F76: Sound Off 49NGJ | G76: Sound Off 49NGJ | H76: Sound Off 49NGJ
A77: Exterior Reflective Markings | B77: All units with a capacity of ten (10) or more Pupils shall be equipped with exterior reflective markings as required by FMVSS (49 CFR 571.217) and NYCRR (Title 15, Department of Motor Vehicles, Part D, 46.12).
A78: Floor | B78: Manufacturer's standard insulated floor design shall be provided throughout the School Bus.
A79: Heaters | B79: Minimum passenger compartment heating shall meet the requirements of NYCRR, Title 17, Part 720.4(I) Heaters, or the latest revision thereof.
A80: Door (Rear Emergency Exit) | B80: Shall include lower glass.
A82: PART 4: Optional Equipment NYS Contract Pricing | F82: IC Bus | G82: IC Bus | H82: IC Bus
A83: Optional Equipment (see Specifications and Equipment Provided below) | F83: Diesel | G83: Gas | H83: LPG
A84: Capacity - Delete One (1) Row of Seating | F84: =-500*('PPI Adj'!D6) -> -583.5 | G84: =-500*('PPI Adj'!D6) -> -583.5 | H84: =-500*('PPI Adj'!D6) -> -583.5
A85: Child Presence Check / Alarm | F85: =361*('PPI Adj'!D6) -> 421.287 | G85: =361*('PPI Adj'!D6) -> 421.287 | H85: =361*('PPI Adj'!D6) -> 421.287
A86: Glass (Tinted) | F86: =525*('PPI Adj'!D6) -> 612.675 | G86: =525*('PPI Adj'!D6) -> 612.675 | H86: =525*('PPI Adj'!D6) -> 612.675
A87: Rear Axle, "No Spin" | F87: Included in Base Item | G87: Included in Base Item | H87: Included in Base Item
A88: Tires (Snow) | F88: =250*('PPI Adj'!D6) -> 291.75 | G88: =250*('PPI Adj'!D6) -> 291.75 | H88: =250*('PPI Adj'!D6) -> 291.75
A89: Tires (All-Season) | F89: Included in Base Item | G89: Included in Base Item | H89: Included in Base Item
A90: Floor With Recessed Wheelchair Restraint Track For One Wheelchair Station. | F90: =300*('PPI Adj'!D6) -> 350.1 | G90: =300*('PPI Adj'!D6) -> 350.1 | H90: =300*('PPI Adj'!D6) -> 350.1
A91: Floor (Flat) With Recessed Wheelchair Track Throughout Entire Body | F91: Not Available | G91: Not Available | H91: Not Available
A92: Wheelchair Lift | F92: =8605*('PPI Adj'!D6) -> 10042.035 | G92: =8605*('PPI Adj'!D6) -> 10042.035 | H92: =8605*('PPI Adj'!D6) -> 10042.035
A93: Roof Ventilator / Emergency Exit | F93: Included in Base Item | G93: Included in Base Item | H93: Included in Base Item
A94: White Roof | F94: =790*('PPI Adj'!D6) -> 921.93 | G94: =790*('PPI Adj'!D6) -> 921.93 | H94: =790*('PPI Adj'!D6) -> 921.93
A95: High Headroom | F95: Included in Base Item | G95: Included in Base Item | H95: Included in Base Item
A96: Crossing Arm | F96: =48*('PPI Adj'!D6) -> 56.016 | G96: =48*('PPI Adj'!D6) -> 56.016 | H96: =48*('PPI Adj'!D6) -> 56.016
A97: Auxiliary Engine Coolant Heater | F97: =6902*('PPI Adj'!D6) -> 8054.634 | G97: =6902*('PPI Adj'!D6) -> 8054.634 | H97: =6902*('PPI Adj'!D6) -> 8054.634
A98: Vandal Lock | F98: =781*('PPI Adj'!D6) -> 911.427 | G98: =781*('PPI Adj'!D6) -> 911.427 | H98: =781*('PPI Adj'!D6) -> 911.427
A99: Air Conditioning | F99: =12300*('PPI Adj'!D6) -> 14354.1 | G99: =12300*('PPI Adj'!D6) -> 14354.1 | H99: =12300*('PPI Adj'!D6) -> 14354.1
A100: School Bus Safety Camera | F100: =3055*('PPI Adj'!D6) -> 3565.185 | G100: =3055*('PPI Adj'!D6) -> 3565.185 | H100: =3055*('PPI Adj'!D6) -> 3565.185
A101: Delete Exterior LED Lamps | F101: =-893*('PPI Adj'!D6) -> -1042.131 | G101: =-893*('PPI Adj'!D6) -> -1042.131 | H101: =-893*('PPI Adj'!D6) -> -1042.131
A102: Multifunction School Activity Bus | F102: =-946*('PPI Adj'!D6) -> -1103.982 | G102: =-946*('PPI Adj'!D6) -> -1103.982 | H102: =-946*('PPI Adj'!D6) -> -1103.982
A104: PART 4: Optional Equipment Specifications | F104: IC Bus | G104: IC Bus | H104: IC Bus
A105: Optional Equipment | B105: Specification | C105: Information provided in Yellow Cells | F105: Diesel | G105: Gas | H105: LPG
A106: Capacity - Delete One (1) Row of Seating | B106: Delete one (1) full row of seating (both left and right sides) without removing a Body section from the Base Item, or altering the spacing between the remaining seats.
...

Sheet C (Item 2-EV)
A1: ='C (Item 1-D)'!$A$1 -> GROUP 40524-23254, SCHOOL BUSES (Statewide) Attachment 1 - Specifications and Pricing (Revised October 15, 2026)
A2: PC69857 AT New York City, LLC
A3: LOT C (Item 2-EV)
A4: Type C, 46 Pupil Conventional Front-Engine Bus (Electric, Minimum 46 Pupils)
A6: PART 1: Product information for the Base Item(s) Awarded | F6: IC Bus
A7: Category | B7: Information provided in Yellow Cells | F7: ELECTRIC
A8: Engine | B8: Information identifying the engine for the fuel type offered. | F8: Dana SUMO TM4 Motor/Inverter System, 335hp/255kW (peak), 255hp/190kW (continuous).
A9: NYS DOT Approval Number | B9: The NYS DOT Approval Number for the School Bus. Only School Buses approved by NYS DOT Passenger Carrier Safety Bureau for use as 2022 and newer Models, as indicated by a NYS DOT Approval Number, shall be delivered pursuant to the Contract. | F9: 2194-NY-48-00WC-ATC
A10: Chassis Make | B10: The OEM company name of a Chassis. | F10: IC BUS
A11: Chassis Model | B11: The Model name of the Chassis | F11: CE
A12: Chassis Model Code | B12: The OEM code used to identify the subset of the Chassis Model. | F12: PB10E
A13: Body Make | B13: The OEM company name of a Body. | F13: IC BUS
A14: Body Model | B14: The Model name of the Body | F14: CE
A15: Body Model Code | B15: The OEM code used to identify the subset of the Body Model. | F15: PB10E
A16: Pick Up Allowance | B16: The dollar amount, per School Bus, that will be deducted from the Base Item NYS Contract Price, if the Authorized User elects to pick up the School Bus at the Contractor's location. | F16: 0
A17: Delivery Time | B17: The estimated delivery time for the School Bus, expressed in number of calendar days, required to make delivery after receipt of a final Purchase Order (After Receipt of Order (“ARO”)) | F17: 180-300 Days
A19: PART 2: Pricing for the Base Item, Additional Body Section, and Additional Options | F19: IC Bus
A20: Category | B20: Information provided in Yellow Cells | F20: ELECTRIC
A21: Base Item NYS Contract Price | B21: The per unit NYS Contract Price (dollar amount) for the School Bus described in the Base Item Specifications. The Base Item NYS Contract Price includes any OEM fees, all customs duties and charges, all vehicle preparation and clean-up charges, NYS DOT inspection, installation charges, delivery and all other incidentals normally included with providing a School Bus, but excludes Optional Equipment, Additional Body Section(s), and Additional Options. | F21: =370482*('PPI Adj'!D6) -> 432352.49
A22: Additional Options NYS Discount | B22: The minimum percentage amount that shall be deducted from the MSRP for all Additional Options purchased under the Contract for this Item. | F22: 16
A24: PART 3: Base Item Specifications | F24: IC Bus
A25: Category | B25: Specification | C25: Information provided in Yellow Cells | F25: ELECTRIC
A26: General | B26: A School Bus with a Body installed upon a cowl and Chassis constructed using a chassis with a hood and front fender assembly. All of the engine is in front of the windshield and the entrance door is behind the front wheels. This is also known as a conventional school bus. This type also includes the cutaway truck chassis or truck chassis with cab, with or without a left side door, and with a GVWR greater than 16,000 pounds. | C26: Gross Vehicle Weight Rating (GVWR) [lbs]: | F26: 30280
A27: Capacity | B27: Minimum forty-six (46) Pupils. | C27: Number of rows: | F27: 8
C28: Number of Pupils: | F28: 48
A29: Rear Wheels | B29: Dual Rear Wheel (DRW)
A30: Dimensions | C30: Wheelbase [inches]: | F30: 218
C31: Length (bumper to bumper) [inches]: | F31: 381.14
C32: Body width (inside) [inches]: | F32: 90
C33: Body headroom (standard) [inches]: | F33: 78
C34: Cowl to rear axle length [inches]: | F34: 191.49
A35: Cowl/Hood | B35: Forward tilting style cowl/hood assembly.
A36: Front Axle | C36: Gross Axle Weight Rating (GAWR) [lbs]: | F36: 10000
C37: Front axle capacity [lbs]: | F37: 10000
A38: Rear Axle | C38: Gross Axle Weight Rating (GAWR) [lbs]: | F38: 20280
C39: Rear axle capacity [lbs]: | F39: 21000
A40: Steering | B40: Power steering
A41: Brakes | B41: Chassis manufacturer's typical full air service brake system. A liquid-cooled, engine-lubricated air compressor, that is compliant with FMVSS (49 CFR 571.121.S5.1.1.), shall be provided. The air brake system shall be equipped with an automatic drain valve on the wet tank that may be unheated, a valve that can be manually opened on each air tank, and an air dryer/ejector that may be unheated. The system shall include a spring set parking brake. System shall be compliant with FMVSS (49 CFR 571.121), including the latest revision thereof. All brakes shall have automatic slack adjusters. | C41: Air Compressor size, Make & Model: | F41: Quanxing 10.6 CFM
C42: Air Dryer size, Make & Model: | F42: Bendix ADIP
A44: Brakes | B44: Antilock Brake System (ABS), and an audio & visual warning system for system malfunctions.
A45: Tires | B45: Tires shall meet the minimum requirements for the Chassis Model, as published by the Chassis manufacturer. | C45: Front radial tires size (load range letter) | F45: 255/70R22.5 (h)
C46: Front radial tires capacity | F46: 5510 Single
C47: Rear radial tires size (load range letter) | F47: 255/70R22.5 (H)
C48: Rear radial tires capacity | F48: 5070 Dual
C49: Front Tires Option Code: | F49: 7752528132
C50: Front Tires Make & Tread Designation: | F50: Goodyear Endurance RSA
C51: Rear Tires Option Code: | F51: 7752528132
C52: Rear Tires Make & Tread Designation: | F52: Goodyear Endurance RSA
A53: Transmission | B53: Automatic transmission with manufacturer's standard or optional temperature indicator at the operator's control panel. | C53: Number of forward gears: | F53: 1
C54: Gears direct or w/O.D.?: | F54: Direct
C55: Option Code, Make & Model: | F55: Not Applicable
A56: Propulsion System | B56: Propulsion system which furnishes high-wattage electric power to the motor(s), that propels the vehicle forward or backward, and is sometimes referred to as the “main or power drive circuitry.” | C56: Vehicle range on full charge [miles]: | F56: 135
A57: Battery(ies) | C57: Number of Batteries: | F57: 2
C58: Type of Batteries: | F58: LFP/Lithium Ion
C59: System Design Voltage: | F59: 608V
A60: Electrical | B60: Units shall have headlights turned on when the engine is running.
A61: Electrical | B61: Driver's compartment dome light shall be so directed to provide illumination for the bus driver and be controlled by an independent switch.
A62: Electrical | B62: All exterior lamps, except headlamps, shall be Light Emitting Diode (LED) design that meet applicable SAE standards.
A63: Horns | B63: An electrical horn(s) shall be provided that meets SAE standard J377. An air horn shall not be an approved Compatible Equivalent.
A64: Door (Entrance) | B64: Minimum 24 inch opening. | C64: Type and clear width [inches]: | F64: O/O Air, 32 "
A65: Stepwell (Entrance) | B65: Structural, tread and riser members shall be constructed entirely of rust/corrosion-resistant steel, components and fasteners or materials of equivalent or stronger structural integrity. Manufacturer's standard floor/stair coverings shall be used for finish surfaces.
A66: Mirrors | B66: The vertical rectangular exterior driving mirrors shall be the heated defrosting type with their own switch and pilot light. Crossview mirrors shall be provided at front corners of each bus.
A67: Seating | B67: Manufacturer's standard or optional seat spacing that meets or exceeds the NYCRR minimum requirement for the respective class of School Bus with the minimum Pupil capacity stated above.
A68: Seatbelt (ambulatory) | B68: Seat belts shall be provided for each individual seating space. Seat belts shall meet current federal safety standards and shall be of a type approved by, and installed in accordance, with the rules and regulations established by NYS DOT in subdivision five (5) of section three-hundred eighty-three (383) of the New York State Vehicle and Traffic Laws dated July 30, 1986 and NYCRR, Title 17, Part 720, or the latest revision thereof.
A69: Stop Arm(s) (Power) | B69: Shall be entrance-door activated, electric or air-positioning type, and be provided streetside on all School Buses. It shall be compliant with FMVSS (49 CFR 571.131). Buses with a capacity of 45 persons or more shall have an additional and same model stop-arm at the rear streetside of the bus. | C69: Make & Model: | F69: Specialty 2980
A70: "School Bus" Signs | B70: Both front and rear shall comply with Article 9, Section 375.20 of the New York State Vehicle and Traffic Law.
A71: 8 Lamp Warning System (School Bus) | B71: Shall be compliant with SAE J887. | C71: Make & Model: | F71: Sound Off 49NGJ
A72: Exterior Reflective Markings | B72: All units with a capacity of ten (10) or more Pupils shall be equipped with exterior reflective markings as required by FMVSS (49 CFR 571.217) and NYCRR (Title 15, Department of Motor Vehicles, Part D, 46.12).
A73: Floor | B73: Manufacturer's standard insulated floor design shall be provided throughout the School Bus.
A74: Heaters | B74: Minimum passenger compartment heating shall meet the requirements of NYCRR, Title 17, Part 720.4(I) Heaters, or the latest revision thereof. | C74: Heater Power Source: | F74: Propulsion Battery System
A75: Door (Rear Emergency Exit) | B75: Shall include lower glass.
A77: PART 4: Optional Equipment NYS Contract Pricing | F77: IC Bus
A78: Optional Equipment (see Specifications and Equipment Provided below) | F78: ELECTRIC
A79: Capacity - Delete One (1) Row of Seating | F79: =-500*('PPI Adj'!D6) -> -583.5
A80: Child Presence Check / Alarm | F80: =361*('PPI Adj'!D6) -> 421.287
A81: Glass (Tinted) | F81: =525*('PPI Adj'!D6) -> 612.675
A82: Rear Axle, "No Spin" | F82: Included in Base Item
A83: Tires (Snow) for 4 tires | F83: =550*('PPI Adj'!D6) -> 641.85
A84: Tires (All-Season) | F84: Included in Base Item
A85: Floor With Recessed Wheelchair Restraint Track For One Wheelchair Station. | F85: =300*('PPI Adj'!D6) -> 350.1
A86: Floor (Flat) With Recessed Wheelchair Track Throughout Entire Body | F86: Not Available
A87: Wheelchair Lift | F87: =8605*('PPI Adj'!D6) -> 10042.035
A88: Roof Ventilator / Emergency Exit | F88: Included In Base Item
A89: White Roof | F89: =790*('PPI Adj'!D6) -> 921.93
A90: High Headroom | F90: Included in Base Item
A91: Crossing Arm | F91: =48*('PPI Adj'!D6) -> 56.016
A92: Vandal Lock | F92: =781*('PPI Adj'!D6) -> 911.427
A93: Air Conditioning | F93: =17000*('PPI Adj'!D6) -> 19839
A94: School Bus Safety Camera | F94: =3055*('PPI Adj'!D6) -> 3565.185
A95: Multifunction School Activity Bus | F95: =-946*('PPI Adj'!D6) -> -1103.982
A97: PART 4: Optional Equipment Specifications | F97: IC Bus
A98: Optional Equipment | B98: Specification | C98: Information provided in Yellow Cells | F98: ELECTRIC
A99: Capacity - Delete One (1) Row of Seating | B99: Delete one (1) full row of seating (both left and right sides) without removing a Body section from the Base Item, or altering the spacing between the remaining seats.
A100: Child Presence Check / Alarm | B100: Shall be the Child Check-mate System Model EP 2, or Compatible Equivalent. | C100: Make & Model: | F100: Child Check Mate EP1, 47EXC
A101: Glass (Tinted) | B101: The School Bus windshield and Body windows shall have the manufacturer's typical options that provide tinted glass windows throughout the vehicle and shall comply with Article 9, Section 375.12a. of the New York State Vehicle and Traffic Law.
A102: Rear Axle, "No Spin" | B102: The manufacturer’s standard device (e.g., power-lock, limited-slip, no-spin, positive-traction). | C102: Type of device: | F102: Electronic Stability Control with Automatic Traction control
A103: Tires (Snow) | B103: Snow tread tires shall be provided on all drive wheels. Tires shall be Federal class D/A, STC (with snow traction capability), or class S/T, or A/T, AP with STC, or other class with STC. The price entered for this Optional Equipment shall be for four (4) tires. Tires furnished on the rear wheels shall be the same size and adequate for axle's GAWR. | C103: Rear radial tires size (load range letter) [LT_____/_____R_____._____(_____)]: | F103: 255/70R22.5 (H)
C104: Rear radial tires capacity [_____,_____-lbs]: | F104: 5070
C105: Rear Tires Option Code: | F105: 7752528137
C106: Rear Tires Make & Tread Designation: | F106: Goodyear Fuel Max RTD
...

Sheet C (Item 3-D)
A1: ='C (Item 1-D)'!$A$1 -> GROUP 40524-23254, SCHOOL BUSES (Statewide) Attachment 1 - Specifications and Pricing (Revised October 15, 2026)
A2: PC69857 AT New York City, LLC
A3: LOT C (Item 3-D)
A4: Type C, 58 Pupil Conventional Front-Engine Bus (Diesel, Minimum 58 Pupils)
A6: PART 1: Product information for the Base Item(s) Awarded | F6: IC Bus | G6: IC Bus
A7: Category | B7: Information provided in Yellow Cells | F7: Diesel | G7: Gas
A8: Engine | B8: Information identifying the engine for the fuel type offered. | F8: 12ERP, Engine, Diesel Cummins B6.7 220HP | G8: 12DLP, Engine, Gasoline (PSI 8.8L) 265HP
A9: NYS DOT Approval Number | B9: The NYS DOT Approval Number for the School Bus. Only School Buses approved by NYS DOT Passenger Carrier Safety Bureau for use as 2022 and newer Models, as indicated by a NYS DOT Approval Number, shall be delivered pursuant to the Contract. | F9: 2134-NY-60-00WC-ATC | G9: 2134-NY-60-00WC-ATC
A10: Chassis Make | B10: The OEM company name of a Chassis. | F10: IC BUS | G10: IC BUS
A11: Chassis Model | B11: The Model name of the Chassis. | F11: CE | G11: CE
A12: Chassis Model Code | B12: The OEM code used to identify the subset of the Chassis Model. | F12: PB105 | G12: PB105
A13: Body Make | B13: The OEM company name of a Body. | F13: IC BUS | G13: IC BUS
A14: Body Model | B14: The Model name of the Body. | F14: CE | G14: CE
A15: Body Model Code | B15: The OEM code used to identify the subset of the Body Model. | F15: PB105 | G15: PB105
A16: Pick Up Allowance | B16: The dollar amount, per School Bus, that will be deducted from the Base Item NYS Contract Price, if the Authorized User elects to pick up the School Bus at the Contractor's location. | F16: 0 | G16: 0
A17: Delivery Time | B17: The estimated delivery time for the School Bus, expressed in number of calendar days, required to make delivery after receipt of a final Purchase Order (After Receipt of Order (“ARO”)). | F17: 180-300 Days | G17: 180-300 Days
A19: PART 2: Pricing for the Base Item, Additional Body Section, and Additional Options | F19: IC Bus | G19: IC Bus
A20: Category | B20: Information provided in Yellow Cells | F20: Diesel | G20: Gas
A21: Base Item NYS Contract Price | B21: The per unit NYS Contract Price (dollar amount) for the School Bus described in the Base Item Specifications. The Base Item NYS Contract Price includes any OEM fees, all customs duties and charges, all vehicle preparation and clean-up charges, NYS DOT inspection, installation charges, delivery and all other incidentals normally included with providing a School Bus, but excludes Optional Equipment, Additional Body Section(s), and Additional Options. | F21: =133733*('PPI Adj'!D6) -> 156066.41 | G21: =131590*('PPI Adj'!D6) -> 153565.53
A22: Additional Options NYS Discount | B22: The minimum percentage amount that shall be deducted from the MSRP for all Additional Options purchased under the Contract for this Item. | F22: 16 | G22: 16
A24: PART 3: Base Item Specifications | F24: IC Bus | G24: IC Bus
A25: Category | B25: Specification | C25: Information provided in Yellow Cells | F25: Diesel | G25: Gas
A26: General | B26: A School Bus with a Body installed upon a cowl and Chassis constructed using a chassis with a hood and front fender assembly. All of the engine is in front of the windshield and the entrance door is behind the front wheels. This is also known as a conventional school bus. This type also includes the cutaway truck chassis or truck chassis with cab, with or without a left side door, and with a GVWR greater than 16,000 pounds. | C26: Gross Vehicle Weight Rating (GVWR) [lbs]: | F26: 27800 | G26: 27800
A27: Capacity | B27: Minimum fifty-eight (58) Pupils. | C27: Number of rows: | F27: 10 | G27: 10
C28: Number of Pupils: | F28: 60 | G28: 60
A29: Rear Wheels | B29: Dual Rear Wheel (DRW)
A30: Dimensions | C30: Wheelbase [inches]: | F30: 236 | G30: 236
C31: Length (bumper to bumper) [inches]: | F31: 408.14 | G31: 408.14
C32: Body width (inside) [inches]: | F32: 90 | G32: 90
C33: Body headroom (standard) [inches]: | F33: 78 | G33: 78
C34: Cowl to rear axle length [inches]: | F34: 210.92 | G34: 210.92
A35: Cowl/Hood | B35: Forward tilting style cowl/hood assembly.
A36: Front Axle | C36: Gross Axle Weight Rating (GAWR) [lbs]: | F36: 8000 | G36: 8000
C37: Front axle capacity [lbs]: | F37: 8000 | G37: 8000
A38: Rear Axle | C38: Gross Axle Weight Rating (GAWR) [lbs]: | F38: 19800 | G38: 19800
C39: Rear axle capacity [lbs]: | F39: 19800 | G39: 19800
A40: Steering | B40: Power steering
A41: Brakes | B41: Chassis manufacturer's typical full air service brake system. A liquid-cooled, engine-lubricated air compressor, that is compliant with FMVSS (49 CFR 571.121.S5.1.1.), shall be provided. The air brake system shall be equipped with an automatic drain valve on the wet tank that may be unheated, a valve that can be manually opened on each air tank, and an air dryer/ejector that may be unheated. The system shall include a spring set parking brake. System shall be compliant with FMVSS (49 CFR 571.121), including the latest revision thereof. All brakes shall have automatic slack adjusters. | C41: Air Compressor size, Make & Model: | F41: 18.7 CFM, Cummins | G41: 18.7 CFM, Cummins
C42: Air Dryer size, Make & Model: | F42: AD-9, Bendix, 04EBS | G42: AD-9, Bendix, 04EBS
A44: Brakes | B44: Antilock Brake System (ABS), and an audio & visual warning system for system malfunctions.
A45: Tires | B45: Tires shall meet the minimum requirements for the Chassis Model, as published by the Chassis manufacturer. | C45: Front radial tires size (load range letter) | F45: 10R22.5 (G | G45: 10R22.5 (G
C46: Front radial tires capacity | F46: 5677 | G46: 5677
C47: Rear radial tires size (load range letter) | F47: 10R22.5 (G | G47: 10R22.5 (G
C48: Rear radial tires capacity | F48: 5355 | G48: 5355
C49: Front Tires Option Code: | F49: 7372115809 | G49: 7372115809
C50: Front Tires Make & Tread Designation: | F50: Hankook AH37 | G50: Hankook AH37
C51: Rear Tires Option Code: | F51: 7372115809 | G51: 7372115809
C52: Rear Tires Make & Tread Designation: | F52: Hankook AH37 | G52: Hankook AH37
A53: Transmission | B53: Automatic transmission with manufacturer's standard or optional temperature indicator at the operator's control panel. | C53: Number of forward gears: | F53: 6 | G53: 6
C54: Gears direct or w/O.D.?: | F54: Double Overdrive | G54: Double Overdrive
C55: Option Code, Make & Model: | F55: 13ARV, 2500 PTS | G55: 13ARV, 2500 PTS
A56: Engine | B56: Engine shall have a manufacturer's standard water cooled engine complete with accessories, as called for under classification. Engine shall develop full-rated torque and horsepower without requiring the use of premium grade fuel for any condition of operation. The Diesel engine shall develop full-rated torque and horsepower with the use of both ultra low sulfur grade diesel fuel and renewable diesel fuel.
A57: Engine Equipment | B57: Engine shall include silicone radiator and heater hoses (or equivalently rated/warranted). Diesel engine shall include cold weather starting aid.
A58: Alternator | B58: Alternator shall be of the integrally-rectified type, with an SAE continuous ampere output rating that is capable of at least powering all electrical devices energized simultaneously and an additional output of ten (10) or more amperes; and shall be driven by a single serpentine belt (or equivalent) or gear driven, and shall have full-transistor type voltage regulators. Wiring harness sizes shall be not less than the alternator manufacturer's recommendations. | C58: Option Code, Make & Model: | F58: 08GXG LN AVI160P2003 | G58: 08GXG LN AVI160P2003
C59: Capacity [amps]: | F59: 240 | G59: 240
A60: Battery(ies) | B60: Three (3) "No Maintenance" type batteries with a total capacity of 2400-CCA and a 145-minute reserve capacity. The battery cables (- and +) shall be the same size and weight and be equal to (or better than) the larger cable recommended by the School Bus manufacturer. | C60: Model or Option Code: | F60: 08NBX | G60: 08NBX
C61: Number of batteries: | F61: 3 | G61: 3
C62: Cold Cranking Amp (CCA) rating of each battery at 0oF | F62: 2850 | G62: 2850
A63: Electrical | B63: Units shall have headlights turned on when the engine is running.
A64: Electrical | B64: Driver's compartment dome light shall be so directed to provide illumination for the bus driver and be controlled by an independent switch.
A65: Electrical | B65: All exterior lamps, except headlamps, shall be Light Emitting Diode (LED) design that meet applicable SAE standards.
A66: Horns | B66: An electrical horn(s) shall be provided that meets SAE standard J377. An air horn shall not be an approved Compatible Equivalent.
A67: Door (Entrance) | B67: Minimum 24 inch opening. | C67: Type and clear width [inches]: | F67: Air, 32 | G67: Air, 32
A68: Stepwell (Entrance) | B68: Structural, tread and riser members shall be constructed entirely of rust/corrosion-resistant steel, components and fasteners or materials of equivalent or stronger structural integrity. Manufacturer's standard floor/stair coverings shall be used for finish surfaces.
A69: Fuel Tank(s) | B69: Diesel and gasoline engine Base Items shall have a sixty (60) gallon fuel capacity. LPG and CNG shall have the minimum construction and protection required by NFPA | C69: Capacity [gallons/cu. ft.]: | F69: 65 | G69: 65
C70: Number and location of fuel tanks: | F70: 1 tank, Between the frame rails and behind the rear axle | G70: 1 tank, Between the frame rails and behind the rear axle
A71: Mirrors | B71: The vertical rectangular exterior driving mirrors shall be the heated defrosting type with their own switch and pilot light. Crossview mirrors shall be provided at front corners of each bus.
A72: Seating | B72: Manufacturer's standard or optional seat spacing that meets or exceeds the NYCRR minimum requirement for the respective class of School Bus with the minimum Pupil capacity stated above.
A73: Seatbelt (ambulatory) | B73: Seat belts shall be provided for each individual seating space. Seat belts shall meet current federal safety standards and shall be of a type approved by, and installed in accordance, with the rules and regulations established by NYS DOT in subdivision five (5) of section three-hundred eighty-three (383) of the New York State Vehicle and Traffic Laws dated July 30, 1986 and NYCRR, Title 17, Part 720, or the latest revision thereof.
A74: Stop Arm(s) (Power) | B74: Shall be entrance-door activated, electric or air-positioning type, and be provided streetside on all School Buses. It shall be compliant with FMVSS (49 CFR 571.131). Buses with a capacity of 45 persons or more shall have an additional and same model stop-arm at the rear streetside of the bus. | C74: Make & Model: | F74: Specialty 2980 | G74: Specialty 2980
A75: "School Bus" Signs | B75: Both front and rear shall comply with Article 9, Section 375.20 of the New York State Vehicle and Traffic Law.
A76: 8 Lamp Warning System (School Bus) | B76: Shall be compliant with SAE J887. | C76: Make & Model: | F76: Sound Off 49PTA | G76: Sound Off 49PTA
A77: Exterior Reflective Markings | B77: All units with a capacity of ten (10) or more Pupils shall be equipped with exterior reflective markings as required by FMVSS (49 CFR 571.217) and NYCRR (Title 15, Department of Motor Vehicles, Part D, 46.12).
A78: Floor | B78: Manufacturer's standard insulated floor design shall be provided throughout the School Bus.
A79: Heaters | B79: Minimum passenger compartment heating shall meet the requirements of NYCRR, Title 17, Part 720.4(I) Heaters, or the latest revision thereof.
A80: Door (Rear Emergency Exit) | B80: Shall include lower glass.
A82: PART 4: Optional Equipment NYS Contract Pricing | F82: IC Bus | G82: IC Bus
A83: Optional Equipment (see Specifications and Equipment Provided below) | F83: Diesel | G83: Gas
A84: Capacity - Delete One (1) Row of Seating | F84: =-500*('PPI Adj'!D6) -> -583.5 | G84: =-500*('PPI Adj'!D6) -> -583.5
A85: Child Presence Check / Alarm | F85: =361*('PPI Adj'!D6) -> 421.287 | G85: =361*('PPI Adj'!D6) -> 421.287
A86: Glass (Tinted) | F86: =550*('PPI Adj'!D6) -> 641.85 | G86: =550*('PPI Adj'!D6) -> 641.85
A87: Rear Axle, "No Spin" | F87: Included in Base Item | G87: Included in Base Item
A88: Tires (Snow) | F88: =250*('PPI Adj'!D6) -> 291.75 | G88: =250*('PPI Adj'!D6) -> 291.75
A89: Tires (All-Season) | F89: Included in Base Item | G89: Included in Base Item
A90: Floor With Recessed Wheelchair Restraint Track For One Wheelchair Station. | F90: =300*('PPI Adj'!D6) -> 350.1 | G90: =300*('PPI Adj'!D6) -> 350.1
A91: Floor (Flat) With Recessed Wheelchair Track Throughout Entire Body | F91: Not Available | G91: Not Available
A92: Wheelchair Lift | F92: =8605*('PPI Adj'!D6) -> 10042.035 | G92: =8605*('PPI Adj'!D6) -> 10042.035
A93: Roof Ventilator / Emergency Exit | F93: Included in Base Item | G93: Included in Base Item
A94: White Roof | F94: =790*('PPI Adj'!D6) -> 921.93 | G94: =790*('PPI Adj'!D6) -> 921.93
A95: High Headroom | F95: Included in Base Item | G95: Included in Base Item
A96: Crossing Arm | F96: =48*('PPI Adj'!D6) -> 56.016 | G96: =48*('PPI Adj'!D6) -> 56.016
A97: Auxiliary Engine Coolant Heater | F97: =6902*('PPI Adj'!D6) -> 8054.634 | G97: =6902*('PPI Adj'!D6) -> 8054.634
A98: Vandal Lock | F98: =781*('PPI Adj'!D6) -> 911.427 | G98: =781*('PPI Adj'!D6) -> 911.427
A99: Air Conditioning | F99: =14206*('PPI Adj'!D6) -> 16578.402 | G99: =14206*('PPI Adj'!D6) -> 16578.402
A100: School Bus Safety Camera | F100: =3055*('PPI Adj'!D6) -> 3565.185 | G100: =3055*('PPI Adj'!D6) -> 3565.185
A101: Delete Exterior LED Lamps | F101: =-893*('PPI Adj'!D6) -> -1042.131 | G101: =-893*('PPI Adj'!D6) -> -1042.131
A102: Multifunction School Activity Bus | F102: =-946*('PPI Adj'!D6) -> -1103.982 | G102: =-946*('PPI Adj'!D6) -> -1103.982
A104: PART 4: Optional Equipment Specifications | F104: IC Bus | G104: IC Bus
A105: Optional Equipment | B105: Specification | C105: Information provided in Yellow Cells | F105: Diesel | G105: Gas
A106: Capacity - Delete One (1) Row of Seating | B106: Delete one (1) full row of seating (both left and right sides) without removing a Body section from the Base Item, or altering the spacing between the remaining seats.
...

Sheet C (Item 4-D)
A1: ='C (Item 1-D)'!$A$1 -> GROUP 40524-23254, SCHOOL BUSES (Statewide) Attachment 1 - Specifications and Pricing (Revised October 15, 2026)
A2: PC69857 AT New York City, LLC
A3: LOT C (Item 4-D)
A4: Type C, 64 Pupil Conventional Front-Engine Bus (Diesel, Minimum 64 Pupils)
A6: PART 1: Product information for the Base Item(s) Awarded | F6: IC Bus
A7: Category | B7: Information provided in Yellow Cells | F7: Diesel | G7: Gas | H7: LPG
A8: Engine | B8: Information identifying the engine for the fuel type offered. | F8: 12ERP, Engine, Diesel Cummins B6.7 220HP | G8: 12DLP, Engine, Gasoline (PSI 8.8L) 265HP | H8: 12PAD, PSI 8.8L LPG, 270HP
A9: NYS DOT Approval Number | B9: The NYS DOT Approval Number for the School Bus. Only School Buses approved by NYS DOT Passenger Carrier Safety Bureau for use as 2022 and newer Models, as indicated by a NYS DOT Approval Number, shall be delivered pursuant to the Contract. | F9: 2101-NY-66-00WC-ATC | G9: 2101-NY-66-00WC-ATC | H9: 2101-NY-66-00WC-ATC
A10: Chassis Make | B10: The OEM company name of a Chassis. | F10: IC BUS | G10: IC BUS | H10: IC BUS
A11: Chassis Model | B11: The Model name of the Chassis. | F11: CE | G11: CE | H11: CE
A12: Chassis Model Code | B12: The OEM code used to identify the subset of the Chassis Model. | F12: PB105 | G12: MA055 | H12: PB105
A13: Body Make | B13: The OEM company name of a Body. | F13: IC BUS | G13: IC BUS | H13: IC BUS
A14: Body Model | B14: The Model name of the Body. | F14: CE | G14: CE | H14: CE
A15: Body Model Code | B15: The OEM code used to identify the subset of the Body Model. | F15: PB105 | G15: MA055 | H15: PB105
A16: Pick Up Allowance | B16: The dollar amount, per School Bus, that will be deducted from the Base Item NYS Contract Price, if the Authorized User elects to pick up the School Bus at the Contractor's location. | F16: 0 | G16: 0 | H16: 0
A17: Delivery Time | B17: The estimated delivery time for the School Bus, expressed in number of calendar days, required to make delivery after receipt of a final Purchase Order (After Receipt of Order (“ARO”)). | F17: 180-300 Days | G17: 180-300 Days | H17: 180-300 Days
A19: PART 2: Pricing for the Base Item, Additional Body Section, and Additional Options | F19: IC Bus
A20: Category | B20: Information provided in Yellow Cells | F20: Diesel | G20: Gas | H20: LPG
A21: Base Item NYS Contract Price | B21: The per unit NYS Contract Price (dollar amount) for the School Bus described in the Base Item Specifications. The Base Item NYS Contract Price includes any OEM fees, all customs duties and charges, all vehicle preparation and clean-up charges, NYS DOT inspection, installation charges, delivery and all other incidentals normally included with providing a School Bus, but excludes Optional Equipment, Additional Body Section(s), and Additional Options. | F21: =135093*('PPI Adj'!D6) -> 157653.53 | G21: =132696*('PPI Adj'!D6) -> 154856.23 | H21: =143624*('PPI Adj'!D6) -> 167609.21
A22: Additional Options NYS Discount | B22: The minimum percentage amount that shall be deducted from the MSRP for all Additional Options purchased under the Contract for this Item. | F22: 16 | G22: 16 | H22: 16
A24: PART 3: Base Item Specifications | F24: IC Bus
A25: Category | B25: Specification | C25: Information provided in Yellow Cells | F25: Diesel | G25: Gas | H25: LPG
A26: General | B26: A School Bus with a Body installed upon a cowl and Chassis constructed using a chassis with a hood and front fender assembly. All of the engine is in front of the windshield and the entrance door is behind the front wheels. This is also known as a conventional school bus. This type also includes the cutaway truck chassis or truck chassis with cab, with or without a left side door, and with a GVWR greater than 16,000 pounds. | C26: Gross Vehicle Weight Rating (GVWR) [lbs]: | F26: 29800 | G26: 29800 | H26: 29800
A27: Capacity | B27: Minimum sixty-four (64) Pupils. | C27: Number of rows: | F27: 11 | G27: 11 | H27: 11
C28: Number of Pupils: | F28: 66 | G28: 66 | H28: 66
A29: Rear Wheels | B29: Dual Rear Wheel (DRW)
A30: Dimensions | C30: Wheelbase [inches]: | F30: 254 | G30: 254 | H30: 254
C31: Length (bumper to bumper) [inches]: | F31: 435.14 | G31: 435.14 | H31: 435.14
C32: Body width (inside) [inches]: | F32: 90 | G32: 90 | H32: 90
C33: Body headroom (standard) [inches]: | F33: 78 | G33: 78 | H33: 78
C34: Cowl to rear axle length [inches]: | F34: 228.92 | G34: 228.92 | H34: 228.92
A35: Cowl/Hood | B35: Forward tilting style cowl/hood assembly.
A36: Front Axle | C36: Gross Axle Weight Rating (GAWR) [lbs]: | F36: 10000 | G36: 10000 | H36: 10000
C37: Front axle capacity [lbs]: | F37: 10000 | G37: 10000 | H37: 10000
A38: Rear Axle | C38: Gross Axle Weight Rating (GAWR) [lbs]: | F38: 19800 | G38: 19800 | H38: 19800
C39: Rear axle capacity [lbs]: | F39: 19800 | G39: 19800 | H39: 19800
A40: Steering | B40: Power steering
A41: Brakes | B41: Chassis manufacturer's typical full air service brake system. A liquid-cooled, engine-lubricated air compressor, that is compliant with FMVSS (49 CFR 571.121.S5.1.1.), shall be provided. The air brake system shall be equipped with an automatic drain valve on the wet tank that may be unheated, a valve that can be manually opened on each air tank, and an air dryer/ejector that may be unheated. The system shall include a spring set parking brake. System shall be compliant with FMVSS (49 CFR 571.121), including the latest revision thereof. All brakes shall have automatic slack adjusters. | C41: Air Compressor size, Make & Model: | F41: 18.7 CFM, Cummins | G41: 18.7 CFM, Cummins | H41: 18.7 CFM, Cummins
C42: Air Dryer size, Make & Model: | F42: AD-9, Bendix, 04EBS | G42: AD-9, Bendix, 04EBS | H42: AD-9, Bendix, 04EBS
A44: Brakes | B44: Antilock Brake System (ABS), and an audio & visual warning system for system malfunctions.
A45: Tires | B45: Tires shall meet the minimum requirements for the Chassis Model, as published by the Chassis manufacturer. | C45: Front radial tires size (load range letter) | F45: 10R22.5 (G | G45: 10R22.5 (G | H45: 10R22.5 (G
C46: Front radial tires capacity | F46: 5677 | G46: 5677 | H46: 5677
C47: Rear radial tires size (load range letter) | F47: 10R22.5 (G | G47: 10R22.5 (G | H47: 10R22.5 (G
C48: Rear radial tires capacity | F48: 5355 | G48: 5355 | H48: 5355
C49: Front Tires Option Code: | F49: 7372115809 | G49: 7372115809 | H49: 7372115809
C50: Front Tires Make & Tread Designation: | F50: Hankook AH37 | G50: Hankook AH37 | H50: Hankook AH37
C51: Rear Tires Option Code: | F51: 7372115809 | G51: 7372115809 | H51: 7372115809
C52: Rear Tires Make & Tread Designation: | F52: Hankook AH37 | G52: Hankook AH37 | H52: Hankook AH37
A53: Transmission | B53: Automatic transmission with manufacturer's standard or optional temperature indicator at the operator's control panel. | C53: Number of forward gears: | F53: 6 | G53: 6 | H53: 6
C54: Gears direct or w/O.D.?: | F54: Double Overdrive | G54: Double Overdrive | H54: Double Overdrive
C55: Option Code, Make & Model: | F55: 13ARV, 2500 PTS | G55: 13ARV, 2500 PTS | H55: 13ARV, 2500 PTS
A56: Engine | B56: Engine shall have a manufacturer's standard water cooled engine complete with accessories, as called for under classification. Engine shall develop full-rated torque and horsepower without requiring the use of premium grade fuel for any condition of operation. The Diesel engine shall develop full-rated torque and horsepower with the use of both ultra low sulfur grade diesel fuel and renewable diesel fuel.
A57: Engine Equipment | B57: Engine shall include silicone radiator and heater hoses (or equivalently rated/warranted). Diesel engine shall include cold weather starting aid.
A58: Alternator | B58: Alternator shall be of the integrally-rectified type, with an SAE continuous ampere output rating that is capable of at least powering all electrical devices energized simultaneously and an additional output of ten (10) or more amperes; and shall be driven by a single serpentine belt (or equivalent) or gear driven, and shall have full-transistor type voltage regulators. Wiring harness sizes shall be not less than the alternator manufacturer's recommendations. | C58: Option Code, Make & Model: | F58: 08GXG LN AVI160P2003 | G58: 08GXG LN AVI160P2003 | H58: 08GXG LN AVI160P2003
C59: Capacity [amps]: | F59: 240 | G59: 240 | H59: 240
A60: Battery(ies) | B60: Three (3) "No Maintenance" type batteries with a total capacity of 2400-CCA and a 145-minute reserve capacity. The battery cables (- and +) shall be the same size and weight and be equal to (or better than) the larger cable recommended by the School Bus manufacturer. | C60: Model or Option Code: | F60: 08NBX | G60: 08NBX | H60: 08NBX
C61: Number of batteries: | F61: 3 | G61: 3 | H61: 3
C62: Cold Cranking Amp (CCA) rating of each battery at 0oF | F62: 2850 | G62: 2850 | H62: 2850
A63: Electrical | B63: Units shall have headlights turned on when the engine is running.
A64: Electrical | B64: Driver's compartment dome light shall be so directed to provide illumination for the bus driver and be controlled by an independent switch.
A65: Electrical | B65: All exterior lamps, except headlamps, shall be Light Emitting Diode (LED) design that meet applicable SAE standards.
A66: Horns | B66: An electrical horn(s) shall be provided that meets SAE standard J377. An air horn shall not be an approved Compatible Equivalent.
A67: Door (Entrance) | B67: Minimum 24 inch opening. | C67: Type and clear width [inches]: | F67: Air, 32 | G67: Air, 32 | H67: Air, 32
A68: Stepwell (Entrance) | B68: Structural, tread and riser members shall be constructed entirely of rust/corrosion-resistant steel, components and fasteners or materials of equivalent or stronger structural integrity. Manufacturer's standard floor/stair coverings shall be used for finish surfaces.
A69: Fuel Tank(s) | B69: Diesel and gasoline engine Base Items shall have a sixty (60) gallon fuel capacity. LPG and CNG shall have the minimum construction and protection required by NFPA | C69: Capacity [gallons/cu. ft.]: | F69: 65 | G69: 65 | H69: 65
C70: Number and location of fuel tanks: | F70: 1 tank, Between the frame rails and behind the rear axle | G70: 1 tank, Between the frame rails and behind the rear axle | H70: 1 tank, Between the frame rails and behind the rear axle
A71: Mirrors | B71: The vertical rectangular exterior driving mirrors shall be the heated defrosting type with their own switch and pilot light. Crossview mirrors shall be provided at front corners of each bus.
A72: Seating | B72: Manufacturer's standard or optional seat spacing that meets or exceeds the NYCRR minimum requirement for the respective class of School Bus with the minimum Pupil capacity stated above.
A73: Seatbelt (ambulatory) | B73: Seat belts shall be provided for each individual seating space. Seat belts shall meet current federal safety standards and shall be of a type approved by, and installed in accordance, with the rules and regulations established by NYS DOT in subdivision five (5) of section three-hundred eighty-three (383) of the New York State Vehicle and Traffic Laws dated July 30, 1986 and NYCRR, Title 17, Part 720, or the latest revision thereof.
A74: Stop Arm(s) (Power) | B74: Shall be entrance-door activated, electric or air-positioning type, and be provided streetside on all School Buses. It shall be compliant with FMVSS (49 CFR 571.131). Buses with a capacity of 45 persons or more shall have an additional and same model stop-arm at the rear streetside of the bus. | C74: Make & Model: | F74: Specialty 2980 | G74: Specialty 2980 | H74: Specialty 2980
A75: "School Bus" Signs | B75: Both front and rear shall comply with Article 9, Section 375.20 of the New York State Vehicle and Traffic Law.
A76: 8 Lamp Warning System (School Bus) | B76: Shall be compliant with SAE J887. | C76: Make & Model: | F76: Sound Off 49NGJ | G76: Sound Off 49NGJ | H76: Sound Off 49NGJ
A77: Exterior Reflective Markings | B77: All units with a capacity of ten (10) or more Pupils shall be equipped with exterior reflective markings as required by FMVSS (49 CFR 571.217) and NYCRR (Title 15, Department of Motor Vehicles, Part D, 46.12).
A78: Floor | B78: Manufacturer's standard insulated floor design shall be provided throughout the School Bus.
A79: Heaters | B79: Minimum passenger compartment heating shall meet the requirements of NYCRR, Title 17, Part 720.4(I) Heaters, or the latest revision thereof.
A80: Door (Rear Emergency Exit) | B80: Shall include lower glass.
A82: PART 4: Optional Equipment NYS Contract Pricing | F82: IC Bus
A83: Optional Equipment (see Specifications and Equipment Provided below) | F83: Diesel | G83: Gas | H83: LPG
A84: Capacity - Delete One (1) Row of Seating | F84: =-500*('PPI Adj'!D6) -> -583.5 | G84: =-500*('PPI Adj'!D6) -> -583.5 | H84: =-500*('PPI Adj'!D6) -> -583.5
A85: Child Presence Check / Alarm | F85: =361*('PPI Adj'!D6) -> 421.287 | G85: =361*('PPI Adj'!D6) -> 421.287 | H85: =361*('PPI Adj'!D6) -> 421.287
A86: Glass (Tinted) | F86: =600*('PPI Adj'!D6) -> 700.2 | G86: =600*('PPI Adj'!D6) -> 700.2 | H86: =600*('PPI Adj'!D6) -> 700.2
A87: Rear Axle, "No Spin" | F87: Included in Base Item | G87: Included in Base Item | H87: Included in Base Item
A88: Tires (Snow) | F88: =250*('PPI Adj'!D6) -> 291.75 | G88: =250*('PPI Adj'!D6) -> 291.75 | H88: =250*('PPI Adj'!D6) -> 291.75
A89: Tires (All-Season) | F89: Included in Base Item | G89: Included in Base Item | H89: Included in Base Item
A90: Floor With Recessed Wheelchair Restraint Track For One Wheelchair Station. | F90: =300*('PPI Adj'!D6) -> 350.1 | G90: =300*('PPI Adj'!D6) -> 350.1 | H90: =300*('PPI Adj'!D6) -> 350.1
A91: Floor (Flat) With Recessed Wheelchair Track Throughout Entire Body | F91: Not Available | G91: Not Available | H91: Not Available
A92: Wheelchair Lift | F92: =8605*('PPI Adj'!D6) -> 10042.035 | G92: =8605*('PPI Adj'!D6) -> 10042.035 | H92: =8605*('PPI Adj'!D6) -> 10042.035
A93: Roof Ventilator / Emergency Exit | F93: Included in Base Item | G93: Included in Base Item | H93: Included in Base Item
A94: White Roof | F94: =790*('PPI Adj'!D6) -> 921.93 | G94: =790*('PPI Adj'!D6) -> 921.93 | H94: =790*('PPI Adj'!D6) -> 921.93
A95: High Headroom | F95: Included in Base Item | G95: Included in Base Item | H95: Included in Base Item
A96: Crossing Arm | F96: =48*('PPI Adj'!D6) -> 56.016 | G96: =48*('PPI Adj'!D6) -> 56.016 | H96: =48*('PPI Adj'!D6) -> 56.016
A97: Auxiliary Engine Coolant Heater | F97: =6902*('PPI Adj'!D6) -> 8054.634 | G97: =6902*('PPI Adj'!D6) -> 8054.634 | H97: =6902*('PPI Adj'!D6) -> 8054.634
A98: Vandal Lock | F98: =783*('PPI Adj'!D6) -> 913.761 | G98: =783*('PPI Adj'!D6) -> 913.761 | H98: =783*('PPI Adj'!D6) -> 913.761
A99: Air Conditioning | F99: =14206*('PPI Adj'!D6) -> 16578.402 | G99: =14206*('PPI Adj'!D6) -> 16578.402 | H99: =14206*('PPI Adj'!D6) -> 16578.402
A100: School Bus Safety Camera | F100: =3055*('PPI Adj'!D6) -> 3565.185 | G100: =3055*('PPI Adj'!D6) -> 3565.185 | H100: =3055*('PPI Adj'!D6) -> 3565.185
A101: Delete Exterior LED Lamps | F101: =-893*('PPI Adj'!D6) -> -1042.131 | G101: =-893*('PPI Adj'!D6) -> -1042.131 | H101: =-893*('PPI Adj'!D6) -> -1042.131
A102: Multifunction School Activity Bus | F102: =-946*('PPI Adj'!D6) -> -1103.982 | G102: =-946*('PPI Adj'!D6) -> -1103.982 | H102: =-946*('PPI Adj'!D6) -> -1103.982
A104: PART 4: Optional Equipment Specifications | F104: IC Bus
A105: Optional Equipment | B105: Specification | C105: Information provided in Yellow Cells | F105: Diesel | G105: Gas | H105: LPG
A106: Capacity - Delete One (1) Row of Seating | B106: Delete one (1) full row of seating (both left and right sides) without removing a Body section from the Base Item, or altering the spacing between the remaining seats.
...

Sheet C (Item 4-EV)
A1: ='C (Item 1-D)'!$A$1 -> GROUP 40524-23254, SCHOOL BUSES (Statewide) Attachment 1 - Specifications and Pricing (Revised October 15, 2026)
A2: PC69857 AT New York City, LLC
A3: LOT C (Item 4-EV)
A4: Type C, 64 Pupil Conventional Front-Engine Bus (Electric, Minimum 64 Pupils)
A6: PART 1: Product information for the Base Item(s) Awarded | F6: IC Bus
A7: Category | B7: Information provided in Yellow Cells | F7: ELECTRIC
A8: Engine | B8: Information identifying the engine for the fuel type offered. | F8: Dana SUMO TM4 Motor/Inverter System, 335hp/255kW (peak), 255hp/190kW (continuous).
A9: NYS DOT Approval Number | B9: The NYS DOT Approval Number for the School Bus. Only School Buses approved by NYS DOT Passenger Carrier Safety Bureau for use as 2022 and newer Models, as indicated by a NYS DOT Approval Number, shall be delivered pursuant to the Contract. | F9: 2195-NY-66-00WC-ATC
A10: Chassis Make | B10: The OEM company name of a Chassis. | F10: IC BUS
A11: Chassis Model | B11: The Model name of the Chassis | F11: CE Series Electric
A12: Chassis Model Code | B12: The OEM code used to identify the subset of the Chassis Model. | F12: PB10E
A13: Body Make | B13: The OEM company name of a Body. | F13: IC BUS
A14: Body Model | B14: The Model name of the Body | F14: PB10E
A15: Body Model Code | B15: The OEM code used to identify the subset of the Body Model. | F15: CE Series
A16: Pick Up Allowance | B16: The dollar amount, per School Bus, that will be deducted from the Base Item NYS Contract Price, if the Authorized User elects to pick up the School Bus at the Contractor's location. | F16: 0
A17: Delivery Time | B17: The estimated delivery time for the School Bus, expressed in number of calendar days, required to make delivery after receipt of a final Purchase Order (After Receipt of Order (“ARO”)) | F17: 180-300 Days
A19: PART 2: Pricing for the Base Item, Additional Body Section, and Additional Options | F19: IC Bus
A20: Category | B20: Information provided in Yellow Cells | F20: ELECTRIC
A21: Base Item NYS Contract Price | B21: The per unit NYS Contract Price (dollar amount) for the School Bus described in the Base Item Specifications. The Base Item NYS Contract Price includes any OEM fees, all customs duties and charges, all vehicle preparation and clean-up charges, NYS DOT inspection, installation charges, delivery and all other incidentals normally included with providing a School Bus, but excludes Optional Equipment, Additional Body Section(s), and Additional Options. | F21: =376178*('PPI Adj'!D6) -> 438999.73
A22: Additional Options NYS Discount | B22: The minimum percentage amount that shall be deducted from the MSRP for all Additional Options purchased under the Contract for this Item. | F22: 16
A24: PART 3: Base Item Specifications | F24: IC Bus
A25: Category | B25: Specification | C25: Information provided in Yellow Cells | F25: ELECTRIC
A26: General | B26: A School Bus with a Body installed upon a cowl and Chassis constructed using a chassis with a hood and front fender assembly. All of the engine is in front of the windshield and the entrance door is behind the front wheels. This is also known as a conventional school bus. This type also includes the cutaway truck chassis or truck chassis with cab, with or without a left side door, and with a GVWR greater than 16,000 pounds. | C26: Gross Vehicle Weight Rating (GVWR) [lbs]: | F26: 33000
A27: Capacity | B27: Minimum forty-six (46) Pupils. | C27: Number of rows: | F27: 11
C28: Number of Pupils: | F28: 66
A29: Rear Wheels | B29: Dual Rear Wheel (DRW)
A30: Dimensions | C30: Wheelbase [inches]: | F30: 254
C31: Length (bumper to bumper) [inches]: | F31: 435.14
C32: Body width (inside) [inches]: | F32: 90
C33: Body headroom (standard) [inches]: | F33: 78
C34: Cowl to rear axle length [inches]: | F34: 228.92
A35: Cowl/Hood | B35: Forward tilting style cowl/hood assembly.
A36: Front Axle | C36: Gross Axle Weight Rating (GAWR) [lbs]: | F36: 10000
C37: Front axle capacity [lbs]: | F37: 10000
A38: Rear Axle | C38: Gross Axle Weight Rating (GAWR) [lbs]: | F38: 23000
C39: Rear axle capacity [lbs]: | F39: 23000
A40: Steering | B40: Power steering
A41: Brakes | B41: Chassis manufacturer's typical full air service brake system. A liquid-cooled, engine-lubricated air compressor, that is compliant with FMVSS (49 CFR 571.121.S5.1.1.), shall be provided. The air brake system shall be equipped with an automatic drain valve on the wet tank that may be unheated, a valve that can be manually opened on each air tank, and an air dryer/ejector that may be unheated. The system shall include a spring set parking brake. System shall be compliant with FMVSS (49 CFR 571.121), including the latest revision thereof. All brakes shall have automatic slack adjusters. | C41: Air Compressor size, Make & Model: | F41: Quanxing 10.6 CFM
C42: Air Dryer size, Make & Model: | F42: Bendix ADIP
A44: Brakes | B44: Antilock Brake System (ABS), and an audio & visual warning system for system malfunctions.
A45: Tires | B45: Tires shall meet the minimum requirements for the Chassis Model, as published by the Chassis manufacturer. | C45: Front radial tires size (load range letter) | F45: 11R22.5 (H)
C46: Front radial tires capacity | F46: 6610 Single
C47: Rear radial tires size (load range letter) | F47: 11R22.5 (H)
C48: Rear radial tires capacity | F48: 6005 Dual
C49: Front Tires Option Code: | F49: 7382135443
C50: Front Tires Make & Tread Designation: | F50: Continental HS3+
C51: Rear Tires Option Code: | F51: 7382135443
C52: Rear Tires Make & Tread Designation: | F52: Continental HS3+
A53: Transmission | B53: Automatic transmission with manufacturer's standard or optional temperature indicator at the operator's control panel. | C53: Number of forward gears: | F53: 1
C54: Gears direct or w/O.D.?: | F54: Direct
C55: Option Code, Make & Model: | F55: Not Applicable
A56: Propulsion System | B56: Propulsion system which furnishes high-wattage electric power to the motor(s), that propels the vehicle forward or backward, and is sometimes referred to as the “main or power drive circuitry.” | C56: Vehicle range on full charge [miles]: | F56: 135
A57: Battery(ies) | B57: Three (3) "No Maintenance" type batteries with a total capacity of 2400-CCA and a 145-minute reserve capacity. The battery cables (- and +) shall be the same size and weight and be equal to (or better than) the larger cable recommended by the School Bus manufacturer. | C57: Number of Batteries: | F57: 2
C58: Type of Batteries: | F58: LFP/Lithium Ion
C59: System Design Voltage: | F59: 608V
A60: Electrical | B60: Units shall have headlights turned on when the engine is running.
A61: Electrical | B61: Driver's compartment dome light shall be so directed to provide illumination for the bus driver and be controlled by an independent switch.
A62: Electrical | B62: All exterior lamps, except headlamps, shall be Light Emitting Diode (LED) design that meet applicable SAE standards.
A63: Horns | B63: An electrical horn(s) shall be provided that meets SAE standard J377. An air horn shall not be an approved Compatible Equivalent.
A64: Door (Entrance) | B64: Minimum 24 inch opening. | C64: Type and clear width [inches]: | F64: O/O Air, 32"
A65: Stepwell (Entrance) | B65: Structural, tread and riser members shall be constructed entirely of rust/corrosion-resistant steel, components and fasteners or materials of equivalent or stronger structural integrity. Manufacturer's standard floor/stair coverings shall be used for finish surfaces.
A66: Mirrors | B66: The vertical rectangular exterior driving mirrors shall be the heated defrosting type with their own switch and pilot light. Crossview mirrors shall be provided at front corners of each bus.
A67: Seating | B67: Manufacturer's standard or optional seat spacing that meets or exceeds the NYCRR minimum requirement for the respective class of School Bus with the minimum Pupil capacity stated above.
A68: Seatbelt (ambulatory) | B68: Seat belts shall be provided for each individual seating space. Seat belts shall meet current federal safety standards and shall be of a type approved by, and installed in accordance, with the rules and regulations established by NYS DOT in subdivision five (5) of section three-hundred eighty-three (383) of the New York State Vehicle and Traffic Laws dated July 30, 1986 and NYCRR, Title 17, Part 720, or the latest revision thereof.
A69: Stop Arm(s) (Power) | B69: Shall be entrance-door activated, electric or air-positioning type, and be provided streetside on all School Buses. It shall be compliant with FMVSS (49 CFR 571.131). Buses with a capacity of 45 persons or more shall have an additional and same model stop-arm at the rear streetside of the bus. | C69: Make & Model: | F69: Speciality 2980
A70: "School Bus" Signs | B70: Both front and rear shall comply with Article 9, Section 375.20 of the New York State Vehicle and Traffic Law.
A71: 8 Lamp Warning System (School Bus) | B71: Shall be compliant with SAE J887. | C71: Make & Model: | F71: Sound Off 49NGJ
A72: Exterior Reflective Markings | B72: All units with a capacity of ten (10) or more Pupils shall be equipped with exterior reflective markings as required by FMVSS (49 CFR 571.217) and NYCRR (Title 15, Department of Motor Vehicles, Part D, 46.12).
A73: Floor | B73: Manufacturer's standard insulated floor design shall be provided throughout the School Bus.
A74: Heaters | B74: Minimum passenger compartment heating shall meet the requirements of NYCRR, Title 17, Part 720.4(I) Heaters, or the latest revision thereof. | C74: Heater Power Source: | F74: Propulsion Battery System
A75: Door (Rear Emergency Exit) | B75: Shall include lower glass.
A77: PART 4: Optional Equipment NYS Contract Pricing | F77: IC Bus
A78: Optional Equipment (see Specifications and Equipment Provided below) | F78: ELECTRIC
A79: Capacity - Delete One (1) Row of Seating | F79: =-500*('PPI Adj'!D6) -> -583.5
A80: Child Presence Check / Alarm | F80: =361*('PPI Adj'!D6) -> 421.287
A81: Glass (Tinted) | F81: =600*('PPI Adj'!D6) -> 700.2
A82: Rear Axle, "No Spin" | F82: Included in Base Item
A83: Tires (Snow) for 4 tires | F83: =250*('PPI Adj'!D6) -> 291.75
A84: Tires (All-Season) | F84: Included in Base Item
A85: Floor With Recessed Wheelchair Restraint Track For One Wheelchair Station. | F85: =300*('PPI Adj'!D6) -> 350.1
A86: Floor (Flat) With Recessed Wheelchair Track Throughout Entire Body | F86: Not Available
A87: Wheelchair Lift | F87: =8605*('PPI Adj'!D6) -> 10042.035
A88: Roof Ventilator / Emergency Exit | F88: Included in Base Item
A89: White Roof | F89: =790*('PPI Adj'!D6) -> 921.93
A90: High Headroom | F90: Included in Base Item
A91: Crossing Arm | F91: =48*('PPI Adj'!D6) -> 56.016
A92: Vandal Lock | F92: =783*('PPI Adj'!D6) -> 913.761
A93: Air Conditioning | F93: =17000*('PPI Adj'!D6) -> 19839
A94: School Bus Safety Camera | F94: =3055*('PPI Adj'!D6) -> 3565.185
A95: Multifunction School Activity Bus | F95: =-946*('PPI Adj'!D6) -> -1103.982
A97: PART 4: Optional Equipment Specifications | F97: IC Bus
A98: Optional Equipment | B98: Specification | C98: Information provided in Yellow Cells | F98: ELECTRIC
A99: Capacity - Delete One (1) Row of Seating | B99: Delete one (1) full row of seating (both left and right sides) without removing a Body section from the Base Item, or altering the spacing between the remaining seats.
A100: Child Presence Check / Alarm | B100: Shall be the Child Check-mate System Model EP 2, or Compatible Equivalent. | C100: Make & Model: | F100: Child Check Mate EP1, 47EXC
A101: Glass (Tinted) | B101: The School Bus windshield and Body windows shall have the manufacturer's typical options that provide tinted glass windows throughout the vehicle and shall comply with Article 9, Section 375.12a. of the New York State Vehicle and Traffic Law.
A102: Rear Axle, "No Spin" | B102: The manufacturer’s standard device (e.g., power-lock, limited-slip, no-spin, positive-traction). | C102: Type of device: | F102: Electronic Stability Control with Automatic Traction control
A103: Tires (Snow) | B103: Snow tread tires shall be provided on all drive wheels. Tires shall be Federal class D/A, STC (with snow traction capability), or class S/T, or A/T, AP with STC, or other class with STC. The price entered for this Optional Equipment shall be for four (4) tires. Tires furnished on the rear wheels shall be the same size and adequate for axle's GAWR. | C103: Rear radial tires size (load range letter) [LT_____/_____R_____._____(_____)]: | F103: 11R22.5 (H)
C104: Rear radial tires capacity [_____,_____-lbs]: | F104: 6005 Dual
C105: Rear Tires Option Code: | F105: 7372135444
C106: Rear Tires Make & Tread Designation: | F106: Continental HDR2+
...

Sheet PPI Adj
A1: Hide before posting
B2: PPI Series ID | D2: WPU1413
B3: 08/2022 PPI | D3: 322.792 | E3: 10/2017 PPI | G3: 243.1
B4: 10/2026 PPI | D4: 376.62 | E4: =B4 -> 10/2026 PPI | G4: =D4 -> 376.62
B5: Adj. Factor | D5: =D4/D3 -> 1.1667575 | E5: Adj. Factor | G5: =G4/G3 -> 1.549239
B6: Round to 1000th | D6: =ROUND(D5,3) -> 1.167 | E6: Round to 1000th | G6: =ROUND(G5,3) -> 1.549
