Workbook

Sheet Attachment 1 - Summary
B1: Group 40524-23254, SCHOOL BUSES (Statewide) Attachment 1 - Specifications and Pricing (Revised October 15, 2026)
B2: PC69858 Factory Direct Bus Sales, Inc.
B3: The Contractor has been awarded the following Items, and shall offer Base Items, Optional Equipment and Additional Body Sections sold under the Contract at net prices that are equal to the applicable NYS Contract Price that is listed on the Contract Pricelist, or less. An Authorized User may choose to add one (1) or more of the Optional Equipment from the list of Optional Equipment, and/or Additional Body Sections, associated with the Base Item (see Contract Section 3.7 Optional Equipment and Additional Body Sections). Additional Options offered by the Contractor, that are listed on the OEM or Contractor-Published Pricelist(s), may also be requested by the Authorized User (see Contract Section 3.8 Additional Options).
B4: Name and description of worksheets included in this workbook:
B5: Tab Name | C5: Description of Tab or Item | D5: Fuel Types Awarded | E5: Item Availability by County (Under this Contract) | F5: Pupil Capacity | G5: Tab Color
B6: Attachment 1 - Summary | C6: Summary of Attachment 1 - Specifications and Pricing (this worksheet)
B7: A (Item 4-EV) | C7: Lot A (Item 4-EV): Type A-2, DRW, Cutaway, 4 Rows | D7: Electric | E7: Albany, Bronx, Broome, Chenango, Clinton, Columbia, Cortland, Duchess, Delaware, Essex, Franklin, Fulton, Greene, Hamilton, Herkimer, Jefferson, Kings, Lewis, Madison, Montgomery, Nassau, New York, Oneida, Onondaga, Orange, Oswego, Otsego, Putnum, Queens, Rensselaer, Richmond, Rockland, St. Lawrence, Saratoga, Schenectady, Schoharie, Suffolk, Sullivan, Ulster, Warren, Washington and Westchester Counties. For all other counties, please see Contract PC69865, WNY Bus Parts, Inc. DBA Gorman Enterprises. | F7: Minimum 24
B8: A (Item 5-G) | C8: Lot A (Item 5-G): Type A-2, DRW, Cutaway, 5 Rows | D8: Gasoline | E8: Albany, Bronx, Broome, Chenango, Clinton, Columbia, Cortland, Duchess, Delaware, Essex, Franklin, Fulton, Greene, Hamilton, Herkimer, Jefferson, Kings, Lewis, Madison, Montgomery, Nassau, New York, Oneida, Onondaga, Orange, Oswego, Otsego, Putnum, Queens, Rensselaer, Richmond, Rockland, St. Lawrence, Saratoga, Schenectady, Schoharie, Suffolk, Sullivan, Ulster, Warren, Washington and Westchester Counties. For all other counties, please see Contract PC69865, WNY Bus Parts, Inc. DBA Gorman Enterprises. | F8: Minimum 30

Sheet A (Item 4-EV)
A1: GROUP 40524-23254, SCHOOL BUSES (Statewide) Attachment 1 - Specifications and Pricing (Revised October 15, 2026)
A2: PC69858 Factory Direct Bus Sales, Inc.
A3: LOT A (Item 4-EV)
A4: Type A-2, DRW, Cutaway, 4 Rows (Electric; Minimum 24 Pupils)
A6: PART 1: Product information for the Base Item(s) Awarded | F6: Ford / Collins Bus
A7: Category | B7: Information provided in Yellow Cells | F7: Electric
A8: Propulsion System | B8: Information identifying the Make and Model propulsion system offered. | F8: Lightning eMotors 125kWh 241HP @ 180kW 790T @ 1,071Nm
A9: NYS DOT Approval Number | B9: The NYS DOT Approval Number for the School Bus. Only School Buses approved by NYS DOT Passenger Carrier Safety Bureau for use as 2022 and newer Models, as indicated by a NYS DOT Approval Number, shall be delivered pursuant to the Contract. | F9: 672-NY-24-00WC-CBC
A10: Chassis Make | B10: The OEM company name of a Chassis. | F10: FORD
A11: Chassis Model | B11: The Model name of the Chassis. | F11: E450
A12: Chassis Model Code | B12: The OEM code used to identify the subset of the Chassis Model. | F12: E-SERIES
A13: Body Make | B13: The OEM company name of a Body. | F13: COLLINS BUS
A14: Body Model | B14: The Model name of the Body. | F14: DE516F
A15: Body Model Code | B15: The OEM code used to identify the subset of the Body Model. | F15: FD516F
A16: Pick Up Allowance | B16: The dollar amount, per School Bus, that will be deducted from the Base Item NYS Contract Price, if the Authorized User elects to pick up the School Bus at the Contractor's location. | F16: 100
A17: Delivery Time | B17: The estimated delivery time for the School Bus, expressed in number of calendar days, required to make delivery after receipt of a final Purchase Order (After Receipt of Order (“ARO”)). | F17: 365 Days ARO
A19: PART 2: Pricing for the Base Item, Additional Body Section, and Additional Options | F19: Ford / Collins Bus
A20: Category | B20: Information provided in Yellow Cells | F20: Electric
A21: Base Item NYS Contract Price | B21: The per unit NYS Contract Price (dollar amount) for the School Bus described in the Base Item Specifications. The Base Item NYS Contract Price includes any OEM fees, all customs duties and charges, all vehicle preparation and clean-up charges, NYS DOT inspection, installation charges, delivery and all other incidentals normally included with providing a School Bus, but excludes Optional Equipment, Additional Body Section(s), and Additional Options. | F21: =270185.1*('PPI Adj'!D6) -> 315306.01
A22: Additional Body Section NYS Contract Price | B22: The per unit NYS Contract Price (dollar amount) for adding one (1) Additional Body Section, excluding seats and other interior features, to the Base Item and the applicable Base Item NYS Contract Price. | F22: =1800*('PPI Adj'!D6) -> 2100.6
A23: Additional Options NYS Discount | B23: The minimum percentage amount that shall be deducted from the MSRP for all Additional Options purchased under the Contract for this Item. | F23: 1
A25: PART 3: Base Item Specifications | F25: Ford / Collins Bus
A26: Category | B26: Specification | C26: Information provided in Yellow Cells | F26: Electric
A27: General | B27: A conversion School Bus constructed using a cutaway front-section vehicle with a left side driver’s door, with a GVWR equal to or greater than 10,001 pounds and less than or equal to 21,500 pounds. | C27: Gross Vehicle Weight Rating (GVWR) [lbs]: | F27: 14500
A28: Capacity | B28: Minimum four (4) rows for twenty-four (24) Pupils. | C28: Number of rows: | F28: 4
C29: Number of Pupils: | F29: 24
A30: Rear Wheels | B30: Dual Rear Wheel (DRW)
A31: Dimensions | C31: Wheelbase [inches]: | F31: 158"
C32: Length (bumper to bumper) [inches]: | F32: 268.15"
C33: Body width (inside) [inches]: | F33: 91"
C34: Body headroom (standard) [inches]: | F34: 76.5"
C35: Cowl to rear axle length [inches]: | F35: 242.88"
A36: Front Axle | C36: Gross Axle Weight Rating (GAWR) [lbs]: | F36: 5,000 lbs
C37: Front axle capacity [lbs]: | F37: 5,000 lbs.
A38: Rear Axle | C38: Gross Axle Weight Rating (GAWR) [lbs]: | F38: 9,600 lbs.
C39: Rear axle capacity [lbs]: | F39: 9,600 lbs.
A40: Steering | B40: Power steering
A41: Tires | B41: Tires shall meet the minimum requirements for the Chassis Model, as published by the Chassis manufacturer. | C41: Front radial tires size (load range letter) | F41: LT225/75R 16.0E
C42: Front radial tires capacity | F42: 2680
C43: Rear radial tires size (load range letter) | F43: LT225/75R 16.0E
...

Sheet A (Item 5-G)
A1: ='A (Item 4-EV)'!$A$1 -> GROUP 40524-23254, SCHOOL BUSES (Statewide) Attachment 1 - Specifications and Pricing (Revised October 15, 2026)
A2: ='Attachment 1 - Summary'!B2 -> PC69858 Factory Direct Bus Sales, Inc.
A3: LOT A (Item 5-G)
A4: Type A-2, DRW, Cutaway, 5 Rows (Gasoline; Minimum 30 Pupils)
A6: PART 1: Product information for the Base Item(s) Awarded | F6: Chevrolet / Collins Bus
A7: Category | B7: Information provided in Yellow Cells | F7: Gasoline
A8: Engine | B8: Information identifying the engine for the fuel type offered. | F8: V8 6.6L 404HP: 464T
A9: NYS DOT Approval Number | B9: The NYS DOT Approval Number for the School Bus. Only School Buses approved by NYS DOT Passenger Carrier Safety Bureau for use as 2022 and newer Models, as indicated by a NYS DOT Approval Number, shall be delivered pursuant to the Contract. | F9: 496-NY-30-00WC-CBC
A10: Chassis Make | B10: The OEM company name of a Chassis. | F10: Chevy / GMC
A11: Chassis Model | B11: The Model name of the Chassis. | F11: 4500
A12: Chassis Model Code | B12: The OEM code used to identify the subset of the Chassis Model. | F12: 33803
A13: Body Make | B13: The OEM company name of a Body. | F13: Collins Bus
A14: Body Model | B14: The Model name of the Body. | F14: DH500
A15: Body Model Code | B15: The OEM code used to identify the subset of the Body Model. | F15: DH500
A16: Pick Up Allowance | B16: The dollar amount, per School Bus, that will be deducted from the Base Item NYS Contract Price, if the Authorized User elects to pick up the School Bus at the Contractor's location. | F16: 100
A17: Delivery Time | B17: The estimated delivery time for the School Bus, expressed in number of calendar days, required to make delivery after receipt of a final Purchase Order (After Receipt of Order (“ARO”)). | F17: 210 Days ARO
A19: PART 2: Pricing for the Base Item, Additional Body Section, and Additional Options | F19: Chevrolet / Collins Bus
A20: Category | B20: Information provided in Yellow Cells | F20: Gasoline
A21: Base Item NYS Contract Price | B21: The per unit NYS Contract Price (dollar amount) for the School Bus described in the Base Item Specifications. The Base Item NYS Contract Price includes any OEM fees, all customs duties and charges, all vehicle preparation and clean-up charges, NYS DOT inspection, installation charges, delivery and all other incidentals normally included with providing a School Bus, but excludes Optional Equipment, Additional Body Section(s), and Additional Options. | F21: =83190.06*('PPI Adj'!D6) -> 97082.8
A22: Additional Body Section NYS Contract Price | B22: The per unit NYS Contract Price (dollar amount) for adding one (1) Additional Body Section, excluding seats and other interior features, to the Base Item and the applicable Base Item NYS Contract Price. | F22: =1800*('PPI Adj'!D6) -> 2100.6
A23: Additional Options NYS Discount | B23: The minimum percentage amount that shall be deducted from the MSRP for all Additional Options purchased under the Contract for this Item. | F23: 1
A25: PART 3: Base Item Specifications | F25: Chevrolet / Collins Bus
A26: Category | B26: Specification | C26: Information provided in Yellow Cells | F26: Gasoline
A27: General | B27: A conversion School Bus constructed using a cutaway front-section vehicle with a left side driver’s door, with a GVWR equal to or greater than 10,001 pounds and less than or equal to 21,500 pounds. | C27: Gross Vehicle Weight Rating (GVWR) [lbs]: | F27: 14200 LBS.
A28: Capacity | B28: Minimum five (5) rows for thirty (30) Pupils. | C28: Number of rows: | F28: 5
C29: Number of Pupils: | F29: 30
A30: Rear Wheels | B30: Dual Rear Wheel (DRW)
A31: Dimensions | C31: Wheelbase [inches]: | F31: 159"
C32: Length (bumper to bumper) [inches]: | F32: 274.23"
C33: Body width (inside) [inches]: | F33: 91"
C34: Body headroom (standard) [inches]: | F34: 76.5"
C35: Cowl to rear axle length [inches]: | F35: 242.88"
A36: Front Axle | C36: Gross Axle Weight Rating (GAWR) [lbs]: | F36: 4,600lbs.
C37: Front axle capacity [lbs]: | F37: 4,600lbs.
A38: Rear Axle | C38: Gross Axle Weight Rating (GAWR) [lbs]: | F38: 9,600lbs.
C39: Rear axle capacity [lbs]: | F39: 9,600lbs.
A40: Steering | B40: Power steering
A41: Tires | B41: Tires shall meet the minimum requirements for the Chassis Model, as published by the Chassis manufacturer. | C41: Front radial tires size (load range letter) | F41: LT225/75R 16.0E
C42: Front radial tires capacity | F42: 2,680lbs.
C43: Rear radial tires size (load range letter) | F43: LT225/75R 16.0E
...

Sheet PPI Adj
A1: Hide before posting
B2: PPI Series ID | D2: WPU1413
B3: 08/2022 PPI | D3: 322.792 | E3: 10/2017 PPI | G3: 243.1
B4: 10/2026 PPI | D4: 376.62 | E4: =B4 -> 10/2026 PPI | G4: =D4 -> 376.62
B5: Adj. Factor | D5: =D4/D3 -> 1.1667575 | E5: Adj. Factor | G5: =G4/G3 -> 1.549239
B6: Round to 1000th | D6: =ROUND(D5,3) -> 1.167 | E6: Round to 1000th | G6: =ROUND(G5,3) -> 1.549
