Workbook

Sheet Attachment 1 - Summary
B1: Group 40524-23254, SCHOOL BUSES (Statewide) Attachment 1 - Specifications and Pricing (Revised October 15, 2026)
B2: PC69858 Factory Direct Bus Sales, Inc.
B3: The Contractor has been awarded the following Items, and shall offer Base Items, Optional Equipment and Additional Body Sections sold under the Contract at net prices that are equal to the applicable NYS Contract Price that is listed on the Contract Pricelist, or less. An Authorized User may choose to add one (1) or more of the Optional Equipment from the list of Optional Equipment, and/or Additional Body Sections, associated with the Base Item (see Contract Section 3.7 Optional Equipment and Additional Body Sections). Additional Options offered by the Contractor, that are listed on the OEM or Contractor-Published Pricelist(s), may also be requested by the Authorized User (see Contract Section 3.8 Additional Options).
B4: Name and description of worksheets included in this workbook:
B5: Tab Name | C5: Description of Tab or Item | D5: Fuel Types Awarded | E5: Item Availability by County (Under this Contract) | F5: Pupil Capacity | G5: Tab Color
B6: Attachment 1 - Summary | C6: Summary of Attachment 1 - Specifications and Pricing (this worksheet)
B7: A (Item 4-EV) | C7: Lot A (Item 4-EV): Type A-2, DRW, Cutaway, 4 Rows | D7: Electric | E7: Albany, Bronx, Broome, Chenango, Clinton, Columbia, Cortland, Duchess, Delaware, Essex, Franklin, Fulton, Greene, Hamilton, Herkimer, Jefferson, Kings, Lewis, Madison, Montgomery, Nassau, New York, Oneida, Onondaga, Orange, Oswego, Otsego, Putnum, Queens, Rensselaer, Richmond, Rockland, St. Lawrence, Saratoga, Schenectady, Schoharie, Suffolk, Sullivan, Ulster, Warren, Washington and Westchester Counties. For all other counties, please see Contract PC69865, WNY Bus Parts, Inc. DBA Gorman Enterprises. | F7: Minimum 24
B8: A (Item 5-G) | C8: Lot A (Item 5-G): Type A-2, DRW, Cutaway, 5 Rows | D8: Gasoline | E8: Albany, Bronx, Broome, Chenango, Clinton, Columbia, Cortland, Duchess, Delaware, Essex, Franklin, Fulton, Greene, Hamilton, Herkimer, Jefferson, Kings, Lewis, Madison, Montgomery, Nassau, New York, Oneida, Onondaga, Orange, Oswego, Otsego, Putnum, Queens, Rensselaer, Richmond, Rockland, St. Lawrence, Saratoga, Schenectady, Schoharie, Suffolk, Sullivan, Ulster, Warren, Washington and Westchester Counties. For all other counties, please see Contract PC69865, WNY Bus Parts, Inc. DBA Gorman Enterprises. | F8: Minimum 30

Sheet A (Item 4-EV)
A1: GROUP 40524-23254, SCHOOL BUSES (Statewide) Attachment 1 - Specifications and Pricing (Revised October 15, 2026)
A2: PC69858 Factory Direct Bus Sales, Inc.
A3: LOT A (Item 4-EV)
A4: Type A-2, DRW, Cutaway, 4 Rows (Electric; Minimum 24 Pupils)
A6: PART 1: Product information for the Base Item(s) Awarded | F6: Ford / Collins Bus
A7: Category | B7: Information provided in Yellow Cells | F7: Electric
A8: Propulsion System | B8: Information identifying the Make and Model propulsion system offered. | F8: Lightning eMotors 125kWh 241HP @ 180kW 790T @ 1,071Nm
A9: NYS DOT Approval Number | B9: The NYS DOT Approval Number for the School Bus. Only School Buses approved by NYS DOT Passenger Carrier Safety Bureau for use as 2022 and newer Models, as indicated by a NYS DOT Approval Number, shall be delivered pursuant to the Contract. | F9: 672-NY-24-00WC-CBC
A10: Chassis Make | B10: The OEM company name of a Chassis. | F10: FORD
A11: Chassis Model | B11: The Model name of the Chassis. | F11: E450
A12: Chassis Model Code | B12: The OEM code used to identify the subset of the Chassis Model. | F12: E-SERIES
A13: Body Make | B13: The OEM company name of a Body. | F13: COLLINS BUS
A14: Body Model | B14: The Model name of the Body. | F14: DE516F
A15: Body Model Code | B15: The OEM code used to identify the subset of the Body Model. | F15: FD516F
A16: Pick Up Allowance | B16: The dollar amount, per School Bus, that will be deducted from the Base Item NYS Contract Price, if the Authorized User elects to pick up the School Bus at the Contractor's location. | F16: 100
A17: Delivery Time | B17: The estimated delivery time for the School Bus, expressed in number of calendar days, required to make delivery after receipt of a final Purchase Order (After Receipt of Order (“ARO”)). | F17: 365 Days ARO
A19: PART 2: Pricing for the Base Item, Additional Body Section, and Additional Options | F19: Ford / Collins Bus
A20: Category | B20: Information provided in Yellow Cells | F20: Electric
A21: Base Item NYS Contract Price | B21: The per unit NYS Contract Price (dollar amount) for the School Bus described in the Base Item Specifications. The Base Item NYS Contract Price includes any OEM fees, all customs duties and charges, all vehicle preparation and clean-up charges, NYS DOT inspection, installation charges, delivery and all other incidentals normally included with providing a School Bus, but excludes Optional Equipment, Additional Body Section(s), and Additional Options. | F21: =270185.1*('PPI Adj'!D6) -> 315306.01
A22: Additional Body Section NYS Contract Price | B22: The per unit NYS Contract Price (dollar amount) for adding one (1) Additional Body Section, excluding seats and other interior features, to the Base Item and the applicable Base Item NYS Contract Price. | F22: =1800*('PPI Adj'!D6) -> 2100.6
A23: Additional Options NYS Discount | B23: The minimum percentage amount that shall be deducted from the MSRP for all Additional Options purchased under the Contract for this Item. | F23: 1
A25: PART 3: Base Item Specifications | F25: Ford / Collins Bus
A26: Category | B26: Specification | C26: Information provided in Yellow Cells | F26: Electric
A27: General | B27: A conversion School Bus constructed using a cutaway front-section vehicle with a left side driver’s door, with a GVWR equal to or greater than 10,001 pounds and less than or equal to 21,500 pounds. | C27: Gross Vehicle Weight Rating (GVWR) [lbs]: | F27: 14500
A28: Capacity | B28: Minimum four (4) rows for twenty-four (24) Pupils. | C28: Number of rows: | F28: 4
C29: Number of Pupils: | F29: 24
A30: Rear Wheels | B30: Dual Rear Wheel (DRW)
A31: Dimensions | C31: Wheelbase [inches]: | F31: 158"
C32: Length (bumper to bumper) [inches]: | F32: 268.15"
C33: Body width (inside) [inches]: | F33: 91"
C34: Body headroom (standard) [inches]: | F34: 76.5"
C35: Cowl to rear axle length [inches]: | F35: 242.88"
A36: Front Axle | C36: Gross Axle Weight Rating (GAWR) [lbs]: | F36: 5,000 lbs
C37: Front axle capacity [lbs]: | F37: 5,000 lbs.
A38: Rear Axle | C38: Gross Axle Weight Rating (GAWR) [lbs]: | F38: 9,600 lbs.
C39: Rear axle capacity [lbs]: | F39: 9,600 lbs.
A40: Steering | B40: Power steering
A41: Tires | B41: Tires shall meet the minimum requirements for the Chassis Model, as published by the Chassis manufacturer. | C41: Front radial tires size (load range letter) | F41: LT225/75R 16.0E
C42: Front radial tires capacity | F42: 2680
C43: Rear radial tires size (load range letter) | F43: LT225/75R 16.0E
C44: Rear radial tires capacity | F44: 2470
C45: Front Tires Option Code: | F45: T67
C46: Front Tires Make & Tread Designation: | F46: All Season
C47: Rear Tires Option Code: | F47: T67
C48: Rear Tires Make & Tread Designation: | F48: All Season
A49: Transmission | B49: Automatic transmission | C49: Number of forward gears: | F49: Single
C50: Gears direct or w/O.D.?: | F50: Direct
C51: Option Code, Make & Model: | F51: N/A
A52: Propulsion System | B52: Propulsion system which furnishes high-wattage electric power to the motor(s), that propels the vehicle forward or backward, and is sometimes referred to as the “main or power drive circuitry.” | C52: Vehicle range on full charge [miles]: | F52: Up to 130 miles
A53: Battery(ies) | C53: Number of Batteries: | F53: 4
C54: Type of Batteries: | F54: Lithium Ion (Romeo)
C55: System Design Voltage: | F55: 350V
A56: Electrical | B56: Units shall have headlights turned on when the propulsion system is on.
A57: Electrical | B57: Driver's compartment dome light shall be so directed to provide illumination for the bus driver and be controlled by an independent switch.
A58: Electrical | B58: All exterior lamps, except headlamps, shall be Light Emitting Diode (LED) design that meet applicable SAE standards.
A59: Horns | B59: An electrical horn(s) shall be provided that meets SAE standard J377.
A60: Door (Entrance) | C60: Type and clear width [inches]: | F60: Manual 25"
A61: Mirrors | B61: The exterior driving mirrors shall be the heated defrosting type with their own switch and pilot light. Crossview mirrors shall be provided at front corners of each bus.
A62: Seating | B62: Manufacturer's standard or optional seat spacing that meets or exceeds the NYCRR minimum requirement for the respective class of School Bus with the minimum Pupil capacity stated above.
A63: Seatbelt (ambulatory) | B63: Seat belts shall be provided for each individual seating space. Seat belts shall meet current federal safety standards and shall be of a type approved by, and installed in accordance with, the rules and regulations established by NYS DOT in subdivision five (5) of section three-hundred eighty-three (383) of the New York State Vehicle and Traffic Laws dated July 30, 1986 and NYCRR, Title 17, Part 720, or the latest revision thereof.
A64: Stop Arm(s) (Power) | B64: Shall be entrance-door activated, electric or air-positioning type, and be provided streetside on all School Buses. It shall be compliant with FMVSS (49 CFR 571.131). | C64: Make & Model: | F64: Specialty 7500
A65: "School Bus" Signs | B65: Both front and rear shall comply with Article 9, Section 375.20 of the New York State Vehicle and Traffic Law.
A66: 8 Lamp Warning System (School Bus) | B66: Shall be compliant with SAE J887. | C66: Make & Model: | F66: Inpower 7500
A67: Exterior Reflective Markings | B67: All units with a capacity of ten (10) or more Pupils shall be equipped with exterior reflective markings as required by FMVSS (49 CFR 571.217) and NYCRR (Title 15, Department of Motor Vehicles, Part D, 46.12).
A68: Floor | B68: Manufacturer's standard insulated floor design shall be provided throughout the School Bus.
A69: Heaters | B69: Minimum passenger compartment heating shall meet the requirements of NYCRR, Title 17, Part 720.4(I) Heaters, or the latest revision thereof. | C69: Heater Power Source: | F69: Propulsion Batteries
A70: Door (Rear Emergency Exit) | B70: Shall include lower glass.
A72: PART 4: Optional Equipment NYS Contract Pricing | F72: Ford / Collins Bus
A73: Optional Equipment (see Specifications and Equipment Provided below) | F73: Electric
A74: Capacity - Add One (1) Row of Seating | F74: =1633*('PPI Adj'!D6) -> 1905.711
A75: Capacity - Delete One (1) Row of Seating | F75: =-350*('PPI Adj'!D6) -> -408.45
A76: Child Presence Check / Alarm | F76: =523*('PPI Adj'!D6) -> 610.341
A77: Glass (Tinted) | F77: Included in Base Item
A78: Rear Axle, "No Spin" | F78: =242*('PPI Adj'!D6) -> 282.414
A79: Tires (Snow) | F79: =1280*('PPI Adj'!D6) -> 1493.76
A80: Tires (All-Season) | F80: Included in Base Item
A81: Floor With Recessed Wheelchair Restraint Track For One Wheelchair Station. | F81: =2800*('PPI Adj'!D6) -> 3267.6
A82: Floor (Flat) With Recessed Wheelchair Track Throughout Entire Body | F82: =8868*('PPI Adj'!D6) -> 10348.956
A83: Wheelchair Lift | F83: =8474*('PPI Adj'!D6) -> 9889.158
A84: Roof Ventilator / Emergency Exit | F84: =524*('PPI Adj'!D6) -> 611.508
A85: White Roof | F85: Included in Base Item
A86: Crossing Arm | F86: =720*('PPI Adj'!D6) -> 840.24
A87: Additional Passenger Area Heater (Under Passenger Seat) | F87: =542.34*('PPI Adj'!D6) -> 632.91078
A88: Vandal Lock | F88: =285*('PPI Adj'!D6) -> 332.595
A89: Air Conditioning | F89: =5040*('PPI Adj'!D6) -> 5881.68
A90: School Bus Safety Camera | F90: =3510*('PPI Adj'!D6) -> 4096.17
A91: Multifunction School Activity Bus | F91: =-500*('PPI Adj'!D6) -> -583.5
A93: PART 4: Optional Equipment Specifications | F93: Ford / Collins Bus
A94: Optional Equipment | B94: Specification | C94: Information provided in Yellow Cells | F94: Electric
A95: Capacity - Add One (1) Row of Seating | B95: Add one (1) row of seating to an Additional Body Section that has been added to the Base Item.
A96: Capacity - Delete One (1) Row of Seating | B96: Delete one (1) full row of seating (both left and right sides) without removing a Body section from the Base Item, or altering the spacing between the remaining seats.
A97: Child Presence Check / Alarm | B97: Shall be the Child Check-mate System Model EP 2, or Compatible Equivalent. | C97: Make & Model: | F97: Child CheckMate EP2
A98: Glass (Tinted) | B98: The School Bus windshield and Body windows shall have the manufacturer's typical options that provide tinted glass windows throughout the vehicle and shall comply with Article 9, Section 375.12a. of the New York State Vehicle and Traffic Law.
A99: Rear Axle, "No Spin" | B99: The manufacturer’s standard device (e.g., power-lock, limited-slip, no-spin, positive-traction). | C99: Type of device: | F99: Limited Slip Ford OEM
A100: Tires (Snow) | B100: Snow tread tires shall be provided on all drive wheels. Tires shall be Federal class D/A, STC (with snow traction capability), or class S/T, or A/T, AP with STC, or other class with STC. The price entered for this Optional Equipment shall be for four (4) tires. Tires furnished on the rear wheels shall be the same size and adequate for axle's GAWR. | C100: Rear radial tires size (load range letter) | F100: LT225/75R 16.0E
C101: Rear radial tires capacity | F101: 2680 lbs
C102: Rear Tires Option Code: | F102: N/A Aftermarket
C103: Rear Tires Make & Tread Designation: | F103: MasterCraft MSR
A104: Tires (All-Season) | B104: All-season tread, tubeless, radial tires having a Federal class designation S/T or STC shall be provided. Tires shall be Michelin LTX M/S, or LTX M/S Commercial, or XPS Traction tread series, or Compatible Equivalent. The price entered for this Optional Equipment shall be for six (6) tires. Tires furnished on the rear wheels shall be the same size and adequate for axle's GAWR. | C104: Front radial tires size (load range letter) | F104: Included in Base Item
C105: Front radial tires capacity | F105: "
...

Sheet A (Item 5-G)
A1: ='A (Item 4-EV)'!$A$1 -> GROUP 40524-23254, SCHOOL BUSES (Statewide) Attachment 1 - Specifications and Pricing (Revised October 15, 2026)
A2: ='Attachment 1 - Summary'!B2 -> PC69858 Factory Direct Bus Sales, Inc.
A3: LOT A (Item 5-G)
A4: Type A-2, DRW, Cutaway, 5 Rows (Gasoline; Minimum 30 Pupils)
A6: PART 1: Product information for the Base Item(s) Awarded | F6: Chevrolet / Collins Bus
A7: Category | B7: Information provided in Yellow Cells | F7: Gasoline
A8: Engine | B8: Information identifying the engine for the fuel type offered. | F8: V8 6.6L 404HP: 464T
A9: NYS DOT Approval Number | B9: The NYS DOT Approval Number for the School Bus. Only School Buses approved by NYS DOT Passenger Carrier Safety Bureau for use as 2022 and newer Models, as indicated by a NYS DOT Approval Number, shall be delivered pursuant to the Contract. | F9: 496-NY-30-00WC-CBC
A10: Chassis Make | B10: The OEM company name of a Chassis. | F10: Chevy / GMC
A11: Chassis Model | B11: The Model name of the Chassis. | F11: 4500
A12: Chassis Model Code | B12: The OEM code used to identify the subset of the Chassis Model. | F12: 33803
A13: Body Make | B13: The OEM company name of a Body. | F13: Collins Bus
A14: Body Model | B14: The Model name of the Body. | F14: DH500
A15: Body Model Code | B15: The OEM code used to identify the subset of the Body Model. | F15: DH500
A16: Pick Up Allowance | B16: The dollar amount, per School Bus, that will be deducted from the Base Item NYS Contract Price, if the Authorized User elects to pick up the School Bus at the Contractor's location. | F16: 100
A17: Delivery Time | B17: The estimated delivery time for the School Bus, expressed in number of calendar days, required to make delivery after receipt of a final Purchase Order (After Receipt of Order (“ARO”)). | F17: 210 Days ARO
A19: PART 2: Pricing for the Base Item, Additional Body Section, and Additional Options | F19: Chevrolet / Collins Bus
A20: Category | B20: Information provided in Yellow Cells | F20: Gasoline
A21: Base Item NYS Contract Price | B21: The per unit NYS Contract Price (dollar amount) for the School Bus described in the Base Item Specifications. The Base Item NYS Contract Price includes any OEM fees, all customs duties and charges, all vehicle preparation and clean-up charges, NYS DOT inspection, installation charges, delivery and all other incidentals normally included with providing a School Bus, but excludes Optional Equipment, Additional Body Section(s), and Additional Options. | F21: =83190.06*('PPI Adj'!D6) -> 97082.8
A22: Additional Body Section NYS Contract Price | B22: The per unit NYS Contract Price (dollar amount) for adding one (1) Additional Body Section, excluding seats and other interior features, to the Base Item and the applicable Base Item NYS Contract Price. | F22: =1800*('PPI Adj'!D6) -> 2100.6
A23: Additional Options NYS Discount | B23: The minimum percentage amount that shall be deducted from the MSRP for all Additional Options purchased under the Contract for this Item. | F23: 1
A25: PART 3: Base Item Specifications | F25: Chevrolet / Collins Bus
A26: Category | B26: Specification | C26: Information provided in Yellow Cells | F26: Gasoline
A27: General | B27: A conversion School Bus constructed using a cutaway front-section vehicle with a left side driver’s door, with a GVWR equal to or greater than 10,001 pounds and less than or equal to 21,500 pounds. | C27: Gross Vehicle Weight Rating (GVWR) [lbs]: | F27: 14200 LBS.
A28: Capacity | B28: Minimum five (5) rows for thirty (30) Pupils. | C28: Number of rows: | F28: 5
C29: Number of Pupils: | F29: 30
A30: Rear Wheels | B30: Dual Rear Wheel (DRW)
A31: Dimensions | C31: Wheelbase [inches]: | F31: 159"
C32: Length (bumper to bumper) [inches]: | F32: 274.23"
C33: Body width (inside) [inches]: | F33: 91"
C34: Body headroom (standard) [inches]: | F34: 76.5"
C35: Cowl to rear axle length [inches]: | F35: 242.88"
A36: Front Axle | C36: Gross Axle Weight Rating (GAWR) [lbs]: | F36: 4,600lbs.
C37: Front axle capacity [lbs]: | F37: 4,600lbs.
A38: Rear Axle | C38: Gross Axle Weight Rating (GAWR) [lbs]: | F38: 9,600lbs.
C39: Rear axle capacity [lbs]: | F39: 9,600lbs.
A40: Steering | B40: Power steering
A41: Tires | B41: Tires shall meet the minimum requirements for the Chassis Model, as published by the Chassis manufacturer. | C41: Front radial tires size (load range letter) | F41: LT225/75R 16.0E
C42: Front radial tires capacity | F42: 2,680lbs.
C43: Rear radial tires size (load range letter) | F43: LT225/75R 16.0E
C44: Rear radial tires capacity | F44: 2,470lbs.
C45: Front Tires Option Code: | F45: XHF
C46: Front Tires Make & Tread Designation: | F46: All Season
C47: Rear Tires Option Code: | F47: YHF
C48: Rear Tires Make & Tread Designation: | F48: All Season
A49: Transmission | B49: Automatic transmission | C49: Number of forward gears: | F49: 6
C50: Gears direct or w/O.D.?: | F50: w/OD
C51: Option Code, Make & Model: | F51: 6L90
A52: Engine | B52: Engine shall have a manufacturer's standard water cooled engine complete with accessories, as called for under classification. Engine shall develop full-rated torque and horsepower without requiring the use of premium grade fuel for any condition of operation. If a Diesel engine is offered, it shall develop full-rated torque and horsepower with the use of both ultra low sulfur grade diesel fuel and renewable diesel fuel.
A53: Alternator | B53: Alternator shall be of the integrally-rectified type, with an SAE continuous ampere output rating that is capable of at least powering all electrical devices energized simultaneously and an additional output of ten (10) or more amperes; and shall be driven by a single serpentine belt (or equivalent) or gear driven, and shall have full-transistor type voltage regulators. Wiring harness sizes shall be not less than the alternator manufacturer's recommendations. | C53: Option Code, Make & Model: | F53: KW5: OEM
C54: Capacity [amps]: | F54: 220 amps
A55: Battery(ies) | C55: Model or Option Code: | F55: Standard/OEM
C56: Number of batteries: | F56: 2
C57: CCA of each battery: | F57: 770CCA
A58: Electrical | B58: Units shall have headlights turned on when the engine is running.
A59: Electrical | B59: Driver's compartment dome light shall be so directed to provide illumination for the bus driver and be controlled by an independent switch.
A60: Electrical | B60: All exterior lamps, except headlamps, shall be Light Emitting Diode (LED) design that meet applicable SAE standards.
A61: Horns | B61: An electrical horn(s) shall be provided that meets SAE standard J377.
A62: Door (Entrance) | C62: Type and clear width [inches]: | F62: Manual 25"
A63: Fuel Tank(s) | B63: Gasoline and diesel engines Base Items shall have a Thirty (30) gallon fuel capacity. LPG and CNG shall have the minimum construction and protection required by NFPA. | C63: Capacity [gallons]: | F63: 33
A64: Mirrors | B64: The exterior driving mirrors shall be the heated defrosting type with their own switch and pilot light. Crossview mirrors shall be provided at front corners of each bus.
A65: Seating | B65: Manufacturer's standard or optional seat spacing that meets or exceeds the NYCRR minimum requirement for the respective class of School Bus with the minimum Pupil capacity stated above.
A66: Seatbelt (ambulatory) | B66: Seat belts shall be provided for each individual seating space. Seat belts shall meet current federal safety standards and shall be of a type approved by, and installed in accordance with, the rules and regulations established by NYS DOT in subdivision five (5) of section three-hundred eighty-three (383) of the New York State Vehicle and Traffic Laws dated July 30, 1986 and NYCRR, Title 17, Part 720, or the latest revision thereof.
A67: Stop Arm(s) (Power) | B67: Shall be entrance-door activated, electric or air-positioning type, and be provided streetside on all School Buses. It shall be compliant with FMVSS (49 CFR 571.131). | C67: Make & Model: | F67: Specialty 7500
A68: "School Bus" Signs | B68: Both front and rear shall comply with Article 9, Section 375.20 of the New York State Vehicle and Traffic Law.
A69: 8 Lamp Warning System (School Bus) | B69: Shall be compliant with SAE J887. | C69: Make & Model: | F69: Inpower 7500
A70: Exterior Reflective Markings | B70: All units with a capacity of ten (10) or more Pupils shall be equipped with exterior reflective markings as required by FMVSS (49 CFR 571.217) and NYCRR (Title 15, Department of Motor Vehicles, Part D, 46.12).
A71: Floor | B71: Manufacturer's standard insulated floor design shall be provided throughout the School Bus.
A72: Heaters | B72: Minimum passenger compartment heating shall meet the requirements of NYCRR, Title 17, Part 720.4(I) Heaters, or the latest revision thereof.
A73: Door (Rear Emergency Exit) | B73: Shall include lower glass.
A75: PART 4: Optional Equipment NYS Contract Pricing | F75: Chevrolet / Collins Bus
A76: Optional Equipment (see Specifications and Equipment Provided below) | F76: Gasoline
A77: Capacity - Add One (1) Row of Seating | F77: =1633*('PPI Adj'!D6) -> 1905.711
A78: Capacity - Delete One (1) Row of Seating | F78: =-350*('PPI Adj'!D6) -> -408.45
A79: Child Presence Check / Alarm | F79: =523*('PPI Adj'!D6) -> 610.341
A80: Glass (Tinted) | F80: Included in Base Item
A81: Rear Axle, "No Spin" | F81: =242*('PPI Adj'!D6) -> 282.414
A82: Tires (Snow) | F82: =1280*('PPI Adj'!D6) -> 1493.76
A83: Tires (All-Season) | F83: Included in Base Item
A84: Floor With Recessed Wheelchair Restraint Track For One Wheelchair Station. | F84: =2800*('PPI Adj'!D6) -> 3267.6
A85: Floor (Flat) With Recessed Wheelchair Track Throughout Entire Body | F85: =8868*('PPI Adj'!D6) -> 10348.956
A86: Wheelchair Lift | F86: =8071*('PPI Adj'!D6) -> 9418.857
A87: Roof Ventilator / Emergency Exit | F87: =524*('PPI Adj'!D6) -> 611.508
A88: White Roof | F88: Included in Base Item
A89: Crossing Arm | F89: =720*('PPI Adj'!D6) -> 840.24
A90: Additional Passenger Area Heater (Under Passenger Seat) | F90: =635*('PPI Adj'!D6) -> 741.045
A91: Auxiliary Engine Coolant Heater | F91: =2800*('PPI Adj'!D6) -> 3267.6
A92: Vandal Lock | F92: =258*('PPI Adj'!D6) -> 301.086
A93: Air Conditioning | F93: =4697*('PPI Adj'!D6) -> 5481.399
A94: School Bus Safety Camera | F94: =3510*('PPI Adj'!D6) -> 4096.17
A95: Delete Exterior LED Lamps and Replace With Incandescent Lamps | F95: =0*('PPI Adj'!D6) -> 0
A96: Multifunction School Activity Bus | F96: =-500*('PPI Adj'!D6) -> -583.5
A98: PART 4: Optional Equipment Specifications | F98: Chevrolet / Collins Bus
A99: Optional Equipment | B99: Specification | C99: Information provided in Yellow Cells | F99: Gasoline
A100: Capacity - Add One (1) Row of Seating | B100: Add one (1) row of seating to an Additional Body Section that has been added to the Base Item.
A101: Capacity - Delete One (1) Row of Seating | B101: Delete one (1) full row of seating (both left and right sides) without removing a Body section from the Base Item, or altering the spacing between the remaining seats.
A102: Child Presence Check / Alarm | B102: Shall be the Child Check-mate System Model EP 2, or Compatible Equivalent. | C102: Make & Model: | F102: Child Check-mate EP-2
A103: Glass (Tinted) | B103: The School Bus windshield and Body windows shall have the manufacturer's typical options that provide tinted glass windows throughout the vehicle and shall comply with Article 9, Section 375.12a. of the New York State Vehicle and Traffic Law.
A104: Rear Axle, "No Spin" | B104: The manufacturer’s standard device (e.g., power-lock, limited-slip, no-spin, positive-traction). | C104: Type of device: | F104: Limited Slip GM
A105: Tires (Snow) | B105: Snow tread tires shall be provided on all drive wheels. Tires shall be Federal class D/A, STC (with snow traction capability), or class S/T, or A/T, AP with STC, or other class with STC. The price entered for this Optional Equipment shall be for four (4) tires. Tires furnished on the rear wheels shall be the same size and adequate for axle's GAWR. | C105: Rear radial tires size (load range letter) | F105: LT225/75R 16.0E
...

Sheet PPI Adj
A1: Hide before posting
B2: PPI Series ID | D2: WPU1413
B3: 08/2022 PPI | D3: 322.792 | E3: 10/2017 PPI | G3: 243.1
B4: 10/2026 PPI | D4: 376.62 | E4: =B4 -> 10/2026 PPI | G4: =D4 -> 376.62
B5: Adj. Factor | D5: =D4/D3 -> 1.1667575 | E5: Adj. Factor | G5: =G4/G3 -> 1.549239
B6: Round to 1000th | D6: =ROUND(D5,3) -> 1.167 | E6: Round to 1000th | G6: =ROUND(G5,3) -> 1.549
