Workbook

Sheet Attachment 1 - Summary
B1: Group 40524-23254, SCHOOL BUSES (Statewide) Attachment 1 - Specifications and Pricing (Revised October 15, 2026)
B2: PC69859 H.K. Truck Services, Inc.
B3: The Contractor has been awarded the following Items, and shall offer Base Items, Optional Equipment and Additional Body Sections sold under the Contract at net prices that are equal to the applicable NYS Contract Price that is listed on the Contract Pricelist, or less. An Authorized User may choose to add one (1) or more of the Optional Equipment from the list of Optional Equipment, and/or Additional Body Sections, associated with the Base Item (see Contract Section 3.7 Optional Equipment and Additional Body Sections). Additional Options offered by the Contractor, that are listed on the OEM or Contractor-Published Pricelist(s), may also be requested by the Authorized User (see Contract Section 3.8 Additional Options).
B4: Name and description of worksheets included in this workbook:
B5: Tab Name | C5: Description of Tab or Item | D5: Fuel Types Awarded | E5: Item Availability by County (Under this Contract) | F5: Pupil Capacity | G5: Tab Color
B6: Attachment 1 - Summary | C6: Summary of Attachment 1 - Specifications and Pricing (this worksheet)
B7: C (Item 4-EV) | C7: Lot C (Item 4-EV): Type C, Conventional Bus | D7: Electric | E7: All NYS Counties. | F7: Minimum 64

Sheet C (Item 4-EV)
A1: GROUP 40524-23254, SCHOOL BUSES (Statewide) Attachment 1 - Specifications and Pricing (Revised October 15, 2026)
A2: PC69859 H.K. Truck Services, Inc.
A3: LOT C (Item 4-EV)
A4: Type C, 64 Pupil Conventional Front-Engine Bus (Electric, Minimum 64 Pupils)
A6: PART 1: Product information for the Base Item(s) Awarded | F6: Lion
A7: Category | B7: Information provided in Yellow Cells | F7: ELECTRIC
A8: Engine | B8: Information identifying the engine for the fuel type offered. | F8: DANA TM4 - 450V - SUMO MD MV2500
A9: NYS DOT Approval Number | B9: The NYS DOT Approval Number for the School Bus. Only School Buses approved by NYS DOT Passenger Carrier Safety Bureau for use as 2022 and newer Models, as indicated by a NYS DOT Approval Number, shall be delivered pursuant to the Contract. | F9: 022-NY-70-00WC-LBI
A10: Chassis Make | B10: The OEM company name of a Chassis. | F10: Lion
A11: Chassis Model | B11: The Model name of the Chassis | F11: LionC
A12: Chassis Model Code | B12: The OEM code used to identify the subset of the Chassis Model. | F12: CL-12-W-SMD-400-B168-4-A-H-FF
A13: Body Make | B13: The OEM company name of a Body. | F13: Lion
A14: Body Model | B14: The Model name of the Body | F14: LionC
A15: Body Model Code | B15: The OEM code used to identify the subset of the Body Model. | F15: LionC
A16: Pick Up Allowance | B16: The dollar amount, per School Bus, that will be deducted from the Base Item NYS Contract Price, if the Authorized User elects to pick up the School Bus at the Contractor's location. | F16: 5000
A17: Delivery Time | B17: The estimated delivery time for the School Bus, expressed in number of calendar days, required to make delivery after receipt of a final Purchase Order (After Receipt of Order (“ARO”)) | F17: Approximately 120-180 days
A19: PART 2: Pricing for the Base Item, Additional Body Section, and Additional Options | F19: Lion
A20: Category | B20: Information provided in Yellow Cells | F20: ELECTRIC
A21: Base Item NYS Contract Price | B21: The per unit NYS Contract Price (dollar amount) for the School Bus described in the Base Item Specifications. The Base Item NYS Contract Price includes any OEM fees, all customs duties and charges, all vehicle preparation and clean-up charges, NYS DOT inspection, installation charges, delivery and all other incidentals normally included with providing a School Bus, but excludes Optional Equipment, Additional Body Section(s), and Additional Options. | F21: =341594*('PPI Adj'!D6) -> 398640.2
A22: Additional Options NYS Discount | B22: The minimum percentage amount that shall be deducted from the MSRP for all Additional Options purchased under the Contract for this Item. | F22: 1
A24: PART 3: Base Item Specifications | F24: Lion
A25: Category | B25: Specification | C25: Information provided in Yellow Cells | F25: ELECTRIC
A26: General | B26: A School Bus with a Body installed upon a cowl and Chassis constructed using a chassis with a hood and front fender assembly. All of the engine is in front of the windshield and the entrance door is behind the front wheels. This is also known as a conventional school bus. This type also includes the cutaway truck chassis or truck chassis with cab, with or without a left side door, and with a GVWR greater than 16,000 pounds. | C26: Gross Vehicle Weight Rating (GVWR) [lbs]: | F26: 30000
A27: Capacity | B27: Minimum sixrty-four (64) Pupils. | C27: Number of rows: | F27: 12
C28: Number of Pupils: | F28: 70
A29: Rear Wheels | B29: Dual Rear Wheel (DRW)
A30: Dimensions | C30: Wheelbase [inches]: | F30: 278
C31: Length (bumper to bumper) [inches]: | F31: 474.4
C32: Body width (inside) [inches]: | F32: 102
C33: Body headroom (standard) [inches]: | F33: 78
C34: Cowl to rear axle length [inches]: | F34: 265
A35: Cowl/Hood | B35: Forward tilting style cowl/hood assembly.
A36: Front Axle | C36: Gross Axle Weight Rating (GAWR) [lbs]: | F36: 10000
C37: Front axle capacity [lbs]: | F37: 10000
A38: Rear Axle | C38: Gross Axle Weight Rating (GAWR) [lbs]: | F38: 20000
C39: Rear axle capacity [lbs]: | F39: 20000
A40: Steering | B40: Power steering
A41: Brakes | B41: Chassis manufacturer's typical full air service brake system. A liquid-cooled, engine-lubricated air compressor, that is compliant with FMVSS (49 CFR 571.121.S5.1.1.), shall be provided. The air brake system shall be equipped with an automatic drain valve on the wet tank that may be unheated, a valve that can be manually opened on each air tank, and an air dryer/ejector that may be unheated. The system shall include a spring set parking brake. System shall be compliant with FMVSS (49 CFR 571.121), including the latest revision thereof. All brakes shall have automatic slack adjusters. | C41: Air Compressor size, Make & Model: | F41: 450 PSI, Gardner Denver TX02
C42: Air Dryer size, Make & Model: | F42: Wabco AIR DRYER SS1200PLUS PN : 4324711000
A44: Brakes | B44: Antilock Brake System (ABS), and an audio & visual warning system for system malfunctions.
...

Sheet D (Item 1-EV)
A1: GROUP 40524-23254, SCHOOL BUSES (Statewide) Attachment 1 - Specifications and Pricing (Revised December 29, 2022)
A2: PC69859 H.K. Truck Services, Inc.
A3: LOT D (Item 1-EV)
A4: Type D, 53 Pupil Transit Style Bus (Electric, Minimum 24 Pupils, Maximum 64 Pupils) | F4: Item Awaiting NYSDOT Approval
A6: PART 1: Product information for the Base Item(s) Awarded | F6: Lion
A7: Category | B7: Information provided in Yellow Cells | F7: ELECTRIC
A8: Propulsion System | B8: Information identifying the engine for the fuel type offered. | F8: DANA TM4 - SUMO LD HV1200
A9: NYS DOT Approval Number | B9: The NYS DOT Approval Number for the School Bus. Only School Buses approved by NYS DOT Passenger Carrier Safety Bureau for use as 2022 and newer Models, as indicated by a NYS DOT Approval Number, shall be delivered pursuant to the Contract. | F9: PENDING
A10: Chassis Make | B10: The OEM company name of a Chassis. | F10: Lion
A11: Chassis Model | B11: The Model name of the Chassis | F11: LionA
A12: Chassis Model Code | B12: The OEM code used to identify the subset of the Chassis Model. | F12: Not Applicable
A13: Body Make | B13: The OEM company name of a Body. | F13: Lion
A14: Body Model | B14: The Model name of the Body | F14: LionA
A15: Body Model Code | B15: The OEM code used to identify the subset of the Body Model. | F15: LionA
A16: Pick Up Allowance | B16: The dollar amount, per School Bus, that will be deducted from the Base Item NYS Contract Price, if the Authorized User elects to pick up the School Bus at the Contractor's location. | F16: 5000
A17: Delivery Time | B17: The estimated delivery time for the School Bus, expressed in number of calendar days, required to make delivery after receipt of a final Purchase Order (After Receipt of Order (“ARO”)) | F17: Approximately 365-545 days
A19: PART 2: Pricing for the Base Item, Additional Body Section, and Additional Options | F19: Lion
A20: Category | B20: Information provided in Yellow Cells | F20: ELECTRIC
A21: Base Item NYS Contract Price | B21: The per unit NYS Contract Price (dollar amount) for the School Bus described in the Base Item Specifications. The Base Item NYS Contract Price includes any OEM fees, all customs duties and charges, all vehicle preparation and clean-up charges, NYS DOT inspection, installation charges, delivery and all other incidentals normally included with providing a School Bus, but excludes Optional Equipment, Additional Body Section(s), and Additional Options. | F21: =286500*('PPI Adj'!D6) -> 334345.5
A22: Additional Options NYS Discount | B22: The minimum percentage amount that shall be deducted from the MSRP for all Additional Options purchased under the Contract for this Item. | F22: 1
A24: PART 3: Base Item Specifications | F24: Lion
A25: Category | B25: Specification | C25: Information provided in Yellow Cells | F25: ELECTRIC
A26: General | B26: A School Bus with a Body installed upon a a Chassis or unitized type construction, with a GVWR of greater than 16,000 pounds and designed to carry more than 10 persons. The entrance door is ahead of the front wheels. | C26: Gross Vehicle Weight Rating (GVWR) [lbs]: | F26: 22350
A27: Capacity | B27: Minimum twenty-four (24) Pupils with a maximum of sixty-four (64) Pupils. | C27: Number of rows: | F27: 6
C28: Number of Pupils: | F28: 24
A29: Rear Wheels | B29: Dual Rear Wheel (DRW)
A30: Dimensions | C30: Wheelbase [inches]: | F30: 143
C31: Length (bumper to bumper) [inches]: | F31: 258
C32: Body width (inside) [inches]: | F32: 96
C33: Body headroom (standard) [inches]: | F33: 78
C34: Cowl to rear axle length [inches]: | F34: Not Applicable
A35: Front Axle | C35: Gross Axle Weight Rating (GAWR) [lbs]: | F35: 9750
C36: Front axle capacity [lbs]: | F36: 9750
A37: Rear Axle | C37: Gross Axle Weight Rating (GAWR) [lbs]: | F37: 15000
C38: Rear axle capacity [lbs]: | F38: 15000
A39: Steering | B39: Power steering
A40: Brakes | B40: Chassis manufacturer's typical full air service brake system. A liquid-cooled, engine-lubricated air compressor, that is compliant with FMVSS (49 CFR 571.121.S5.1.1.), shall be provided. The air brake system shall be equipped with an automatic drain valve on the wet tank that may be unheated, a valve that can be manually opened on each air tank, and an air dryer/ejector that may be unheated. The system shall include a spring set parking brake. System shall be compliant with FMVSS (49 CFR 571.121), including the latest revision thereof. All brakes shall have automatic slack adjusters. | C40: Air Compressor size, Make & Model: | F40: Not Applicable
C41: Air Dryer size, Make & Model: | F41: Not Applicable
A43: Brakes | B43: Antilock Brake System (ABS), and an audio & visual warning system for system malfunctions.
A44: Tires | B44: Tires shall meet the minimum requirements for the Chassis Model, as published by the Chassis manufacturer. | C44: Front radial tires size (load range letter) | F44: Load range letter: G Good Year 245/70R19.5
...

Sheet D (Item 3-EV)
A1: GROUP 40524-23254, SCHOOL BUSES (Statewide) Attachment 1 - Specifications and Pricing (Revised December 29, 2022)
A2: PC69859 H.K. Truck Services, Inc.
A3: LOT D (Item 3-EV)
A4: Type D, 77 Pupil Transit Style Bus (Electric, Minimum 77 Pupils, Maximum 84 Pupils) | F4: Item Awaiting NYSDOT Approval
A6: PART 1: Product information for the Base Item(s) Awarded | F6: Lion
A7: Category | B7: Information provided in Yellow Cells | F7: ELECTRIC
A8: Propulsion System | B8: Information identifying the engine for the fuel type offered. | F8: DANA TM4 - 450V - SUMO MD MV2500
A9: NYS DOT Approval Number | B9: The NYS DOT Approval Number for the School Bus. Only School Buses approved by NYS DOT Passenger Carrier Safety Bureau for use as 2022 and newer Models, as indicated by a NYS DOT Approval Number, shall be delivered pursuant to the Contract. | F9: PENDING
A10: Chassis Make | B10: The OEM company name of a Chassis. | F10: Lion
A11: Chassis Model | B11: The Model name of the Chassis | F11: LionD
A12: Chassis Model Code | B12: The OEM code used to identify the subset of the Chassis Model. | F12: DL-14-W-SMD-400-B126-3-A-A-FA
A13: Body Make | B13: The OEM company name of a Body. | F13: Lion
A14: Body Model | B14: The Model name of the Body | F14: LionD
A15: Body Model Code | B15: The OEM code used to identify the subset of the Body Model. | F15: LionD
A16: Pick Up Allowance | B16: The dollar amount, per School Bus, that will be deducted from the Base Item NYS Contract Price, if the Authorized User elects to pick up the School Bus at the Contractor's location. | F16: 5000
A17: Delivery Time | B17: The estimated delivery time for the School Bus, expressed in number of calendar days, required to make delivery after receipt of a final Purchase Order (After Receipt of Order (“ARO”)) | F17: Approximately 365 days
A19: PART 2: Pricing for the Base Item, Additional Body Section, and Additional Options | F19: Lion
A20: Category | B20: Information provided in Yellow Cells | F20: ELECTRIC
A21: Base Item NYS Contract Price | B21: The per unit NYS Contract Price (dollar amount) for the School Bus described in the Base Item Specifications. The Base Item NYS Contract Price includes any OEM fees, all customs duties and charges, all vehicle preparation and clean-up charges, NYS DOT inspection, installation charges, delivery and all other incidentals normally included with providing a School Bus, but excludes Optional Equipment, Additional Body Section(s), and Additional Options. | F21: =362386*('PPI Adj'!D6) -> 422904.46
A22: Additional Options NYS Discount | B22: The minimum percentage amount that shall be deducted from the MSRP for all Additional Options purchased under the Contract for this Item. | F22: 1
A24: PART 3: Base Item Specifications | F24: Lion
A25: Category | B25: Specification | C25: Information provided in Yellow Cells | F25: ELECTRIC
A26: General | B26: A School Bus with a Body installed upon a a Chassis or unitized type construction, with a GVWR of greater than 16,000 pounds and designed to carry more than 10 persons. The entrance door is ahead of the front wheels. | C26: Gross Vehicle Weight Rating (GVWR) [lbs]: | F26: 37000
A27: Capacity | B27: Minimum seventy-seven (77) Pupils with a maximum of eighty-four (84) Pupils. | C27: Number of rows: | F27: 14
C28: Number of Pupils: | F28: 77
A29: Rear Wheels | B29: Dual Rear Wheel (DRW)
A30: Dimensions | C30: Wheelbase [inches]: | F30: 252
C31: Length (bumper to bumper) [inches]: | F31: 471
C32: Body width (inside) [inches]: | F32: 102
C33: Body headroom (standard) [inches]: | F33: 78
C34: Cowl to rear axle length [inches]: | F34: Not Applicable
A35: Front Axle | C35: Gross Axle Weight Rating (GAWR) [lbs]: | F35: 16000
C36: Front axle capacity [lbs]: | F36: 16000
A37: Rear Axle | C37: Gross Axle Weight Rating (GAWR) [lbs]: | F37: 21000
C38: Rear axle capacity [lbs]: | F38: 21000
A39: Steering | B39: Power steering
A40: Brakes | B40: Chassis manufacturer's typical full air service brake system. A liquid-cooled, engine-lubricated air compressor, that is compliant with FMVSS (49 CFR 571.121.S5.1.1.), shall be provided. The air brake system shall be equipped with an automatic drain valve on the wet tank that may be unheated, a valve that can be manually opened on each air tank, and an air dryer/ejector that may be unheated. The system shall include a spring set parking brake. System shall be compliant with FMVSS (49 CFR 571.121), including the latest revision thereof. All brakes shall have automatic slack adjusters. | C40: Air Compressor size, Make & Model: | F40: 450 PSI, Gardner Denver TX02
C41: Air Dryer size, Make & Model: | F41: Wabco Air Dryer
A43: Brakes | B43: Antilock Brake System (ABS), and an audio & visual warning system for system malfunctions.
A44: Tires | B44: Tires shall meet the minimum requirements for the Chassis Model, as published by the Chassis manufacturer. | C44: Front radial tires size (load range letter) | F44: Load range letter: L Good Year 315/80R22.5
...

Sheet D (Item 5-EV)
A1: GROUP 40524-23254, SCHOOL BUSES (Statewide) Attachment 1 - Specifications and Pricing (Revised December 29, 2022)
A2: PC69859 H.K. Truck Services, Inc.
A3: LOT D (Item 5-EV)
A4: Type D, 72 Pupil Rear Engine (Pusher) Bus (Electric, Minimum 72 Pupils, Maximum 84 Pupils) | F4: Item Awaiting NYSDOT Approval
A6: PART 1: Product information for the Base Item(s) Awarded | F6: Lion
A7: Category | B7: Information provided in Yellow Cells | F7: ELECTRIC
A8: Propulsion System | B8: Information identifying the engine for the fuel type offered. | F8: DANA TM4 - 450V - SUMO MD MV2500
A9: NYS DOT Approval Number | B9: The NYS DOT Approval Number for the School Bus. Only School Buses approved by NYS DOT Passenger Carrier Safety Bureau for use as 2022 and newer Models, as indicated by a NYS DOT Approval Number, shall be delivered pursuant to the Contract. | F9: PENDING
A10: Chassis Make | B10: The OEM company name of a Chassis. | F10: Lion
A11: Chassis Model | B11: The Model name of the Chassis | F11: LionD
A12: Chassis Model Code | B12: The OEM code used to identify the subset of the Chassis Model. | F12: DL-14-W-SMD-400-B126-3-A-A-FA
A13: Body Make | B13: The OEM company name of a Body. | F13: Lion
A14: Body Model | B14: The Model name of the Body | F14: LionD
A15: Body Model Code | B15: The OEM code used to identify the subset of the Body Model. | F15: LionD
A16: Pick Up Allowance | B16: The dollar amount, per School Bus, that will be deducted from the Base Item NYS Contract Price, if the Authorized User elects to pick up the School Bus at the Contractor's location. | F16: 5000
A17: Delivery Time | B17: The estimated delivery time for the School Bus, expressed in number of calendar days, required to make delivery after receipt of a final Purchase Order (After Receipt of Order (“ARO”)) | F17: Approximately 365 days
A19: PART 2: Pricing for the Base Item, Additional Body Section, and Additional Options | F19: Lion
A20: Category | B20: Information provided in Yellow Cells | F20: ELECTRIC
A21: Base Item NYS Contract Price | B21: The per unit NYS Contract Price (dollar amount) for the School Bus described in the Base Item Specifications. The Base Item NYS Contract Price includes any OEM fees, all customs duties and charges, all vehicle preparation and clean-up charges, NYS DOT inspection, installation charges, delivery and all other incidentals normally included with providing a School Bus, but excludes Optional Equipment, Additional Body Section(s), and Additional Options. | F21: =364300*('PPI Adj'!D6) -> 425138.1
A22: Additional Options NYS Discount | B22: The minimum percentage amount that shall be deducted from the MSRP for all Additional Options purchased under the Contract for this Item. | F22: 1
A24: PART 3: Base Item Specifications | F24: Lion
A25: Category | B25: Specification | C25: Information provided in Yellow Cells | F25: ELECTRIC
A26: General | B26: A School Bus with a Body installed upon a a Chassis or unitized type construction, with a GVWR of greater than 16,000 pounds and designed to carry more than 10 persons. The entrance door is ahead of the front wheels. | C26: Gross Vehicle Weight Rating (GVWR) [lbs]: | F26: 37000
A27: Capacity | B27: Minimum seventy-two (72) Pupils with a maximum of eighty-four (84) Pupils. | C27: Number of rows: | F27: 14
C28: Number of Pupils: | F28: 84
A29: Rear Wheels | B29: Dual Rear Wheel (DRW)
A30: Dimensions | C30: Wheelbase [inches]: | F30: 252
C31: Length (bumper to bumper) [inches]: | F31: 471
C32: Body width (inside) [inches]: | F32: 102
C33: Body headroom (standard) [inches]: | F33: 78
C34: Cowl to rear axle length [inches]: | F34: Not Applicable
A35: Front Axle | C35: Gross Axle Weight Rating (GAWR) [lbs]: | F35: 16000
C36: Front axle capacity [lbs]: | F36: 16000
A37: Rear Axle | C37: Gross Axle Weight Rating (GAWR) [lbs]: | F37: 21000
C38: Rear axle capacity [lbs]: | F38: 21000
A39: Steering | B39: Power steering
A40: Brakes | B40: Chassis manufacturer's typical full air service brake system. A liquid-cooled, engine-lubricated air compressor, that is compliant with FMVSS (49 CFR 571.121.S5.1.1.), shall be provided. The air brake system shall be equipped with an automatic drain valve on the wet tank that may be unheated, a valve that can be manually opened on each air tank, and an air dryer/ejector that may be unheated. The system shall include a spring set parking brake. System shall be compliant with FMVSS (49 CFR 571.121), including the latest revision thereof. All brakes shall have automatic slack adjusters. | C40: Air Compressor size, Make & Model: | F40: 450 PSI, Gardner Denver TX02
C41: Air Dryer size, Make & Model: | F41: Wabco Air Dryer
A43: Brakes | B43: Antilock Brake System (ABS), and an audio & visual warning system for system malfunctions.
A44: Tires | B44: Tires shall meet the minimum requirements for the Chassis Model, as published by the Chassis manufacturer. | C44: Front radial tires size (load range letter) | F44: Load range letter: L Good Year 315/80R22.5
...

Sheet PPI Adj
A1: Hide before posting
B2: PPI Series ID | D2: WPU1413
B3: 08/2022 PPI | D3: 322.792 | E3: 10/2017 PPI | G3: 243.1
B4: 10/2026 PPI | D4: 376.62 | E4: =B4 -> 10/2026 PPI | G4: =D4 -> 376.62
B5: Adj. Factor | D5: =D4/D3 -> 1.1667575 | E5: Adj. Factor | G5: =G4/G3 -> 1.549239
B6: Round to 1000th | D6: =ROUND(D5,3) -> 1.167 | E6: Round to 1000th | G6: =ROUND(G5,3) -> 1.549
