Workbook

Sheet Attachment 1 - Summary
B1: Group 40524-23254, SCHOOL BUSES (Statewide) Attachment 1 - Specifications and Pricing (Revised October 15, 2026)
B2: PC69859 H.K. Truck Services, Inc.
B3: The Contractor has been awarded the following Items, and shall offer Base Items, Optional Equipment and Additional Body Sections sold under the Contract at net prices that are equal to the applicable NYS Contract Price that is listed on the Contract Pricelist, or less. An Authorized User may choose to add one (1) or more of the Optional Equipment from the list of Optional Equipment, and/or Additional Body Sections, associated with the Base Item (see Contract Section 3.7 Optional Equipment and Additional Body Sections). Additional Options offered by the Contractor, that are listed on the OEM or Contractor-Published Pricelist(s), may also be requested by the Authorized User (see Contract Section 3.8 Additional Options).
B4: Name and description of worksheets included in this workbook:
B5: Tab Name | C5: Description of Tab or Item | D5: Fuel Types Awarded | E5: Item Availability by County (Under this Contract) | F5: Pupil Capacity | G5: Tab Color
B6: Attachment 1 - Summary | C6: Summary of Attachment 1 - Specifications and Pricing (this worksheet)
B7: C (Item 4-EV) | C7: Lot C (Item 4-EV): Type C, Conventional Bus | D7: Electric | E7: All NYS Counties. | F7: Minimum 64

Sheet C (Item 4-EV)
A1: GROUP 40524-23254, SCHOOL BUSES (Statewide) Attachment 1 - Specifications and Pricing (Revised October 15, 2026)
A2: PC69859 H.K. Truck Services, Inc.
A3: LOT C (Item 4-EV)
A4: Type C, 64 Pupil Conventional Front-Engine Bus (Electric, Minimum 64 Pupils)
A6: PART 1: Product information for the Base Item(s) Awarded | F6: Lion
A7: Category | B7: Information provided in Yellow Cells | F7: ELECTRIC
A8: Engine | B8: Information identifying the engine for the fuel type offered. | F8: DANA TM4 - 450V - SUMO MD MV2500
A9: NYS DOT Approval Number | B9: The NYS DOT Approval Number for the School Bus. Only School Buses approved by NYS DOT Passenger Carrier Safety Bureau for use as 2022 and newer Models, as indicated by a NYS DOT Approval Number, shall be delivered pursuant to the Contract. | F9: 022-NY-70-00WC-LBI
A10: Chassis Make | B10: The OEM company name of a Chassis. | F10: Lion
A11: Chassis Model | B11: The Model name of the Chassis | F11: LionC
A12: Chassis Model Code | B12: The OEM code used to identify the subset of the Chassis Model. | F12: CL-12-W-SMD-400-B168-4-A-H-FF
A13: Body Make | B13: The OEM company name of a Body. | F13: Lion
A14: Body Model | B14: The Model name of the Body | F14: LionC
A15: Body Model Code | B15: The OEM code used to identify the subset of the Body Model. | F15: LionC
A16: Pick Up Allowance | B16: The dollar amount, per School Bus, that will be deducted from the Base Item NYS Contract Price, if the Authorized User elects to pick up the School Bus at the Contractor's location. | F16: 5000
A17: Delivery Time | B17: The estimated delivery time for the School Bus, expressed in number of calendar days, required to make delivery after receipt of a final Purchase Order (After Receipt of Order (“ARO”)) | F17: Approximately 120-180 days
A19: PART 2: Pricing for the Base Item, Additional Body Section, and Additional Options | F19: Lion
A20: Category | B20: Information provided in Yellow Cells | F20: ELECTRIC
A21: Base Item NYS Contract Price | B21: The per unit NYS Contract Price (dollar amount) for the School Bus described in the Base Item Specifications. The Base Item NYS Contract Price includes any OEM fees, all customs duties and charges, all vehicle preparation and clean-up charges, NYS DOT inspection, installation charges, delivery and all other incidentals normally included with providing a School Bus, but excludes Optional Equipment, Additional Body Section(s), and Additional Options. | F21: =341594*('PPI Adj'!D6) -> 398640.2
A22: Additional Options NYS Discount | B22: The minimum percentage amount that shall be deducted from the MSRP for all Additional Options purchased under the Contract for this Item. | F22: 1
A24: PART 3: Base Item Specifications | F24: Lion
A25: Category | B25: Specification | C25: Information provided in Yellow Cells | F25: ELECTRIC
A26: General | B26: A School Bus with a Body installed upon a cowl and Chassis constructed using a chassis with a hood and front fender assembly. All of the engine is in front of the windshield and the entrance door is behind the front wheels. This is also known as a conventional school bus. This type also includes the cutaway truck chassis or truck chassis with cab, with or without a left side door, and with a GVWR greater than 16,000 pounds. | C26: Gross Vehicle Weight Rating (GVWR) [lbs]: | F26: 30000
A27: Capacity | B27: Minimum sixrty-four (64) Pupils. | C27: Number of rows: | F27: 12
C28: Number of Pupils: | F28: 70
A29: Rear Wheels | B29: Dual Rear Wheel (DRW)
A30: Dimensions | C30: Wheelbase [inches]: | F30: 278
C31: Length (bumper to bumper) [inches]: | F31: 474.4
C32: Body width (inside) [inches]: | F32: 102
C33: Body headroom (standard) [inches]: | F33: 78
C34: Cowl to rear axle length [inches]: | F34: 265
A35: Cowl/Hood | B35: Forward tilting style cowl/hood assembly.
A36: Front Axle | C36: Gross Axle Weight Rating (GAWR) [lbs]: | F36: 10000
C37: Front axle capacity [lbs]: | F37: 10000
A38: Rear Axle | C38: Gross Axle Weight Rating (GAWR) [lbs]: | F38: 20000
C39: Rear axle capacity [lbs]: | F39: 20000
A40: Steering | B40: Power steering
A41: Brakes | B41: Chassis manufacturer's typical full air service brake system. A liquid-cooled, engine-lubricated air compressor, that is compliant with FMVSS (49 CFR 571.121.S5.1.1.), shall be provided. The air brake system shall be equipped with an automatic drain valve on the wet tank that may be unheated, a valve that can be manually opened on each air tank, and an air dryer/ejector that may be unheated. The system shall include a spring set parking brake. System shall be compliant with FMVSS (49 CFR 571.121), including the latest revision thereof. All brakes shall have automatic slack adjusters. | C41: Air Compressor size, Make & Model: | F41: 450 PSI, Gardner Denver TX02
C42: Air Dryer size, Make & Model: | F42: Wabco AIR DRYER SS1200PLUS PN : 4324711000
A44: Brakes | B44: Antilock Brake System (ABS), and an audio & visual warning system for system malfunctions.
A45: Tires | B45: Tires shall meet the minimum requirements for the Chassis Model, as published by the Chassis manufacturer. | C45: Front radial tires size (load range letter) | F45: Load range letter: H Michelin X-Multi D X multi energy Z2 ; Size : 11R22.5 ;
C46: Front radial tires capacity | F46: 6610
C47: Rear radial tires size (load range letter) | F47: Load range letter: H Michelin X-Multi D X multi energy Z2 ; Size : 11R22.5 ;
C48: Rear radial tires capacity | F48: 6005
C49: Front Tires Option Code: | F49: D-295
C50: Front Tires Make & Tread Designation: | F50: Michelin X-Multi D X multi energy Z2 ; Size : 11R22.5 ;
C51: Rear Tires Option Code: | F51: D-295
C52: Rear Tires Make & Tread Designation: | F52: Michelin X-Multi D X multi energy Z2 ; Size : 11R22.5 ;
A53: Transmission | B53: Automatic transmission with manufacturer's standard or optional temperature indicator at the operator's control panel. | C53: Number of forward gears: | F53: 1
C54: Gears direct or w/O.D.?: | F54: Not Applicable
C55: Option Code, Make & Model: | F55: Not Applicable
A56: Propulsion System | B56: Propulsion system which furnishes high-wattage electric power to the motor(s), that propels the vehicle forward or backward, and is sometimes referred to as the “main or power drive circuitry.” | C56: Vehicle range on full charge [miles]: | F56: 100
A57: Battery(ies) | B57: Three (3) "No Maintenance" type batteries with a total capacity of 2400-CCA and a 145-minute reserve capacity. The battery cables (- and +) shall be the same size and weight and be equal to (or better than) the larger cable recommended by the School Bus manufacturer. | C57: Number of Batteries: | F57: 2
C58: Type of Batteries: | F58: Lithium-Ion (NMC)
C59: System Design Voltage: | F59: 400 V
A60: Electrical | B60: Units shall have headlights turned on when the engine is running.
A61: Electrical | B61: Driver's compartment dome light shall be so directed to provide illumination for the bus driver and be controlled by an independent switch.
A62: Electrical | B62: All exterior lamps, except headlamps, shall be Light Emitting Diode (LED) design that meet applicable SAE standards.
A63: Horns | B63: An electrical horn(s) shall be provided that meets SAE standard J377. An air horn shall not be an approved Compatible Equivalent.
A64: Door (Entrance) | B64: Minimum 24 inch opening. | C64: Type and clear width [inches]: | F64: 29"
A65: Stepwell (Entrance) | B65: Structural, tread and riser members shall be constructed entirely of rust/corrosion-resistant steel, components and fasteners or materials of equivalent or stronger structural integrity. Manufacturer's standard floor/stair coverings shall be used for finish surfaces.
A66: Mirrors | B66: The vertical rectangular exterior driving mirrors shall be the heated defrosting type with their own switch and pilot light. Crossview mirrors shall be provided at front corners of each bus.
A67: Seating | B67: Manufacturer's standard or optional seat spacing that meets or exceeds the NYCRR minimum requirement for the respective class of School Bus with the minimum Pupil capacity stated above.
A68: Seatbelt (ambulatory) | B68: Seat belts shall be provided for each individual seating space. Seat belts shall meet current federal safety standards and shall be of a type approved by, and installed in accordance, with the rules and regulations established by NYS DOT in subdivision five (5) of section three-hundred eighty-three (383) of the New York State Vehicle and Traffic Laws dated July 30, 1986 and NYCRR, Title 17, Part 720, or the latest revision thereof.
A69: Stop Arm(s) (Power) | B69: Shall be entrance-door activated, electric or air-positioning type, and be provided streetside on all School Buses. It shall be compliant with FMVSS (49 CFR 571.131). Buses with a capacity of 45 persons or more shall have an additional and same model stop-arm at the rear streetside of the bus. | C69: Make & Model: | F69: BMR, M99010WLED
A70: "School Bus" Signs | B70: Both front and rear shall comply with Article 9, Section 375.20 of the New York State Vehicle and Traffic Law.
A71: 8 Lamp Warning System (School Bus) | B71: Shall be compliant with SAE J887. | C71: Make & Model: | F71: Maxxima, M90070R
A72: Exterior Reflective Markings | B72: All units with a capacity of ten (10) or more Pupils shall be equipped with exterior reflective markings as required by FMVSS (49 CFR 571.217) and NYCRR (Title 15, Department of Motor Vehicles, Part D, 46.12).
A73: Floor | B73: Manufacturer's standard insulated floor design shall be provided throughout the School Bus.
A74: Heaters | B74: Minimum passenger compartment heating shall meet the requirements of NYCRR, Title 17, Part 720.4(I) Heaters, or the latest revision thereof. | C74: Heater Power Source: | F74: Propulsion Batteries: Electric
A75: Door (Rear Emergency Exit) | B75: Shall include lower glass.
A77: PART 4: Optional Equipment NYS Contract Pricing | F77: Lion
A78: Optional Equipment (see Specifications and Equipment Provided below) | F78: ELECTRIC
A79: Capacity - Delete One (1) Row of Seating | F79: =-0.01*('PPI Adj'!D6) -> -0.01167
A80: Child Presence Check / Alarm | F80: =0.01*('PPI Adj'!D6) -> 0.01167
A81: Glass (Tinted) | F81: =0.01*('PPI Adj'!D6) -> 0.01167
A82: Rear Axle, "No Spin" | F82: =0.01*('PPI Adj'!D6) -> 0.01167
A83: Tires (Snow) for 4 tires | F83: =1250*('PPI Adj'!D6) -> 1458.75
A84: Tires (All-Season) | F84: =0.01*('PPI Adj'!D6) -> 0.01167
A85: Floor With Recessed Wheelchair Restraint Track For One Wheelchair Station. | F85: =8800*('PPI Adj'!D6) -> 10269.6
A86: Floor (Flat) With Recessed Wheelchair Track Throughout Entire Body | F86: Not Available
A87: Wheelchair Lift | F87: =9227*('PPI Adj'!D6) -> 10767.909
A88: Roof Ventilator / Emergency Exit | F88: =0.01*('PPI Adj'!D6) -> 0.01167
A89: White Roof | F89: =0.01*('PPI Adj'!D6) -> 0.01167
A90: High Headroom | F90: =0.01*('PPI Adj'!D6) -> 0.01167
A91: Crossing Arm | F91: =0.01*('PPI Adj'!D6) -> 0.01167
A92: Vandal Lock | F92: =0.01*('PPI Adj'!D6) -> 0.01167
A93: Air Conditioning | F93: =15000*('PPI Adj'!D6) -> 17505
A94: School Bus Safety Camera | F94: =295*('PPI Adj'!D6) -> 344.265
A95: Delete Exterior LED Lamps | F95: =0.01*('PPI Adj'!D6) -> 0.01167
A96: Multifunction School Activity Bus | F96: =5000*('PPI Adj'!D6) -> 5835
A98: PART 4: Optional Equipment Specifications | F98: Lion
A99: Optional Equipment | B99: Specification | C99: Information provided in Yellow Cells | F99: ELECTRIC
A100: Capacity - Delete One (1) Row of Seating | B100: Delete one (1) full row of seating (both left and right sides) without removing a Body section from the Base Item, or altering the spacing between the remaining seats.
A101: Child Presence Check / Alarm | B101: Shall be the Child Check-mate System Model EP 2, or Compatible Equivalent. | C101: Make & Model: | F101: Child CheckMate Safety Co., EP1 Plus
A102: Glass (Tinted) | B102: The School Bus windshield and Body windows shall have the manufacturer's typical options that provide tinted glass windows throughout the vehicle and shall comply with Article 9, Section 375.12a. of the New York State Vehicle and Traffic Law.
A103: Rear Axle, "No Spin" | B103: The manufacturer’s standard device (e.g., power-lock, limited-slip, no-spin, positive-traction). | C103: Type of device: | F103: Positive traction
A104: Tires (Snow) | B104: Snow tread tires shall be provided on all drive wheels. Tires shall be Federal class D/A, STC (with snow traction capability), or class S/T, or A/T, AP with STC, or other class with STC. The price entered for this Optional Equipment shall be for four (4) tires. Tires furnished on the rear wheels shall be the same size and adequate for axle's GAWR. | C104: Rear radial tires size (load range letter) [LT_____/_____R_____._____(_____)]: | F104: Michelin XDS 2TM, 11R22.5
C105: Rear radial tires capacity [_____,_____-lbs]: | F105: 6610 lbs per tire
C106: Rear Tires Option Code: | F106: XDS 2TM
...

Sheet D (Item 1-EV)
A1: GROUP 40524-23254, SCHOOL BUSES (Statewide) Attachment 1 - Specifications and Pricing (Revised December 29, 2022)
A2: PC69859 H.K. Truck Services, Inc.
A3: LOT D (Item 1-EV)
A4: Type D, 53 Pupil Transit Style Bus (Electric, Minimum 24 Pupils, Maximum 64 Pupils) | F4: Item Awaiting NYSDOT Approval
A6: PART 1: Product information for the Base Item(s) Awarded | F6: Lion
A7: Category | B7: Information provided in Yellow Cells | F7: ELECTRIC
A8: Propulsion System | B8: Information identifying the engine for the fuel type offered. | F8: DANA TM4 - SUMO LD HV1200
A9: NYS DOT Approval Number | B9: The NYS DOT Approval Number for the School Bus. Only School Buses approved by NYS DOT Passenger Carrier Safety Bureau for use as 2022 and newer Models, as indicated by a NYS DOT Approval Number, shall be delivered pursuant to the Contract. | F9: PENDING
A10: Chassis Make | B10: The OEM company name of a Chassis. | F10: Lion
A11: Chassis Model | B11: The Model name of the Chassis | F11: LionA
A12: Chassis Model Code | B12: The OEM code used to identify the subset of the Chassis Model. | F12: Not Applicable
A13: Body Make | B13: The OEM company name of a Body. | F13: Lion
A14: Body Model | B14: The Model name of the Body | F14: LionA
A15: Body Model Code | B15: The OEM code used to identify the subset of the Body Model. | F15: LionA
A16: Pick Up Allowance | B16: The dollar amount, per School Bus, that will be deducted from the Base Item NYS Contract Price, if the Authorized User elects to pick up the School Bus at the Contractor's location. | F16: 5000
A17: Delivery Time | B17: The estimated delivery time for the School Bus, expressed in number of calendar days, required to make delivery after receipt of a final Purchase Order (After Receipt of Order (“ARO”)) | F17: Approximately 365-545 days
A19: PART 2: Pricing for the Base Item, Additional Body Section, and Additional Options | F19: Lion
A20: Category | B20: Information provided in Yellow Cells | F20: ELECTRIC
A21: Base Item NYS Contract Price | B21: The per unit NYS Contract Price (dollar amount) for the School Bus described in the Base Item Specifications. The Base Item NYS Contract Price includes any OEM fees, all customs duties and charges, all vehicle preparation and clean-up charges, NYS DOT inspection, installation charges, delivery and all other incidentals normally included with providing a School Bus, but excludes Optional Equipment, Additional Body Section(s), and Additional Options. | F21: =286500*('PPI Adj'!D6) -> 334345.5
A22: Additional Options NYS Discount | B22: The minimum percentage amount that shall be deducted from the MSRP for all Additional Options purchased under the Contract for this Item. | F22: 1
A24: PART 3: Base Item Specifications | F24: Lion
A25: Category | B25: Specification | C25: Information provided in Yellow Cells | F25: ELECTRIC
A26: General | B26: A School Bus with a Body installed upon a a Chassis or unitized type construction, with a GVWR of greater than 16,000 pounds and designed to carry more than 10 persons. The entrance door is ahead of the front wheels. | C26: Gross Vehicle Weight Rating (GVWR) [lbs]: | F26: 22350
A27: Capacity | B27: Minimum twenty-four (24) Pupils with a maximum of sixty-four (64) Pupils. | C27: Number of rows: | F27: 6
C28: Number of Pupils: | F28: 24
A29: Rear Wheels | B29: Dual Rear Wheel (DRW)
A30: Dimensions | C30: Wheelbase [inches]: | F30: 143
C31: Length (bumper to bumper) [inches]: | F31: 258
C32: Body width (inside) [inches]: | F32: 96
C33: Body headroom (standard) [inches]: | F33: 78
C34: Cowl to rear axle length [inches]: | F34: Not Applicable
A35: Front Axle | C35: Gross Axle Weight Rating (GAWR) [lbs]: | F35: 9750
C36: Front axle capacity [lbs]: | F36: 9750
A37: Rear Axle | C37: Gross Axle Weight Rating (GAWR) [lbs]: | F37: 15000
C38: Rear axle capacity [lbs]: | F38: 15000
A39: Steering | B39: Power steering
A40: Brakes | B40: Chassis manufacturer's typical full air service brake system. A liquid-cooled, engine-lubricated air compressor, that is compliant with FMVSS (49 CFR 571.121.S5.1.1.), shall be provided. The air brake system shall be equipped with an automatic drain valve on the wet tank that may be unheated, a valve that can be manually opened on each air tank, and an air dryer/ejector that may be unheated. The system shall include a spring set parking brake. System shall be compliant with FMVSS (49 CFR 571.121), including the latest revision thereof. All brakes shall have automatic slack adjusters. | C40: Air Compressor size, Make & Model: | F40: Not Applicable
C41: Air Dryer size, Make & Model: | F41: Not Applicable
A43: Brakes | B43: Antilock Brake System (ABS), and an audio & visual warning system for system malfunctions.
A44: Tires | B44: Tires shall meet the minimum requirements for the Chassis Model, as published by the Chassis manufacturer. | C44: Front radial tires size (load range letter) | F44: Load range letter: G Good Year 245/70R19.5
C45: Front radial tires capacity | F45: 4940
C46: Rear radial tires size (load range letter) | F46: Load range letter: G Good Year 245/70R19.5
C47: Rear radial tires capacity | F47: 4675
C48: Front Tires Option Code: | F48: 245/70R19.5
C49: Front Tires Make & Tread Designation: | F49: Good Year 245/70R19.5
C50: Rear Tires Option Code: | F50: 245/70R19.5
C51: Rear Tires Make & Tread Designation: | F51: Good Year 245/70R19.5
A52: Transmission | B52: Automatic transmission with manufacturer's standard or optional temperature indicator at the operator's control panel. | C52: Number of forward gears: | F52: 1
C53: Gears direct or w/O.D.?: | F53: Not Applicable
C54: Option Code, Make & Model: | F54: Not Applicable
A55: Propulsion System | B55: Propulsion system which furnishes high-wattage electric power to the motor(s), that propels the vehicle forward or backward, and is sometimes referred to as the “main or power drive circuitry.” | C55: Vehicle range on full charge [miles]: | F55: 75
A56: Battery(ies) | C56: Number of Batteries: | F56: 1
C57: Type of Batteries: | F57: Lithium-Ion (NMC)
C58: System Design Voltage: | F58: 800 V
A59: Electrical | B59: Units shall have headlights turned on when the engine is running.
A60: Electrical | B60: Driver's compartment dome light shall be so directed to provide illumination for the bus driver and be controlled by an independent switch.
A61: Electrical | B61: All exterior lamps, except headlamps, shall be Light Emitting Diode (LED) design that meet applicable SAE standards.
A62: Horns | B62: An electrical horn(s) shall be provided that meets SAE standard J377. An air horn shall not be an approved Compatible Equivalent.
A63: Door (Entrance) | B63: Minimum 24 inch opening. | C63: Type and clear width [inches]: | F63: 36"
A64: Stepwell (Entrance) | B64: Structural, tread and riser members shall be constructed entirely of rust/corrosion-resistant steel, components and fasteners or materials of equivalent or stronger structural integrity. Manufacturer's standard floor/stair coverings shall be used for finish surfaces.
A65: Mirrors | B65: The vertical rectangular exterior driving mirrors shall be the heated defrosting type with their own switch and pilot light. Crossview mirrors shall be provided at front corners of each bus.
A66: Seating | B66: Manufacturer's standard or optional seat spacing that meets or exceeds the NYCRR minimum requirement for the respective class of School Bus with the minimum Pupil capacity stated above.
A67: Seatbelt (ambulatory) | B67: Seat belts shall be provided for each individual seating space. Seat belts shall meet current federal safety standards and shall be of a type approved by, and installed in accordance, with the rules and regulations established by NYS DOT in subdivision five (5) of section three-hundred eighty-three (383) of the New York State Vehicle and Traffic Laws dated July 30, 1986 and NYCRR, Title 17, Part 720, or the latest revision thereof.
A68: Stop Arm(s) (Power) | B68: Shall be entrance-door activated, electric or air-positioning type, and be provided streetside on all School Buses. It shall be compliant with FMVSS (49 CFR 571.131). Buses with a capacity of 45 persons or more shall have an additional and same model stop-arm at the rear streetside of the bus. | C68: Make & Model: | F68: BMR, M99010WLED
A69: "School Bus" Signs | B69: Both front and rear shall comply with Article 9, Section 375.20 of the New York State Vehicle and Traffic Law.
A70: 8 Lamp Warning System (School Bus) | B70: Shall be compliant with SAE J887. | C70: Make & Model: | F70: Maxxima, M90070R
A71: Exterior Reflective Markings | B71: All units with a capacity of ten (10) or more Pupils shall be equipped with exterior reflective markings as required by FMVSS (49 CFR 571.217) and NYCRR (Title 15, Department of Motor Vehicles, Part D, 46.12).
A72: Floor | B72: Manufacturer's standard insulated floor design shall be provided throughout the School Bus.
A73: Heaters | B73: Minimum passenger compartment heating shall meet the requirements of NYCRR, Title 17, Part 720.4(I) Heaters, or the latest revision thereof. | C73: Heater Power Source: | F73: Propulsion Batteries: Electric
A74: Door (Rear Emergency Exit) | B74: Shall include lower glass.
A76: PART 4: Optional Equipment NYS Contract Pricing | F76: Lion
A77: Optional Equipment (see Specifications and Equipment Provided below) | F77: ELECTRIC
A78: Capacity - Delete One (1) Row of Seating | F78: =-0.01*('PPI Adj'!D6) -> -0.01167
A79: Child Presence Check / Alarm | F79: =0.01*('PPI Adj'!D6) -> 0.01167
A80: Glass (Tinted) | F80: =0.01*('PPI Adj'!D6) -> 0.01167
A81: Rear Axle, "No Spin" | F81: =0.01*('PPI Adj'!D6) -> 0.01167
A82: Tires (Snow) for 4 tires | F82: =1250*('PPI Adj'!D6) -> 1458.75
A83: Tires (All-Season) | F83: =0.01*('PPI Adj'!D6) -> 0.01167
A84: Floor With Recessed Wheelchair Restraint Track For One Wheelchair Station. | F84: =8800*('PPI Adj'!D6) -> 10269.6
A85: Floor (Flat) With Recessed Wheelchair Track Throughout Entire Body | F85: Not Available
A86: Wheelchair Lift | F86: =9227*('PPI Adj'!D6) -> 10767.909
A87: Roof Ventilator / Emergency Exit | F87: =0.01*('PPI Adj'!D6) -> 0.01167
A88: White Roof | F88: =0.01*('PPI Adj'!D6) -> 0.01167
A89: High Headroom | F89: =0.01*('PPI Adj'!D6) -> 0.01167
A90: Crossing Arm | F90: =0.01*('PPI Adj'!D6) -> 0.01167
A91: Vandal Lock | F91: =0.01*('PPI Adj'!D6) -> 0.01167
A92: Air Conditioning | F92: =15000*('PPI Adj'!D6) -> 17505
A93: School Bus Safety Camera | F93: =295*('PPI Adj'!D6) -> 344.265
A94: Delete Exterior LED Lamps | F94: =0.01*('PPI Adj'!D6) -> 0.01167
A95: Multifunction School Activity Bus | F95: =5000*('PPI Adj'!D6) -> 5835
A97: PART 4: Optional Equipment Specifications | F97: Lion
A98: Optional Equipment | B98: Specification | C98: Information provided in Yellow Cells | F98: ELECTRIC
A99: Capacity - Delete One (1) Row of Seating | B99: Delete one (1) full row of seating (both left and right sides) without removing a Body section from the Base Item, or altering the spacing between the remaining seats.
A100: Child Presence Check / Alarm | B100: Shall be the Child Check-mate System Model EP 2, or Compatible Equivalent. | C100: Make & Model: | F100: Child CheckMate Safety Co., EP1 Plus
A101: Glass (Tinted) | B101: The School Bus windshield and Body windows shall have the manufacturer's typical options that provide tinted glass windows throughout the vehicle and shall comply with Article 9, Section 375.12a. of the New York State Vehicle and Traffic Law.
A102: Rear Axle, "No Spin" | B102: The manufacturer’s standard device (e.g., power-lock, limited-slip, no-spin, positive-traction). | C102: Type of device: | F102: Positive traction
A103: Tires (Snow) | B103: Snow tread tires shall be provided on all drive wheels. Tires shall be Federal class D/A, STC (with snow traction capability), or class S/T, or A/T, AP with STC, or other class with STC. The price entered for this Optional Equipment shall be for four (4) tires. Tires furnished on the rear wheels shall be the same size and adequate for axle's GAWR. | C103: Rear radial tires size (load range letter) [LT_____/_____R_____._____(_____)]: | F103: Make : Michelin ; Model : XDS2 (winter) 245/70R19.5
C104: Rear radial tires capacity [_____,_____-lbs]: | F104: 3970 lbs per tire
C105: Rear Tires Option Code: | F105: XDS-2
C106: Rear Tires Make & Tread Designation: | F106: Make : Michelin ; Model : XDS2 (winter) 245/70R19.5
...

Sheet D (Item 3-EV)
A1: GROUP 40524-23254, SCHOOL BUSES (Statewide) Attachment 1 - Specifications and Pricing (Revised December 29, 2022)
A2: PC69859 H.K. Truck Services, Inc.
A3: LOT D (Item 3-EV)
A4: Type D, 77 Pupil Transit Style Bus (Electric, Minimum 77 Pupils, Maximum 84 Pupils) | F4: Item Awaiting NYSDOT Approval
A6: PART 1: Product information for the Base Item(s) Awarded | F6: Lion
A7: Category | B7: Information provided in Yellow Cells | F7: ELECTRIC
A8: Propulsion System | B8: Information identifying the engine for the fuel type offered. | F8: DANA TM4 - 450V - SUMO MD MV2500
A9: NYS DOT Approval Number | B9: The NYS DOT Approval Number for the School Bus. Only School Buses approved by NYS DOT Passenger Carrier Safety Bureau for use as 2022 and newer Models, as indicated by a NYS DOT Approval Number, shall be delivered pursuant to the Contract. | F9: PENDING
A10: Chassis Make | B10: The OEM company name of a Chassis. | F10: Lion
A11: Chassis Model | B11: The Model name of the Chassis | F11: LionD
A12: Chassis Model Code | B12: The OEM code used to identify the subset of the Chassis Model. | F12: DL-14-W-SMD-400-B126-3-A-A-FA
A13: Body Make | B13: The OEM company name of a Body. | F13: Lion
A14: Body Model | B14: The Model name of the Body | F14: LionD
A15: Body Model Code | B15: The OEM code used to identify the subset of the Body Model. | F15: LionD
A16: Pick Up Allowance | B16: The dollar amount, per School Bus, that will be deducted from the Base Item NYS Contract Price, if the Authorized User elects to pick up the School Bus at the Contractor's location. | F16: 5000
A17: Delivery Time | B17: The estimated delivery time for the School Bus, expressed in number of calendar days, required to make delivery after receipt of a final Purchase Order (After Receipt of Order (“ARO”)) | F17: Approximately 365 days
A19: PART 2: Pricing for the Base Item, Additional Body Section, and Additional Options | F19: Lion
A20: Category | B20: Information provided in Yellow Cells | F20: ELECTRIC
A21: Base Item NYS Contract Price | B21: The per unit NYS Contract Price (dollar amount) for the School Bus described in the Base Item Specifications. The Base Item NYS Contract Price includes any OEM fees, all customs duties and charges, all vehicle preparation and clean-up charges, NYS DOT inspection, installation charges, delivery and all other incidentals normally included with providing a School Bus, but excludes Optional Equipment, Additional Body Section(s), and Additional Options. | F21: =362386*('PPI Adj'!D6) -> 422904.46
A22: Additional Options NYS Discount | B22: The minimum percentage amount that shall be deducted from the MSRP for all Additional Options purchased under the Contract for this Item. | F22: 1
A24: PART 3: Base Item Specifications | F24: Lion
A25: Category | B25: Specification | C25: Information provided in Yellow Cells | F25: ELECTRIC
A26: General | B26: A School Bus with a Body installed upon a a Chassis or unitized type construction, with a GVWR of greater than 16,000 pounds and designed to carry more than 10 persons. The entrance door is ahead of the front wheels. | C26: Gross Vehicle Weight Rating (GVWR) [lbs]: | F26: 37000
A27: Capacity | B27: Minimum seventy-seven (77) Pupils with a maximum of eighty-four (84) Pupils. | C27: Number of rows: | F27: 14
C28: Number of Pupils: | F28: 77
A29: Rear Wheels | B29: Dual Rear Wheel (DRW)
A30: Dimensions | C30: Wheelbase [inches]: | F30: 252
C31: Length (bumper to bumper) [inches]: | F31: 471
C32: Body width (inside) [inches]: | F32: 102
C33: Body headroom (standard) [inches]: | F33: 78
C34: Cowl to rear axle length [inches]: | F34: Not Applicable
A35: Front Axle | C35: Gross Axle Weight Rating (GAWR) [lbs]: | F35: 16000
C36: Front axle capacity [lbs]: | F36: 16000
A37: Rear Axle | C37: Gross Axle Weight Rating (GAWR) [lbs]: | F37: 21000
C38: Rear axle capacity [lbs]: | F38: 21000
A39: Steering | B39: Power steering
A40: Brakes | B40: Chassis manufacturer's typical full air service brake system. A liquid-cooled, engine-lubricated air compressor, that is compliant with FMVSS (49 CFR 571.121.S5.1.1.), shall be provided. The air brake system shall be equipped with an automatic drain valve on the wet tank that may be unheated, a valve that can be manually opened on each air tank, and an air dryer/ejector that may be unheated. The system shall include a spring set parking brake. System shall be compliant with FMVSS (49 CFR 571.121), including the latest revision thereof. All brakes shall have automatic slack adjusters. | C40: Air Compressor size, Make & Model: | F40: 450 PSI, Gardner Denver TX02
C41: Air Dryer size, Make & Model: | F41: Wabco Air Dryer
A43: Brakes | B43: Antilock Brake System (ABS), and an audio & visual warning system for system malfunctions.
A44: Tires | B44: Tires shall meet the minimum requirements for the Chassis Model, as published by the Chassis manufacturer. | C44: Front radial tires size (load range letter) | F44: Load range letter: L Good Year 315/80R22.5
C45: Front radial tires capacity | F45: 9090
C46: Rear radial tires size (load range letter) | F46: Load range letter:L Good Year 315/80R22.5
C47: Rear radial tires capacity | F47: 8270
C48: Front Tires Option Code: | F48: 315/80R22.5
C49: Front Tires Make & Tread Designation: | F49: Good Year 315/80R22.5
C50: Rear Tires Option Code: | F50: 315/80R22.5
C51: Rear Tires Make & Tread Designation: | F51: Good Year 315/80R22.5
A52: Transmission | B52: Automatic transmission with manufacturer's standard or optional temperature indicator at the operator's control panel. | C52: Number of forward gears: | F52: 1
C53: Gears direct or w/O.D.?: | F53: Not Applicable
C54: Option Code, Make & Model: | F54: Not Applicable
A55: Propulsion System | B55: Propulsion system which furnishes high-wattage electric power to the motor(s), that propels the vehicle forward or backward, and is sometimes referred to as the “main or power drive circuitry.” | C55: Vehicle range on full charge [miles]: | F55: 125
A56: Battery(ies) | C56: Number of Batteries: | F56: 4
C57: Type of Batteries: | F57: Lithium-Ion (NMC)
C58: System Design Voltage: | F58: 400 V
A59: Electrical | B59: Units shall have headlights turned on when the engine is running.
A60: Electrical | B60: Driver's compartment dome light shall be so directed to provide illumination for the bus driver and be controlled by an independent switch.
A61: Electrical | B61: All exterior lamps, except headlamps, shall be Light Emitting Diode (LED) design that meet applicable SAE standards.
A62: Horns | B62: An electrical horn(s) shall be provided that meets SAE standard J377. An air horn shall not be an approved Compatible Equivalent.
A63: Door (Entrance) | B63: Minimum 24 inch opening. | C63: Type and clear width [inches]: | F63: Clear door opening 27"
A64: Stepwell (Entrance) | B64: Structural, tread and riser members shall be constructed entirely of rust/corrosion-resistant steel, components and fasteners or materials of equivalent or stronger structural integrity. Manufacturer's standard floor/stair coverings shall be used for finish surfaces.
A65: Mirrors | B65: The vertical rectangular exterior driving mirrors shall be the heated defrosting type with their own switch and pilot light. Crossview mirrors shall be provided at front corners of each bus.
A66: Seating | B66: Manufacturer's standard or optional seat spacing that meets or exceeds the NYCRR minimum requirement for the respective class of School Bus with the minimum Pupil capacity stated above.
A67: Seatbelt (ambulatory) | B67: Seat belts shall be provided for each individual seating space. Seat belts shall meet current federal safety standards and shall be of a type approved by, and installed in accordance, with the rules and regulations established by NYS DOT in subdivision five (5) of section three-hundred eighty-three (383) of the New York State Vehicle and Traffic Laws dated July 30, 1986 and NYCRR, Title 17, Part 720, or the latest revision thereof.
A68: Stop Arm(s) (Power) | B68: Shall be entrance-door activated, electric or air-positioning type, and be provided streetside on all School Buses. It shall be compliant with FMVSS (49 CFR 571.131). Buses with a capacity of 45 persons or more shall have an additional and same model stop-arm at the rear streetside of the bus. | C68: Make & Model: | F68: BMR, M99010WLED
A69: "School Bus" Signs | B69: Both front and rear shall comply with Article 9, Section 375.20 of the New York State Vehicle and Traffic Law.
A70: 8 Lamp Warning System (School Bus) | B70: Shall be compliant with SAE J887. | C70: Make & Model: | F70: Maxxima, M90070R
A71: Exterior Reflective Markings | B71: All units with a capacity of ten (10) or more Pupils shall be equipped with exterior reflective markings as required by FMVSS (49 CFR 571.217) and NYCRR (Title 15, Department of Motor Vehicles, Part D, 46.12).
A72: Floor | B72: Manufacturer's standard insulated floor design shall be provided throughout the School Bus.
A73: Heaters | B73: Minimum passenger compartment heating shall meet the requirements of NYCRR, Title 17, Part 720.4(I) Heaters, or the latest revision thereof. | C73: Heater Power Source: | F73: Propulsion Batteries: Electric
A74: Door (Rear Emergency Exit) | B74: Shall include lower glass.
A76: PART 4: Optional Equipment NYS Contract Pricing | F76: Lion
A77: Optional Equipment (see Specifications and Equipment Provided below) | F77: ELECTRIC
A78: Capacity - Delete One (1) Row of Seating | F78: =-0.01*('PPI Adj'!D6) -> -0.01167
A79: Child Presence Check / Alarm | F79: =0.01*('PPI Adj'!D6) -> 0.01167
A80: Glass (Tinted) | F80: =0.01*('PPI Adj'!D6) -> 0.01167
A81: Rear Axle, "No Spin" | F81: =0.01*('PPI Adj'!D6) -> 0.01167
A82: Tires (Snow) for 4 tires | F82: =1250*('PPI Adj'!D6) -> 1458.75
A83: Tires (All-Season) | F83: =0.01*('PPI Adj'!D6) -> 0.01167
A84: Floor With Recessed Wheelchair Restraint Track For One Wheelchair Station. | F84: =8800*('PPI Adj'!D6) -> 10269.6
A85: Floor (Flat) With Recessed Wheelchair Track Throughout Entire Body | F85: Not Available
A86: Wheelchair Lift | F86: =9227*('PPI Adj'!D6) -> 10767.909
A87: Roof Ventilator / Emergency Exit | F87: =0.01*('PPI Adj'!D6) -> 0.01167
A88: White Roof | F88: =0.01*('PPI Adj'!D6) -> 0.01167
A89: High Headroom | F89: =0.01*('PPI Adj'!D6) -> 0.01167
A90: Crossing Arm | F90: =0.01*('PPI Adj'!D6) -> 0.01167
A91: Vandal Lock | F91: =0.01*('PPI Adj'!D6) -> 0.01167
A92: Air Conditioning | F92: =15000*('PPI Adj'!D6) -> 17505
A93: School Bus Safety Camera | F93: =295*('PPI Adj'!D6) -> 344.265
A94: Delete Exterior LED Lamps | F94: =0.01*('PPI Adj'!D6) -> 0.01167
A95: Multifunction School Activity Bus | F95: =5000*('PPI Adj'!D6) -> 5835
A97: PART 4: Optional Equipment Specifications | F97: Lion
A98: Optional Equipment | B98: Specification | C98: Information provided in Yellow Cells | F98: ELECTRIC
A99: Capacity - Delete One (1) Row of Seating | B99: Delete one (1) full row of seating (both left and right sides) without removing a Body section from the Base Item, or altering the spacing between the remaining seats.
A100: Child Presence Check / Alarm | B100: Shall be the Child Check-mate System Model EP 2, or Compatible Equivalent. | C100: Make & Model: | F100: Child CheckMate Safety Co., EP1 Plus
A101: Glass (Tinted) | B101: The School Bus windshield and Body windows shall have the manufacturer's typical options that provide tinted glass windows throughout the vehicle and shall comply with Article 9, Section 375.12a. of the New York State Vehicle and Traffic Law.
A102: Rear Axle, "No Spin" | B102: The manufacturer’s standard device (e.g., power-lock, limited-slip, no-spin, positive-traction). | C102: Type of device: | F102: Positive traction
A103: Tires (Snow) | B103: Snow tread tires shall be provided on all drive wheels. Tires shall be Federal class D/A, STC (with snow traction capability), or class S/T, or A/T, AP with STC, or other class with STC. The price entered for this Optional Equipment shall be for four (4) tires. Tires furnished on the rear wheels shall be the same size and adequate for axle's GAWR. | C103: Rear radial tires size (load range letter) [LT_____/_____R_____._____(_____)]: | F103: Michelin XDS 2TM, 11R22.5
C104: Rear radial tires capacity [_____,_____-lbs]: | F104: 6610 lbs per tire
C105: Rear Tires Option Code: | F105: XDS 2TM
C106: Rear Tires Make & Tread Designation: | F106: Michelin 26 NDS
...

Sheet D (Item 5-EV)
A1: GROUP 40524-23254, SCHOOL BUSES (Statewide) Attachment 1 - Specifications and Pricing (Revised December 29, 2022)
A2: PC69859 H.K. Truck Services, Inc.
A3: LOT D (Item 5-EV)
A4: Type D, 72 Pupil Rear Engine (Pusher) Bus (Electric, Minimum 72 Pupils, Maximum 84 Pupils) | F4: Item Awaiting NYSDOT Approval
A6: PART 1: Product information for the Base Item(s) Awarded | F6: Lion
A7: Category | B7: Information provided in Yellow Cells | F7: ELECTRIC
A8: Propulsion System | B8: Information identifying the engine for the fuel type offered. | F8: DANA TM4 - 450V - SUMO MD MV2500
A9: NYS DOT Approval Number | B9: The NYS DOT Approval Number for the School Bus. Only School Buses approved by NYS DOT Passenger Carrier Safety Bureau for use as 2022 and newer Models, as indicated by a NYS DOT Approval Number, shall be delivered pursuant to the Contract. | F9: PENDING
A10: Chassis Make | B10: The OEM company name of a Chassis. | F10: Lion
A11: Chassis Model | B11: The Model name of the Chassis | F11: LionD
A12: Chassis Model Code | B12: The OEM code used to identify the subset of the Chassis Model. | F12: DL-14-W-SMD-400-B126-3-A-A-FA
A13: Body Make | B13: The OEM company name of a Body. | F13: Lion
A14: Body Model | B14: The Model name of the Body | F14: LionD
A15: Body Model Code | B15: The OEM code used to identify the subset of the Body Model. | F15: LionD
A16: Pick Up Allowance | B16: The dollar amount, per School Bus, that will be deducted from the Base Item NYS Contract Price, if the Authorized User elects to pick up the School Bus at the Contractor's location. | F16: 5000
A17: Delivery Time | B17: The estimated delivery time for the School Bus, expressed in number of calendar days, required to make delivery after receipt of a final Purchase Order (After Receipt of Order (“ARO”)) | F17: Approximately 365 days
A19: PART 2: Pricing for the Base Item, Additional Body Section, and Additional Options | F19: Lion
A20: Category | B20: Information provided in Yellow Cells | F20: ELECTRIC
A21: Base Item NYS Contract Price | B21: The per unit NYS Contract Price (dollar amount) for the School Bus described in the Base Item Specifications. The Base Item NYS Contract Price includes any OEM fees, all customs duties and charges, all vehicle preparation and clean-up charges, NYS DOT inspection, installation charges, delivery and all other incidentals normally included with providing a School Bus, but excludes Optional Equipment, Additional Body Section(s), and Additional Options. | F21: =364300*('PPI Adj'!D6) -> 425138.1
A22: Additional Options NYS Discount | B22: The minimum percentage amount that shall be deducted from the MSRP for all Additional Options purchased under the Contract for this Item. | F22: 1
A24: PART 3: Base Item Specifications | F24: Lion
A25: Category | B25: Specification | C25: Information provided in Yellow Cells | F25: ELECTRIC
A26: General | B26: A School Bus with a Body installed upon a a Chassis or unitized type construction, with a GVWR of greater than 16,000 pounds and designed to carry more than 10 persons. The entrance door is ahead of the front wheels. | C26: Gross Vehicle Weight Rating (GVWR) [lbs]: | F26: 37000
A27: Capacity | B27: Minimum seventy-two (72) Pupils with a maximum of eighty-four (84) Pupils. | C27: Number of rows: | F27: 14
C28: Number of Pupils: | F28: 84
A29: Rear Wheels | B29: Dual Rear Wheel (DRW)
A30: Dimensions | C30: Wheelbase [inches]: | F30: 252
C31: Length (bumper to bumper) [inches]: | F31: 471
C32: Body width (inside) [inches]: | F32: 102
C33: Body headroom (standard) [inches]: | F33: 78
C34: Cowl to rear axle length [inches]: | F34: Not Applicable
A35: Front Axle | C35: Gross Axle Weight Rating (GAWR) [lbs]: | F35: 16000
C36: Front axle capacity [lbs]: | F36: 16000
A37: Rear Axle | C37: Gross Axle Weight Rating (GAWR) [lbs]: | F37: 21000
C38: Rear axle capacity [lbs]: | F38: 21000
A39: Steering | B39: Power steering
A40: Brakes | B40: Chassis manufacturer's typical full air service brake system. A liquid-cooled, engine-lubricated air compressor, that is compliant with FMVSS (49 CFR 571.121.S5.1.1.), shall be provided. The air brake system shall be equipped with an automatic drain valve on the wet tank that may be unheated, a valve that can be manually opened on each air tank, and an air dryer/ejector that may be unheated. The system shall include a spring set parking brake. System shall be compliant with FMVSS (49 CFR 571.121), including the latest revision thereof. All brakes shall have automatic slack adjusters. | C40: Air Compressor size, Make & Model: | F40: 450 PSI, Gardner Denver TX02
C41: Air Dryer size, Make & Model: | F41: Wabco Air Dryer
A43: Brakes | B43: Antilock Brake System (ABS), and an audio & visual warning system for system malfunctions.
A44: Tires | B44: Tires shall meet the minimum requirements for the Chassis Model, as published by the Chassis manufacturer. | C44: Front radial tires size (load range letter) | F44: Load range letter: L Good Year 315/80R22.5
C45: Front radial tires capacity | F45: 9090
C46: Rear radial tires size (load range letter) | F46: Load range letter: L Good Year 315/80R22.5
C47: Rear radial tires capacity | F47: 8270
C48: Front Tires Option Code: | F48: 315/80R22.5
C49: Front Tires Make & Tread Designation: | F49: Good Year 315/80R22.5
C50: Rear Tires Option Code: | F50: 315/80R22.5
C51: Rear Tires Make & Tread Designation: | F51: Good Year 315/80R22.5
A52: Transmission | B52: Automatic transmission with manufacturer's standard or optional temperature indicator at the operator's control panel. | C52: Number of forward gears: | F52: 1
C53: Gears direct or w/O.D.?: | F53: Not Applicable
C54: Option Code, Make & Model: | F54: Not Applicable
A55: Propulsion System | B55: Propulsion system which furnishes high-wattage electric power to the motor(s), that propels the vehicle forward or backward, and is sometimes referred to as the “main or power drive circuitry.” | C55: Vehicle range on full charge [miles]: | F55: 125
A56: Battery(ies) | C56: Number of Batteries: | F56: 4
C57: Type of Batteries: | F57: Lithium-Ion (NMC)
C58: System Design Voltage: | F58: 400 V
A59: Electrical | B59: Units shall have headlights turned on when the engine is running.
A60: Electrical | B60: Driver's compartment dome light shall be so directed to provide illumination for the bus driver and be controlled by an independent switch.
A61: Electrical | B61: All exterior lamps, except headlamps, shall be Light Emitting Diode (LED) design that meet applicable SAE standards.
A62: Horns | B62: An electrical horn(s) shall be provided that meets SAE standard J377. An air horn shall not be an approved Compatible Equivalent.
A63: Door (Entrance) | B63: Minimum 24 inch opening. | C63: Type and clear width [inches]: | F63: Clear door opening 27"
A64: Stepwell (Entrance) | B64: Structural, tread and riser members shall be constructed entirely of rust/corrosion-resistant steel, components and fasteners or materials of equivalent or stronger structural integrity. Manufacturer's standard floor/stair coverings shall be used for finish surfaces.
A65: Mirrors | B65: The vertical rectangular exterior driving mirrors shall be the heated defrosting type with their own switch and pilot light. Crossview mirrors shall be provided at front corners of each bus.
A66: Seating | B66: Manufacturer's standard or optional seat spacing that meets or exceeds the NYCRR minimum requirement for the respective class of School Bus with the minimum Pupil capacity stated above.
A67: Seatbelt (ambulatory) | B67: Seat belts shall be provided for each individual seating space. Seat belts shall meet current federal safety standards and shall be of a type approved by, and installed in accordance, with the rules and regulations established by NYS DOT in subdivision five (5) of section three-hundred eighty-three (383) of the New York State Vehicle and Traffic Laws dated July 30, 1986 and NYCRR, Title 17, Part 720, or the latest revision thereof.
A68: Stop Arm(s) (Power) | B68: Shall be entrance-door activated, electric or air-positioning type, and be provided streetside on all School Buses. It shall be compliant with FMVSS (49 CFR 571.131). Buses with a capacity of 45 persons or more shall have an additional and same model stop-arm at the rear streetside of the bus. | C68: Make & Model: | F68: BMR, M99010WLED
A69: "School Bus" Signs | B69: Both front and rear shall comply with Article 9, Section 375.20 of the New York State Vehicle and Traffic Law.
A70: 8 Lamp Warning System (School Bus) | B70: Shall be compliant with SAE J887. | C70: Make & Model: | F70: Maxxima, M90070R
A71: Exterior Reflective Markings | B71: All units with a capacity of ten (10) or more Pupils shall be equipped with exterior reflective markings as required by FMVSS (49 CFR 571.217) and NYCRR (Title 15, Department of Motor Vehicles, Part D, 46.12).
A72: Floor | B72: Manufacturer's standard insulated floor design shall be provided throughout the School Bus.
A73: Heaters | B73: Minimum passenger compartment heating shall meet the requirements of NYCRR, Title 17, Part 720.4(I) Heaters, or the latest revision thereof. | C73: Heater Power Source: | F73: Propulsion Batteries: Electric
A74: Door (Rear Emergency Exit) | B74: Shall include lower glass.
A76: PART 4: Optional Equipment NYS Contract Pricing | F76: Lion
A77: Optional Equipment (see Specifications and Equipment Provided below) | F77: ELECTRIC
A78: Capacity - Delete One (1) Row of Seating | F78: =-0.01*('PPI Adj'!D6) -> -0.01167
A79: Child Presence Check / Alarm | F79: =0.01*('PPI Adj'!D6) -> 0.01167
A80: Glass (Tinted) | F80: =0.01*('PPI Adj'!D6) -> 0.01167
A81: Rear Axle, "No Spin" | F81: =0.01*('PPI Adj'!D6) -> 0.01167
A82: Tires (Snow) for 4 tires | F82: =1250*('PPI Adj'!D6) -> 1458.75
A83: Tires (All-Season) | F83: =0.01*('PPI Adj'!D6) -> 0.01167
A84: Floor With Recessed Wheelchair Restraint Track For One Wheelchair Station. | F84: =8800*('PPI Adj'!D6) -> 10269.6
A85: Floor (Flat) With Recessed Wheelchair Track Throughout Entire Body | F85: Not Available
A86: Wheelchair Lift | F86: =9227*('PPI Adj'!D6) -> 10767.909
A87: Roof Ventilator / Emergency Exit | F87: =0.01*('PPI Adj'!D6) -> 0.01167
A88: White Roof | F88: =0.01*('PPI Adj'!D6) -> 0.01167
A89: High Headroom | F89: =0.01*('PPI Adj'!D6) -> 0.01167
A90: Crossing Arm | F90: =0.01*('PPI Adj'!D6) -> 0.01167
A91: Vandal Lock | F91: =0.01*('PPI Adj'!D6) -> 0.01167
A92: Air Conditioning | F92: =15000*('PPI Adj'!D6) -> 17505
A93: School Bus Safety Camera | F93: =295*('PPI Adj'!D6) -> 344.265
A94: Delete Exterior LED Lamps | F94: =0.01*('PPI Adj'!D6) -> 0.01167
A95: Multifunction School Activity Bus | F95: =5000*('PPI Adj'!D6) -> 5835
A97: PART 4: Optional Equipment Specifications | F97: Lion
A98: Optional Equipment | B98: Specification | C98: Information provided in Yellow Cells | F98: ELECTRIC
A99: Capacity - Delete One (1) Row of Seating | B99: Delete one (1) full row of seating (both left and right sides) without removing a Body section from the Base Item, or altering the spacing between the remaining seats.
A100: Child Presence Check / Alarm | B100: Shall be the Child Check-mate System Model EP 2, or Compatible Equivalent. | C100: Make & Model: | F100: Child CheckMate Safety Co., EP1 Plus
A101: Glass (Tinted) | B101: The School Bus windshield and Body windows shall have the manufacturer's typical options that provide tinted glass windows throughout the vehicle and shall comply with Article 9, Section 375.12a. of the New York State Vehicle and Traffic Law.
A102: Rear Axle, "No Spin" | B102: The manufacturer’s standard device (e.g., power-lock, limited-slip, no-spin, positive-traction). | C102: Type of device: | F102: Positive traction
A103: Tires (Snow) | B103: Snow tread tires shall be provided on all drive wheels. Tires shall be Federal class D/A, STC (with snow traction capability), or class S/T, or A/T, AP with STC, or other class with STC. The price entered for this Optional Equipment shall be for four (4) tires. Tires furnished on the rear wheels shall be the same size and adequate for axle's GAWR. | C103: Rear radial tires size (load range letter) [LT_____/_____R_____._____(_____)]: | F103: Michelin XDS 2TM, 11R22.5
C104: Rear radial tires capacity [_____,_____-lbs]: | F104: 6610 lbs per tire
C105: Rear Tires Option Code: | F105: XDS 2TM
C106: Rear Tires Make & Tread Designation: | F106: Michelin 26 NDS
...

Sheet PPI Adj
A1: Hide before posting
B2: PPI Series ID | D2: WPU1413
B3: 08/2022 PPI | D3: 322.792 | E3: 10/2017 PPI | G3: 243.1
B4: 10/2026 PPI | D4: 376.62 | E4: =B4 -> 10/2026 PPI | G4: =D4 -> 376.62
B5: Adj. Factor | D5: =D4/D3 -> 1.1667575 | E5: Adj. Factor | G5: =G4/G3 -> 1.549239
B6: Round to 1000th | D6: =ROUND(D5,3) -> 1.167 | E6: Round to 1000th | G6: =ROUND(G5,3) -> 1.549
