Workbook

Sheet Attachment 1 - Summary
B1: GROUP 40524-23254, SCHOOL BUSES (Statewide) Attachment 1 - Specifications and Pricing (Revised October 15, 2026)
B2: PC69861 Leonard Bus Sales, Inc.
B3: The Contractor has been awarded the following Items, and shall offer Base Items, Optional Equipment and Additional Body Sections sold under the Contract at net prices that are equal to the applicable NYS Contract Price that is listed on the Contract Pricelist, or less. An Authorized User may choose to add one (1) or more of the Optional Equipment from the list of Optional Equipment, and/or Additional Body Sections, associated with the Base Item (see Contract Section 3.7 Optional Equipment and Additional Body Sections). Additional Options offered by the Contractor, that are listed on the OEM or Contractor-Published Pricelist(s), may also be requested by the Authorized User (see Contract Section 3.8 Additional Options).
B4: Name and description of worksheets included in this workbook:
B5: Tab Name | C5: Description of Tab or Item | D5: Fuel Types Awarded | E5: Item Availability by County (Under this Contract) | F5: Pupil Capacity | G5: Tab Color
B6: Attachment 1 - Summary | C6: Summary of Attachment 1 - Specifications and Pricing (this worksheet)
B7: A (Item 2-G) | C7: Lot A (Item 2-G): Type A-1, SRW, Cutaway, 4 Rows | D7: Gasoline | E7: All NYS Counties. | F7: Minimum 16
B8: A (Item 3-G) | C8: Lot A (Item 3-G): Type A-2, DRW, Cutaway, 4 Rows | D8: Gasoline | E8: All NYS Counties. | F8: Minimum 20
B9: A (Item 3-EV) | C9: Lot A (Item 3-EV): Type A-2, DRW, Cutaway, 4 Rows | D9: Electric | E9: All NYS Counties. | F9: Minimum 20
B10: A (Item 4-G) | C10: Lot A (Item 4-G): Type A-2, DRW, Cutaway, 4 Rows | D10: Gasoline | E10: All NYS Counties. | F10: Minimum 24
B11: A (Item 4-EV) | C11: Lot A (Item 4-EV): Type A-2, DRW, Cutaway, 4 Rows | D11: Electric | E11: All NYS Counties. | F11: Minimum 24
B12: A (Item 5-G) | C12: Lot A (Item 5-G): Type A-2, DRW, Cutaway, 5 Rows | D12: Gasoline | E12: All NYS Counties. | F12: Minimum 30
B13: C (Item 1-D) | C13: Lot C (Item 1-D): Type C, Conventional Bus | D13: Diesel, Gasoline | E13: All counties, EXCEPT Bronx, Kings, Nassau, New York, Queens, Richmond, Suffolk, Westchester, and Rockland Counties. For Bronx, Kings, Nassau, New York, Queens, Richmond, Suffolk, Westchester, and Rockland Counties, please see Contract PC69857, AT New York City, LLC. | F13: Minimum 24
B14: C (Item 2-D) | C14: Lot C (Item 2-D): Type C, Conventional Bus | D14: Diesel, Gasoline, LPG | E14: All counties, EXCEPT Bronx, Kings, Nassau, New York, Queens, Richmond, Suffolk, Westchester, and Rockland Counties. For Bronx, Kings, Nassau, New York, Queens, Richmond, Suffolk, Westchester, and Rockland Counties, please see Contract PC69857, AT New York City, LLC. | F14: Minimum 46
B15: C (Item 2-EV) | C15: Lot C (Item 2-EV): Type C, Conventional Bus | D15: Electric | E15: All counties, EXCEPT Bronx, Kings, Nassau, New York, Queens, Richmond, Suffolk, Westchester, and Rockland Counties. For Bronx, Kings, Nassau, New York, Queens, Richmond, Suffolk, Westchester, and Rockland Counties, please see Contract PC69857, AT New York City, LLC. | F15: Minimum 46
B16: C (Item 3-D) | C16: Lot C (Item 3-D): Type C, Conventional Bus | D16: Diesel, Gasoline | E16: All counties, EXCEPT Bronx, Kings, Nassau, New York, Queens, Richmond, Suffolk, Westchester, and Rockland Counties. For Bronx, Kings, Nassau, New York, Queens, Richmond, Suffolk, Westchester, and Rockland Counties, please see Contract PC69857, AT New York City, LLC. | F16: Minimum 58
B17: C (Item 4-D) | C17: Lot C (Item 4-D): Type C, Conventional Bus | D17: Diesel, Gasoline, LPG | E17: All counties, EXCEPT Bronx, Kings, Nassau, New York, Queens, Richmond, Suffolk, Westchester, and Rockland Counties. For Bronx, Kings, Nassau, New York, Queens, Richmond, Suffolk, Westchester, and Rockland Counties, please see Contract PC69857, AT New York City, LLC. | F17: Minimum 64
B18: C (Item 4-EV) | C18: Lot C (Item 4-EV): Type C, Conventional Bus | D18: Electric | E18: All counties, EXCEPT Bronx, Kings, Nassau, New York, Queens, Richmond, Suffolk, Westchester, and Rockland Counties. For Bronx, Kings, Nassau, New York, Queens, Richmond, Suffolk, Westchester, and Rockland Counties, please see Contract PC69857, AT New York City, LLC. | F18: Minimum 64
B19: D (Item 3-EV) | C19: Lot D (Item 3-EV): Type D, Forward Control Transit Style Bus | D19: Electric | E19: All NYS Counties. | F19: Minimum 77

Sheet A (Item 2-G)
A1: GROUP 40524-23254, SCHOOL BUSES (Statewide) Attachment 1 - Specifications and Pricing (Revised October 15, 2026)
A2: PC69861 Leonard Bus Sales Inc.
A3: LOT A (Item 2-G)
A4: Type A-1, SRW, Cutaway, 4 Rows (Gasoline; Minimum 16 Pupils)
A6: PART 1: Product information for the Base Item(s) Awarded | F6: GM / Trans Tech | H6: Ford Transit / Trans Tech
A7: Category | B7: Information provided in Yellow Cells | F7: Gasoline | H7: Gasoline
A8: Engine | B8: Information identifying the engine for the fuel type offered. | F8: OEM LV1, VORTEC 4.3L V8, 276HP & 298 LB-FT TORQUE | H8: 998; 3.5L PFDi V6, 275HP & 260 LBS-FT. TORQUE
A9: NYS DOT Approval Number | B9: The NYS DOT Approval Number for the School Bus. Only School Buses approved by NYS DOT Passenger Carrier Safety Bureau for use as 2022 and newer Models, as indicated by a NYS DOT Approval Number, shall be delivered pursuant to the Contract. | F9: 306-NY-16-00WC-TTB | H9: 334-NY-16-00WC-TTB
A10: Chassis Make | B10: The OEM company name of a Chassis. | F10: GM | H10: Ford Transit
A11: Chassis Model | B11: The Model name of the Chassis. | F11: 3500 | H11: 350
A12: Chassis Model Code | B12: The OEM code used to identify the subset of the Chassis Model. | F12: CG33503 | H12: W5P
A13: Body Make | B13: The OEM company name of a Body. | F13: TRANS TECH | H13: TRANS TECH
A14: Body Model | B14: The Model name of the Body. | F14: ST AERO | H14: TRANS STAR
A15: Body Model Code | B15: The OEM code used to identify the subset of the Body Model. | F15: AC139SSS409 | H15: TT156SSSA409
A16: Pick Up Allowance | B16: The dollar amount, per School Bus, that will be deducted from the Base Item NYS Contract Price, if the Authorized User elects to pick up the School Bus at the Contractor's location. | F16: 0 | H16: 0
A17: Delivery Time | B17: The estimated delivery time for the School Bus, expressed in number of calendar days, required to make delivery after receipt of a final Purchase Order (After Receipt of Order (“ARO”)). | F17: 180-300 | H17: 180-300
A19: PART 2: Pricing for the Base Item, Additional Body Section, and Additional Options | F19: GM / Trans Tech | H19: Ford Transit / Trans Tech
A20: Category | B20: Information provided in Yellow Cells | F20: Gasoline | H20: Gasoline
A21: Base Item NYS Contract Price | B21: The per unit NYS Contract Price (dollar amount) for the School Bus described in the Base Item Specifications. The Base Item NYS Contract Price includes any OEM fees, all customs duties and charges, all vehicle preparation and clean-up charges, NYS DOT inspection, installation charges, delivery and all other incidentals normally included with providing a School Bus, but excludes Optional Equipment, Additional Body Section(s), and Additional Options. | F21: =66246*('PPI Adj'!D6) -> 77309.082 | H21: =69743*('PPI Adj'!D6) -> 81390.081
A22: Additional Body Section NYS Contract Price | B22: The per unit NYS Contract Price (dollar amount) for adding one (1) Additional Body Section, excluding seats and other interior features, to the Base Item and the applicable Base Item NYS Contract Price. | F22: =1982.4*('PPI Adj'!D6) -> 2313.4608 | H22: Not Available
A23: Additional Options NYS Discount | B23: The minimum percentage amount that shall be deducted from the MSRP for all Additional Options purchased under the Contract for this Item. | F23: 5 | H23: 5
A25: PART 3: Base Item Specifications | F25: GM / Trans Tech | H25: Ford Transit / Trans Tech
A26: Category | B26: Specification | C26: Information provided in Yellow Cells | F26: Gasoline | H26: Gasoline
A27: General | B27: A conversion School Bus constructed using a cutaway front-section vehicle with a left side driver’s door, with a GVWR of 10,000 pounds or less. | C27: Gross Vehicle Weight Rating (GVWR) [lbs]: | F27: 9900 | H27: 9500
A28: Capacity | B28: Minimum four (4) rows for sixteen (16) Pupils | C28: Number of rows: | F28: 4 | H28: 4
C29: Number of Pupils: | F29: 16 | H29: 16
A30: Rear Wheels | B30: Single Rear Wheel (SRW)
A31: Dimensions | C31: Wheelbase [inches]: | F31: 139 | H31: 156
C32: Length (bumper to bumper) [inches]: | F32: 241 | H32: 239
C33: Body width (inside) [inches]: | F33: 80 | H33: 80
C34: Body headroom (standard) [inches]: | F34: 72 | H34: 74
C35: Cowl to rear axle length [inches]: | F35: 178 | H35: 196
A36: Front Axle | C36: Gross Axle Weight Rating (GAWR) [lbs]: | F36: 4100 | H36: 4130
C37: Front axle capacity [lbs]: | F37: 4100 | H37: 4130
A38: Rear Axle | C38: Gross Axle Weight Rating (GAWR) [lbs]: | F38: 6084 | H38: 6000
C39: Rear axle capacity [lbs]: | F39: 6084 | H39: 6000
A40: Steering | B40: Power steering
A41: Tires | B41: Tires shall meet the minimum requirements for the Chassis Model, as published by the Chassis manufacturer. | C41: Front radial tires size (load range letter) | F41: LT245/75R16E | H41: 235/65R/16C
C42: Front radial tires capacity | F42: 3042 (Single) | H42: 3195
C43: Rear radial tires size (load range letter) | F43: LT245/75R16E | H43: 235/65R/16C
...

Sheet A (Item 3-G)
A1: ='A (Item 2-G)'!$A$1 -> GROUP 40524-23254, SCHOOL BUSES (Statewide) Attachment 1 - Specifications and Pricing (Revised October 15, 2026)
A2: PC69861 Leonard Bus Sales Inc.
A3: LOT A (Item 3-G)
A4: Type A-2, DRW, Cutaway, 4 Rows (Gasoline; Minimum 20 Pupils)
A6: PART 1: Product information for the Base Item(s) Awarded | F6: Chevrolet / Trans Tech | H6: Ford E-Series / Trans Tech | J6: Ford Transit / Trans Tech
A7: Category | B7: Information provided in Yellow Cells | F7: Gasoline | H7: Gasoline | J7: Gasoline
A8: Engine | B8: Information identifying the engine for the fuel type offered. | F8: OEM L8T 6.6L V8, 401HP & 464 LB-FT TORQUE | H8: 99N - 7.3L V8, PREMIUM RATED, 325HP & 450 LB-FT TORQUE | J8: 99G - 3.5L EcoBoost V6; 310HP & 400 LBS-FT. TORQUE
A9: NYS DOT Approval Number | B9: The NYS DOT Approval Number for the School Bus. Only School Buses approved by NYS DOT Passenger Carrier Safety Bureau for use as 2022 and newer Models, as indicated by a NYS DOT Approval Number, shall be delivered pursuant to the Contract. | F9: 171-NY-20-00WC-TTB | H9: 308-NY-20-00WC-TTB | J9: 298-NY-20-00WC-TTB
A10: Chassis Make | B10: The OEM company name of a Chassis. | F10: GM | H10: Ford | J10: Ford Transit
A11: Chassis Model | B11: The Model name of the Chassis. | F11: 3500 | H11: E-350 | J11: 350 HD
A12: Chassis Model Code | B12: The OEM code used to identify the subset of the Chassis Model. | F12: CG33503 | H12: E3F | J12: S6P
A13: Body Make | B13: The OEM company name of a Body. | F13: TRANS TECH | H13: TRANS TECH | J13: TRANS TECH
A14: Body Model | B14: The Model name of the Body. | F14: SST | H14: SST | J14: TRANS STAR
A15: Body Model Code | B15: The OEM code used to identify the subset of the Body Model. | F15: SC139DSSA409 | H15: SE138DSSA500 | J15: TT156DSSA409
A16: Pick Up Allowance | B16: The dollar amount, per School Bus, that will be deducted from the Base Item NYS Contract Price, if the Authorized User elects to pick up the School Bus at the Contractor's location. | F16: 0 | H16: 0 | J16: 0
A17: Delivery Time | B17: The estimated delivery time for the School Bus, expressed in number of calendar days, required to make delivery after receipt of a final Purchase Order (After Receipt of Order (“ARO”)). | F17: 180-300 | H17: 180-300 | J17: 180-300
A19: PART 2: Pricing for the Base Item, Additional Body Section, and Additional Options | F19: Chevrolet / Trans Tech | H19: Ford E-Series / Trans Tech | J19: Ford Transit / Trans Tech
A20: Category | B20: Information provided in Yellow Cells | F20: Gasoline | H20: Gasoline | J20: Gasoline
A21: Base Item NYS Contract Price | B21: The per unit NYS Contract Price (dollar amount) for the School Bus described in the Base Item Specifications. The Base Item NYS Contract Price includes any OEM fees, all customs duties and charges, all vehicle preparation and clean-up charges, NYS DOT inspection, installation charges, delivery and all other incidentals normally included with providing a School Bus, but excludes Optional Equipment, Additional Body Section(s), and Additional Options. | F21: =67365*('PPI Adj'!D6) -> 78614.955 | H21: =71788*('PPI Adj'!D6) -> 83776.596 | J21: =73446*('PPI Adj'!D6) -> 85711.482
A22: Additional Body Section NYS Contract Price | B22: The per unit NYS Contract Price (dollar amount) for adding one (1) Additional Body Section, excluding seats and other interior features, to the Base Item and the applicable Base Item NYS Contract Price. | F22: =483*('PPI Adj'!D6) -> 563.661 | H22: Not Available | J22: Not Available
A23: Additional Options NYS Discount | B23: The minimum percentage amount that shall be deducted from the MSRP for all Additional Options purchased under the Contract for this Item. | F23: 5 | H23: 5 | J23: 5
A25: PART 3: Base Item Specifications | F25: Chevrolet / Trans Tech | H25: Ford E-Series / Trans Tech | J25: Ford Transit / Trans Tech
A26: Category | B26: Specification | C26: Information provided in Yellow Cells | F26: Gasoline | H26: Gasoline | J26: Gasoline
A27: General | B27: A conversion School Bus constructed using a cutaway front-section vehicle with a left side driver’s door, with a GVWR equal to or greater than 10,001 pounds and less than or equal to 21,500 pounds. | C27: Gross Vehicle Weight Rating (GVWR) [lbs]: | F27: 12300 | H27: 11500 | J27: 10360
A28: Capacity | B28: Minimum four (4) rows for twenty (20) Pupils. | C28: Number of rows: | F28: 4 | H28: 4 | J28: 4
C29: Number of Pupils: | F29: 20C/12A | H29: 20C/12A | J29: 20
A30: Rear Wheels | B30: Dual Rear Wheel (DRW)
A31: Dimensions | C31: Wheelbase [inches]: | F31: 139 | H31: 138 | J31: 156
C32: Length (bumper to bumper) [inches]: | F32: 241 | H32: 254 | J32: 239
C33: Body width (inside) [inches]: | F33: 90 | H33: 90 | J33: 80
C34: Body headroom (standard) [inches]: | F34: 75 | H34: 75 | J34: 74
C35: Cowl to rear axle length [inches]: | F35: 178 | H35: 173 | J35: 196
A36: Front Axle | C36: Gross Axle Weight Rating (GAWR) [lbs]: | F36: 4300 | H36: 4200 | J36: 4130
C37: Front axle capacity [lbs]: | F37: 4300 | H37: 4200 | J37: 4130
A38: Rear Axle | C38: Gross Axle Weight Rating (GAWR) [lbs]: | F38: 8600 | H38: 7800 | J38: 7275
C39: Rear axle capacity [lbs]: | F39: 8600 | H39: 7800 | J39: 7275
A40: Steering | B40: Power steering
A41: Tires | B41: Tires shall meet the minimum requirements for the Chassis Model, as published by the Chassis manufacturer. | C41: Front radial tires size (load range letter) | F41: LT225/75R16E | H41: LT225/75R16E BSW A/S | J41: 195/75R16C
C42: Front radial tires capacity | F42: 2680 (Single) | H42: 2680 (Single) | J42: 2150 (SINGLE)
C43: Rear radial tires size (load range letter) | F43: LT225/75R16E | H43: LT225/75R16E BSW A/S | J43: 195/75R16C
...

Sheet A (Item 3-EV)
A1: ='A (Item 2-G)'!$A$1 -> GROUP 40524-23254, SCHOOL BUSES (Statewide) Attachment 1 - Specifications and Pricing (Revised October 15, 2026)
A2: PC69861 Leonard Bus Sales, Inc.
A3: LOT A (Item 3-EV)
A4: Type A-2, DRW, Cutaway, 4 Rows (Electric; Minimum 20 Pupils)
A6: PART 1: Product information for the Base Item(s) Awarded | F6: Ford E-Series / Trans Tech | H6: GreenPower / GreenPower
A7: Category | B7: Information provided in Yellow Cells | F7: Electric | H7: Electric
A8: Propulsion System | B8: Information identifying the Make and Model propulsion system offered. | F8: MOTIV EPIC4 | H8: GreenPower 118kWh battery storage system powering a 150kW Dana TM4 electric motor.
A9: NYS DOT Approval Number | B9: The NYS DOT Approval Number for the School Bus. Only School Buses approved by NYS DOT Passenger Carrier Safety Bureau for use as 2022 and newer Models, as indicated by a NYS DOT Approval Number, shall be delivered pursuant to the Contract. | F9: 310-NY-20-00WC-TTB | H9: 001-NY-20-00WC-GPM
A10: Chassis Make | B10: The OEM company name of a Chassis. | F10: Ford | H10: GreenPower Motor
A11: Chassis Model | B11: The Model name of the Chassis. | F11: E-450 | H11: Nano BEAST
A12: Chassis Model Code | B12: The OEM code used to identify the subset of the Chassis Model. | F12: E4F | H12: EV Star CC
A13: Body Make | B13: The OEM company name of a Body. | F13: TRANS TECH | H13: GreenPower Motor
A14: Body Model | B14: The Model name of the Body. | F14: SST | H14: Nano BEAST
A15: Body Model Code | B15: The OEM code used to identify the subset of the Body Model. | F15: SE158DSSA509-EVM | H15: Nano BEAST
A16: Pick Up Allowance | B16: The dollar amount, per School Bus, that will be deducted from the Base Item NYS Contract Price, if the Authorized User elects to pick up the School Bus at the Contractor's location. | F16: 0 | H16: 0
A17: Delivery Time | B17: The estimated delivery time for the School Bus, expressed in number of calendar days, required to make delivery after receipt of a final Purchase Order (After Receipt of Order (“ARO”)). | F17: 240-360 | H17: 180-300
A19: PART 2: Pricing for the Base Item, Additional Body Section, and Additional Options | F19: Ford E-Series / Trans Tech | H19: GreenPower / GreenPower
A20: Category | B20: Information provided in Yellow Cells | F20: Electric | H20: Electric
A21: Base Item NYS Contract Price | B21: The per unit NYS Contract Price (dollar amount) for the School Bus described in the Base Item Specifications. The Base Item NYS Contract Price includes any OEM fees, all customs duties and charges, all vehicle preparation and clean-up charges, NYS DOT inspection, installation charges, delivery and all other incidentals normally included with providing a School Bus, but excludes Optional Equipment, Additional Body Section(s), and Additional Options. | F21: =247469*('PPI Adj'!D6) -> 288796.32 | H21: =251250*('PPI Adj'!D6) -> 293208.75
A22: Additional Body Section NYS Contract Price | B22: The per unit NYS Contract Price (dollar amount) for adding one (1) Additional Body Section, excluding seats and other interior features, to the Base Item and the applicable Base Item NYS Contract Price. | F22: =392*('PPI Adj'!D6) -> 457.464 | H22: Not Available
A23: Additional Options NYS Discount | B23: The minimum percentage amount that shall be deducted from the MSRP for all Additional Options purchased under the Contract for this Item. | F23: 5 | H23: 5
A25: PART 3: Base Item Specifications | F25: Ford E-Series / Trans Tech | H25: GreenPower / GreenPower
A26: Category | B26: Specification | C26: Information provided in Yellow Cells | F26: Electric | H26: Electric
A27: General | B27: A conversion School Bus constructed using a cutaway front-section vehicle with a left side driver’s door, with a GVWR equal to or greater than 10,001 pounds and less than or equal to 21,500 pounds. | C27: Gross Vehicle Weight Rating (GVWR) [lbs]: | F27: 14500 | H27: 14300
A28: Capacity | B28: Minimum four (4) rows for twenty (20) Pupils. | C28: Number of rows: | F28: 5 | H28: 5
C29: Number of Pupils: | F29: 20 | H29: 20
A30: Rear Wheels | B30: Dual Rear Wheel (DRW)
A31: Dimensions | C31: Wheelbase [inches]: | F31: 158 | H31: 170.25"
C32: Length (bumper to bumper) [inches]: | F32: 263 | H32: 295.27"
C33: Body width (inside) [inches]: | F33: 90 | H33: 84"
C34: Body headroom (standard) [inches]: | F34: 75 | H34: 79"
C35: Cowl to rear axle length [inches]: | F35: 193 | H35: 86"
A36: Front Axle | C36: Gross Axle Weight Rating (GAWR) [lbs]: | F36: 5000 | H36: 5,000 lbs.
C37: Front axle capacity [lbs]: | F37: 5000 | H37: 5,000 lbs.
A38: Rear Axle | C38: Gross Axle Weight Rating (GAWR) [lbs]: | F38: 9600 | H38: 9,330 lbs.
C39: Rear axle capacity [lbs]: | F39: 9600 | H39: 9,330 lbs.
A40: Steering | B40: Power steering
A41: Tires | B41: Tires shall meet the minimum requirements for the Chassis Model, as published by the Chassis manufacturer. | C41: Front radial tires size (load range letter) | F41: LT225/75R16E BSW A/S | H41: LT 215/75R 17.5 (H)
C42: Front radial tires capacity | F42: 2680 (Single) | H42: 3,860 lbs.
C43: Rear radial tires size (load range letter) | F43: LT225/75R16E BSW A/S | H43: LT 215/75R 17.5 (H)
...

Sheet A (Item 4-G)
A1: ='A (Item 2-G)'!$A$1 -> GROUP 40524-23254, SCHOOL BUSES (Statewide) Attachment 1 - Specifications and Pricing (Revised October 15, 2026)
A2: ='Attachment 1 - Summary'!B2 -> PC69861 Leonard Bus Sales, Inc.
A3: LOT A (Item 4-G)
A4: Type A-2, DRW, Cutaway, 4 Rows (Gasoline; Minimum 24 Pupils)
A6: PART 1: Product information for the Base Item(s) Awarded | F6: GM / Trans Tech | H6: Ford E-Series / Trans Tech
A7: Category | B7: Information provided in Yellow Cells | F7: Gasoline | H7: Gasoline
A8: Engine | B8: Information identifying the engine for the fuel type offered. | F8: OEM L8T 6.6L V8, 401HP & 464 LB-FT TORQUE | H8: 99N - 7.3L V8, PREMIUM RATED, 325HP & 450 LB-FT TORQUE
A9: NYS DOT Approval Number | B9: The NYS DOT Approval Number for the School Bus. Only School Buses approved by NYS DOT Passenger Carrier Safety Bureau for use as 2022 and newer Models, as indicated by a NYS DOT Approval Number, shall be delivered pursuant to the Contract. | F9: 175-NY-24-00WC-TTB | H9: 309-NY-24-00WC-TTB
A10: Chassis Make | B10: The OEM company name of a Chassis. | F10: GM | H10: Ford
A11: Chassis Model | B11: The Model name of the Chassis. | F11: 3500 | H11: E-350
A12: Chassis Model Code | B12: The OEM code used to identify the subset of the Chassis Model. | F12: CG33503 | H12: E3F
A13: Body Make | B13: The OEM company name of a Body. | F13: TRANS TECH | H13: TRANS TECH
A14: Body Model | B14: The Model name of the Body. | F14: SST | H14: SST
A15: Body Model Code | B15: The OEM code used to identify the subset of the Body Model. | F15: SC139DSSA409 | H15: SE158DSSA600
A16: Pick Up Allowance | B16: The dollar amount, per School Bus, that will be deducted from the Base Item NYS Contract Price, if the Authorized User elects to pick up the School Bus at the Contractor's location. | F16: 0 | H16: 0
A17: Delivery Time | B17: The estimated delivery time for the School Bus, expressed in number of calendar days, required to make delivery after receipt of a final Purchase Order (After Receipt of Order (“ARO”)). | F17: 180-300 | H17: 180-300
A19: PART 2: Pricing for the Base Item, Additional Body Section, and Additional Options | F19: GM / Trans Tech | H19: Ford E-Series / Trans Tech
A20: Category | B20: Information provided in Yellow Cells | F20: Gasoline | H20: Gasoline
A21: Base Item NYS Contract Price | B21: The per unit NYS Contract Price (dollar amount) for the School Bus described in the Base Item Specifications. The Base Item NYS Contract Price includes any OEM fees, all customs duties and charges, all vehicle preparation and clean-up charges, NYS DOT inspection, installation charges, delivery and all other incidentals normally included with providing a School Bus, but excludes Optional Equipment, Additional Body Section(s), and Additional Options. | F21: =68114*('PPI Adj'!D6) -> 79489.038 | H21: =75225*('PPI Adj'!D6) -> 87787.575
A22: Additional Body Section NYS Contract Price | B22: The per unit NYS Contract Price (dollar amount) for adding one (1) Additional Body Section, excluding seats and other interior features, to the Base Item and the applicable Base Item NYS Contract Price. | F22: =483*('PPI Adj'!D6) -> 563.661 | H22: Not Available
A23: Additional Options NYS Discount | B23: The minimum percentage amount that shall be deducted from the MSRP for all Additional Options purchased under the Contract for this Item. | F23: 5 | H23: 5
A25: PART 3: Base Item Specifications | F25: GM / Trans Tech | H25: Ford E-Series / Trans Tech
A26: Category | B26: Specification | C26: Information provided in Yellow Cells | F26: Gasoline | H26: Gasoline
A27: General | B27: A conversion School Bus constructed using a cutaway front-section vehicle with a left side driver’s door, with a GVWR equal to or greater than 10,001 pounds and less than or equal to 21,500 pounds. | C27: Gross Vehicle Weight Rating (GVWR) [lbs]: | F27: 12300 | H27: 12500
A28: Capacity | B28: Minimum four (4) rows for twenty-four (24) Pupils. | C28: Number of rows: | F28: 4 | H28: 4
C29: Number of Pupils: | F29: 24C/16A | H29: 24C/16A
A30: Rear Wheels | B30: Dual Rear Wheel (DRW)
A31: Dimensions | C31: Wheelbase [inches]: | F31: 139 | H31: 158
C32: Length (bumper to bumper) [inches]: | F32: 242 | H32: 281
C33: Body width (inside) [inches]: | F33: 90 | H33: 90
C34: Body headroom (standard) [inches]: | F34: 75 | H34: 75
C35: Cowl to rear axle length [inches]: | F35: 178 | H35: 193
A36: Front Axle | C36: Gross Axle Weight Rating (GAWR) [lbs]: | F36: 4300 | H36: 4600
C37: Front axle capacity [lbs]: | F37: 4300 | H37: 4600
A38: Rear Axle | C38: Gross Axle Weight Rating (GAWR) [lbs]: | F38: 8600 | H38: 8500
C39: Rear axle capacity [lbs]: | F39: 8600 | H39: 8500
A40: Steering | B40: Power steering
A41: Tires | B41: Tires shall meet the minimum requirements for the Chassis Model, as published by the Chassis manufacturer. | C41: Front radial tires size (load range letter) | F41: LT225/75R16E | H41: LT225/75R16E BSW A/S
C42: Front radial tires capacity | F42: 2680 (Single) | H42: 2680 (Single)
C43: Rear radial tires size (load range letter) | F43: LT225/75R16E | H43: LT225/75R16E BSW A/S
...

Sheet A (Item 4-EV)
A1: ='A (Item 2-G)'!$A$1 -> GROUP 40524-23254, SCHOOL BUSES (Statewide) Attachment 1 - Specifications and Pricing (Revised October 15, 2026)
A2: PC69861 Leonard Bus Sales, Inc.
A3: LOT A (Item 4-EV)
A4: Type A-2, DRW, Cutaway, 4 Rows (Electric; Minimum 24 Pupils)
A6: PART 1: Product information for the Base Item(s) Awarded | F6: GreenPower
A7: Category | B7: Information provided in Yellow Cells | F7: Electric
A8: Propulsion System | B8: Information identifying the Make and Model propulsion system offered. | F8: GreenPower 118kWh battery storage system powering a 150kW Dana TM4 electric motor.
A9: NYS DOT Approval Number | B9: The NYS DOT Approval Number for the School Bus. Only School Buses approved by NYS DOT Passenger Carrier Safety Bureau for use as 2022 and newer Models, as indicated by a NYS DOT Approval Number, shall be delivered pursuant to the Contract. | F9: 003-NY-24-00WC-GPM
A10: Chassis Make | B10: The OEM company name of a Chassis. | F10: GreenPower Motor
A11: Chassis Model | B11: The Model name of the Chassis. | F11: Nano BEAST
A12: Chassis Model Code | B12: The OEM code used to identify the subset of the Chassis Model. | F12: EV Star CC
A13: Body Make | B13: The OEM company name of a Body. | F13: GreenPower Motor
A14: Body Model | B14: The Model name of the Body. | F14: Nano BEAST
A15: Body Model Code | B15: The OEM code used to identify the subset of the Body Model. | F15: Nano BEAST
A16: Pick Up Allowance | B16: The dollar amount, per School Bus, that will be deducted from the Base Item NYS Contract Price, if the Authorized User elects to pick up the School Bus at the Contractor's location. | F16: 0
A17: Delivery Time | B17: The estimated delivery time for the School Bus, expressed in number of calendar days, required to make delivery after receipt of a final Purchase Order (After Receipt of Order (“ARO”)). | F17: 180-300
A19: PART 2: Pricing for the Base Item, Additional Body Section, and Additional Options | F19: GreenPower
A20: Category | B20: Information provided in Yellow Cells | F20: Electric
A21: Base Item NYS Contract Price | B21: The per unit NYS Contract Price (dollar amount) for the School Bus described in the Base Item Specifications. The Base Item NYS Contract Price includes any OEM fees, all customs duties and charges, all vehicle preparation and clean-up charges, NYS DOT inspection, installation charges, delivery and all other incidentals normally included with providing a School Bus, but excludes Optional Equipment, Additional Body Section(s), and Additional Options. | F21: =253500*('PPI Adj'!D6) -> 295834.5
A22: Additional Body Section NYS Contract Price | B22: The per unit NYS Contract Price (dollar amount) for adding one (1) Additional Body Section, excluding seats and other interior features, to the Base Item and the applicable Base Item NYS Contract Price. | F22: Not Available
A23: Additional Options NYS Discount | B23: The minimum percentage amount that shall be deducted from the MSRP for all Additional Options purchased under the Contract for this Item. | F23: 5
A25: PART 3: Base Item Specifications | F25: GreenPower
A26: Category | B26: Specification | C26: Information provided in Yellow Cells | F26: Electric
A27: General | B27: A conversion School Bus constructed using a cutaway front-section vehicle with a left side driver’s door, with a GVWR equal to or greater than 10,001 pounds and less than or equal to 21,500 pounds. | C27: Gross Vehicle Weight Rating (GVWR) [lbs]: | F27: 14300
A28: Capacity | B28: Minimum four (4) rows for twenty-four (24) Pupils. | C28: Number of rows: | F28: 5
C29: Number of Pupils: | F29: 20
A30: Rear Wheels | B30: Dual Rear Wheel (DRW)
A31: Dimensions | C31: Wheelbase [inches]: | F31: 170.25"
C32: Length (bumper to bumper) [inches]: | F32: 295.27"
C33: Body width (inside) [inches]: | F33: 84"
C34: Body headroom (standard) [inches]: | F34: 79"
C35: Cowl to rear axle length [inches]: | F35: 86"
A36: Front Axle | C36: Gross Axle Weight Rating (GAWR) [lbs]: | F36: 5,000 lbs.
C37: Front axle capacity [lbs]: | F37: 5,000 lbs.
A38: Rear Axle | C38: Gross Axle Weight Rating (GAWR) [lbs]: | F38: 9,330 lbs.
C39: Rear axle capacity [lbs]: | F39: 9,330 lbs.
A40: Steering | B40: Power steering
A41: Tires | B41: Tires shall meet the minimum requirements for the Chassis Model, as published by the Chassis manufacturer. | C41: Front radial tires size (load range letter) | F41: LT 215/75R 17.5 (H)
C42: Front radial tires capacity | F42: 3,860 lbs.
C43: Rear radial tires size (load range letter) | F43: LT 215/75R 17.5 (H)
...

Sheet A (Item 5-G)
A1: ='A (Item 2-G)'!$A$1 -> GROUP 40524-23254, SCHOOL BUSES (Statewide) Attachment 1 - Specifications and Pricing (Revised October 15, 2026)
A2: PC69861 Leonard Bus Sales, Inc.
A3: LOT A (Item 5-G)
A4: Type A-2, DRW, Cutaway, 5 Rows (Gasoline; Minimum 30 Pupils)
A6: PART 1: Product information for the Base Item(s) Awarded | F6: GM / Trans Tech | H6: Ford E-Series / Trans Tech
A7: Category | B7: Information provided in Yellow Cells | F7: Gasoline | H7: Gasoline
A8: Engine | B8: Information identifying the engine for the fuel type offered. | F8: OEM L8T 6.6L V8, 401HP & 464 LB-FT TORQUE | H8: 99N - 7.3L V8, PREMIUM RATED, 325HP & 450 LB-FT TORQUE
A9: NYS DOT Approval Number | B9: The NYS DOT Approval Number for the School Bus. Only School Buses approved by NYS DOT Passenger Carrier Safety Bureau for use as 2022 and newer Models, as indicated by a NYS DOT Approval Number, shall be delivered pursuant to the Contract. | F9: 200-NY-30-00WC-TTB | H9: 251-NY-30-00WC-TTB
A10: Chassis Make | B10: The OEM company name of a Chassis. | F10: GM | H10: Ford
A11: Chassis Model | B11: The Model name of the Chassis. | F11: 4500 | H11: E-450
A12: Chassis Model Code | B12: The OEM code used to identify the subset of the Chassis Model. | F12: CG33803 | H12: E4F
A13: Body Make | B13: The OEM company name of a Body. | F13: TRANS TECH | H13: TRANS TECH
A14: Body Model | B14: The Model name of the Body. | F14: SST | H14: SST
A15: Body Model Code | B15: The OEM code used to identify the subset of the Body Model. | F15: SC159DSSA509 | H15: SE158DSSA600
A16: Pick Up Allowance | B16: The dollar amount, per School Bus, that will be deducted from the Base Item NYS Contract Price, if the Authorized User elects to pick up the School Bus at the Contractor's location. | F16: 0 | H16: 0
A17: Delivery Time | B17: The estimated delivery time for the School Bus, expressed in number of calendar days, required to make delivery after receipt of a final Purchase Order (After Receipt of Order (“ARO”)). | F17: 180-300 | H17: 180-360
A19: PART 2: Pricing for the Base Item, Additional Body Section, and Additional Options | F19: GM / Trans Tech | H19: Ford E-Series / Trans Tech
A20: Category | B20: Information provided in Yellow Cells | F20: Gasoline | H20: Gasoline
A21: Base Item NYS Contract Price | B21: The per unit NYS Contract Price (dollar amount) for the School Bus described in the Base Item Specifications. The Base Item NYS Contract Price includes any OEM fees, all customs duties and charges, all vehicle preparation and clean-up charges, NYS DOT inspection, installation charges, delivery and all other incidentals normally included with providing a School Bus, but excludes Optional Equipment, Additional Body Section(s), and Additional Options. | F21: =71783*('PPI Adj'!D6) -> 83770.761 | H21: =77312*('PPI Adj'!D6) -> 90223.104
A22: Additional Body Section NYS Contract Price | B22: The per unit NYS Contract Price (dollar amount) for adding one (1) Additional Body Section, excluding seats and other interior features, to the Base Item and the applicable Base Item NYS Contract Price. | F22: =404.6*('PPI Adj'!D6) -> 472.1682 | H22: Not Available
A23: Additional Options NYS Discount | B23: The minimum percentage amount that shall be deducted from the MSRP for all Additional Options purchased under the Contract for this Item. | F23: 5 | H23: 5
A25: PART 3: Base Item Specifications | F25: GM / Trans Tech | H25: Ford E-Series / Trans Tech
A26: Category | B26: Specification | C26: Information provided in Yellow Cells | F26: Gasoline | H26: Gasoline
A27: General | B27: A conversion School Bus constructed using a cutaway front-section vehicle with a left side driver’s door, with a GVWR equal to or greater than 10,001 pounds and less than or equal to 21,500 pounds. | C27: Gross Vehicle Weight Rating (GVWR) [lbs]: | F27: 14200 | H27: 14500
A28: Capacity | B28: Minimum five (5) rows for thirty (30) Pupils. | C28: Number of rows: | F28: 5 | H28: 5
C29: Number of Pupils: | F29: 30C/20A | H29: 30C/20A
A30: Rear Wheels | B30: Dual Rear Wheel (DRW)
A31: Dimensions | C31: Wheelbase [inches]: | F31: 159 | H31: 158
C32: Length (bumper to bumper) [inches]: | F32: 269 | H32: 281
C33: Body width (inside) [inches]: | F33: 90 | H33: 90
C34: Body headroom (standard) [inches]: | F34: 75 | H34: 75
C35: Cowl to rear axle length [inches]: | F35: 199 | H35: 193
A36: Front Axle | C36: Gross Axle Weight Rating (GAWR) [lbs]: | F36: 4600 | H36: 5000
C37: Front axle capacity [lbs]: | F37: 4600 | H37: 5000
A38: Rear Axle | C38: Gross Axle Weight Rating (GAWR) [lbs]: | F38: 9600 | H38: 9600
C39: Rear axle capacity [lbs]: | F39: 9600 | H39: 9600
A40: Steering | B40: Power steering
A41: Tires | B41: Tires shall meet the minimum requirements for the Chassis Model, as published by the Chassis manufacturer. | C41: Front radial tires size (load range letter) | F41: LT225/75R16E | H41: LT225/75R16E BSW A/S
C42: Front radial tires capacity | F42: 2680 (Single) | H42: 2680 (Single)
C43: Rear radial tires size (load range letter) | F43: LT225/75R16E | H43: LT225/75R16E BSW A/S
...

Sheet C (Item 1-D)
A1: ='A (Item 2-G)'!$A$1 -> GROUP 40524-23254, SCHOOL BUSES (Statewide) Attachment 1 - Specifications and Pricing (Revised October 15, 2026)
A2: PC69861 Leonard Bus Sales, Inc.
A3: LOT C (Item 1-D)
A4: Type C, 28 Pupil Conventional Front-Engine Bus (Diesel, Minimum 28 Pupils)
A6: PART 1: Product information for the Base Item(s) Awarded | F6: IC Bus | G6: IC Bus
A7: Category | B7: Information provided in Yellow Cells | F7: Diesel | G7: Gas
A8: Engine | B8: Information identifying the engine for the fuel type offered. | F8: 12ERP, Engine, Diesel Cummins B6.7 220HP | G8: 12DLP, Engine, Gasoline (PSI 8.8L) 265HP
A9: NYS DOT Approval Number | B9: The NYS DOT Approval Number for the School Bus. Only School Buses approved by NYS DOT Passenger Carrier Safety Bureau for use as 2022 and newer Models, as indicated by a NYS DOT Approval Number, shall be delivered pursuant to the Contract. | F9: 1753-NY-30-00WC-ATC | G9: 1753-NY-30-00WC-ATC
A10: Chassis Make | B10: The OEM company name of a Chassis. | F10: IC BUS | G10: IC BUS
A11: Chassis Model | B11: The Model name of the Chassis. | F11: CE | G11: CE
A12: Chassis Model Code | B12: The OEM code used to identify the subset of the Chassis Model. | F12: PB105 | G12: PB105 | I12: `
A13: Body Make | B13: The OEM company name of a Body. | F13: IC BUS | G13: IC BUS
A14: Body Model | B14: The Model name of the Body. | F14: CE | G14: CE
A15: Body Model Code | B15: The OEM code used to identify the subset of the Body Model. | F15: PB105 | G15: PB105
A16: Pick Up Allowance | B16: The dollar amount, per School Bus, that will be deducted from the Base Item NYS Contract Price, if the Authorized User elects to pick up the School Bus at the Contractor's location. | F16: 0 | G16: 0
A17: Delivery Time | B17: The estimated delivery time for the School Bus, expressed in number of calendar days, required to make delivery after receipt of a final Purchase Order (After Receipt of Order (“ARO”)). | F17: 180-300 Days | G17: 180-300 Days
A19: PART 2: Pricing for the Base Item, Additional Body Section, and Additional Options | F19: IC Bus | G19: IC Bus
A20: Category | B20: Information provided in Yellow Cells | F20: Diesel | G20: Gas
A21: Base Item NYS Contract Price | B21: The per unit NYS Contract Price (dollar amount) for the School Bus described in the Base Item Specifications. The Base Item NYS Contract Price includes any OEM fees, all customs duties and charges, all vehicle preparation and clean-up charges, NYS DOT inspection, installation charges, delivery and all other incidentals normally included with providing a School Bus, but excludes Optional Equipment, Additional Body Section(s), and Additional Options. | F21: =127210*('PPI Adj'!D6) -> 148454.07 | G21: =124971*('PPI Adj'!D6) -> 145841.16
A22: Additional Options NYS Discount | B22: The minimum percentage amount that shall be deducted from the MSRP for all Additional Options purchased under the Contract for this Item. | F22: 16 | G22: 16
A24: PART 3: Base Item Specifications | F24: IC Bus | G24: IC Bus
A25: Category | B25: Specification | C25: Information provided in Yellow Cells | F25: Diesel | G25: Gas
A26: General | B26: A School Bus with a Body installed upon a cowl and Chassis constructed using a chassis with a hood and front fender assembly. All of the engine is in front of the windshield and the entrance door is behind the front wheels. This is also known as a conventional school bus. This type also includes the cutaway truck chassis or truck chassis with cab, with or without a left side door, and with a GVWR greater than 16,000 pounds. | C26: Gross Vehicle Weight Rating (GVWR) [lbs]: | F26: 25500 | G26: 25500
A27: Capacity | B27: Minimum twenty-eight (28) Pupils. | C27: Number of rows: | F27: 5 | G27: 5
C28: Number of Pupils: | F28: 30 | G28: 30
A29: Rear Wheels | B29: Dual Rear Wheel (DRW)
A30: Dimensions | C30: Wheelbase [inches]: | F30: 170 | G30: 170
C31: Length (bumper to bumper) [inches]: | F31: 300.14 | G31: 300.14
C32: Body width (inside) [inches]: | F32: 90 | G32: 90
C33: Body headroom (standard) [inches]: | F33: 78 | G33: 78
C34: Cowl to rear axle length [inches]: | F34: 144.2 | G34: 144.2
A35: Cowl/Hood | B35: Forward tilting style cowl/hood assembly.
A36: Front Axle | C36: Gross Axle Weight Rating (GAWR) [lbs]: | F36: 8000 | G36: 8000
C37: Front axle capacity [lbs]: | F37: 8000 | G37: 8000
A38: Rear Axle | C38: Gross Axle Weight Rating (GAWR) [lbs]: | F38: 17500 | G38: 17500
C39: Rear axle capacity [lbs]: | F39: 17500 | G39: 17500
A40: Steering | B40: Power steering
A41: Brakes | B41: Chassis manufacturer's typical full air service brake system. A liquid-cooled, engine-lubricated air compressor, that is compliant with FMVSS (49 CFR 571.121.S5.1.1.), shall be provided. The air brake system shall be equipped with an automatic drain valve on the wet tank that may be unheated, a valve that can be manually opened on each air tank, and an air dryer/ejector that may be unheated. The system shall include a spring set parking brake. System shall be compliant with FMVSS (49 CFR 571.121), including the latest revision thereof. All brakes shall have automatic slack adjusters. | C41: Air Compressor size, Make & Model: | F41: CUMMINS 18.7 CFM | G41: CUMMINS 18.7 CFM
C42: Air Dryer size, Make & Model: | F42: BENDIX AD-9 | G42: BENDIX AD-9
A44: Brakes | B44: Antilock Brake System (ABS), and an audio & visual warning system for system malfunctions.
...

Sheet C (Item 2-D)
A1: ='A (Item 2-G)'!$A$1 -> GROUP 40524-23254, SCHOOL BUSES (Statewide) Attachment 1 - Specifications and Pricing (Revised October 15, 2026)
A2: PC69861 Leonard Bus Sales, Inc.
A3: LOT C (Item 2-D)
A4: Type C, 46 Pupil Conventional Front-Engine Bus (Diesel, Minimum 46 Pupils)
A6: PART 1: Product information for the Base Item(s) Awarded | F6: IC Bus | G6: IC Bus | H6: IC Bus
A7: Category | B7: Information provided in Yellow Cells | F7: Diesel | G7: Gas | H7: LPG
A8: Engine | B8: Information identifying the engine for the fuel type offered. | F8: 12ERP, Engine, Diesel Cummins B6.7 220HP | G8: 12DLP, Engine, Gasoline (PSI 8.8L) 265HP | H8: 12PAD, PSI 8.8L LPG, 270HP
A9: NYS DOT Approval Number | B9: The NYS DOT Approval Number for the School Bus. Only School Buses approved by NYS DOT Passenger Carrier Safety Bureau for use as 2022 and newer Models, as indicated by a NYS DOT Approval Number, shall be delivered pursuant to the Contract. | F9: 1825-NY-48-00WC-ATC | G9: 1825-NY-48-00WC-ATC | H9: 1825-NY-48-00WC-ATC
A10: Chassis Make | B10: The OEM company name of a Chassis. | F10: IC BUS | G10: IC BUS | H10: IC BUS
A11: Chassis Model | B11: The Model name of the Chassis. | F11: CE | G11: CE | H11: CE
A12: Chassis Model Code | B12: The OEM code used to identify the subset of the Chassis Model. | F12: PB105 | G12: PB105 | H12: PB105
A13: Body Make | B13: The OEM company name of a Body. | F13: IC BUS | G13: IC BUS | H13: IC BUS
A14: Body Model | B14: The Model name of the Body. | F14: CE | G14: CE | H14: CE
A15: Body Model Code | B15: The OEM code used to identify the subset of the Body Model. | F15: PB105 | G15: PB105 | H15: PB105
A16: Pick Up Allowance | B16: The dollar amount, per School Bus, that will be deducted from the Base Item NYS Contract Price, if the Authorized User elects to pick up the School Bus at the Contractor's location. | F16: 0 | G16: 0 | H16: 0
A17: Delivery Time | B17: The estimated delivery time for the School Bus, expressed in number of calendar days, required to make delivery after receipt of a final Purchase Order (After Receipt of Order (“ARO”)). | F17: 180-300 Days | G17: 180-300 Days | H17: 180-300 Days
A19: PART 2: Pricing for the Base Item, Additional Body Section, and Additional Options | F19: IC Bus | G19: IC Bus | H19: IC Bus
A20: Category | B20: Information provided in Yellow Cells | F20: Diesel | G20: Gas | H20: LPG
A21: Base Item NYS Contract Price | B21: The per unit NYS Contract Price (dollar amount) for the School Bus described in the Base Item Specifications. The Base Item NYS Contract Price includes any OEM fees, all customs duties and charges, all vehicle preparation and clean-up charges, NYS DOT inspection, installation charges, delivery and all other incidentals normally included with providing a School Bus, but excludes Optional Equipment, Additional Body Section(s), and Additional Options. | F21: =131695*('PPI Adj'!D6) -> 153688.07 | G21: =129521*('PPI Adj'!D6) -> 151151.01 | H21: =140295*('PPI Adj'!D6) -> 163724.27
A22: Additional Options NYS Discount | B22: The minimum percentage amount that shall be deducted from the MSRP for all Additional Options purchased under the Contract for this Item. | F22: 16 | G22: 16 | H22: 16
A24: PART 3: Base Item Specifications | F24: IC Bus | G24: IC Bus | H24: IC Bus
A25: Category | B25: Specification | C25: Information provided in Yellow Cells | F25: Diesel | G25: Gas | H25: LPG
A26: General | B26: A School Bus with a Body installed upon a cowl and Chassis constructed using a chassis with a hood and front fender assembly. All of the engine is in front of the windshield and the entrance door is behind the front wheels. This is also known as a conventional school bus. This type also includes the cutaway truck chassis or truck chassis with cab, with or without a left side door, and with a GVWR greater than 16,000 pounds. | C26: Gross Vehicle Weight Rating (GVWR) [lbs]: | F26: 27800 | G26: 27800 | H26: 27800
A27: Capacity | B27: Minimum forty-six (46) Pupils. | C27: Number of rows: | F27: 8 | G27: 8 | H27: 8
C28: Number of Pupils: | F28: 48 | G28: 48 | H28: 48
A29: Rear Wheels | B29: Dual Rear Wheel (DRW)
A30: Dimensions | C30: Wheelbase [inches]: | F30: 218 | G30: 218 | H30: 218
C31: Length (bumper to bumper) [inches]: | F31: 381.14 | G31: 381.14 | H31: 381.14
C32: Body width (inside) [inches]: | F32: 90 | G32: 90 | H32: 90
C33: Body headroom (standard) [inches]: | F33: 78 | G33: 78 | H33: 78
C34: Cowl to rear axle length [inches]: | F34: 191.49 | G34: 191.49 | H34: 191.49
A35: Cowl/Hood | B35: Forward tilting style cowl/hood assembly.
A36: Front Axle | C36: Gross Axle Weight Rating (GAWR) [lbs]: | F36: 8000 | G36: 8000 | H36: 8000
C37: Front axle capacity [lbs]: | F37: 8000 | G37: 8000 | H37: 8000
A38: Rear Axle | C38: Gross Axle Weight Rating (GAWR) [lbs]: | F38: 19800 | G38: 19800 | H38: 19800
C39: Rear axle capacity [lbs]: | F39: 19800 | G39: 19800 | H39: 19800
A40: Steering | B40: Power steering
A41: Brakes | B41: Chassis manufacturer's typical full air service brake system. A liquid-cooled, engine-lubricated air compressor, that is compliant with FMVSS (49 CFR 571.121.S5.1.1.), shall be provided. The air brake system shall be equipped with an automatic drain valve on the wet tank that may be unheated, a valve that can be manually opened on each air tank, and an air dryer/ejector that may be unheated. The system shall include a spring set parking brake. System shall be compliant with FMVSS (49 CFR 571.121), including the latest revision thereof. All brakes shall have automatic slack adjusters. | C41: Air Compressor size, Make & Model: | F41: CUMMINS 18.7 CFM | G41: CUMMINS 18.7 CFM | H41: CUMMINS 18.7 CFM
C42: Air Dryer size, Make & Model: | F42: BENDIX AD-9 | G42: BENDIX AD-9 | H42: BENDIX AD-9
A44: Brakes | B44: Antilock Brake System (ABS), and an audio & visual warning system for system malfunctions.
...

Sheet C (Item 2-EV)
A1: ='A (Item 2-G)'!$A$1 -> GROUP 40524-23254, SCHOOL BUSES (Statewide) Attachment 1 - Specifications and Pricing (Revised October 15, 2026)
A2: PC69861 Leonard Bus Sales, Inc.
A3: LOT C (Item 2-EV)
A4: Type C, 46 Pupil Conventional Front-Engine Bus (Electric, Minimum 46 Pupils)
A6: PART 1: Product information for the Base Item(s) Awarded | F6: IC Bus
A7: Category | B7: Information provided in Yellow Cells | F7: ELECTRIC
A8: Engine | B8: Information identifying the engine for the fuel type offered. | F8: Dana SUMO TM4 Motor/Inverter System, 335hp/255kW (peak), 255hp/190kW (continuous).
A9: NYS DOT Approval Number | B9: The NYS DOT Approval Number for the School Bus. Only School Buses approved by NYS DOT Passenger Carrier Safety Bureau for use as 2022 and newer Models, as indicated by a NYS DOT Approval Number, shall be delivered pursuant to the Contract. | F9: 2194-NY-48-00WC-ATC
A10: Chassis Make | B10: The OEM company name of a Chassis. | F10: IC BUS
A11: Chassis Model | B11: The Model name of the Chassis | F11: CE
A12: Chassis Model Code | B12: The OEM code used to identify the subset of the Chassis Model. | F12: PB10E
A13: Body Make | B13: The OEM company name of a Body. | F13: IC BUS
A14: Body Model | B14: The Model name of the Body | F14: CE
A15: Body Model Code | B15: The OEM code used to identify the subset of the Body Model. | F15: PB10E
A16: Pick Up Allowance | B16: The dollar amount, per School Bus, that will be deducted from the Base Item NYS Contract Price, if the Authorized User elects to pick up the School Bus at the Contractor's location. | F16: 0
A17: Delivery Time | B17: The estimated delivery time for the School Bus, expressed in number of calendar days, required to make delivery after receipt of a final Purchase Order (After Receipt of Order (“ARO”)) | F17: 180-300 Days
A19: PART 2: Pricing for the Base Item, Additional Body Section, and Additional Options | F19: IC Bus
A20: Category | B20: Information provided in Yellow Cells | F20: ELECTRIC
A21: Base Item NYS Contract Price | B21: The per unit NYS Contract Price (dollar amount) for the School Bus described in the Base Item Specifications. The Base Item NYS Contract Price includes any OEM fees, all customs duties and charges, all vehicle preparation and clean-up charges, NYS DOT inspection, installation charges, delivery and all other incidentals normally included with providing a School Bus, but excludes Optional Equipment, Additional Body Section(s), and Additional Options. | F21: =370482*('PPI Adj'!D6) -> 432352.49
A22: Additional Options NYS Discount | B22: The minimum percentage amount that shall be deducted from the MSRP for all Additional Options purchased under the Contract for this Item. | F22: 16
A24: PART 3: Base Item Specifications | F24: IC Bus
A25: Category | B25: Specification | C25: Information provided in Yellow Cells | F25: ELECTRIC
A26: General | B26: A School Bus with a Body installed upon a cowl and Chassis constructed using a chassis with a hood and front fender assembly. All of the engine is in front of the windshield and the entrance door is behind the front wheels. This is also known as a conventional school bus. This type also includes the cutaway truck chassis or truck chassis with cab, with or without a left side door, and with a GVWR greater than 16,000 pounds. | C26: Gross Vehicle Weight Rating (GVWR) [lbs]: | F26: 30280
A27: Capacity | B27: Minimum forty-six (46) Pupils. | C27: Number of rows: | F27: 8
C28: Number of Pupils: | F28: 48
A29: Rear Wheels | B29: Dual Rear Wheel (DRW)
A30: Dimensions | C30: Wheelbase [inches]: | F30: 218
C31: Length (bumper to bumper) [inches]: | F31: 381.14
C32: Body width (inside) [inches]: | F32: 90
C33: Body headroom (standard) [inches]: | F33: 78
C34: Cowl to rear axle length [inches]: | F34: 191.49
A35: Cowl/Hood | B35: Forward tilting style cowl/hood assembly.
A36: Front Axle | C36: Gross Axle Weight Rating (GAWR) [lbs]: | F36: 10000
C37: Front axle capacity [lbs]: | F37: 10000
A38: Rear Axle | C38: Gross Axle Weight Rating (GAWR) [lbs]: | F38: 20280
C39: Rear axle capacity [lbs]: | F39: 21000
A40: Steering | B40: Power steering
A41: Brakes | B41: Chassis manufacturer's typical full air service brake system. A liquid-cooled, engine-lubricated air compressor, that is compliant with FMVSS (49 CFR 571.121.S5.1.1.), shall be provided. The air brake system shall be equipped with an automatic drain valve on the wet tank that may be unheated, a valve that can be manually opened on each air tank, and an air dryer/ejector that may be unheated. The system shall include a spring set parking brake. System shall be compliant with FMVSS (49 CFR 571.121), including the latest revision thereof. All brakes shall have automatic slack adjusters. | C41: Air Compressor size, Make & Model: | F41: Quanxing 10.6 CFM
C42: Air Dryer size, Make & Model: | F42: Bendix ADIP
A44: Brakes | B44: Antilock Brake System (ABS), and an audio & visual warning system for system malfunctions.
...

Sheet C (Item 3-D)
A1: ='A (Item 2-G)'!$A$1 -> GROUP 40524-23254, SCHOOL BUSES (Statewide) Attachment 1 - Specifications and Pricing (Revised October 15, 2026)
A2: PC69861 Leonard Bus Sales, Inc.
A3: LOT C (Item 3-D)
A4: Type C, 58 Pupil Conventional Front-Engine Bus (Diesel, Minimum 58 Pupils)
A6: PART 1: Product information for the Base Item(s) Awarded | F6: IC Bus | G6: IC Bus
A7: Category | B7: Information provided in Yellow Cells | F7: Diesel | G7: Gas
A8: Engine | B8: Information identifying the engine for the fuel type offered. | F8: 12ERP, Engine, Diesel Cummins B6.7 220HP | G8: 12DLP, Engine, Gasoline (PSI 8.8L) 265HP
A9: NYS DOT Approval Number | B9: The NYS DOT Approval Number for the School Bus. Only School Buses approved by NYS DOT Passenger Carrier Safety Bureau for use as 2022 and newer Models, as indicated by a NYS DOT Approval Number, shall be delivered pursuant to the Contract. | F9: 2134-NY-60-00WC-ATC | G9: 2134-NY-60-00WC-ATC
A10: Chassis Make | B10: The OEM company name of a Chassis. | F10: IC BUS | G10: IC BUS
A11: Chassis Model | B11: The Model name of the Chassis. | F11: CE | G11: CE
A12: Chassis Model Code | B12: The OEM code used to identify the subset of the Chassis Model. | F12: PB105 | G12: PB105
A13: Body Make | B13: The OEM company name of a Body. | F13: IC BUS | G13: IC BUS
A14: Body Model | B14: The Model name of the Body. | F14: CE | G14: CE
A15: Body Model Code | B15: The OEM code used to identify the subset of the Body Model. | F15: PB105 | G15: PB105
A16: Pick Up Allowance | B16: The dollar amount, per School Bus, that will be deducted from the Base Item NYS Contract Price, if the Authorized User elects to pick up the School Bus at the Contractor's location. | F16: 0 | G16: 0
A17: Delivery Time | B17: The estimated delivery time for the School Bus, expressed in number of calendar days, required to make delivery after receipt of a final Purchase Order (After Receipt of Order (“ARO”)). | F17: 180-300 Days | G17: 180-300 Days
A19: PART 2: Pricing for the Base Item, Additional Body Section, and Additional Options | F19: IC Bus | G19: IC Bus
A20: Category | B20: Information provided in Yellow Cells | F20: Diesel | G20: Gas
A21: Base Item NYS Contract Price | B21: The per unit NYS Contract Price (dollar amount) for the School Bus described in the Base Item Specifications. The Base Item NYS Contract Price includes any OEM fees, all customs duties and charges, all vehicle preparation and clean-up charges, NYS DOT inspection, installation charges, delivery and all other incidentals normally included with providing a School Bus, but excludes Optional Equipment, Additional Body Section(s), and Additional Options. | F21: =133733*('PPI Adj'!D6) -> 156066.41 | G21: =131590*('PPI Adj'!D6) -> 153565.53
A22: Additional Options NYS Discount | B22: The minimum percentage amount that shall be deducted from the MSRP for all Additional Options purchased under the Contract for this Item. | F22: 16 | G22: 16
A24: PART 3: Base Item Specifications | F24: IC Bus | G24: IC Bus
A25: Category | B25: Specification | C25: Information provided in Yellow Cells | F25: Diesel | G25: Gas
A26: General | B26: A School Bus with a Body installed upon a cowl and Chassis constructed using a chassis with a hood and front fender assembly. All of the engine is in front of the windshield and the entrance door is behind the front wheels. This is also known as a conventional school bus. This type also includes the cutaway truck chassis or truck chassis with cab, with or without a left side door, and with a GVWR greater than 16,000 pounds. | C26: Gross Vehicle Weight Rating (GVWR) [lbs]: | F26: 27800 | G26: 27800
A27: Capacity | B27: Minimum fifty-eight (58) Pupils. | C27: Number of rows: | F27: 10 | G27: 10
C28: Number of Pupils: | F28: 60 | G28: 60
A29: Rear Wheels | B29: Dual Rear Wheel (DRW)
A30: Dimensions | C30: Wheelbase [inches]: | F30: 236 | G30: 236
C31: Length (bumper to bumper) [inches]: | F31: 408.14 | G31: 408.14
C32: Body width (inside) [inches]: | F32: 90 | G32: 90
C33: Body headroom (standard) [inches]: | F33: 78 | G33: 78
C34: Cowl to rear axle length [inches]: | F34: 210.92 | G34: 210.92
A35: Cowl/Hood | B35: Forward tilting style cowl/hood assembly.
A36: Front Axle | C36: Gross Axle Weight Rating (GAWR) [lbs]: | F36: 8000 | G36: 8000
C37: Front axle capacity [lbs]: | F37: 8000 | G37: 8000
A38: Rear Axle | C38: Gross Axle Weight Rating (GAWR) [lbs]: | F38: 19800 | G38: 19800
C39: Rear axle capacity [lbs]: | F39: 19800 | G39: 19800
A40: Steering | B40: Power steering
A41: Brakes | B41: Chassis manufacturer's typical full air service brake system. A liquid-cooled, engine-lubricated air compressor, that is compliant with FMVSS (49 CFR 571.121.S5.1.1.), shall be provided. The air brake system shall be equipped with an automatic drain valve on the wet tank that may be unheated, a valve that can be manually opened on each air tank, and an air dryer/ejector that may be unheated. The system shall include a spring set parking brake. System shall be compliant with FMVSS (49 CFR 571.121), including the latest revision thereof. All brakes shall have automatic slack adjusters. | C41: Air Compressor size, Make & Model: | F41: 18.7 CFM, Cummins | G41: 18.7 CFM, Cummins
C42: Air Dryer size, Make & Model: | F42: AD-9, Bendix, 04EBS | G42: AD-9, Bendix, 04EBS
A44: Brakes | B44: Antilock Brake System (ABS), and an audio & visual warning system for system malfunctions.
...

Sheet C (Item 4-D)
A1: ='A (Item 2-G)'!$A$1 -> GROUP 40524-23254, SCHOOL BUSES (Statewide) Attachment 1 - Specifications and Pricing (Revised October 15, 2026)
A2: PC69861 Leonard Bus Sales, Inc.
A3: LOT C (Item 4-D)
A4: Type C, 64 Pupil Conventional Front-Engine Bus (Diesel, Minimum 64 Pupils)
A6: PART 1: Product information for the Base Item(s) Awarded | F6: IC Bus
A7: Category | B7: Information provided in Yellow Cells | F7: Diesel | G7: Gas | H7: LPG
A8: Engine | B8: Information identifying the engine for the fuel type offered. | F8: 12ERP, Engine, Diesel Cummins B6.7 220HP | G8: 12DLP, Engine, Gasoline (PSI 8.8L) 265HP | H8: 12PAD, PSI 8.8L LPG, 270HP
A9: NYS DOT Approval Number | B9: The NYS DOT Approval Number for the School Bus. Only School Buses approved by NYS DOT Passenger Carrier Safety Bureau for use as 2022 and newer Models, as indicated by a NYS DOT Approval Number, shall be delivered pursuant to the Contract. | F9: 2101-NY-66-00WC-ATC | G9: 2101-NY-66-00WC-ATC | H9: 2101-NY-66-00WC-ATC
A10: Chassis Make | B10: The OEM company name of a Chassis. | F10: IC BUS | G10: IC BUS | H10: IC BUS
A11: Chassis Model | B11: The Model name of the Chassis. | F11: CE | G11: CE | H11: CE
A12: Chassis Model Code | B12: The OEM code used to identify the subset of the Chassis Model. | F12: PB105 | G12: MA055 | H12: PB105
A13: Body Make | B13: The OEM company name of a Body. | F13: IC BUS | G13: IC BUS | H13: IC BUS
A14: Body Model | B14: The Model name of the Body. | F14: CE | G14: CE | H14: CE
A15: Body Model Code | B15: The OEM code used to identify the subset of the Body Model. | F15: PB105 | G15: MA055 | H15: PB105
A16: Pick Up Allowance | B16: The dollar amount, per School Bus, that will be deducted from the Base Item NYS Contract Price, if the Authorized User elects to pick up the School Bus at the Contractor's location. | F16: 0 | G16: 0 | H16: 0
A17: Delivery Time | B17: The estimated delivery time for the School Bus, expressed in number of calendar days, required to make delivery after receipt of a final Purchase Order (After Receipt of Order (“ARO”)). | F17: 180-300 Days | G17: 180-300 Days | H17: 180-300 Days
A19: PART 2: Pricing for the Base Item, Additional Body Section, and Additional Options | F19: IC Bus
A20: Category | B20: Information provided in Yellow Cells | F20: Diesel | G20: Gas | H20: LPG
