Workbook

Sheet Attachment 1 - Summary
B1: GROUP 40524-23254, SCHOOL BUSES (Statewide) Attachment 1 - Specifications and Pricing (Revised October 15, 2026)
B2: PC69861 Leonard Bus Sales, Inc.
B3: The Contractor has been awarded the following Items, and shall offer Base Items, Optional Equipment and Additional Body Sections sold under the Contract at net prices that are equal to the applicable NYS Contract Price that is listed on the Contract Pricelist, or less. An Authorized User may choose to add one (1) or more of the Optional Equipment from the list of Optional Equipment, and/or Additional Body Sections, associated with the Base Item (see Contract Section 3.7 Optional Equipment and Additional Body Sections). Additional Options offered by the Contractor, that are listed on the OEM or Contractor-Published Pricelist(s), may also be requested by the Authorized User (see Contract Section 3.8 Additional Options).
B4: Name and description of worksheets included in this workbook:
B5: Tab Name | C5: Description of Tab or Item | D5: Fuel Types Awarded | E5: Item Availability by County (Under this Contract) | F5: Pupil Capacity | G5: Tab Color
B6: Attachment 1 - Summary | C6: Summary of Attachment 1 - Specifications and Pricing (this worksheet)
B7: A (Item 2-G) | C7: Lot A (Item 2-G): Type A-1, SRW, Cutaway, 4 Rows | D7: Gasoline | E7: All NYS Counties. | F7: Minimum 16
B8: A (Item 3-G) | C8: Lot A (Item 3-G): Type A-2, DRW, Cutaway, 4 Rows | D8: Gasoline | E8: All NYS Counties. | F8: Minimum 20
B9: A (Item 3-EV) | C9: Lot A (Item 3-EV): Type A-2, DRW, Cutaway, 4 Rows | D9: Electric | E9: All NYS Counties. | F9: Minimum 20
B10: A (Item 4-G) | C10: Lot A (Item 4-G): Type A-2, DRW, Cutaway, 4 Rows | D10: Gasoline | E10: All NYS Counties. | F10: Minimum 24
B11: A (Item 4-EV) | C11: Lot A (Item 4-EV): Type A-2, DRW, Cutaway, 4 Rows | D11: Electric | E11: All NYS Counties. | F11: Minimum 24
B12: A (Item 5-G) | C12: Lot A (Item 5-G): Type A-2, DRW, Cutaway, 5 Rows | D12: Gasoline | E12: All NYS Counties. | F12: Minimum 30
B13: C (Item 1-D) | C13: Lot C (Item 1-D): Type C, Conventional Bus | D13: Diesel, Gasoline | E13: All counties, EXCEPT Bronx, Kings, Nassau, New York, Queens, Richmond, Suffolk, Westchester, and Rockland Counties. For Bronx, Kings, Nassau, New York, Queens, Richmond, Suffolk, Westchester, and Rockland Counties, please see Contract PC69857, AT New York City, LLC. | F13: Minimum 24
B14: C (Item 2-D) | C14: Lot C (Item 2-D): Type C, Conventional Bus | D14: Diesel, Gasoline, LPG | E14: All counties, EXCEPT Bronx, Kings, Nassau, New York, Queens, Richmond, Suffolk, Westchester, and Rockland Counties. For Bronx, Kings, Nassau, New York, Queens, Richmond, Suffolk, Westchester, and Rockland Counties, please see Contract PC69857, AT New York City, LLC. | F14: Minimum 46
B15: C (Item 2-EV) | C15: Lot C (Item 2-EV): Type C, Conventional Bus | D15: Electric | E15: All counties, EXCEPT Bronx, Kings, Nassau, New York, Queens, Richmond, Suffolk, Westchester, and Rockland Counties. For Bronx, Kings, Nassau, New York, Queens, Richmond, Suffolk, Westchester, and Rockland Counties, please see Contract PC69857, AT New York City, LLC. | F15: Minimum 46
B16: C (Item 3-D) | C16: Lot C (Item 3-D): Type C, Conventional Bus | D16: Diesel, Gasoline | E16: All counties, EXCEPT Bronx, Kings, Nassau, New York, Queens, Richmond, Suffolk, Westchester, and Rockland Counties. For Bronx, Kings, Nassau, New York, Queens, Richmond, Suffolk, Westchester, and Rockland Counties, please see Contract PC69857, AT New York City, LLC. | F16: Minimum 58
B17: C (Item 4-D) | C17: Lot C (Item 4-D): Type C, Conventional Bus | D17: Diesel, Gasoline, LPG | E17: All counties, EXCEPT Bronx, Kings, Nassau, New York, Queens, Richmond, Suffolk, Westchester, and Rockland Counties. For Bronx, Kings, Nassau, New York, Queens, Richmond, Suffolk, Westchester, and Rockland Counties, please see Contract PC69857, AT New York City, LLC. | F17: Minimum 64
B18: C (Item 4-EV) | C18: Lot C (Item 4-EV): Type C, Conventional Bus | D18: Electric | E18: All counties, EXCEPT Bronx, Kings, Nassau, New York, Queens, Richmond, Suffolk, Westchester, and Rockland Counties. For Bronx, Kings, Nassau, New York, Queens, Richmond, Suffolk, Westchester, and Rockland Counties, please see Contract PC69857, AT New York City, LLC. | F18: Minimum 64
B19: D (Item 3-EV) | C19: Lot D (Item 3-EV): Type D, Forward Control Transit Style Bus | D19: Electric | E19: All NYS Counties. | F19: Minimum 77

Sheet A (Item 2-G)
A1: GROUP 40524-23254, SCHOOL BUSES (Statewide) Attachment 1 - Specifications and Pricing (Revised October 15, 2026)
A2: PC69861 Leonard Bus Sales Inc.
A3: LOT A (Item 2-G)
A4: Type A-1, SRW, Cutaway, 4 Rows (Gasoline; Minimum 16 Pupils)
A6: PART 1: Product information for the Base Item(s) Awarded | F6: GM / Trans Tech | H6: Ford Transit / Trans Tech
A7: Category | B7: Information provided in Yellow Cells | F7: Gasoline | H7: Gasoline
A8: Engine | B8: Information identifying the engine for the fuel type offered. | F8: OEM LV1, VORTEC 4.3L V8, 276HP & 298 LB-FT TORQUE | H8: 998; 3.5L PFDi V6, 275HP & 260 LBS-FT. TORQUE
A9: NYS DOT Approval Number | B9: The NYS DOT Approval Number for the School Bus. Only School Buses approved by NYS DOT Passenger Carrier Safety Bureau for use as 2022 and newer Models, as indicated by a NYS DOT Approval Number, shall be delivered pursuant to the Contract. | F9: 306-NY-16-00WC-TTB | H9: 334-NY-16-00WC-TTB
A10: Chassis Make | B10: The OEM company name of a Chassis. | F10: GM | H10: Ford Transit
A11: Chassis Model | B11: The Model name of the Chassis. | F11: 3500 | H11: 350
A12: Chassis Model Code | B12: The OEM code used to identify the subset of the Chassis Model. | F12: CG33503 | H12: W5P
A13: Body Make | B13: The OEM company name of a Body. | F13: TRANS TECH | H13: TRANS TECH
A14: Body Model | B14: The Model name of the Body. | F14: ST AERO | H14: TRANS STAR
A15: Body Model Code | B15: The OEM code used to identify the subset of the Body Model. | F15: AC139SSS409 | H15: TT156SSSA409
A16: Pick Up Allowance | B16: The dollar amount, per School Bus, that will be deducted from the Base Item NYS Contract Price, if the Authorized User elects to pick up the School Bus at the Contractor's location. | F16: 0 | H16: 0
A17: Delivery Time | B17: The estimated delivery time for the School Bus, expressed in number of calendar days, required to make delivery after receipt of a final Purchase Order (After Receipt of Order (“ARO”)). | F17: 180-300 | H17: 180-300
A19: PART 2: Pricing for the Base Item, Additional Body Section, and Additional Options | F19: GM / Trans Tech | H19: Ford Transit / Trans Tech
A20: Category | B20: Information provided in Yellow Cells | F20: Gasoline | H20: Gasoline
A21: Base Item NYS Contract Price | B21: The per unit NYS Contract Price (dollar amount) for the School Bus described in the Base Item Specifications. The Base Item NYS Contract Price includes any OEM fees, all customs duties and charges, all vehicle preparation and clean-up charges, NYS DOT inspection, installation charges, delivery and all other incidentals normally included with providing a School Bus, but excludes Optional Equipment, Additional Body Section(s), and Additional Options. | F21: =66246*('PPI Adj'!D6) -> 77309.082 | H21: =69743*('PPI Adj'!D6) -> 81390.081
A22: Additional Body Section NYS Contract Price | B22: The per unit NYS Contract Price (dollar amount) for adding one (1) Additional Body Section, excluding seats and other interior features, to the Base Item and the applicable Base Item NYS Contract Price. | F22: =1982.4*('PPI Adj'!D6) -> 2313.4608 | H22: Not Available
A23: Additional Options NYS Discount | B23: The minimum percentage amount that shall be deducted from the MSRP for all Additional Options purchased under the Contract for this Item. | F23: 5 | H23: 5
A25: PART 3: Base Item Specifications | F25: GM / Trans Tech | H25: Ford Transit / Trans Tech
A26: Category | B26: Specification | C26: Information provided in Yellow Cells | F26: Gasoline | H26: Gasoline
A27: General | B27: A conversion School Bus constructed using a cutaway front-section vehicle with a left side driver’s door, with a GVWR of 10,000 pounds or less. | C27: Gross Vehicle Weight Rating (GVWR) [lbs]: | F27: 9900 | H27: 9500
A28: Capacity | B28: Minimum four (4) rows for sixteen (16) Pupils | C28: Number of rows: | F28: 4 | H28: 4
C29: Number of Pupils: | F29: 16 | H29: 16
A30: Rear Wheels | B30: Single Rear Wheel (SRW)
A31: Dimensions | C31: Wheelbase [inches]: | F31: 139 | H31: 156
C32: Length (bumper to bumper) [inches]: | F32: 241 | H32: 239
C33: Body width (inside) [inches]: | F33: 80 | H33: 80
C34: Body headroom (standard) [inches]: | F34: 72 | H34: 74
C35: Cowl to rear axle length [inches]: | F35: 178 | H35: 196
A36: Front Axle | C36: Gross Axle Weight Rating (GAWR) [lbs]: | F36: 4100 | H36: 4130
C37: Front axle capacity [lbs]: | F37: 4100 | H37: 4130
A38: Rear Axle | C38: Gross Axle Weight Rating (GAWR) [lbs]: | F38: 6084 | H38: 6000
C39: Rear axle capacity [lbs]: | F39: 6084 | H39: 6000
A40: Steering | B40: Power steering
A41: Tires | B41: Tires shall meet the minimum requirements for the Chassis Model, as published by the Chassis manufacturer. | C41: Front radial tires size (load range letter) | F41: LT245/75R16E | H41: 235/65R/16C
C42: Front radial tires capacity | F42: 3042 (Single) | H42: 3195
C43: Rear radial tires size (load range letter) | F43: LT245/75R16E | H43: 235/65R/16C
C44: Rear radial tires capacity | F44: 3042 (Single) | H44: 3195
C45: Front Tires Option Code: | F45: GM XLP | H45: TC8
C46: Front Tires Make & Tread Designation: | F46: All Season | H46: CONTINENTAL VANCONTACT
C47: Rear Tires Option Code: | F47: GM YLP | H47: TC8
C48: Rear Tires Make & Tread Designation: | F48: All Season | H48: CONTINENTAL VANCONTACT
A49: Transmission | B49: Automatic transmission | C49: Number of forward gears: | F49: 8-Speed Automatic | H49: 10-Speed Automatic
C50: Gears direct or w/O.D.?: | F50: w/O.D. | H50: w/O.D.
C51: Option Code, Make & Model: | F51: GM M5U | H51: 44U
A52: Engine | B52: Engine shall have a manufacturer's standard water cooled engine complete with accessories, as called for under classification. Engine shall develop full-rated torque and horsepower without requiring the use of premium grade fuel for any condition of operation. If a Diesel engine is offered, it shall develop full-rated torque and horsepower with the use of both ultra low sulfur grade diesel fuel and renewable diesel fuel.
A53: Alternator | B53: Alternator shall be of the integrally-rectified type, with an SAE continuous ampere output rating that is capable of at least powering all electrical devices energized simultaneously and an additional output of ten (10) or more amperes; and shall be driven by a single serpentine belt (or equivalent) or gear driven, and shall have full-transistor type voltage regulators. Wiring harness sizes shall be not less than the alternator manufacturer's recommendations. | C53: Option Code, Make & Model: | F53: GM KW5 | H53: 63E
C54: Capacity [amps]: | F54: 220 | H54: 250
A55: Battery(ies) | C55: Model or Option Code: | F55: TP3 | H55: 63C
C56: Number of batteries: | F56: 2 | H56: 2
C57: CCA of each battery: | F57: 770 | H57: 70-AH, 610 CCA
A58: Electrical | B58: Units shall have headlights turned on when the engine is running.
A59: Electrical | B59: Driver's compartment dome light shall be so directed to provide illumination for the bus driver and be controlled by an independent switch.
A60: Electrical | B60: All exterior lamps, except headlamps, shall be Light Emitting Diode (LED) design that meet applicable SAE standards.
A61: Horns | B61: An electrical horn(s) shall be provided that meets SAE standard J377.
A62: Door (Entrance) | C62: Type and clear width [inches]: | F62: BIFOLD, 24X76 | H62: BIFOLD, 24X76
A63: Fuel Tank(s) | B63: Gasoline and diesel engines Base Items shall have a Twenty-Five (25) gallon fuel capacity. LPG and CNG shall have the minimum construction and protection required by NFPA. | C63: Capacity [gallons]: | F63: 32 | H63: 25
A64: Mirrors | B64: The exterior driving mirrors shall be the heated defrosting type with their own switch and pilot light. Crossview mirrors shall be provided at front corners of each bus.
A65: Seating | B65: Manufacturer's standard or optional seat spacing that meets or exceeds the NYCRR minimum requirement for the respective class of School Bus with the minimum Pupil capacity stated above.
A66: Seatbelt (ambulatory) | B66: Type II seat belts shall be provided for each individual seating space. Seat belts shall meet current federal safety standards and shall be of a type approved by, and installed in accordance with, the rules and regulations established by NYS DOT in subdivision five (5) of section three-hundred eighty-three (383) of the New York State Vehicle and Traffic Laws dated July 30, 1986 and NYCRR, Title 17, Part 720, or the latest revision thereof.
A67: Stop Arm(s) (Power) | B67: Shall be entrance-door activated, electric or air-positioning type, and be provided streetside on all School Buses. It shall be compliant with FMVSS (49 CFR 571.131). | C67: Make & Model: | F67: SAFE FLEET, DEFENDER COMPOSITE, SC2-600-100 | H67: SAFE FLEET, DEFENDER COMPOSITE, SC2-600-100
A68: "School Bus" Signs | B68: Both front and rear shall comply with Article 9, Section 375.20 of the New York State Vehicle and Traffic Law.
A69: 8 Lamp Warning System (School Bus) | B69: Shall be compliant with SAE J887. | C69: Make & Model: | F69: SoundOff Signal E756IEB0A-FA E756IEBOR-FA | H69: SoundOff Signal E756IEB0A-FA E756IEBOR-FA
A70: Exterior Reflective Markings | B70: All units with a capacity of ten (10) or more Pupils shall be equipped with exterior reflective markings as required by FMVSS (49 CFR 571.217) and NYCRR (Title 15, Department of Motor Vehicles, Part D, 46.12).
A71: Floor | B71: Manufacturer's standard insulated floor design shall be provided throughout the School Bus.
A72: Heaters | B72: Minimum passenger compartment heating shall meet the requirements of NYCRR, Title 17, Part 720.4(I) Heaters, or the latest revision thereof.
A73: Door (Rear Emergency Exit) | B73: Shall include lower glass.
A75: PART 4: Optional Equipment NYS Contract Pricing | F75: GM / Trans Tech | H75: Ford Transit / Trans Tech
A76: Optional Equipment (see Specifications and Equipment Provided below) | F76: Gasoline | H76: Gasoline
A77: Capacity - Add One (1) Row of Seating | F77: Not Available | H77: Not Available
A78: Capacity - Delete One (1) Row of Seating | F78: =-1361*('PPI Adj'!D6) -> -1588.287 | H78: =-1361*('PPI Adj'!D6) -> -1588.287
A79: Child Presence Check / Alarm | F79: =379.4*('PPI Adj'!D6) -> 442.7598 | H79: =379.1205*('PPI Adj'!D6) -> 442.43362
A80: Glass (Tinted) | F80: Included in Base Item | H80: Included in Base Item
A81: Rear Axle, "No Spin" | F81: =413*('PPI Adj'!D6) -> 481.971 | H81: =414.4*('PPI Adj'!D6) -> 483.6048
A82: Tires (Snow) | F82: =1918*('PPI Adj'!D6) -> 2238.306 | H82: =1101.8*('PPI Adj'!D6) -> 1285.8006
A83: Tires (All-Season) | F83: Included in Base Item | H83: Included in Base Item
A84: Floor With Recessed Wheelchair Restraint Track For One Wheelchair Station. | F84: =1083.6*('PPI Adj'!D6) -> 1264.5612 | H84: 0
A85: Floor (Flat) With Recessed Wheelchair Track Throughout Entire Body | F85: Not Available | H85: Not Available
A86: Wheelchair Lift | F86: =6498.8*('PPI Adj'!D6) -> 7584.0996 | H86: 0
A87: White Roof | F87: =1111.6*('PPI Adj'!D6) -> 1297.2372 | H87: =1111.6*('PPI Adj'!D6) -> 1297.2372
A88: Crossing Arm | F88: =616*('PPI Adj'!D6) -> 718.872 | H88: =845.6*('PPI Adj'!D6) -> 986.8152
A89: Additional Passenger Area Heater (Under Passenger Seat) | F89: 0 | H89: 0
A90: Auxiliary Engine Coolant Heater | F90: Not Available | H90: Not Available
A91: Vandal Lock | F91: =329*('PPI Adj'!D6) -> 383.943 | H91: =329*('PPI Adj'!D6) -> 383.943
A92: Air Conditioning | F92: =3977*('PPI Adj'!D6) -> 4641.159 | H92: =3924*('PPI Adj'!D6) -> 4579.308
A93: School Bus Safety Camera | F93: =3055*('PPI Adj'!D6) -> 3565.185 | H93: =3055*('PPI Adj'!D6) -> 3565.185
A94: Delete Exterior LED Lamps | F94: 0 | H94: 0
A95: Multifunction School Activity Bus | F95: =-929*('PPI Adj'!D6) -> -1084.143 | H95: =-509*('PPI Adj'!D6) -> -594.003
A97: PART 4: Optional Equipment Specifications | F97: Chevrolet / Trans Tech | H97: Chevrolet / Trans Tech
A98: Optional Equipment | B98: Specification | C98: Information provided in Yellow Cells | F98: Gasoline | H98: Gasoline
A99: Capacity - Add One (1) Row of Seating | B99: Add one (1) row of seating to an Additional Body Section that has been added to the Base Item.
A100: Capacity - Delete One (1) Row of Seating | B100: Delete one (1) full row of seating (both left and right sides) without removing a Body section from the Base Item, or altering the spacing between the remaining seats.
A101: Child Presence Check / Alarm | B101: Shall be the Child Check-mate System Model EP 2, or Compatible Equivalent. | C101: Make & Model: | F101: CHILD-CHECK MATE EP2 | H101: CHILD-CHECK MATE EP2
A102: Glass (Tinted) | B102: The School Bus windshield and Body windows shall have the manufacturer's typical options that provide tinted glass windows throughout the vehicle and shall comply with Article 9, Section 375.12a. of the New York State Vehicle and Traffic Law. | F102: Included in Base Item | H102: Included in Base Item
A103: Rear Axle, "No Spin" | B103: The manufacturer’s standard device (e.g., power-lock, limited-slip, no-spin, positive-traction). | C103: Type of device: | F103: LIMITED SLIP; GM 680 | H103: LIMITED SLIP
A104: Tires (Snow) | B104: Snow tread tires shall be provided on all drive wheels. Tires shall be Federal class D/A, STC (with snow traction capability), or class S/T, or A/T, AP with STC, or other class with STC. Tires of the same size and ply-rating as front tires shall be furnished on the rear wheels. The price entered for this Optional Equipment shall be for two (2) tires. | C104: Rear radial tires size (load range letter) | F104: LT245/75R16E | H104: 235/65R/16C
C105: Rear radial tires capacity | F105: 3,086 (SINGLE) | H105: 3195 (SINGLE)
...

Sheet A (Item 3-G)
A1: ='A (Item 2-G)'!$A$1 -> GROUP 40524-23254, SCHOOL BUSES (Statewide) Attachment 1 - Specifications and Pricing (Revised October 15, 2026)
A2: PC69861 Leonard Bus Sales Inc.
A3: LOT A (Item 3-G)
A4: Type A-2, DRW, Cutaway, 4 Rows (Gasoline; Minimum 20 Pupils)
A6: PART 1: Product information for the Base Item(s) Awarded | F6: Chevrolet / Trans Tech | H6: Ford E-Series / Trans Tech | J6: Ford Transit / Trans Tech
A7: Category | B7: Information provided in Yellow Cells | F7: Gasoline | H7: Gasoline | J7: Gasoline
A8: Engine | B8: Information identifying the engine for the fuel type offered. | F8: OEM L8T 6.6L V8, 401HP & 464 LB-FT TORQUE | H8: 99N - 7.3L V8, PREMIUM RATED, 325HP & 450 LB-FT TORQUE | J8: 99G - 3.5L EcoBoost V6; 310HP & 400 LBS-FT. TORQUE
A9: NYS DOT Approval Number | B9: The NYS DOT Approval Number for the School Bus. Only School Buses approved by NYS DOT Passenger Carrier Safety Bureau for use as 2022 and newer Models, as indicated by a NYS DOT Approval Number, shall be delivered pursuant to the Contract. | F9: 171-NY-20-00WC-TTB | H9: 308-NY-20-00WC-TTB | J9: 298-NY-20-00WC-TTB
A10: Chassis Make | B10: The OEM company name of a Chassis. | F10: GM | H10: Ford | J10: Ford Transit
A11: Chassis Model | B11: The Model name of the Chassis. | F11: 3500 | H11: E-350 | J11: 350 HD
A12: Chassis Model Code | B12: The OEM code used to identify the subset of the Chassis Model. | F12: CG33503 | H12: E3F | J12: S6P
A13: Body Make | B13: The OEM company name of a Body. | F13: TRANS TECH | H13: TRANS TECH | J13: TRANS TECH
A14: Body Model | B14: The Model name of the Body. | F14: SST | H14: SST | J14: TRANS STAR
A15: Body Model Code | B15: The OEM code used to identify the subset of the Body Model. | F15: SC139DSSA409 | H15: SE138DSSA500 | J15: TT156DSSA409
A16: Pick Up Allowance | B16: The dollar amount, per School Bus, that will be deducted from the Base Item NYS Contract Price, if the Authorized User elects to pick up the School Bus at the Contractor's location. | F16: 0 | H16: 0 | J16: 0
A17: Delivery Time | B17: The estimated delivery time for the School Bus, expressed in number of calendar days, required to make delivery after receipt of a final Purchase Order (After Receipt of Order (“ARO”)). | F17: 180-300 | H17: 180-300 | J17: 180-300
A19: PART 2: Pricing for the Base Item, Additional Body Section, and Additional Options | F19: Chevrolet / Trans Tech | H19: Ford E-Series / Trans Tech | J19: Ford Transit / Trans Tech
A20: Category | B20: Information provided in Yellow Cells | F20: Gasoline | H20: Gasoline | J20: Gasoline
A21: Base Item NYS Contract Price | B21: The per unit NYS Contract Price (dollar amount) for the School Bus described in the Base Item Specifications. The Base Item NYS Contract Price includes any OEM fees, all customs duties and charges, all vehicle preparation and clean-up charges, NYS DOT inspection, installation charges, delivery and all other incidentals normally included with providing a School Bus, but excludes Optional Equipment, Additional Body Section(s), and Additional Options. | F21: =67365*('PPI Adj'!D6) -> 78614.955 | H21: =71788*('PPI Adj'!D6) -> 83776.596 | J21: =73446*('PPI Adj'!D6) -> 85711.482
A22: Additional Body Section NYS Contract Price | B22: The per unit NYS Contract Price (dollar amount) for adding one (1) Additional Body Section, excluding seats and other interior features, to the Base Item and the applicable Base Item NYS Contract Price. | F22: =483*('PPI Adj'!D6) -> 563.661 | H22: Not Available | J22: Not Available
A23: Additional Options NYS Discount | B23: The minimum percentage amount that shall be deducted from the MSRP for all Additional Options purchased under the Contract for this Item. | F23: 5 | H23: 5 | J23: 5
A25: PART 3: Base Item Specifications | F25: Chevrolet / Trans Tech | H25: Ford E-Series / Trans Tech | J25: Ford Transit / Trans Tech
A26: Category | B26: Specification | C26: Information provided in Yellow Cells | F26: Gasoline | H26: Gasoline | J26: Gasoline
A27: General | B27: A conversion School Bus constructed using a cutaway front-section vehicle with a left side driver’s door, with a GVWR equal to or greater than 10,001 pounds and less than or equal to 21,500 pounds. | C27: Gross Vehicle Weight Rating (GVWR) [lbs]: | F27: 12300 | H27: 11500 | J27: 10360
A28: Capacity | B28: Minimum four (4) rows for twenty (20) Pupils. | C28: Number of rows: | F28: 4 | H28: 4 | J28: 4
C29: Number of Pupils: | F29: 20C/12A | H29: 20C/12A | J29: 20
A30: Rear Wheels | B30: Dual Rear Wheel (DRW)
A31: Dimensions | C31: Wheelbase [inches]: | F31: 139 | H31: 138 | J31: 156
C32: Length (bumper to bumper) [inches]: | F32: 241 | H32: 254 | J32: 239
C33: Body width (inside) [inches]: | F33: 90 | H33: 90 | J33: 80
C34: Body headroom (standard) [inches]: | F34: 75 | H34: 75 | J34: 74
C35: Cowl to rear axle length [inches]: | F35: 178 | H35: 173 | J35: 196
A36: Front Axle | C36: Gross Axle Weight Rating (GAWR) [lbs]: | F36: 4300 | H36: 4200 | J36: 4130
C37: Front axle capacity [lbs]: | F37: 4300 | H37: 4200 | J37: 4130
A38: Rear Axle | C38: Gross Axle Weight Rating (GAWR) [lbs]: | F38: 8600 | H38: 7800 | J38: 7275
C39: Rear axle capacity [lbs]: | F39: 8600 | H39: 7800 | J39: 7275
A40: Steering | B40: Power steering
A41: Tires | B41: Tires shall meet the minimum requirements for the Chassis Model, as published by the Chassis manufacturer. | C41: Front radial tires size (load range letter) | F41: LT225/75R16E | H41: LT225/75R16E BSW A/S | J41: 195/75R16C
C42: Front radial tires capacity | F42: 2680 (Single) | H42: 2680 (Single) | J42: 2150 (SINGLE)
C43: Rear radial tires size (load range letter) | F43: LT225/75R16E | H43: LT225/75R16E BSW A/S | J43: 195/75R16C
C44: Rear radial tires capacity | F44: 2470 (Dual) | H44: 2470 (Dual) | J44: 2040 (DUAL)
C45: Front Tires Option Code: | F45: GM XHF | H45: FORD T68 | J45: TB8
C46: Front Tires Make & Tread Designation: | F46: All Season | H46: Hankook DynaPro HT | J46: ALL SEASON
C47: Rear Tires Option Code: | F47: GM YHF | H47: FORD T68 | J47: TB8
C48: Rear Tires Make & Tread Designation: | F48: All Season | H48: Hankook DynaPro HT | J48: ALL SEASON
A49: Transmission | B49: Automatic transmission | C49: Number of forward gears: | F49: 6-Speed Automatic | H49: 6-Speed Automatic | J49: 10-Speed Automatic
C50: Gears direct or w/O.D.?: | F50: w/O.D. | H50: w/O.D. | J50: w/O.D.
C51: Option Code, Make & Model: | F51: GM MYD | H51: FORD 44P | J51: 44U
A52: Engine | B52: Engine shall have a manufacturer's standard water cooled engine complete with accessories, as called for under classification. Engine shall develop full-rated torque and horsepower without requiring the use of premium grade fuel for any condition of operation. If a Diesel engine is offered, it shall develop full-rated torque and horsepower with the use of both ultra low sulfur grade diesel fuel and renewable diesel fuel.
A53: Alternator | B53: Alternator shall be of the integrally-rectified type, with an SAE continuous ampere output rating that is capable of at least powering all electrical devices energized simultaneously and an additional output of ten (10) or more amperes; and shall be driven by a single serpentine belt (or equivalent) or gear driven, and shall have full-transistor type voltage regulators. Wiring harness sizes shall be not less than the alternator manufacturer's recommendations. | C53: Option Code, Make & Model: | F53: GM KW5 | H53: FORD 63O | J53: 63E
C54: Capacity [amps]: | F54: 220 | H54: 220 | J54: 250
A55: Battery(ies) | C55: Model or Option Code: | F55: TP3 | H55: 634 | J55: 63C
C56: Number of batteries: | F56: 2 | H56: 2 | J56: 2
C57: CCA of each battery: | F57: 770 | H57: 760 | J57: 70-AH, 610 CCA
A58: Electrical | B58: Units shall have headlights turned on when the engine is running.
A59: Electrical | B59: Driver's compartment dome light shall be so directed to provide illumination for the bus driver and be controlled by an independent switch.
A60: Electrical | B60: All exterior lamps, except headlamps, shall be Light Emitting Diode (LED) design that meet applicable SAE standards.
A61: Horns | B61: An electrical horn(s) shall be provided that meets SAE standard J377.
A62: Door (Entrance) | C62: Type and clear width [inches]: | F62: BIFOLD, 24X76 | H62: BIFOLD, 24X76 | J62: BIFOLD, 24X76
A63: Fuel Tank(s) | B63: Gasoline and diesel engines Base Items shall have a Twenty-Five (25) gallon fuel capacity. LPG and CNG shall have the minimum construction and protection required by NFPA. | C63: Capacity [gallons]: | F63: 32 | H63: 40 | J63: 25
A64: Mirrors | B64: The exterior driving mirrors shall be the heated defrosting type with their own switch and pilot light. Crossview mirrors shall be provided at front corners of each bus.
A65: Seating | B65: Manufacturer's standard or optional seat spacing that meets or exceeds the NYCRR minimum requirement for the respective class of School Bus with the minimum Pupil capacity stated above.
A66: Seatbelt (ambulatory) | B66: Seat belts shall be provided for each individual seating space. Seat belts shall meet current federal safety standards and shall be of a type approved by, and installed in accordance with, the rules and regulations established by NYS DOT in subdivision five (5) of section three-hundred eighty-three (383) of the New York State Vehicle and Traffic Laws dated July 30, 1986 and NYCRR, Title 17, Part 720, or the latest revision thereof.
A67: Stop Arm(s) (Power) | B67: Shall be entrance-door activated, electric or air-positioning type, and be provided streetside on all School Buses. It shall be compliant with FMVSS (49 CFR 571.131). | C67: Make & Model: | F67: SAFE FLEET, DEFENDER COMPOSITE, SC2-600-100 | H67: SAFE FLEET, DEFENDER COMPOSITE, SC2-600-100 | J67: SAFE FLEET, DEFENDER COMPOSITE, SC2-600-100
A68: "School Bus" Signs | B68: Both front and rear shall comply with Article 9, Section 375.20 of the New York State Vehicle and Traffic Law.
A69: 8 Lamp Warning System (School Bus) | B69: Shall be compliant with SAE J887. | C69: Make & Model: | F69: SoundOff Signal E756IEB0A-FA E756IEBOR-FA | H69: SoundOff Signal E756IEB0A-FA E756IEBOR-FA | J69: SoundOff Signal E756IEB0A-FA E756IEBOR-FA
A70: Exterior Reflective Markings | B70: All units with a capacity of ten (10) or more Pupils shall be equipped with exterior reflective markings as required by FMVSS (49 CFR 571.217) and NYCRR (Title 15, Department of Motor Vehicles, Part D, 46.12).
A71: Floor | B71: Manufacturer's standard insulated floor design shall be provided throughout the School Bus.
A72: Heaters | B72: Minimum passenger compartment heating shall meet the requirements of NYCRR, Title 17, Part 720.4(I) Heaters, or the latest revision thereof.
A73: Door (Rear Emergency Exit) | B73: Shall include lower glass.
A75: PART 4: Optional Equipment NYS Contract Pricing | F75: Chevrolet / Trans Tech | H75: Ford E-Series / Trans Tech | J75: Ford Transit / Trans Tech
A76: Optional Equipment (see Specifications and Equipment Provided below) | F76: Gasoline | H76: Gasoline | J76: Gasoline
A77: Capacity - Add One (1) Row of Seating | F77: =1610*('PPI Adj'!D6) -> 1878.87 | H77: Not Available | J77: Not Available
A78: Capacity - Delete One (1) Row of Seating | F78: =-1137*('PPI Adj'!D6) -> -1326.879 | H78: =-1178*('PPI Adj'!D6) -> -1374.726 | J78: =-1122*('PPI Adj'!D6) -> -1309.374
A79: Child Presence Check / Alarm | F79: =379.4*('PPI Adj'!D6) -> 442.7598 | H79: =379.4*('PPI Adj'!D6) -> 442.7598 | J79: =379.4*('PPI Adj'!D6) -> 442.7598
A80: Glass (Tinted) | F80: Included in Base Item | H80: Included in Base Item | J80: Included in Base Item
A81: Rear Axle, "No Spin" | F81: =413*('PPI Adj'!D6) -> 481.971 | H81: =343*('PPI Adj'!D6) -> 400.281 | J81: =414.4*('PPI Adj'!D6) -> 483.6048
A82: Tires (Snow) | F82: =1918*('PPI Adj'!D6) -> 2238.306 | H82: =1918*('PPI Adj'!D6) -> 2238.306 | J82: =1895.6*('PPI Adj'!D6) -> 2212.1652
A83: Tires (All-Season) | F83: Included in Base Item | H83: Included in Base Item | J83: Included in Base Item
A84: Floor With Recessed Wheelchair Restraint Track For One Wheelchair Station. | F84: =1083.6*('PPI Adj'!D6) -> 1264.5612 | H84: =1083.6*('PPI Adj'!D6) -> 1264.5612 | J84: 0
A85: Floor (Flat) With Recessed Wheelchair Track Throughout Entire Body | F85: =4527.6*('PPI Adj'!D6) -> 5283.7092 | H85: =4046*('PPI Adj'!D6) -> 4721.682 | J85: Not Available
A86: Wheelchair Lift | F86: =6498.8*('PPI Adj'!D6) -> 7584.0996 | H86: =6498.8*('PPI Adj'!D6) -> 7584.0996 | J86: 0
A87: Roof Ventilator / Emergency Exit | F87: =544.6*('PPI Adj'!D6) -> 635.5482 | H87: =644.6*('PPI Adj'!D6) -> 752.2482 | J87: =544.6*('PPI Adj'!D6) -> 635.5482
A88: White Roof | F88: =111.6*('PPI Adj'!D6) -> 130.2372 | H88: =1111.6*('PPI Adj'!D6) -> 1297.2372 | J88: =1111.6*('PPI Adj'!D6) -> 1297.2372
A89: Crossing Arm | F89: =616*('PPI Adj'!D6) -> 718.872 | H89: =616*('PPI Adj'!D6) -> 718.872 | J89: =616*('PPI Adj'!D6) -> 718.872
A90: Additional Passenger Area Heater (Under Passenger Seat) | F90: 0 | H90: 0 | J90: 0
A91: Auxiliary Engine Coolant Heater | F91: Not Available | H91: Not Available | J91: Not Available
A92: Vandal Lock | F92: =329*('PPI Adj'!D6) -> 383.943 | H92: =329*('PPI Adj'!D6) -> 383.943 | J92: =329*('PPI Adj'!D6) -> 383.943
A93: Air Conditioning | F93: =3977*('PPI Adj'!D6) -> 4641.159 | H93: =4012*('PPI Adj'!D6) -> 4682.004 | J93: =3924*('PPI Adj'!D6) -> 4579.308
A94: School Bus Safety Camera | F94: =3055*('PPI Adj'!D6) -> 3565.185 | H94: =3055*('PPI Adj'!D6) -> 3565.185 | J94: =3055*('PPI Adj'!D6) -> 3565.185
A95: Delete Exterior LED Lamps | F95: 0 | H95: 0 | J95: 0
A96: Multifunction School Activity Bus | F96: =-929*('PPI Adj'!D6) -> -1084.143 | H96: =-929*('PPI Adj'!D6) -> -1084.143 | J96: =-509*('PPI Adj'!D6) -> -594.003
A98: PART 4: Optional Equipment Specifications | F98: Chevrolet / Trans Tech | H98: Ford E-Series / Trans Tech | J98: Ford Transit / Trans Tech
A99: Optional Equipment | B99: Specification | C99: Information provided in Yellow Cells | F99: Gasoline | H99: Gasoline | J99: Gasoline
A100: Capacity - Add One (1) Row of Seating | B100: Add one (1) row of seating to an Additional Body Section that has been added to the Base Item. | H100: Not Available | J100: Not Available
A101: Capacity - Delete One (1) Row of Seating | B101: Delete one (1) full row of seating (both left and right sides) without removing a Body section from the Base Item, or altering the spacing between the remaining seats.
A102: Child Presence Check / Alarm | B102: Shall be the Child Check-mate System Model EP 2, or Compatible Equivalent. | C102: Make & Model: | F102: CHILD-CHECK MATE EP2 | H102: CHILD-CHECK MATE EP2 | J102: CHILD-CHECK MATE EP2
A103: Glass (Tinted) | B103: The School Bus windshield and Body windows shall have the manufacturer's typical options that provide tinted glass windows throughout the vehicle and shall comply with Article 9, Section 375.12a. of the New York State Vehicle and Traffic Law. | F103: Included in Base Item | H103: Included in Base Item | J103: Included in Base Item
A104: Rear Axle, "No Spin" | B104: The manufacturer’s standard device (e.g., power-lock, limited-slip, no-spin, positive-traction). | C104: Type of device: | F104: LIMTED SLIP, GM G80 | H104: LIMITED SLIP; XF3 | J104: LIMITED SLIP
A105: Tires (Snow) | B105: Snow tread tires shall be provided on all drive wheels. Tires shall be Federal class D/A, STC (with snow traction capability), or class S/T, or A/T, AP with STC, or other class with STC. The price entered for this Optional Equipment shall be for four (4) tires. Tires furnished on the rear wheels shall be the same size and adequate for axle's GAWR. | C105: Rear radial tires size (load range letter) | F105: LT225/75R16E | H105: LT225/75R16E | J105: 195/75R16C
...

Sheet A (Item 3-EV)
A1: ='A (Item 2-G)'!$A$1 -> GROUP 40524-23254, SCHOOL BUSES (Statewide) Attachment 1 - Specifications and Pricing (Revised October 15, 2026)
A2: PC69861 Leonard Bus Sales, Inc.
A3: LOT A (Item 3-EV)
A4: Type A-2, DRW, Cutaway, 4 Rows (Electric; Minimum 20 Pupils)
A6: PART 1: Product information for the Base Item(s) Awarded | F6: Ford E-Series / Trans Tech | H6: GreenPower / GreenPower
A7: Category | B7: Information provided in Yellow Cells | F7: Electric | H7: Electric
A8: Propulsion System | B8: Information identifying the Make and Model propulsion system offered. | F8: MOTIV EPIC4 | H8: GreenPower 118kWh battery storage system powering a 150kW Dana TM4 electric motor.
A9: NYS DOT Approval Number | B9: The NYS DOT Approval Number for the School Bus. Only School Buses approved by NYS DOT Passenger Carrier Safety Bureau for use as 2022 and newer Models, as indicated by a NYS DOT Approval Number, shall be delivered pursuant to the Contract. | F9: 310-NY-20-00WC-TTB | H9: 001-NY-20-00WC-GPM
A10: Chassis Make | B10: The OEM company name of a Chassis. | F10: Ford | H10: GreenPower Motor
A11: Chassis Model | B11: The Model name of the Chassis. | F11: E-450 | H11: Nano BEAST
A12: Chassis Model Code | B12: The OEM code used to identify the subset of the Chassis Model. | F12: E4F | H12: EV Star CC
A13: Body Make | B13: The OEM company name of a Body. | F13: TRANS TECH | H13: GreenPower Motor
A14: Body Model | B14: The Model name of the Body. | F14: SST | H14: Nano BEAST
A15: Body Model Code | B15: The OEM code used to identify the subset of the Body Model. | F15: SE158DSSA509-EVM | H15: Nano BEAST
A16: Pick Up Allowance | B16: The dollar amount, per School Bus, that will be deducted from the Base Item NYS Contract Price, if the Authorized User elects to pick up the School Bus at the Contractor's location. | F16: 0 | H16: 0
A17: Delivery Time | B17: The estimated delivery time for the School Bus, expressed in number of calendar days, required to make delivery after receipt of a final Purchase Order (After Receipt of Order (“ARO”)). | F17: 240-360 | H17: 180-300
A19: PART 2: Pricing for the Base Item, Additional Body Section, and Additional Options | F19: Ford E-Series / Trans Tech | H19: GreenPower / GreenPower
A20: Category | B20: Information provided in Yellow Cells | F20: Electric | H20: Electric
A21: Base Item NYS Contract Price | B21: The per unit NYS Contract Price (dollar amount) for the School Bus described in the Base Item Specifications. The Base Item NYS Contract Price includes any OEM fees, all customs duties and charges, all vehicle preparation and clean-up charges, NYS DOT inspection, installation charges, delivery and all other incidentals normally included with providing a School Bus, but excludes Optional Equipment, Additional Body Section(s), and Additional Options. | F21: =247469*('PPI Adj'!D6) -> 288796.32 | H21: =251250*('PPI Adj'!D6) -> 293208.75
A22: Additional Body Section NYS Contract Price | B22: The per unit NYS Contract Price (dollar amount) for adding one (1) Additional Body Section, excluding seats and other interior features, to the Base Item and the applicable Base Item NYS Contract Price. | F22: =392*('PPI Adj'!D6) -> 457.464 | H22: Not Available
A23: Additional Options NYS Discount | B23: The minimum percentage amount that shall be deducted from the MSRP for all Additional Options purchased under the Contract for this Item. | F23: 5 | H23: 5
A25: PART 3: Base Item Specifications | F25: Ford E-Series / Trans Tech | H25: GreenPower / GreenPower
A26: Category | B26: Specification | C26: Information provided in Yellow Cells | F26: Electric | H26: Electric
A27: General | B27: A conversion School Bus constructed using a cutaway front-section vehicle with a left side driver’s door, with a GVWR equal to or greater than 10,001 pounds and less than or equal to 21,500 pounds. | C27: Gross Vehicle Weight Rating (GVWR) [lbs]: | F27: 14500 | H27: 14300
A28: Capacity | B28: Minimum four (4) rows for twenty (20) Pupils. | C28: Number of rows: | F28: 5 | H28: 5
C29: Number of Pupils: | F29: 20 | H29: 20
A30: Rear Wheels | B30: Dual Rear Wheel (DRW)
A31: Dimensions | C31: Wheelbase [inches]: | F31: 158 | H31: 170.25"
C32: Length (bumper to bumper) [inches]: | F32: 263 | H32: 295.27"
C33: Body width (inside) [inches]: | F33: 90 | H33: 84"
C34: Body headroom (standard) [inches]: | F34: 75 | H34: 79"
C35: Cowl to rear axle length [inches]: | F35: 193 | H35: 86"
A36: Front Axle | C36: Gross Axle Weight Rating (GAWR) [lbs]: | F36: 5000 | H36: 5,000 lbs.
C37: Front axle capacity [lbs]: | F37: 5000 | H37: 5,000 lbs.
A38: Rear Axle | C38: Gross Axle Weight Rating (GAWR) [lbs]: | F38: 9600 | H38: 9,330 lbs.
C39: Rear axle capacity [lbs]: | F39: 9600 | H39: 9,330 lbs.
A40: Steering | B40: Power steering
A41: Tires | B41: Tires shall meet the minimum requirements for the Chassis Model, as published by the Chassis manufacturer. | C41: Front radial tires size (load range letter) | F41: LT225/75R16E BSW A/S | H41: LT 215/75R 17.5 (H)
C42: Front radial tires capacity | F42: 2680 (Single) | H42: 3,860 lbs.
C43: Rear radial tires size (load range letter) | F43: LT225/75R16E BSW A/S | H43: LT 215/75R 17.5 (H)
C44: Rear radial tires capacity | F44: 2470 (Dual) | H44: 3,530 lbs.
C45: Front Tires Option Code: | F45: FORD T68 | H45: None
C46: Front Tires Make & Tread Designation: | F46: Hankook DynaPro HT | H46: Pirelli 127/124 M
C47: Rear Tires Option Code: | F47: FORD T68 | H47: None
C48: Rear Tires Make & Tread Designation: | F48: Hankook DynaPro HT | H48: Pirelli 127/124 M
A49: Transmission | B49: Automatic transmission | C49: Number of forward gears: | F49: 1 | H49: 1
C50: Gears direct or w/O.D.?: | F50: DIRECT DRIVE | H50: Direct
C51: Option Code, Make & Model: | F51: N/A | H51: N/A
A52: Propulsion System | B52: Propulsion system which furnishes high-wattage electric power to the motor(s), that propels the vehicle forward or backward, and is sometimes referred to as the “main or power drive circuitry.” | C52: Vehicle range on full charge [miles]: | F52: 105 MILES | H52: 120
A53: Battery(ies) | C53: Number of Batteries: | F53: 3 | H53: 2
C54: Type of Batteries: | F54: Lithium Ion | H54: Lithuim Iron Phosphate
C55: System Design Voltage: | F55: 410V | H55: 576 Volts
A56: Electrical | B56: Units shall have headlights turned on when the propulsion system is on.
A57: Electrical | B57: Driver's compartment dome light shall be so directed to provide illumination for the bus driver and be controlled by an independent switch.
A58: Electrical | B58: All exterior lamps, except headlamps, shall be Light Emitting Diode (LED) design that meet applicable SAE standards.
A59: Horns | B59: An electrical horn(s) shall be provided that meets SAE standard J377.
A60: Door (Entrance) | C60: Type and clear width [inches]: | F60: BIFOLD, 24X76 | H60: ELECTRIC OUTWARD OPENING, 34"
A61: Mirrors | B61: The exterior driving mirrors shall be the heated defrosting type with their own switch and pilot light. Crossview mirrors shall be provided at front corners of each bus.
A62: Seating | B62: Manufacturer's standard or optional seat spacing that meets or exceeds the NYCRR minimum requirement for the respective class of School Bus with the minimum Pupil capacity stated above.
A63: Seatbelt (ambulatory) | B63: Seat belts shall be provided for each individual seating space. Seat belts shall meet current federal safety standards and shall be of a type approved by, and installed in accordance with, the rules and regulations established by NYS DOT in subdivision five (5) of section three-hundred eighty-three (383) of the New York State Vehicle and Traffic Laws dated July 30, 1986 and NYCRR, Title 17, Part 720, or the latest revision thereof.
A64: Stop Arm(s) (Power) | B64: Shall be entrance-door activated, electric or air-positioning type, and be provided streetside on all School Buses. It shall be compliant with FMVSS (49 CFR 571.131). | C64: Make & Model: | F64: SAFE FLEET, DEFENDER COMPOSITE, SC2-600-100 | H64: First Light Safety 100947-000
A65: "School Bus" Signs | B65: Both front and rear shall comply with Article 9, Section 375.20 of the New York State Vehicle and Traffic Law.
A66: 8 Lamp Warning System (School Bus) | B66: Shall be compliant with SAE J887. | C66: Make & Model: | F66: SoundOff Signal E756IEB0A-FA E756IEBOR-FA | H66: GreenPower Programmable Logic Controller
A67: Exterior Reflective Markings | B67: All units with a capacity of ten (10) or more Pupils shall be equipped with exterior reflective markings as required by FMVSS (49 CFR 571.217) and NYCRR (Title 15, Department of Motor Vehicles, Part D, 46.12).
A68: Floor | B68: Manufacturer's standard insulated floor design shall be provided throughout the School Bus.
A69: Heaters | B69: Minimum passenger compartment heating shall meet the requirements of NYCRR, Title 17, Part 720.4(I) Heaters, or the latest revision thereof. | C69: Provide information on power source for heater unit(s). (Propulsion Battery(ies), Auxiliary Battery(ies) or Fuel Source) | F69: MOTIV PTC 20,500 BTU (6KW) HEATER | H69: PROPULSION BATTERIES
A70: Door (Rear Emergency Exit) | B70: Shall include lower glass.
A72: PART 4: Optional Equipment NYS Contract Pricing | F72: Ford E-Series / Trans Tech | H72: GreenPower / GreenPower
A73: Optional Equipment (see Specifications and Equipment Provided below) | F73: Electric | H73: Electric
A74: Capacity - Add One (1) Row of Seating | F74: Not Available | H74: Not Available
A75: Capacity - Delete One (1) Row of Seating | F75: =-1137*('PPI Adj'!D6) -> -1326.879 | H75: =-1378.3*('PPI Adj'!D6) -> -1608.4761
A76: Child Presence Check / Alarm | F76: =379.4*('PPI Adj'!D6) -> 442.7598 | H76: Included in Base Item
A77: Glass (Tinted) | F77: Included in Base Item | H77: Included in Base Item
A78: Rear Axle, "No Spin" | F78: Included in Base Item | H78: Included in Base Item
A79: Tires (Snow) | F79: =1918*('PPI Adj'!D6) -> 2238.306 | H79: Included in Base Item
A80: Tires (All-Season) | F80: Included in Base Item | H80: Included in Base Item
A81: Floor With Recessed Wheelchair Restraint Track For One Wheelchair Station. | F81: =1086.6*('PPI Adj'!D6) -> 1268.0622 | H81: =2000*('PPI Adj'!D6) -> 2334
A82: Floor (Flat) With Recessed Wheelchair Track Throughout Entire Body | F82: =5798.8*('PPI Adj'!D6) -> 6767.1996 | H82: =11900*('PPI Adj'!D6) -> 13887.3
A83: Wheelchair Lift | F83: =6498.8*('PPI Adj'!D6) -> 7584.0996 | H83: =6600.01*('PPI Adj'!D6) -> 7702.2117
A84: Roof Ventilator / Emergency Exit | F84: =544.6*('PPI Adj'!D6) -> 635.5482 | H84: Included in Base Item
A85: White Roof | F85: =1111.6*('PPI Adj'!D6) -> 1297.2372 | H85: Included in Base Item
A86: Crossing Arm | F86: =616*('PPI Adj'!D6) -> 718.872 | H86: =580.01*('PPI Adj'!D6) -> 676.87167
A87: Additional Passenger Area Heater (Under Passenger Seat) | F87: 0 | H87: =700*('PPI Adj'!D6) -> 816.9
A88: Vandal Lock | F88: =329*('PPI Adj'!D6) -> 383.943 | H88: Included in Base Item
A89: Air Conditioning | F89: =6454*('PPI Adj'!D6) -> 7531.818 | H89: Included in Base Item
A90: School Bus Safety Camera | F90: =3055*('PPI Adj'!D6) -> 3565.185 | H90: =3199.99*('PPI Adj'!D6) -> 3734.3883
A91: Multifunction School Activity Bus | F91: =-929*('PPI Adj'!D6) -> -1084.143 | H91: =-2142.86*('PPI Adj'!D6) -> -2500.7176
A93: PART 4: Optional Equipment Specifications | F93: Ford E-Series / Trans Tech | H93: GreenPower / GreenPower
A94: Optional Equipment | B94: Specification | C94: Information provided in Yellow Cells | F94: Electric | H94: Electric
A95: Capacity - Add One (1) Row of Seating | B95: Add one (1) row of seating to an Additional Body Section that has been added to the Base Item. | F95: Not Available | H95: Not Available
A96: Capacity - Delete One (1) Row of Seating | B96: Delete one (1) full row of seating (both left and right sides) without removing a Body section from the Base Item, or altering the spacing between the remaining seats.
A97: Child Presence Check / Alarm | B97: Shall be the Child Check-mate System Model EP 2, or Compatible Equivalent. | C97: Make & Model: | F97: CHILD-CHECK MATE EP2 | H97: ChildCheck Mate EP 2
A98: Glass (Tinted) | B98: The School Bus windshield and Body windows shall have the manufacturer's typical options that provide tinted glass windows throughout the vehicle and shall comply with Article 9, Section 375.12a. of the New York State Vehicle and Traffic Law. | F98: Included in Base Item | H98: Included in Base Item
A99: Rear Axle, "No Spin" | B99: The manufacturer’s standard device (e.g., power-lock, limited-slip, no-spin, positive-traction). | C99: Type of device: | F99: ESC | H99: Traction Control
A100: Tires (Snow) | B100: Snow tread tires shall be provided on all drive wheels. Tires shall be Federal class D/A, STC (with snow traction capability), or class S/T, or A/T, AP with STC, or other class with STC. The price entered for this Optional Equipment shall be for four (4) tires. Tires furnished on the rear wheels shall be the same size and adequate for axle's GAWR. | C100: Rear radial tires size (load range letter) | F100: LT225/75R16E | H100: LT 215/75R 17.5F
C101: Rear radial tires capacity | F101: 2470 (Dual) | H101: 3530
C102: Rear Tires Option Code: | F102: 02-0042 | H102: 316080
C103: Rear Tires Make & Tread Designation: | F103: FIRESTONE WINTER FORCE | H103: TOYO M608Z
A104: Tires (All-Season) | B104: All-season tread, tubeless, radial tires having a Federal class designation S/T or STC shall be provided. Tires shall be Michelin LTX M/S, or LTX M/S Commercial, or XPS Traction tread series, or Compatible Equivalent. The price entered for this Optional Equipment shall be for six (6) tires. Tires furnished on the rear wheels shall be the same size and adequate for axle's GAWR. | C104: Front radial tires size (load range letter) | F104: LT225/75R16E | H104: LT 215/75R 17.5 (H)
C105: Front radial tires capacity | F105: 2680 (Single) | H105: 3860
...

Sheet A (Item 4-G)
A1: ='A (Item 2-G)'!$A$1 -> GROUP 40524-23254, SCHOOL BUSES (Statewide) Attachment 1 - Specifications and Pricing (Revised October 15, 2026)
A2: ='Attachment 1 - Summary'!B2 -> PC69861 Leonard Bus Sales, Inc.
A3: LOT A (Item 4-G)
A4: Type A-2, DRW, Cutaway, 4 Rows (Gasoline; Minimum 24 Pupils)
A6: PART 1: Product information for the Base Item(s) Awarded | F6: GM / Trans Tech | H6: Ford E-Series / Trans Tech
A7: Category | B7: Information provided in Yellow Cells | F7: Gasoline | H7: Gasoline
A8: Engine | B8: Information identifying the engine for the fuel type offered. | F8: OEM L8T 6.6L V8, 401HP & 464 LB-FT TORQUE | H8: 99N - 7.3L V8, PREMIUM RATED, 325HP & 450 LB-FT TORQUE
A9: NYS DOT Approval Number | B9: The NYS DOT Approval Number for the School Bus. Only School Buses approved by NYS DOT Passenger Carrier Safety Bureau for use as 2022 and newer Models, as indicated by a NYS DOT Approval Number, shall be delivered pursuant to the Contract. | F9: 175-NY-24-00WC-TTB | H9: 309-NY-24-00WC-TTB
A10: Chassis Make | B10: The OEM company name of a Chassis. | F10: GM | H10: Ford
A11: Chassis Model | B11: The Model name of the Chassis. | F11: 3500 | H11: E-350
A12: Chassis Model Code | B12: The OEM code used to identify the subset of the Chassis Model. | F12: CG33503 | H12: E3F
A13: Body Make | B13: The OEM company name of a Body. | F13: TRANS TECH | H13: TRANS TECH
A14: Body Model | B14: The Model name of the Body. | F14: SST | H14: SST
A15: Body Model Code | B15: The OEM code used to identify the subset of the Body Model. | F15: SC139DSSA409 | H15: SE158DSSA600
A16: Pick Up Allowance | B16: The dollar amount, per School Bus, that will be deducted from the Base Item NYS Contract Price, if the Authorized User elects to pick up the School Bus at the Contractor's location. | F16: 0 | H16: 0
A17: Delivery Time | B17: The estimated delivery time for the School Bus, expressed in number of calendar days, required to make delivery after receipt of a final Purchase Order (After Receipt of Order (“ARO”)). | F17: 180-300 | H17: 180-300
A19: PART 2: Pricing for the Base Item, Additional Body Section, and Additional Options | F19: GM / Trans Tech | H19: Ford E-Series / Trans Tech
A20: Category | B20: Information provided in Yellow Cells | F20: Gasoline | H20: Gasoline
A21: Base Item NYS Contract Price | B21: The per unit NYS Contract Price (dollar amount) for the School Bus described in the Base Item Specifications. The Base Item NYS Contract Price includes any OEM fees, all customs duties and charges, all vehicle preparation and clean-up charges, NYS DOT inspection, installation charges, delivery and all other incidentals normally included with providing a School Bus, but excludes Optional Equipment, Additional Body Section(s), and Additional Options. | F21: =68114*('PPI Adj'!D6) -> 79489.038 | H21: =75225*('PPI Adj'!D6) -> 87787.575
A22: Additional Body Section NYS Contract Price | B22: The per unit NYS Contract Price (dollar amount) for adding one (1) Additional Body Section, excluding seats and other interior features, to the Base Item and the applicable Base Item NYS Contract Price. | F22: =483*('PPI Adj'!D6) -> 563.661 | H22: Not Available
A23: Additional Options NYS Discount | B23: The minimum percentage amount that shall be deducted from the MSRP for all Additional Options purchased under the Contract for this Item. | F23: 5 | H23: 5
A25: PART 3: Base Item Specifications | F25: GM / Trans Tech | H25: Ford E-Series / Trans Tech
A26: Category | B26: Specification | C26: Information provided in Yellow Cells | F26: Gasoline | H26: Gasoline
A27: General | B27: A conversion School Bus constructed using a cutaway front-section vehicle with a left side driver’s door, with a GVWR equal to or greater than 10,001 pounds and less than or equal to 21,500 pounds. | C27: Gross Vehicle Weight Rating (GVWR) [lbs]: | F27: 12300 | H27: 12500
A28: Capacity | B28: Minimum four (4) rows for twenty-four (24) Pupils. | C28: Number of rows: | F28: 4 | H28: 4
C29: Number of Pupils: | F29: 24C/16A | H29: 24C/16A
A30: Rear Wheels | B30: Dual Rear Wheel (DRW)
A31: Dimensions | C31: Wheelbase [inches]: | F31: 139 | H31: 158
C32: Length (bumper to bumper) [inches]: | F32: 242 | H32: 281
C33: Body width (inside) [inches]: | F33: 90 | H33: 90
C34: Body headroom (standard) [inches]: | F34: 75 | H34: 75
C35: Cowl to rear axle length [inches]: | F35: 178 | H35: 193
A36: Front Axle | C36: Gross Axle Weight Rating (GAWR) [lbs]: | F36: 4300 | H36: 4600
C37: Front axle capacity [lbs]: | F37: 4300 | H37: 4600
A38: Rear Axle | C38: Gross Axle Weight Rating (GAWR) [lbs]: | F38: 8600 | H38: 8500
C39: Rear axle capacity [lbs]: | F39: 8600 | H39: 8500
A40: Steering | B40: Power steering
A41: Tires | B41: Tires shall meet the minimum requirements for the Chassis Model, as published by the Chassis manufacturer. | C41: Front radial tires size (load range letter) | F41: LT225/75R16E | H41: LT225/75R16E BSW A/S
C42: Front radial tires capacity | F42: 2680 (Single) | H42: 2680 (Single)
C43: Rear radial tires size (load range letter) | F43: LT225/75R16E | H43: LT225/75R16E BSW A/S
C44: Rear radial tires capacity | F44: 2470 (Dual) | H44: 2470 (Dual)
C45: Front Tires Option Code: | F45: GM XHF | H45: FORD T68
C46: Front Tires Make & Tread Designation: | F46: All Season | H46: Hankook DynaPro HT
C47: Rear Tires Option Code: | F47: GM YHF | H47: FORD T68
C48: Rear Tires Make & Tread Designation: | F48: All Season | H48: Hankook DynaPro HT
A49: Transmission | B49: Automatic transmission | C49: Number of forward gears: | F49: 6-Speed Automatic | H49: 6-Speed Automatic
C50: Gears direct or w/O.D.?: | F50: w/O.D. | H50: w/O.D.
C51: Option Code, Make & Model: | F51: GM MYD | H51: FORD 44P
A52: Engine | B52: Engine shall have a manufacturer's standard water cooled engine complete with accessories, as called for under classification. Engine shall develop full-rated torque and horsepower without requiring the use of premium grade fuel for any condition of operation. If a Diesel engine is offered, it shall develop full-rated torque and horsepower with the use of both ultra low sulfur grade diesel fuel and renewable diesel fuel.
A53: Alternator | B53: Alternator shall be of the integrally-rectified type, with an SAE continuous ampere output rating that is capable of at least powering all electrical devices energized simultaneously and an additional output of ten (10) or more amperes; and shall be driven by a single serpentine belt (or equivalent) or gear driven, and shall have full-transistor type voltage regulators. Wiring harness sizes shall be not less than the alternator manufacturer's recommendations. | C53: Option Code, Make & Model: | F53: GM KW5 | H53: FORD 63O
C54: Capacity [amps]: | F54: 220 | H54: 220
A55: Battery(ies) | C55: Model or Option Code: | F55: TP3 | H55: 634
C56: Number of batteries: | F56: 2 | H56: 2
C57: CCA of each battery: | F57: 770 | H57: 760
A58: Electrical | B58: Units shall have headlights turned on when the engine is running.
A59: Electrical | B59: Driver's compartment dome light shall be so directed to provide illumination for the bus driver and be controlled by an independent switch.
A60: Electrical | B60: All exterior lamps, except headlamps, shall be Light Emitting Diode (LED) design that meet applicable SAE standards.
A61: Horns | B61: An electrical horn(s) shall be provided that meets SAE standard J377.
A62: Door (Entrance) | C62: Type and clear width [inches]: | F62: BIFOLD, 24X76 | H62: BIFOLD, 24X76
A63: Fuel Tank(s) | B63: Gasoline and diesel engines Base Items shall have a Thirty (30) gallon fuel capacity. LPG and CNG shall have the minimum construction and protection required by NFPA. | C63: Capacity [gallons]: | F63: 32 | H63: 40
A64: Mirrors | B64: The exterior driving mirrors shall be the heated defrosting type with their own switch and pilot light. Crossview mirrors shall be provided at front corners of each bus.
A65: Seating | B65: Manufacturer's standard or optional seat spacing that meets or exceeds the NYCRR minimum requirement for the respective class of School Bus with the minimum Pupil capacity stated above.
A66: Seatbelt (ambulatory) | B66: Seat belts shall be provided for each individual seating space. Seat belts shall meet current federal safety standards and shall be of a type approved by, and installed in accordance with, the rules and regulations established by NYS DOT in subdivision five (5) of section three-hundred eighty-three (383) of the New York State Vehicle and Traffic Laws dated July 30, 1986 and NYCRR, Title 17, Part 720, or the latest revision thereof.
A67: Stop Arm(s) (Power) | B67: Shall be entrance-door activated, electric or air-positioning type, and be provided streetside on all School Buses. It shall be compliant with FMVSS (49 CFR 571.131). | C67: Make & Model: | F67: SAFE FLEET, DEFENDER COMPOSITE, SC2-600-100 | H67: SAFE FLEET, DEFENDER COMPOSITE, SC2-600-100
A68: "School Bus" Signs | B68: Both front and rear shall comply with Article 9, Section 375.20 of the New York State Vehicle and Traffic Law.
A69: 8 Lamp Warning System (School Bus) | B69: Shall be compliant with SAE J887. | C69: Make & Model: | F69: SoundOff Signal E756IEB0A-FA E756IEBOR-FA | H69: SoundOff Signal E756IEB0A-FA E756IEBOR-FA
A70: Exterior Reflective Markings | B70: All units with a capacity of ten (10) or more Pupils shall be equipped with exterior reflective markings as required by FMVSS (49 CFR 571.217) and NYCRR (Title 15, Department of Motor Vehicles, Part D, 46.12).
A71: Floor | B71: Manufacturer's standard insulated floor design shall be provided throughout the School Bus.
A72: Heaters | B72: Minimum passenger compartment heating shall meet the requirements of NYCRR, Title 17, Part 720.4(I) Heaters, or the latest revision thereof.
A73: Door (Rear Emergency Exit) | B73: Shall include lower glass.
A75: PART 4: Optional Equipment NYS Contract Pricing | F75: GM / Trans Tech | H75: Ford E-Series / Trans Tech
A76: Optional Equipment (see Specifications and Equipment Provided below) | F76: Gasoline | H76: Gasoline
A77: Capacity - Add One (1) Row of Seating | F77: =1610*('PPI Adj'!D6) -> 1878.87 | H77: Not Available
A78: Capacity - Delete One (1) Row of Seating | F78: =-1124*('PPI Adj'!D6) -> -1311.708 | H78: =-1324*('PPI Adj'!D6) -> -1545.108
A79: Child Presence Check / Alarm | F79: =379.4*('PPI Adj'!D6) -> 442.7598 | H79: =379.4*('PPI Adj'!D6) -> 442.7598
A80: Glass (Tinted) | F80: Included in Base Item | H80: Included in Base Item
A81: Rear Axle, "No Spin" | F81: =413*('PPI Adj'!D6) -> 481.971 | H81: =343*('PPI Adj'!D6) -> 400.281
A82: Tires (Snow) | F82: =1918*('PPI Adj'!D6) -> 2238.306 | H82: =1918*('PPI Adj'!D6) -> 2238.306
A83: Tires (All-Season) | F83: Included in Base Item | H83: Included in Base Item
A84: Floor With Recessed Wheelchair Restraint Track For One Wheelchair Station. | F84: =1083.6*('PPI Adj'!D6) -> 1264.5612 | H84: =1083.6*('PPI Adj'!D6) -> 1264.5612
A85: Floor (Flat) With Recessed Wheelchair Track Throughout Entire Body | F85: =4527.6*('PPI Adj'!D6) -> 5283.7092 | H85: =5117*('PPI Adj'!D6) -> 5971.539
A86: Wheelchair Lift | F86: =6498.8*('PPI Adj'!D6) -> 7584.0996 | H86: =6498.8*('PPI Adj'!D6) -> 7584.0996
A87: Roof Ventilator / Emergency Exit | F87: =544.6*('PPI Adj'!D6) -> 635.5482 | H87: =544.6*('PPI Adj'!D6) -> 635.5482
A88: White Roof | F88: =1111.6*('PPI Adj'!D6) -> 1297.2372 | H88: =1111.6*('PPI Adj'!D6) -> 1297.2372
A89: Crossing Arm | F89: =616*('PPI Adj'!D6) -> 718.872 | H89: =616*('PPI Adj'!D6) -> 718.872
A90: Additional Passenger Area Heater (Under Passenger Seat) | F90: 0 | H90: 0
A91: Auxiliary Engine Coolant Heater | F91: Not Available | H91: Not Available
A92: Vandal Lock | F92: =329*('PPI Adj'!D6) -> 383.943 | H92: =329*('PPI Adj'!D6) -> 383.943
A93: Air Conditioning | F93: =3977*('PPI Adj'!D6) -> 4641.159 | H93: =4012*('PPI Adj'!D6) -> 4682.004
A94: School Bus Safety Camera | F94: =3055*('PPI Adj'!D6) -> 3565.185 | H94: =3055*('PPI Adj'!D6) -> 3565.185
A95: Delete Exterior LED Lamps | F95: 0 | H95: 0
A96: Multifunction School Activity Bus | F96: =-929*('PPI Adj'!D6) -> -1084.143 | H96: =-929*('PPI Adj'!D6) -> -1084.143
A98: PART 4: Optional Equipment Specifications | F98: GM / Trans Tech | H98: Ford E-Series / Trans Tech
A99: Optional Equipment | B99: Specification | C99: Information provided in Yellow Cells | F99: Gasoline | H99: Gasoline
A100: Capacity - Add One (1) Row of Seating | B100: Add one (1) row of seating to an Additional Body Section that has been added to the Base Item.
A101: Capacity - Delete One (1) Row of Seating | B101: Delete one (1) full row of seating (both left and right sides) without removing a Body section from the Base Item, or altering the spacing between the remaining seats.
A102: Child Presence Check / Alarm | B102: Shall be the Child Check-mate System Model EP 2, or Compatible Equivalent. | C102: Make & Model: | F102: CHILD-CHECK MATE EP2 | H102: CHILD-CHECK MATE EP2
A103: Glass (Tinted) | B103: The School Bus windshield and Body windows shall have the manufacturer's typical options that provide tinted glass windows throughout the vehicle and shall comply with Article 9, Section 375.12a. of the New York State Vehicle and Traffic Law.
A104: Rear Axle, "No Spin" | B104: The manufacturer’s standard device (e.g., power-lock, limited-slip, no-spin, positive-traction). | C104: Type of device: | F104: LIMITED SLIP, GM G80 | H104: LIMITED SLIP, XF3
A105: Tires (Snow) | B105: Snow tread tires shall be provided on all drive wheels. Tires shall be Federal class D/A, STC (with snow traction capability), or class S/T, or A/T, AP with STC, or other class with STC. The price entered for this Optional Equipment shall be for four (4) tires. Tires furnished on the rear wheels shall be the same size and adequate for axle's GAWR. | C105: Rear radial tires size (load range letter) | F105: LT225/75R16E | H105: LT225/75R16E
...

Sheet A (Item 4-EV)
A1: ='A (Item 2-G)'!$A$1 -> GROUP 40524-23254, SCHOOL BUSES (Statewide) Attachment 1 - Specifications and Pricing (Revised October 15, 2026)
A2: PC69861 Leonard Bus Sales, Inc.
A3: LOT A (Item 4-EV)
A4: Type A-2, DRW, Cutaway, 4 Rows (Electric; Minimum 24 Pupils)
A6: PART 1: Product information for the Base Item(s) Awarded | F6: GreenPower
A7: Category | B7: Information provided in Yellow Cells | F7: Electric
A8: Propulsion System | B8: Information identifying the Make and Model propulsion system offered. | F8: GreenPower 118kWh battery storage system powering a 150kW Dana TM4 electric motor.
A9: NYS DOT Approval Number | B9: The NYS DOT Approval Number for the School Bus. Only School Buses approved by NYS DOT Passenger Carrier Safety Bureau for use as 2022 and newer Models, as indicated by a NYS DOT Approval Number, shall be delivered pursuant to the Contract. | F9: 003-NY-24-00WC-GPM
A10: Chassis Make | B10: The OEM company name of a Chassis. | F10: GreenPower Motor
A11: Chassis Model | B11: The Model name of the Chassis. | F11: Nano BEAST
A12: Chassis Model Code | B12: The OEM code used to identify the subset of the Chassis Model. | F12: EV Star CC
A13: Body Make | B13: The OEM company name of a Body. | F13: GreenPower Motor
A14: Body Model | B14: The Model name of the Body. | F14: Nano BEAST
A15: Body Model Code | B15: The OEM code used to identify the subset of the Body Model. | F15: Nano BEAST
A16: Pick Up Allowance | B16: The dollar amount, per School Bus, that will be deducted from the Base Item NYS Contract Price, if the Authorized User elects to pick up the School Bus at the Contractor's location. | F16: 0
A17: Delivery Time | B17: The estimated delivery time for the School Bus, expressed in number of calendar days, required to make delivery after receipt of a final Purchase Order (After Receipt of Order (“ARO”)). | F17: 180-300
A19: PART 2: Pricing for the Base Item, Additional Body Section, and Additional Options | F19: GreenPower
A20: Category | B20: Information provided in Yellow Cells | F20: Electric
A21: Base Item NYS Contract Price | B21: The per unit NYS Contract Price (dollar amount) for the School Bus described in the Base Item Specifications. The Base Item NYS Contract Price includes any OEM fees, all customs duties and charges, all vehicle preparation and clean-up charges, NYS DOT inspection, installation charges, delivery and all other incidentals normally included with providing a School Bus, but excludes Optional Equipment, Additional Body Section(s), and Additional Options. | F21: =253500*('PPI Adj'!D6) -> 295834.5
A22: Additional Body Section NYS Contract Price | B22: The per unit NYS Contract Price (dollar amount) for adding one (1) Additional Body Section, excluding seats and other interior features, to the Base Item and the applicable Base Item NYS Contract Price. | F22: Not Available
A23: Additional Options NYS Discount | B23: The minimum percentage amount that shall be deducted from the MSRP for all Additional Options purchased under the Contract for this Item. | F23: 5
A25: PART 3: Base Item Specifications | F25: GreenPower
A26: Category | B26: Specification | C26: Information provided in Yellow Cells | F26: Electric
A27: General | B27: A conversion School Bus constructed using a cutaway front-section vehicle with a left side driver’s door, with a GVWR equal to or greater than 10,001 pounds and less than or equal to 21,500 pounds. | C27: Gross Vehicle Weight Rating (GVWR) [lbs]: | F27: 14300
A28: Capacity | B28: Minimum four (4) rows for twenty-four (24) Pupils. | C28: Number of rows: | F28: 5
C29: Number of Pupils: | F29: 20
A30: Rear Wheels | B30: Dual Rear Wheel (DRW)
A31: Dimensions | C31: Wheelbase [inches]: | F31: 170.25"
C32: Length (bumper to bumper) [inches]: | F32: 295.27"
C33: Body width (inside) [inches]: | F33: 84"
C34: Body headroom (standard) [inches]: | F34: 79"
C35: Cowl to rear axle length [inches]: | F35: 86"
A36: Front Axle | C36: Gross Axle Weight Rating (GAWR) [lbs]: | F36: 5,000 lbs.
C37: Front axle capacity [lbs]: | F37: 5,000 lbs.
A38: Rear Axle | C38: Gross Axle Weight Rating (GAWR) [lbs]: | F38: 9,330 lbs.
C39: Rear axle capacity [lbs]: | F39: 9,330 lbs.
A40: Steering | B40: Power steering
A41: Tires | B41: Tires shall meet the minimum requirements for the Chassis Model, as published by the Chassis manufacturer. | C41: Front radial tires size (load range letter) | F41: LT 215/75R 17.5 (H)
C42: Front radial tires capacity | F42: 3,860 lbs.
C43: Rear radial tires size (load range letter) | F43: LT 215/75R 17.5 (H)
C44: Rear radial tires capacity | F44: 3,530 lbs.
C45: Front Tires Option Code: | F45: None
C46: Front Tires Make & Tread Designation: | F46: Pirelli 127/124 M
C47: Rear Tires Option Code: | F47: None
C48: Rear Tires Make & Tread Designation: | F48: Pirelli 127/124 M
A49: Transmission | B49: Automatic transmission | C49: Number of forward gears: | F49: 1
C50: Gears direct or w/O.D.?: | F50: Direct
C51: Option Code, Make & Model: | F51: N/A
A52: Propulsion System | B52: Propulsion system which furnishes high-wattage electric power to the motor(s), that propels the vehicle forward or backward, and is sometimes referred to as the “main or power drive circuitry.” | C52: Vehicle range on full charge [miles]: | F52: 120
A53: Battery(ies) | C53: Number of Batteries: | F53: 2
C54: Type of Batteries: | F54: Lithuim Iron Phosphate
C55: System Design Voltage: | F55: 576 Volts
A56: Electrical | B56: Units shall have headlights turned on when the propulsion system is on.
A57: Electrical | B57: Driver's compartment dome light shall be so directed to provide illumination for the bus driver and be controlled by an independent switch.
A58: Electrical | B58: All exterior lamps, except headlamps, shall be Light Emitting Diode (LED) design that meet applicable SAE standards.
A59: Horns | B59: An electrical horn(s) shall be provided that meets SAE standard J377.
A60: Door (Entrance) | C60: Type and clear width [inches]: | F60: ELECTRIC OUTWARD OPENING, 34"
A61: Mirrors | B61: The exterior driving mirrors shall be the heated defrosting type with their own switch and pilot light. Crossview mirrors shall be provided at front corners of each bus.
A62: Seating | B62: Manufacturer's standard or optional seat spacing that meets or exceeds the NYCRR minimum requirement for the respective class of School Bus with the minimum Pupil capacity stated above.
A63: Seatbelt (ambulatory) | B63: Seat belts shall be provided for each individual seating space. Seat belts shall meet current federal safety standards and shall be of a type approved by, and installed in accordance with, the rules and regulations established by NYS DOT in subdivision five (5) of section three-hundred eighty-three (383) of the New York State Vehicle and Traffic Laws dated July 30, 1986 and NYCRR, Title 17, Part 720, or the latest revision thereof.
A64: Stop Arm(s) (Power) | B64: Shall be entrance-door activated, electric or air-positioning type, and be provided streetside on all School Buses. It shall be compliant with FMVSS (49 CFR 571.131). | C64: Make & Model: | F64: First Light Safety 100947-000
A65: "School Bus" Signs | B65: Both front and rear shall comply with Article 9, Section 375.20 of the New York State Vehicle and Traffic Law.
A66: 8 Lamp Warning System (School Bus) | B66: Shall be compliant with SAE J887. | C66: Make & Model: | F66: GreenPower Programmable Logic Controller
A67: Exterior Reflective Markings | B67: All units with a capacity of ten (10) or more Pupils shall be equipped with exterior reflective markings as required by FMVSS (49 CFR 571.217) and NYCRR (Title 15, Department of Motor Vehicles, Part D, 46.12).
A68: Floor | B68: Manufacturer's standard insulated floor design shall be provided throughout the School Bus.
A69: Heaters | B69: Minimum passenger compartment heating shall meet the requirements of NYCRR, Title 17, Part 720.4(I) Heaters, or the latest revision thereof. | C69: Provide information on power source for heater unit(s). (Propulsion Battery(ies), Auxiliary Battery(ies) or Fuel Source) | F69: PROPULSION BATTERIES
A70: Door (Rear Emergency Exit) | B70: Shall include lower glass.
A72: PART 4: Optional Equipment NYS Contract Pricing | F72: GreenPower
A73: Optional Equipment (see Specifications and Equipment Provided below) | F73: Electric
A74: Capacity - Add One (1) Row of Seating | F74: Not Available
A75: Capacity - Delete One (1) Row of Seating | F75: =-1378.3*('PPI Adj'!D6) -> -1608.4761
A76: Child Presence Check / Alarm | F76: Included in Base Item
A77: Glass (Tinted) | F77: Included in Base Item
A78: Rear Axle, "No Spin" | F78: Included in Base Item
A79: Tires (Snow) | F79: Included in Base Item
A80: Tires (All-Season) | F80: Included in Base Item
A81: Floor With Recessed Wheelchair Restraint Track For One Wheelchair Station. | F81: =2000*('PPI Adj'!D6) -> 2334
A82: Floor (Flat) With Recessed Wheelchair Track Throughout Entire Body | F82: =11900*('PPI Adj'!D6) -> 13887.3
A83: Wheelchair Lift | F83: =6600.01*('PPI Adj'!D6) -> 7702.2117
A84: Roof Ventilator / Emergency Exit | F84: Included in Base Item
A85: White Roof | F85: Included in Base Item
A86: Crossing Arm | F86: =580.01*('PPI Adj'!D6) -> 676.87167
A87: Additional Passenger Area Heater (Under Passenger Seat) | F87: =700*('PPI Adj'!D6) -> 816.9
A88: Vandal Lock | F88: Included in Base Item
A89: Air Conditioning | F89: Included in Base Item
A90: School Bus Safety Camera | F90: =3199.99*('PPI Adj'!D6) -> 3734.3883
A91: Multifunction School Activity Bus | F91: =-2142.86*('PPI Adj'!D6) -> -2500.7176
A93: PART 4: Optional Equipment Specifications | F93: GreenPower
A94: Optional Equipment | B94: Specification | C94: Information provided in Yellow Cells | F94: Electric
A95: Capacity - Add One (1) Row of Seating | B95: Add one (1) row of seating to an Additional Body Section that has been added to the Base Item. | F95: Not Available
A96: Capacity - Delete One (1) Row of Seating | B96: Delete one (1) full row of seating (both left and right sides) without removing a Body section from the Base Item, or altering the spacing between the remaining seats.
A97: Child Presence Check / Alarm | B97: Shall be the Child Check-mate System Model EP 2, or Compatible Equivalent. | C97: Make & Model: | F97: ChildCheck Mate EP 2
A98: Glass (Tinted) | B98: The School Bus windshield and Body windows shall have the manufacturer's typical options that provide tinted glass windows throughout the vehicle and shall comply with Article 9, Section 375.12a. of the New York State Vehicle and Traffic Law. | F98: Included in Base Item
A99: Rear Axle, "No Spin" | B99: The manufacturer’s standard device (e.g., power-lock, limited-slip, no-spin, positive-traction). | C99: Type of device: | F99: Traction Control
A100: Tires (Snow) | B100: Snow tread tires shall be provided on all drive wheels. Tires shall be Federal class D/A, STC (with snow traction capability), or class S/T, or A/T, AP with STC, or other class with STC. The price entered for this Optional Equipment shall be for four (4) tires. Tires furnished on the rear wheels shall be the same size and adequate for axle's GAWR. | C100: Rear radial tires size (load range letter) | F100: LT 215/75R 17.5F
C101: Rear radial tires capacity | F101: 3530
C102: Rear Tires Option Code: | F102: 316080
C103: Rear Tires Make & Tread Designation: | F103: TOYO M608Z
A104: Tires (All-Season) | B104: All-season tread, tubeless, radial tires having a Federal class designation S/T or STC shall be provided. Tires shall be Michelin LTX M/S, or LTX M/S Commercial, or XPS Traction tread series, or Compatible Equivalent. The price entered for this Optional Equipment shall be for six (6) tires. Tires furnished on the rear wheels shall be the same size and adequate for axle's GAWR. | C104: Front radial tires size (load range letter) | F104: LT 215/75R 17.5 (H)
C105: Front radial tires capacity | F105: 3860
...

Sheet A (Item 5-G)
A1: ='A (Item 2-G)'!$A$1 -> GROUP 40524-23254, SCHOOL BUSES (Statewide) Attachment 1 - Specifications and Pricing (Revised October 15, 2026)
A2: PC69861 Leonard Bus Sales, Inc.
A3: LOT A (Item 5-G)
A4: Type A-2, DRW, Cutaway, 5 Rows (Gasoline; Minimum 30 Pupils)
A6: PART 1: Product information for the Base Item(s) Awarded | F6: GM / Trans Tech | H6: Ford E-Series / Trans Tech
A7: Category | B7: Information provided in Yellow Cells | F7: Gasoline | H7: Gasoline
A8: Engine | B8: Information identifying the engine for the fuel type offered. | F8: OEM L8T 6.6L V8, 401HP & 464 LB-FT TORQUE | H8: 99N - 7.3L V8, PREMIUM RATED, 325HP & 450 LB-FT TORQUE
A9: NYS DOT Approval Number | B9: The NYS DOT Approval Number for the School Bus. Only School Buses approved by NYS DOT Passenger Carrier Safety Bureau for use as 2022 and newer Models, as indicated by a NYS DOT Approval Number, shall be delivered pursuant to the Contract. | F9: 200-NY-30-00WC-TTB | H9: 251-NY-30-00WC-TTB
A10: Chassis Make | B10: The OEM company name of a Chassis. | F10: GM | H10: Ford
A11: Chassis Model | B11: The Model name of the Chassis. | F11: 4500 | H11: E-450
A12: Chassis Model Code | B12: The OEM code used to identify the subset of the Chassis Model. | F12: CG33803 | H12: E4F
A13: Body Make | B13: The OEM company name of a Body. | F13: TRANS TECH | H13: TRANS TECH
A14: Body Model | B14: The Model name of the Body. | F14: SST | H14: SST
A15: Body Model Code | B15: The OEM code used to identify the subset of the Body Model. | F15: SC159DSSA509 | H15: SE158DSSA600
A16: Pick Up Allowance | B16: The dollar amount, per School Bus, that will be deducted from the Base Item NYS Contract Price, if the Authorized User elects to pick up the School Bus at the Contractor's location. | F16: 0 | H16: 0
A17: Delivery Time | B17: The estimated delivery time for the School Bus, expressed in number of calendar days, required to make delivery after receipt of a final Purchase Order (After Receipt of Order (“ARO”)). | F17: 180-300 | H17: 180-360
A19: PART 2: Pricing for the Base Item, Additional Body Section, and Additional Options | F19: GM / Trans Tech | H19: Ford E-Series / Trans Tech
A20: Category | B20: Information provided in Yellow Cells | F20: Gasoline | H20: Gasoline
A21: Base Item NYS Contract Price | B21: The per unit NYS Contract Price (dollar amount) for the School Bus described in the Base Item Specifications. The Base Item NYS Contract Price includes any OEM fees, all customs duties and charges, all vehicle preparation and clean-up charges, NYS DOT inspection, installation charges, delivery and all other incidentals normally included with providing a School Bus, but excludes Optional Equipment, Additional Body Section(s), and Additional Options. | F21: =71783*('PPI Adj'!D6) -> 83770.761 | H21: =77312*('PPI Adj'!D6) -> 90223.104
A22: Additional Body Section NYS Contract Price | B22: The per unit NYS Contract Price (dollar amount) for adding one (1) Additional Body Section, excluding seats and other interior features, to the Base Item and the applicable Base Item NYS Contract Price. | F22: =404.6*('PPI Adj'!D6) -> 472.1682 | H22: Not Available
A23: Additional Options NYS Discount | B23: The minimum percentage amount that shall be deducted from the MSRP for all Additional Options purchased under the Contract for this Item. | F23: 5 | H23: 5
A25: PART 3: Base Item Specifications | F25: GM / Trans Tech | H25: Ford E-Series / Trans Tech
A26: Category | B26: Specification | C26: Information provided in Yellow Cells | F26: Gasoline | H26: Gasoline
A27: General | B27: A conversion School Bus constructed using a cutaway front-section vehicle with a left side driver’s door, with a GVWR equal to or greater than 10,001 pounds and less than or equal to 21,500 pounds. | C27: Gross Vehicle Weight Rating (GVWR) [lbs]: | F27: 14200 | H27: 14500
A28: Capacity | B28: Minimum five (5) rows for thirty (30) Pupils. | C28: Number of rows: | F28: 5 | H28: 5
C29: Number of Pupils: | F29: 30C/20A | H29: 30C/20A
A30: Rear Wheels | B30: Dual Rear Wheel (DRW)
A31: Dimensions | C31: Wheelbase [inches]: | F31: 159 | H31: 158
C32: Length (bumper to bumper) [inches]: | F32: 269 | H32: 281
C33: Body width (inside) [inches]: | F33: 90 | H33: 90
C34: Body headroom (standard) [inches]: | F34: 75 | H34: 75
C35: Cowl to rear axle length [inches]: | F35: 199 | H35: 193
A36: Front Axle | C36: Gross Axle Weight Rating (GAWR) [lbs]: | F36: 4600 | H36: 5000
C37: Front axle capacity [lbs]: | F37: 4600 | H37: 5000
A38: Rear Axle | C38: Gross Axle Weight Rating (GAWR) [lbs]: | F38: 9600 | H38: 9600
C39: Rear axle capacity [lbs]: | F39: 9600 | H39: 9600
A40: Steering | B40: Power steering
A41: Tires | B41: Tires shall meet the minimum requirements for the Chassis Model, as published by the Chassis manufacturer. | C41: Front radial tires size (load range letter) | F41: LT225/75R16E | H41: LT225/75R16E BSW A/S
C42: Front radial tires capacity | F42: 2680 (Single) | H42: 2680 (Single)
C43: Rear radial tires size (load range letter) | F43: LT225/75R16E | H43: LT225/75R16E BSW A/S
C44: Rear radial tires capacity | F44: 2470 (Dual) | H44: 2470 (Dual)
C45: Front Tires Option Code: | F45: GM XHF | H45: FORD T68
C46: Front Tires Make & Tread Designation: | F46: All Season | H46: Hankook DynaPro HT
C47: Rear Tires Option Code: | F47: GM YHF | H47: FORD T68
C48: Rear Tires Make & Tread Designation: | F48: All Season | H48: Hankook DynaPro HT
A49: Transmission | B49: Automatic transmission | C49: Number of forward gears: | F49: 6-Speed Automatic | H49: 6-Speed Automatic
C50: Gears direct or w/O.D.?: | F50: w/O.D. | H50: w/O.D.
C51: Option Code, Make & Model: | F51: GM MYD | H51: FORD 44P
A52: Engine | B52: Engine shall have a manufacturer's standard water cooled engine complete with accessories, as called for under classification. Engine shall develop full-rated torque and horsepower without requiring the use of premium grade fuel for any condition of operation. If a Diesel engine is offered, it shall develop full-rated torque and horsepower with the use of both ultra low sulfur grade diesel fuel and renewable diesel fuel.
A53: Alternator | B53: Alternator shall be of the integrally-rectified type, with an SAE continuous ampere output rating that is capable of at least powering all electrical devices energized simultaneously and an additional output of ten (10) or more amperes; and shall be driven by a single serpentine belt (or equivalent) or gear driven, and shall have full-transistor type voltage regulators. Wiring harness sizes shall be not less than the alternator manufacturer's recommendations. | C53: Option Code, Make & Model: | F53: GM KW5 | H53: FORD 63O
C54: Capacity [amps]: | F54: 220 | H54: 220
A55: Battery(ies) | C55: Model or Option Code: | F55: TP3 | H55: 634
C56: Number of batteries: | F56: 2 | H56: 2
C57: CCA of each battery: | F57: 770 | H57: 760
A58: Electrical | B58: Units shall have headlights turned on when the engine is running.
A59: Electrical | B59: Driver's compartment dome light shall be so directed to provide illumination for the bus driver and be controlled by an independent switch.
A60: Electrical | B60: All exterior lamps, except headlamps, shall be Light Emitting Diode (LED) design that meet applicable SAE standards.
A61: Horns | B61: An electrical horn(s) shall be provided that meets SAE standard J377.
A62: Door (Entrance) | C62: Type and clear width [inches]: | F62: BIFOLD, 24X76 | H62: BIFOLD, 24X76
A63: Fuel Tank(s) | B63: Gasoline and diesel engines Base Items shall have a Thirty (30) gallon fuel capacity. LPG and CNG shall have the minimum construction and protection required by NFPA. | C63: Capacity [gallons]: | F63: 32 | H63: 40
A64: Mirrors | B64: The exterior driving mirrors shall be the heated defrosting type with their own switch and pilot light. Crossview mirrors shall be provided at front corners of each bus.
A65: Seating | B65: Manufacturer's standard or optional seat spacing that meets or exceeds the NYCRR minimum requirement for the respective class of School Bus with the minimum Pupil capacity stated above.
A66: Seatbelt (ambulatory) | B66: Seat belts shall be provided for each individual seating space. Seat belts shall meet current federal safety standards and shall be of a type approved by, and installed in accordance with, the rules and regulations established by NYS DOT in subdivision five (5) of section three-hundred eighty-three (383) of the New York State Vehicle and Traffic Laws dated July 30, 1986 and NYCRR, Title 17, Part 720, or the latest revision thereof.
A67: Stop Arm(s) (Power) | B67: Shall be entrance-door activated, electric or air-positioning type, and be provided streetside on all School Buses. It shall be compliant with FMVSS (49 CFR 571.131). | C67: Make & Model: | F67: SAFE FLEET, DEFENDER COMPOSITE, SC2-600-100 | H67: SAFE FLEET, DEFENDER COMPOSITE, SC2-600-100
A68: "School Bus" Signs | B68: Both front and rear shall comply with Article 9, Section 375.20 of the New York State Vehicle and Traffic Law.
A69: 8 Lamp Warning System (School Bus) | B69: Shall be compliant with SAE J887. | C69: Make & Model: | F69: SoundOff Signal E756IEB0A-FA E756IEBOR-FA | H69: SoundOff Signal E756IEB0A-FA E756IEBOR-FA
A70: Exterior Reflective Markings | B70: All units with a capacity of ten (10) or more Pupils shall be equipped with exterior reflective markings as required by FMVSS (49 CFR 571.217) and NYCRR (Title 15, Department of Motor Vehicles, Part D, 46.12).
A71: Floor | B71: Manufacturer's standard insulated floor design shall be provided throughout the School Bus.
A72: Heaters | B72: Minimum passenger compartment heating shall meet the requirements of NYCRR, Title 17, Part 720.4(I) Heaters, or the latest revision thereof.
A73: Door (Rear Emergency Exit) | B73: Shall include lower glass.
A75: PART 4: Optional Equipment NYS Contract Pricing | F75: GM / Trans Tech | H75: Ford E-Series / Trans Tech
A76: Optional Equipment (see Specifications and Equipment Provided below) | F76: Gasoline | H76: Gasoline
A77: Capacity - Add One (1) Row of Seating | F77: =3036.6*('PPI Adj'!D6) -> 3543.7122 | H77: Not Available
A78: Capacity - Delete One (1) Row of Seating | F78: =-1127*('PPI Adj'!D6) -> -1315.209 | H78: =-1124*('PPI Adj'!D6) -> -1311.708
A79: Child Presence Check / Alarm | F79: =379.4*('PPI Adj'!D6) -> 442.7598 | H79: =379.4*('PPI Adj'!D6) -> 442.7598
A80: Glass (Tinted) | F80: Included in Base Item | H80: Included in Base Item
A81: Rear Axle, "No Spin" | F81: =413*('PPI Adj'!D6) -> 481.971 | H81: =203*('PPI Adj'!D6) -> 236.901
A82: Tires (Snow) | F82: =1918*('PPI Adj'!D6) -> 2238.306 | H82: =1918*('PPI Adj'!D6) -> 2238.306
A83: Tires (All-Season) | F83: Included in Base Item | H83: Included in Base Item
A84: Floor With Recessed Wheelchair Restraint Track For One Wheelchair Station. | F84: =1083.6*('PPI Adj'!D6) -> 1264.5612 | H84: =1083.6*('PPI Adj'!D6) -> 1264.5612
A85: Floor (Flat) With Recessed Wheelchair Track Throughout Entire Body | F85: =5660.2*('PPI Adj'!D6) -> 6605.4534 | H85: =5117*('PPI Adj'!D6) -> 5971.539
A86: Wheelchair Lift | F86: =6498.8*('PPI Adj'!D6) -> 7584.0996 | H86: =6498.8*('PPI Adj'!D6) -> 7584.0996
A87: Roof Ventilator / Emergency Exit | F87: =544.6*('PPI Adj'!D6) -> 635.5482 | H87: =544.6*('PPI Adj'!D6) -> 635.5482
A88: White Roof | F88: =1111.6*('PPI Adj'!D6) -> 1297.2372 | H88: =1111.6*('PPI Adj'!D6) -> 1297.2372
A89: Crossing Arm | F89: =616*('PPI Adj'!D6) -> 718.872 | H89: =616*('PPI Adj'!D6) -> 718.872
A90: Additional Passenger Area Heater (Under Passenger Seat) | F90: 0 | H90: 0
A91: Auxiliary Engine Coolant Heater | F91: Not Available | H91: Not Available
A92: Vandal Lock | F92: =329*('PPI Adj'!D6) -> 383.943 | H92: =329*('PPI Adj'!D6) -> 383.943
A93: Air Conditioning | F93: =3977*('PPI Adj'!D6) -> 4641.159 | H93: =4012*('PPI Adj'!D6) -> 4682.004
A94: School Bus Safety Camera | F94: =3055*('PPI Adj'!D6) -> 3565.185 | H94: =3055*('PPI Adj'!D6) -> 3565.185
A95: Delete Exterior LED Lamps | F95: 0 | H95: 0
A96: Multifunction School Activity Bus | F96: =-929*('PPI Adj'!D6) -> -1084.143 | H96: =-929*('PPI Adj'!D6) -> -1084.143
A98: PART 4: Optional Equipment Specifications | F98: GM / Trans Tech | H98: Ford E-Series / Trans Tech
A99: Optional Equipment | B99: Specification | C99: Information provided in Yellow Cells | F99: Gasoline | H99: Gasoline
A100: Capacity - Add One (1) Row of Seating | B100: Add one (1) row of seating to an Additional Body Section that has been added to the Base Item. | H100: Not Available
A101: Capacity - Delete One (1) Row of Seating | B101: Delete one (1) full row of seating (both left and right sides) without removing a Body section from the Base Item, or altering the spacing between the remaining seats.
A102: Child Presence Check / Alarm | B102: Shall be the Child Check-mate System Model EP 2, or Compatible Equivalent. | C102: Make & Model: | F102: CHILD-CHECK MATE EP2 | H102: CHILD-CHECK MATE EP2
A103: Glass (Tinted) | B103: The School Bus windshield and Body windows shall have the manufacturer's typical options that provide tinted glass windows throughout the vehicle and shall comply with Article 9, Section 375.12a. of the New York State Vehicle and Traffic Law. | F103: Included in Base Item | H103: Included in Base Item
A104: Rear Axle, "No Spin" | B104: The manufacturer’s standard device (e.g., power-lock, limited-slip, no-spin, positive-traction). | C104: Type of device: | F104: LIMITED SLIP, GM G80 | H104: LIMITED SLIP; XF3
A105: Tires (Snow) | B105: Snow tread tires shall be provided on all drive wheels. Tires shall be Federal class D/A, STC (with snow traction capability), or class S/T, or A/T, AP with STC, or other class with STC. The price entered for this Optional Equipment shall be for four (4) tires. Tires furnished on the rear wheels shall be the same size and adequate for axle's GAWR. | C105: Rear radial tires size (load range letter) | F105: LT225/75R16E | H105: LT225/75R16E
...

Sheet C (Item 1-D)
A1: ='A (Item 2-G)'!$A$1 -> GROUP 40524-23254, SCHOOL BUSES (Statewide) Attachment 1 - Specifications and Pricing (Revised October 15, 2026)
A2: PC69861 Leonard Bus Sales, Inc.
A3: LOT C (Item 1-D)
A4: Type C, 28 Pupil Conventional Front-Engine Bus (Diesel, Minimum 28 Pupils)
A6: PART 1: Product information for the Base Item(s) Awarded | F6: IC Bus | G6: IC Bus
A7: Category | B7: Information provided in Yellow Cells | F7: Diesel | G7: Gas
A8: Engine | B8: Information identifying the engine for the fuel type offered. | F8: 12ERP, Engine, Diesel Cummins B6.7 220HP | G8: 12DLP, Engine, Gasoline (PSI 8.8L) 265HP
A9: NYS DOT Approval Number | B9: The NYS DOT Approval Number for the School Bus. Only School Buses approved by NYS DOT Passenger Carrier Safety Bureau for use as 2022 and newer Models, as indicated by a NYS DOT Approval Number, shall be delivered pursuant to the Contract. | F9: 1753-NY-30-00WC-ATC | G9: 1753-NY-30-00WC-ATC
A10: Chassis Make | B10: The OEM company name of a Chassis. | F10: IC BUS | G10: IC BUS
A11: Chassis Model | B11: The Model name of the Chassis. | F11: CE | G11: CE
A12: Chassis Model Code | B12: The OEM code used to identify the subset of the Chassis Model. | F12: PB105 | G12: PB105 | I12: `
A13: Body Make | B13: The OEM company name of a Body. | F13: IC BUS | G13: IC BUS
A14: Body Model | B14: The Model name of the Body. | F14: CE | G14: CE
A15: Body Model Code | B15: The OEM code used to identify the subset of the Body Model. | F15: PB105 | G15: PB105
A16: Pick Up Allowance | B16: The dollar amount, per School Bus, that will be deducted from the Base Item NYS Contract Price, if the Authorized User elects to pick up the School Bus at the Contractor's location. | F16: 0 | G16: 0
A17: Delivery Time | B17: The estimated delivery time for the School Bus, expressed in number of calendar days, required to make delivery after receipt of a final Purchase Order (After Receipt of Order (“ARO”)). | F17: 180-300 Days | G17: 180-300 Days
A19: PART 2: Pricing for the Base Item, Additional Body Section, and Additional Options | F19: IC Bus | G19: IC Bus
A20: Category | B20: Information provided in Yellow Cells | F20: Diesel | G20: Gas
A21: Base Item NYS Contract Price | B21: The per unit NYS Contract Price (dollar amount) for the School Bus described in the Base Item Specifications. The Base Item NYS Contract Price includes any OEM fees, all customs duties and charges, all vehicle preparation and clean-up charges, NYS DOT inspection, installation charges, delivery and all other incidentals normally included with providing a School Bus, but excludes Optional Equipment, Additional Body Section(s), and Additional Options. | F21: =127210*('PPI Adj'!D6) -> 148454.07 | G21: =124971*('PPI Adj'!D6) -> 145841.16
A22: Additional Options NYS Discount | B22: The minimum percentage amount that shall be deducted from the MSRP for all Additional Options purchased under the Contract for this Item. | F22: 16 | G22: 16
A24: PART 3: Base Item Specifications | F24: IC Bus | G24: IC Bus
A25: Category | B25: Specification | C25: Information provided in Yellow Cells | F25: Diesel | G25: Gas
A26: General | B26: A School Bus with a Body installed upon a cowl and Chassis constructed using a chassis with a hood and front fender assembly. All of the engine is in front of the windshield and the entrance door is behind the front wheels. This is also known as a conventional school bus. This type also includes the cutaway truck chassis or truck chassis with cab, with or without a left side door, and with a GVWR greater than 16,000 pounds. | C26: Gross Vehicle Weight Rating (GVWR) [lbs]: | F26: 25500 | G26: 25500
A27: Capacity | B27: Minimum twenty-eight (28) Pupils. | C27: Number of rows: | F27: 5 | G27: 5
C28: Number of Pupils: | F28: 30 | G28: 30
A29: Rear Wheels | B29: Dual Rear Wheel (DRW)
A30: Dimensions | C30: Wheelbase [inches]: | F30: 170 | G30: 170
C31: Length (bumper to bumper) [inches]: | F31: 300.14 | G31: 300.14
C32: Body width (inside) [inches]: | F32: 90 | G32: 90
C33: Body headroom (standard) [inches]: | F33: 78 | G33: 78
C34: Cowl to rear axle length [inches]: | F34: 144.2 | G34: 144.2
A35: Cowl/Hood | B35: Forward tilting style cowl/hood assembly.
A36: Front Axle | C36: Gross Axle Weight Rating (GAWR) [lbs]: | F36: 8000 | G36: 8000
C37: Front axle capacity [lbs]: | F37: 8000 | G37: 8000
A38: Rear Axle | C38: Gross Axle Weight Rating (GAWR) [lbs]: | F38: 17500 | G38: 17500
C39: Rear axle capacity [lbs]: | F39: 17500 | G39: 17500
A40: Steering | B40: Power steering
A41: Brakes | B41: Chassis manufacturer's typical full air service brake system. A liquid-cooled, engine-lubricated air compressor, that is compliant with FMVSS (49 CFR 571.121.S5.1.1.), shall be provided. The air brake system shall be equipped with an automatic drain valve on the wet tank that may be unheated, a valve that can be manually opened on each air tank, and an air dryer/ejector that may be unheated. The system shall include a spring set parking brake. System shall be compliant with FMVSS (49 CFR 571.121), including the latest revision thereof. All brakes shall have automatic slack adjusters. | C41: Air Compressor size, Make & Model: | F41: CUMMINS 18.7 CFM | G41: CUMMINS 18.7 CFM
C42: Air Dryer size, Make & Model: | F42: BENDIX AD-9 | G42: BENDIX AD-9
A44: Brakes | B44: Antilock Brake System (ABS), and an audio & visual warning system for system malfunctions.
A45: Tires | B45: Tires shall meet the minimum requirements for the Chassis Model, as published by the Chassis manufacturer. | C45: Front radial tires size (load range letter) | F45: 10R22.5, G | G45: 10R22.5, G
C46: Front radial tires capacity | F46: 5677 | G46: 5677
C47: Rear radial tires size (load range letter) | F47: 10R22.5, G | G47: 10R22.5, G
C48: Rear radial tires capacity | F48: 5355 | G48: 5355
C49: Front Tires Option Code: | F49: 7372115809 | G49: 7372115809
C50: Front Tires Make & Tread Designation: | F50: Hankook AH37 | G50: Hankook AH37
C51: Rear Tires Option Code: | F51: 7372115415 | G51: 7372115415
C52: Rear Tires Make & Tread Designation: | F52: Hankook AH37 | G52: Hankook AH37
A53: Transmission | B53: Automatic transmission with manufacturer's standard or optional temperature indicator at the operator's control panel. | C53: Number of forward gears: | F53: 6 | G53: 6
C54: Gears direct or w/O.D.?: | F54: Double Overdrive | G54: Double Overdrive
C55: Option Code, Make & Model: | F55: 13ARV, 2500 PTS | G55: 13ARV, 2500 PTS
A56: Engine | B56: Engine shall have a manufacturer's standard water cooled engine complete with accessories, as called for under classification. Engine shall develop full-rated torque and horsepower without requiring the use of premium grade fuel for any condition of operation. The Diesel engine shall develop full-rated torque and horsepower with the use of both ultra low sulfur grade diesel fuel and renewable diesel fuel.
A57: Engine Equipment | B57: Engine shall include silicone radiator and heater hoses (or equivalently rated/warranted). Diesel engine shall include cold weather starting aid.
A58: Alternator | B58: Alternator shall be of the integrally-rectified type, with an SAE continuous ampere output rating that is capable of at least powering all electrical devices energized simultaneously and an additional output of ten (10) or more amperes; and shall be driven by a single serpentine belt (or equivalent) or gear driven, and shall have full-transistor type voltage regulators. Wiring harness sizes shall be not less than the alternator manufacturer's recommendations. | C58: Option Code, Make & Model: | F58: 08GXG LN AVI160P2003 | G58: 08GXG LN AVI160P2003
C59: Capacity [amps]: | F59: 240 | G59: 240
A60: Battery(ies) | B60: Three (3) "No Maintenance" type batteries with a total capacity of 2400-CCA and a 145-minute reserve capacity. The battery cables (- and +) shall be the same size and weight and be equal to (or better than) the larger cable recommended by the School Bus manufacturer. | C60: Model or Option Code: | F60: 08NBX | G60: 08NBX
C61: Number of batteries: | F61: 3 | G61: 3
C62: Cold Cranking Amp (CCA) rating of each battery at 0oF | F62: 2850 | G62: 2850
A63: Electrical | B63: Units shall have headlights turned on when the engine is running.
A64: Electrical | B64: Driver's compartment dome light shall be so directed to provide illumination for the bus driver and be controlled by an independent switch.
A65: Electrical | B65: All exterior lamps, except headlamps, shall be Light Emitting Diode (LED) design that meet applicable SAE standards.
A66: Horns | B66: An electrical horn(s) shall be provided that meets SAE standard J377. An air horn shall not be an approved Compatible Equivalent.
A67: Door (Entrance) | B67: Minimum 24 inch opening. | C67: Type and clear width [inches]: | F67: Air, 32 | G67: AIR, 32
A68: Stepwell (Entrance) | B68: Structural, tread and riser members shall be constructed entirely of rust/corrosion-resistant steel, components and fasteners or materials of equivalent or stronger structural integrity. Manufacturer's standard floor/stair coverings shall be used for finish surfaces.
A69: Fuel Tank(s) | B69: Diesel and gasoline engine Base Items shall have a thirty (30) gallon fuel capacity. LPG and CNG shall have the minimum construction and protection required by NFPA | C69: Capacity [gallons/cu. ft.]: | F69: 40 | G69: 60
C70: Number and location of fuel tanks: | F70: 1 tank, Between the frame rails and behind the rear axle | G70: 1 tank, Between the frame rails and behind the rear axle
A71: Mirrors | B71: The vertical rectangular exterior driving mirrors shall be the heated defrosting type with their own switch and pilot light. Crossview mirrors shall be provided at front corners of each bus.
A72: Seating | B72: Manufacturer's standard or optional seat spacing that meets or exceeds the NYCRR minimum requirement for the respective class of School Bus with the minimum Pupil capacity stated above.
A73: Seatbelt (ambulatory) | B73: Seat belts shall be provided for each individual seating space. Seat belts shall meet current federal safety standards and shall be of a type approved by, and installed in accordance, with the rules and regulations established by NYS DOT in subdivision five (5) of section three-hundred eighty-three (383) of the New York State Vehicle and Traffic Laws dated July 30, 1986 and NYCRR, Title 17, Part 720, or the latest revision thereof.
A74: Stop Arm(s) (Power) | B74: Shall be entrance-door activated, electric or air-positioning type, and be provided streetside on all School Buses. It shall be compliant with FMVSS (49 CFR 571.131). Buses with a capacity of 45 persons or more shall have an additional and same model stop-arm at the rear streetside of the bus. | C74: Make & Model: | F74: Specialty 2980 | G74: Specialty 2980
A75: "School Bus" Signs | B75: Both front and rear shall comply with Article 9, Section 375.20 of the New York State Vehicle and Traffic Law.
A76: 8 Lamp Warning System (School Bus) | B76: Shall be compliant with SAE J887. | C76: Make & Model: | F76: Sound Off 49NGJ | G76: Sound Off 49NGJ
A77: Exterior Reflective Markings | B77: All units with a capacity of ten (10) or more Pupils shall be equipped with exterior reflective markings as required by FMVSS (49 CFR 571.217) and NYCRR (Title 15, Department of Motor Vehicles, Part D, 46.12).
A78: Floor | B78: Manufacturer's standard insulated floor design shall be provided throughout the School Bus.
A79: Heaters | B79: Minimum passenger compartment heating shall meet the requirements of NYCRR, Title 17, Part 720.4(I) Heaters, or the latest revision thereof.
A80: Door (Rear Emergency Exit) | B80: Shall include lower glass.
A82: PART 4: Optional Equipment NYS Contract Pricing | F82: IC Bus | G82: IC Bus
A83: Optional Equipment (see Specifications and Equipment Provided below) | F83: Diesel | G83: Gas
A84: Capacity - Delete One (1) Row of Seating | F84: =-500*('PPI Adj'!D6) -> -583.5 | G84: =-500*('PPI Adj'!D6) -> -583.5
A85: Child Presence Check / Alarm | F85: =361*('PPI Adj'!D6) -> 421.287 | G85: =361*('PPI Adj'!D6) -> 421.287
A86: Glass (Tinted) | F86: =500*('PPI Adj'!D6) -> 583.5 | G86: =500*('PPI Adj'!D6) -> 583.5
A87: Rear Axle, "No Spin" | F87: Included in Base Item | G87: Included in Base Item
A88: Tires (Snow) | F88: =250*('PPI Adj'!D6) -> 291.75 | G88: =250*('PPI Adj'!D6) -> 291.75
A89: Tires (All-Season) | F89: Included in Base Item | G89: Included in Base Item
A90: Floor With Recessed Wheelchair Restraint Track For One Wheelchair Station. | F90: =300*('PPI Adj'!D6) -> 350.1 | G90: =300*('PPI Adj'!D6) -> 350.1
A91: Floor (Flat) With Recessed Wheelchair Track Throughout Entire Body | F91: Not Available | G91: Not Available
A92: Wheelchair Lift | F92: =8605*('PPI Adj'!D6) -> 10042.035 | G92: =8605*('PPI Adj'!D6) -> 10042.035
A93: Roof Ventilator / Emergency Exit | F93: Included in Base Item | G93: Included in Base Item
A94: White Roof | F94: =790*('PPI Adj'!D6) -> 921.93 | G94: =790*('PPI Adj'!D6) -> 921.93
A95: High Headroom | F95: Included in Base Item | G95: Included in Base Item
A96: Crossing Arm | F96: =48*('PPI Adj'!D6) -> 56.016 | G96: =48*('PPI Adj'!D6) -> 56.016
A97: Auxiliary Engine Coolant Heater | F97: =6902*('PPI Adj'!D6) -> 8054.634 | G97: =6902*('PPI Adj'!D6) -> 8054.634
A98: Vandal Lock | F98: =593*('PPI Adj'!D6) -> 692.031 | G98: =593*('PPI Adj'!D6) -> 692.031
A99: Air Conditioning | F99: =12300*('PPI Adj'!D6) -> 14354.1 | G99: =12300*('PPI Adj'!D6) -> 14354.1
A100: School Bus Safety Camera | F100: =3055*('PPI Adj'!D6) -> 3565.185 | G100: =3055*('PPI Adj'!D6) -> 3565.185
A101: Delete Exterior LED Lamps | F101: =-893*('PPI Adj'!D6) -> -1042.131 | G101: =-893*('PPI Adj'!D6) -> -1042.131
A102: Multifunction School Activity Bus | F102: =-946*('PPI Adj'!D6) -> -1103.982 | G102: =-946*('PPI Adj'!D6) -> -1103.982
A104: PART 4: Optional Equipment Specifications | F104: IC Bus | G104: IC Bus
A105: Optional Equipment | B105: Specification | C105: Information provided in Yellow Cells | F105: Diesel | G105: Gas
A106: Capacity - Delete One (1) Row of Seating | B106: Delete one (1) full row of seating (both left and right sides) without removing a Body section from the Base Item, or altering the spacing between the remaining seats.
...

Sheet C (Item 2-D)
A1: ='A (Item 2-G)'!$A$1 -> GROUP 40524-23254, SCHOOL BUSES (Statewide) Attachment 1 - Specifications and Pricing (Revised October 15, 2026)
A2: PC69861 Leonard Bus Sales, Inc.
A3: LOT C (Item 2-D)
A4: Type C, 46 Pupil Conventional Front-Engine Bus (Diesel, Minimum 46 Pupils)
A6: PART 1: Product information for the Base Item(s) Awarded | F6: IC Bus | G6: IC Bus | H6: IC Bus
A7: Category | B7: Information provided in Yellow Cells | F7: Diesel | G7: Gas | H7: LPG
A8: Engine | B8: Information identifying the engine for the fuel type offered. | F8: 12ERP, Engine, Diesel Cummins B6.7 220HP | G8: 12DLP, Engine, Gasoline (PSI 8.8L) 265HP | H8: 12PAD, PSI 8.8L LPG, 270HP
A9: NYS DOT Approval Number | B9: The NYS DOT Approval Number for the School Bus. Only School Buses approved by NYS DOT Passenger Carrier Safety Bureau for use as 2022 and newer Models, as indicated by a NYS DOT Approval Number, shall be delivered pursuant to the Contract. | F9: 1825-NY-48-00WC-ATC | G9: 1825-NY-48-00WC-ATC | H9: 1825-NY-48-00WC-ATC
A10: Chassis Make | B10: The OEM company name of a Chassis. | F10: IC BUS | G10: IC BUS | H10: IC BUS
A11: Chassis Model | B11: The Model name of the Chassis. | F11: CE | G11: CE | H11: CE
A12: Chassis Model Code | B12: The OEM code used to identify the subset of the Chassis Model. | F12: PB105 | G12: PB105 | H12: PB105
A13: Body Make | B13: The OEM company name of a Body. | F13: IC BUS | G13: IC BUS | H13: IC BUS
A14: Body Model | B14: The Model name of the Body. | F14: CE | G14: CE | H14: CE
A15: Body Model Code | B15: The OEM code used to identify the subset of the Body Model. | F15: PB105 | G15: PB105 | H15: PB105
A16: Pick Up Allowance | B16: The dollar amount, per School Bus, that will be deducted from the Base Item NYS Contract Price, if the Authorized User elects to pick up the School Bus at the Contractor's location. | F16: 0 | G16: 0 | H16: 0
A17: Delivery Time | B17: The estimated delivery time for the School Bus, expressed in number of calendar days, required to make delivery after receipt of a final Purchase Order (After Receipt of Order (“ARO”)). | F17: 180-300 Days | G17: 180-300 Days | H17: 180-300 Days
A19: PART 2: Pricing for the Base Item, Additional Body Section, and Additional Options | F19: IC Bus | G19: IC Bus | H19: IC Bus
A20: Category | B20: Information provided in Yellow Cells | F20: Diesel | G20: Gas | H20: LPG
A21: Base Item NYS Contract Price | B21: The per unit NYS Contract Price (dollar amount) for the School Bus described in the Base Item Specifications. The Base Item NYS Contract Price includes any OEM fees, all customs duties and charges, all vehicle preparation and clean-up charges, NYS DOT inspection, installation charges, delivery and all other incidentals normally included with providing a School Bus, but excludes Optional Equipment, Additional Body Section(s), and Additional Options. | F21: =131695*('PPI Adj'!D6) -> 153688.07 | G21: =129521*('PPI Adj'!D6) -> 151151.01 | H21: =140295*('PPI Adj'!D6) -> 163724.27
A22: Additional Options NYS Discount | B22: The minimum percentage amount that shall be deducted from the MSRP for all Additional Options purchased under the Contract for this Item. | F22: 16 | G22: 16 | H22: 16
A24: PART 3: Base Item Specifications | F24: IC Bus | G24: IC Bus | H24: IC Bus
A25: Category | B25: Specification | C25: Information provided in Yellow Cells | F25: Diesel | G25: Gas | H25: LPG
A26: General | B26: A School Bus with a Body installed upon a cowl and Chassis constructed using a chassis with a hood and front fender assembly. All of the engine is in front of the windshield and the entrance door is behind the front wheels. This is also known as a conventional school bus. This type also includes the cutaway truck chassis or truck chassis with cab, with or without a left side door, and with a GVWR greater than 16,000 pounds. | C26: Gross Vehicle Weight Rating (GVWR) [lbs]: | F26: 27800 | G26: 27800 | H26: 27800
A27: Capacity | B27: Minimum forty-six (46) Pupils. | C27: Number of rows: | F27: 8 | G27: 8 | H27: 8
C28: Number of Pupils: | F28: 48 | G28: 48 | H28: 48
A29: Rear Wheels | B29: Dual Rear Wheel (DRW)
A30: Dimensions | C30: Wheelbase [inches]: | F30: 218 | G30: 218 | H30: 218
C31: Length (bumper to bumper) [inches]: | F31: 381.14 | G31: 381.14 | H31: 381.14
C32: Body width (inside) [inches]: | F32: 90 | G32: 90 | H32: 90
C33: Body headroom (standard) [inches]: | F33: 78 | G33: 78 | H33: 78
C34: Cowl to rear axle length [inches]: | F34: 191.49 | G34: 191.49 | H34: 191.49
A35: Cowl/Hood | B35: Forward tilting style cowl/hood assembly.
A36: Front Axle | C36: Gross Axle Weight Rating (GAWR) [lbs]: | F36: 8000 | G36: 8000 | H36: 8000
C37: Front axle capacity [lbs]: | F37: 8000 | G37: 8000 | H37: 8000
A38: Rear Axle | C38: Gross Axle Weight Rating (GAWR) [lbs]: | F38: 19800 | G38: 19800 | H38: 19800
C39: Rear axle capacity [lbs]: | F39: 19800 | G39: 19800 | H39: 19800
A40: Steering | B40: Power steering
A41: Brakes | B41: Chassis manufacturer's typical full air service brake system. A liquid-cooled, engine-lubricated air compressor, that is compliant with FMVSS (49 CFR 571.121.S5.1.1.), shall be provided. The air brake system shall be equipped with an automatic drain valve on the wet tank that may be unheated, a valve that can be manually opened on each air tank, and an air dryer/ejector that may be unheated. The system shall include a spring set parking brake. System shall be compliant with FMVSS (49 CFR 571.121), including the latest revision thereof. All brakes shall have automatic slack adjusters. | C41: Air Compressor size, Make & Model: | F41: CUMMINS 18.7 CFM | G41: CUMMINS 18.7 CFM | H41: CUMMINS 18.7 CFM
C42: Air Dryer size, Make & Model: | F42: BENDIX AD-9 | G42: BENDIX AD-9 | H42: BENDIX AD-9
A44: Brakes | B44: Antilock Brake System (ABS), and an audio & visual warning system for system malfunctions.
A45: Tires | B45: Tires shall meet the minimum requirements for the Chassis Model, as published by the Chassis manufacturer. | C45: Front radial tires size (load range letter) | F45: 10R22.5 (G | G45: 10R22.5 (G | H45: 10R22.5 (G
C46: Front radial tires capacity | F46: 5677 | G46: 5677 | H46: 5677
C47: Rear radial tires size (load range letter) | F47: 10R22.5 (G | G47: 10R22.5 (G | H47: 10R22.5 (G
C48: Rear radial tires capacity | F48: 5355 | G48: 5355 | H48: 5355
C49: Front Tires Option Code: | F49: 7372115809 | G49: 7372115809 | H49: 7372115809
C50: Front Tires Make & Tread Designation: | F50: Hankook AH37 | G50: Hankook AH37 | H50: Hankook AH37
C51: Rear Tires Option Code: | F51: 7372115809 | G51: 7372115809 | H51: 7372115809
C52: Rear Tires Make & Tread Designation: | F52: Hankook AH37 | G52: Hankook AH37 | H52: Hankook AH37
A53: Transmission | B53: Automatic transmission with manufacturer's standard or optional temperature indicator at the operator's control panel. | C53: Number of forward gears: | F53: 6 | G53: 6 | H53: 6
C54: Gears direct or w/O.D.?: | F54: Double Overdrive | G54: Double Overdrive | H54: Double Overdrive
C55: Option Code, Make & Model: | F55: 13ARV, 2500 PTS | G55: 13ARV, 2500 PTS | H55: 13ARV, 2500 PTS
A56: Engine | B56: Engine shall have a manufacturer's standard water cooled engine complete with accessories, as called for under classification. Engine shall develop full-rated torque and horsepower without requiring the use of premium grade fuel for any condition of operation. The Diesel engine shall develop full-rated torque and horsepower with the use of both ultra low sulfur grade diesel fuel and renewable diesel fuel.
A57: Engine Equipment | B57: Engine shall include silicone radiator and heater hoses (or equivalently rated/warranted). Diesel engine shall include cold weather starting aid.
A58: Alternator | B58: Alternator shall be of the integrally-rectified type, with an SAE continuous ampere output rating that is capable of at least powering all electrical devices energized simultaneously and an additional output of ten (10) or more amperes; and shall be driven by a single serpentine belt (or equivalent) or gear driven, and shall have full-transistor type voltage regulators. Wiring harness sizes shall be not less than the alternator manufacturer's recommendations. | C58: Option Code, Make & Model: | F58: 08GXG LN AVI160P2003 | G58: 08GXG LN AVI160P2003 | H58: 08GXG LN AVI160P2003
C59: Capacity [amps]: | F59: 240 | G59: 240 | H59: 240
A60: Battery(ies) | B60: Three (3) "No Maintenance" type batteries with a total capacity of 2400-CCA and a 145-minute reserve capacity. The battery cables (- and +) shall be the same size and weight and be equal to (or better than) the larger cable recommended by the School Bus manufacturer. | C60: Model or Option Code: | F60: 08NBX | G60: 08NBX | H60: 08NBX
C61: Number of batteries: | F61: 3 | G61: 3 | H61: 3
C62: Cold Cranking Amp (CCA) rating of each battery at 0oF | F62: 2850 | G62: 2850 | H62: 2850
A63: Electrical | B63: Units shall have headlights turned on when the engine is running.
A64: Electrical | B64: Driver's compartment dome light shall be so directed to provide illumination for the bus driver and be controlled by an independent switch.
A65: Electrical | B65: All exterior lamps, except headlamps, shall be Light Emitting Diode (LED) design that meet applicable SAE standards.
A66: Horns | B66: An electrical horn(s) shall be provided that meets SAE standard J377. An air horn shall not be an approved Compatible Equivalent.
A67: Door (Entrance) | B67: Minimum 24 inch opening. | C67: Type and clear width [inches]: | F67: Air, 32 | G67: Air, 32 | H67: Air, 32
A68: Stepwell (Entrance) | B68: Structural, tread and riser members shall be constructed entirely of rust/corrosion-resistant steel, components and fasteners or materials of equivalent or stronger structural integrity. Manufacturer's standard floor/stair coverings shall be used for finish surfaces.
A69: Fuel Tank(s) | B69: Diesel and gasoline engine Base Items shall have a thirty (30) gallon fuel capacity. LPG and CNG shall have the minimum construction and protection required by NFPA | C69: Capacity [gallons/cu. ft.]: | F69: 65 | G69: 65 | H69: 65
C70: Number and location of fuel tanks: | F70: 1 tank, Between the frame rails and behind the rear axle | G70: 1 tank, Between the frame rails and behind the rear axle | H70: 1 tank, Between the frame rails and behind the rear axle
A71: Mirrors | B71: The vertical rectangular exterior driving mirrors shall be the heated defrosting type with their own switch and pilot light. Crossview mirrors shall be provided at front corners of each bus.
A72: Seating | B72: Manufacturer's standard or optional seat spacing that meets or exceeds the NYCRR minimum requirement for the respective class of School Bus with the minimum Pupil capacity stated above.
A73: Seatbelt (ambulatory) | B73: Seat belts shall be provided for each individual seating space. Seat belts shall meet current federal safety standards and shall be of a type approved by, and installed in accordance, with the rules and regulations established by NYS DOT in subdivision five (5) of section three-hundred eighty-three (383) of the New York State Vehicle and Traffic Laws dated July 30, 1986 and NYCRR, Title 17, Part 720, or the latest revision thereof.
A74: Stop Arm(s) (Power) | B74: Shall be entrance-door activated, electric or air-positioning type, and be provided streetside on all School Buses. It shall be compliant with FMVSS (49 CFR 571.131). Buses with a capacity of 45 persons or more shall have an additional and same model stop-arm at the rear streetside of the bus. | C74: Make & Model: | F74: Specialty 2980 | G74: Specialty 2980 | H74: Specialty 2980
A75: "School Bus" Signs | B75: Both front and rear shall comply with Article 9, Section 375.20 of the New York State Vehicle and Traffic Law.
A76: 8 Lamp Warning System (School Bus) | B76: Shall be compliant with SAE J887. | C76: Make & Model: | F76: Sound Off 49NGJ | G76: Sound Off 49NGJ | H76: Sound Off 49NGJ
A77: Exterior Reflective Markings | B77: All units with a capacity of ten (10) or more Pupils shall be equipped with exterior reflective markings as required by FMVSS (49 CFR 571.217) and NYCRR (Title 15, Department of Motor Vehicles, Part D, 46.12).
A78: Floor | B78: Manufacturer's standard insulated floor design shall be provided throughout the School Bus.
A79: Heaters | B79: Minimum passenger compartment heating shall meet the requirements of NYCRR, Title 17, Part 720.4(I) Heaters, or the latest revision thereof.
A80: Door (Rear Emergency Exit) | B80: Shall include lower glass.
A82: PART 4: Optional Equipment NYS Contract Pricing | F82: IC Bus | G82: IC Bus | H82: IC Bus
A83: Optional Equipment (see Specifications and Equipment Provided below) | F83: Diesel | G83: Gas | H83: LPG
A84: Capacity - Delete One (1) Row of Seating | F84: =-500*('PPI Adj'!D6) -> -583.5 | G84: =-500*('PPI Adj'!D6) -> -583.5 | H84: =-500*('PPI Adj'!D6) -> -583.5
A85: Child Presence Check / Alarm | F85: =361*('PPI Adj'!D6) -> 421.287 | G85: =361*('PPI Adj'!D6) -> 421.287 | H85: =361*('PPI Adj'!D6) -> 421.287
A86: Glass (Tinted) | F86: =525*('PPI Adj'!D6) -> 612.675 | G86: =525*('PPI Adj'!D6) -> 612.675 | H86: =525*('PPI Adj'!D6) -> 612.675
A87: Rear Axle, "No Spin" | F87: Included in Base Item | G87: Included in Base Item | H87: Included in Base Item
A88: Tires (Snow) | F88: =250*('PPI Adj'!D6) -> 291.75 | G88: =250*('PPI Adj'!D6) -> 291.75 | H88: =250*('PPI Adj'!D6) -> 291.75
A89: Tires (All-Season) | F89: Included in Base Item | G89: Included in Base Item | H89: Included in Base Item
A90: Floor With Recessed Wheelchair Restraint Track For One Wheelchair Station. | F90: =300*('PPI Adj'!D6) -> 350.1 | G90: =300*('PPI Adj'!D6) -> 350.1 | H90: =300*('PPI Adj'!D6) -> 350.1
A91: Floor (Flat) With Recessed Wheelchair Track Throughout Entire Body | F91: Not Available | G91: Not Available | H91: Not Available
A92: Wheelchair Lift | F92: =8605*('PPI Adj'!D6) -> 10042.035 | G92: =8605*('PPI Adj'!D6) -> 10042.035 | H92: =8605*('PPI Adj'!D6) -> 10042.035
A93: Roof Ventilator / Emergency Exit | F93: Included in Base Item | G93: Included in Base Item | H93: Included in Base Item
A94: White Roof | F94: =790*('PPI Adj'!D6) -> 921.93 | G94: =790*('PPI Adj'!D6) -> 921.93 | H94: =790*('PPI Adj'!D6) -> 921.93
A95: High Headroom | F95: Included in Base Item | G95: Included in Base Item | H95: Included in Base Item
A96: Crossing Arm | F96: =48*('PPI Adj'!D6) -> 56.016 | G96: =48*('PPI Adj'!D6) -> 56.016 | H96: =48*('PPI Adj'!D6) -> 56.016
A97: Auxiliary Engine Coolant Heater | F97: =6902*('PPI Adj'!D6) -> 8054.634 | G97: =6902*('PPI Adj'!D6) -> 8054.634 | H97: =6902*('PPI Adj'!D6) -> 8054.634
A98: Vandal Lock | F98: =781*('PPI Adj'!D6) -> 911.427 | G98: =781*('PPI Adj'!D6) -> 911.427 | H98: =781*('PPI Adj'!D6) -> 911.427
A99: Air Conditioning | F99: =12300*('PPI Adj'!D6) -> 14354.1 | G99: =12300*('PPI Adj'!D6) -> 14354.1 | H99: =12300*('PPI Adj'!D6) -> 14354.1
A100: School Bus Safety Camera | F100: =3055*('PPI Adj'!D6) -> 3565.185 | G100: =3055*('PPI Adj'!D6) -> 3565.185 | H100: =3055*('PPI Adj'!D6) -> 3565.185
A101: Delete Exterior LED Lamps | F101: =-893*('PPI Adj'!D6) -> -1042.131 | G101: =-893*('PPI Adj'!D6) -> -1042.131 | H101: =-893*('PPI Adj'!D6) -> -1042.131
A102: Multifunction School Activity Bus | F102: =-946*('PPI Adj'!D6) -> -1103.982 | G102: =-946*('PPI Adj'!D6) -> -1103.982 | H102: =-946*('PPI Adj'!D6) -> -1103.982
A104: PART 4: Optional Equipment Specifications | F104: IC Bus | G104: IC Bus | H104: IC Bus
A105: Optional Equipment | B105: Specification | C105: Information provided in Yellow Cells | F105: Diesel | G105: Gas | H105: LPG
A106: Capacity - Delete One (1) Row of Seating | B106: Delete one (1) full row of seating (both left and right sides) without removing a Body section from the Base Item, or altering the spacing between the remaining seats.
...

Sheet C (Item 2-EV)
A1: ='A (Item 2-G)'!$A$1 -> GROUP 40524-23254, SCHOOL BUSES (Statewide) Attachment 1 - Specifications and Pricing (Revised October 15, 2026)
A2: PC69861 Leonard Bus Sales, Inc.
A3: LOT C (Item 2-EV)
A4: Type C, 46 Pupil Conventional Front-Engine Bus (Electric, Minimum 46 Pupils)
A6: PART 1: Product information for the Base Item(s) Awarded | F6: IC Bus
A7: Category | B7: Information provided in Yellow Cells | F7: ELECTRIC
A8: Engine | B8: Information identifying the engine for the fuel type offered. | F8: Dana SUMO TM4 Motor/Inverter System, 335hp/255kW (peak), 255hp/190kW (continuous).
A9: NYS DOT Approval Number | B9: The NYS DOT Approval Number for the School Bus. Only School Buses approved by NYS DOT Passenger Carrier Safety Bureau for use as 2022 and newer Models, as indicated by a NYS DOT Approval Number, shall be delivered pursuant to the Contract. | F9: 2194-NY-48-00WC-ATC
A10: Chassis Make | B10: The OEM company name of a Chassis. | F10: IC BUS
A11: Chassis Model | B11: The Model name of the Chassis | F11: CE
A12: Chassis Model Code | B12: The OEM code used to identify the subset of the Chassis Model. | F12: PB10E
A13: Body Make | B13: The OEM company name of a Body. | F13: IC BUS
A14: Body Model | B14: The Model name of the Body | F14: CE
A15: Body Model Code | B15: The OEM code used to identify the subset of the Body Model. | F15: PB10E
A16: Pick Up Allowance | B16: The dollar amount, per School Bus, that will be deducted from the Base Item NYS Contract Price, if the Authorized User elects to pick up the School Bus at the Contractor's location. | F16: 0
A17: Delivery Time | B17: The estimated delivery time for the School Bus, expressed in number of calendar days, required to make delivery after receipt of a final Purchase Order (After Receipt of Order (“ARO”)) | F17: 180-300 Days
A19: PART 2: Pricing for the Base Item, Additional Body Section, and Additional Options | F19: IC Bus
A20: Category | B20: Information provided in Yellow Cells | F20: ELECTRIC
A21: Base Item NYS Contract Price | B21: The per unit NYS Contract Price (dollar amount) for the School Bus described in the Base Item Specifications. The Base Item NYS Contract Price includes any OEM fees, all customs duties and charges, all vehicle preparation and clean-up charges, NYS DOT inspection, installation charges, delivery and all other incidentals normally included with providing a School Bus, but excludes Optional Equipment, Additional Body Section(s), and Additional Options. | F21: =370482*('PPI Adj'!D6) -> 432352.49
A22: Additional Options NYS Discount | B22: The minimum percentage amount that shall be deducted from the MSRP for all Additional Options purchased under the Contract for this Item. | F22: 16
A24: PART 3: Base Item Specifications | F24: IC Bus
A25: Category | B25: Specification | C25: Information provided in Yellow Cells | F25: ELECTRIC
A26: General | B26: A School Bus with a Body installed upon a cowl and Chassis constructed using a chassis with a hood and front fender assembly. All of the engine is in front of the windshield and the entrance door is behind the front wheels. This is also known as a conventional school bus. This type also includes the cutaway truck chassis or truck chassis with cab, with or without a left side door, and with a GVWR greater than 16,000 pounds. | C26: Gross Vehicle Weight Rating (GVWR) [lbs]: | F26: 30280
A27: Capacity | B27: Minimum forty-six (46) Pupils. | C27: Number of rows: | F27: 8
C28: Number of Pupils: | F28: 48
A29: Rear Wheels | B29: Dual Rear Wheel (DRW)
A30: Dimensions | C30: Wheelbase [inches]: | F30: 218
C31: Length (bumper to bumper) [inches]: | F31: 381.14
C32: Body width (inside) [inches]: | F32: 90
C33: Body headroom (standard) [inches]: | F33: 78
C34: Cowl to rear axle length [inches]: | F34: 191.49
A35: Cowl/Hood | B35: Forward tilting style cowl/hood assembly.
A36: Front Axle | C36: Gross Axle Weight Rating (GAWR) [lbs]: | F36: 10000
C37: Front axle capacity [lbs]: | F37: 10000
A38: Rear Axle | C38: Gross Axle Weight Rating (GAWR) [lbs]: | F38: 20280
C39: Rear axle capacity [lbs]: | F39: 21000
A40: Steering | B40: Power steering
A41: Brakes | B41: Chassis manufacturer's typical full air service brake system. A liquid-cooled, engine-lubricated air compressor, that is compliant with FMVSS (49 CFR 571.121.S5.1.1.), shall be provided. The air brake system shall be equipped with an automatic drain valve on the wet tank that may be unheated, a valve that can be manually opened on each air tank, and an air dryer/ejector that may be unheated. The system shall include a spring set parking brake. System shall be compliant with FMVSS (49 CFR 571.121), including the latest revision thereof. All brakes shall have automatic slack adjusters. | C41: Air Compressor size, Make & Model: | F41: Quanxing 10.6 CFM
C42: Air Dryer size, Make & Model: | F42: Bendix ADIP
A44: Brakes | B44: Antilock Brake System (ABS), and an audio & visual warning system for system malfunctions.
A45: Tires | B45: Tires shall meet the minimum requirements for the Chassis Model, as published by the Chassis manufacturer. | C45: Front radial tires size (load range letter) | F45: 255/70R22.5 (h)
C46: Front radial tires capacity | F46: 5510 Single
C47: Rear radial tires size (load range letter) | F47: 255/70R22.5 (H)
C48: Rear radial tires capacity | F48: 5070 Dual
C49: Front Tires Option Code: | F49: 7752528132
C50: Front Tires Make & Tread Designation: | F50: Goodyear Endurance RSA
C51: Rear Tires Option Code: | F51: 7752528132
C52: Rear Tires Make & Tread Designation: | F52: Goodyear Endurance RSA
A53: Transmission | B53: Automatic transmission with manufacturer's standard or optional temperature indicator at the operator's control panel. | C53: Number of forward gears: | F53: 1
C54: Gears direct or w/O.D.?: | F54: Direct
C55: Option Code, Make & Model: | F55: Not Applicable
A56: Propulsion System | B56: Propulsion system which furnishes high-wattage electric power to the motor(s), that propels the vehicle forward or backward, and is sometimes referred to as the “main or power drive circuitry.” | C56: Vehicle range on full charge [miles]: | F56: 135
A57: Battery(ies) | C57: Number of Batteries: | F57: 2
C58: Type of Batteries: | F58: LFP/Lithium Ion
C59: System Design Voltage: | F59: 608V
A60: Electrical | B60: Units shall have headlights turned on when the engine is running.
A61: Electrical | B61: Driver's compartment dome light shall be so directed to provide illumination for the bus driver and be controlled by an independent switch.
A62: Electrical | B62: All exterior lamps, except headlamps, shall be Light Emitting Diode (LED) design that meet applicable SAE standards.
A63: Horns | B63: An electrical horn(s) shall be provided that meets SAE standard J377. An air horn shall not be an approved Compatible Equivalent.
A64: Door (Entrance) | B64: Minimum 24 inch opening. | C64: Type and clear width [inches]: | F64: O/O Air, 32 "
A65: Stepwell (Entrance) | B65: Structural, tread and riser members shall be constructed entirely of rust/corrosion-resistant steel, components and fasteners or materials of equivalent or stronger structural integrity. Manufacturer's standard floor/stair coverings shall be used for finish surfaces.
A66: Mirrors | B66: The vertical rectangular exterior driving mirrors shall be the heated defrosting type with their own switch and pilot light. Crossview mirrors shall be provided at front corners of each bus.
A67: Seating | B67: Manufacturer's standard or optional seat spacing that meets or exceeds the NYCRR minimum requirement for the respective class of School Bus with the minimum Pupil capacity stated above.
A68: Seatbelt (ambulatory) | B68: Seat belts shall be provided for each individual seating space. Seat belts shall meet current federal safety standards and shall be of a type approved by, and installed in accordance, with the rules and regulations established by NYS DOT in subdivision five (5) of section three-hundred eighty-three (383) of the New York State Vehicle and Traffic Laws dated July 30, 1986 and NYCRR, Title 17, Part 720, or the latest revision thereof.
A69: Stop Arm(s) (Power) | B69: Shall be entrance-door activated, electric or air-positioning type, and be provided streetside on all School Buses. It shall be compliant with FMVSS (49 CFR 571.131). Buses with a capacity of 45 persons or more shall have an additional and same model stop-arm at the rear streetside of the bus. | C69: Make & Model: | F69: Specialty 2980
A70: "School Bus" Signs | B70: Both front and rear shall comply with Article 9, Section 375.20 of the New York State Vehicle and Traffic Law.
A71: 8 Lamp Warning System (School Bus) | B71: Shall be compliant with SAE J887. | C71: Make & Model: | F71: Sound Off 49NGJ
A72: Exterior Reflective Markings | B72: All units with a capacity of ten (10) or more Pupils shall be equipped with exterior reflective markings as required by FMVSS (49 CFR 571.217) and NYCRR (Title 15, Department of Motor Vehicles, Part D, 46.12).
A73: Floor | B73: Manufacturer's standard insulated floor design shall be provided throughout the School Bus.
A74: Heaters | B74: Minimum passenger compartment heating shall meet the requirements of NYCRR, Title 17, Part 720.4(I) Heaters, or the latest revision thereof. | C74: Heater Power Source: | F74: Propulsion Battery System
A75: Door (Rear Emergency Exit) | B75: Shall include lower glass.
A77: PART 4: Optional Equipment NYS Contract Pricing | F77: IC Bus
A78: Optional Equipment (see Specifications and Equipment Provided below) | F78: ELECTRIC
A79: Capacity - Delete One (1) Row of Seating | F79: =-500*('PPI Adj'!D6) -> -583.5
A80: Child Presence Check / Alarm | F80: =361*('PPI Adj'!D6) -> 421.287
A81: Glass (Tinted) | F81: =525*('PPI Adj'!D6) -> 612.675
A82: Rear Axle, "No Spin" | F82: Included in Base Item
A83: Tires (Snow) for 4 tires | F83: =550*('PPI Adj'!D6) -> 641.85
A84: Tires (All-Season) | F84: Included in Base Item
A85: Floor With Recessed Wheelchair Restraint Track For One Wheelchair Station. | F85: =300*('PPI Adj'!D6) -> 350.1
A86: Floor (Flat) With Recessed Wheelchair Track Throughout Entire Body | F86: Not Available
A87: Wheelchair Lift | F87: =8605*('PPI Adj'!D6) -> 10042.035
A88: Roof Ventilator / Emergency Exit | F88: Included In Base Item
A89: White Roof | F89: =790*('PPI Adj'!D6) -> 921.93
A90: High Headroom | F90: Included in Base Item
A91: Crossing Arm | F91: =48*('PPI Adj'!D6) -> 56.016
A92: Vandal Lock | F92: =781*('PPI Adj'!D6) -> 911.427
A93: Air Conditioning | F93: =17000*('PPI Adj'!D6) -> 19839
A94: School Bus Safety Camera | F94: =3055*('PPI Adj'!D6) -> 3565.185
A95: Multifunction School Activity Bus | F95: =-946*('PPI Adj'!D6) -> -1103.982
A97: PART 4: Optional Equipment Specifications | F97: IC Bus
A98: Optional Equipment | B98: Specification | C98: Information provided in Yellow Cells | F98: ELECTRIC
A99: Capacity - Delete One (1) Row of Seating | B99: Delete one (1) full row of seating (both left and right sides) without removing a Body section from the Base Item, or altering the spacing between the remaining seats.
A100: Child Presence Check / Alarm | B100: Shall be the Child Check-mate System Model EP 2, or Compatible Equivalent. | C100: Make & Model: | F100: Child Check Mate EP1, 47EXC
A101: Glass (Tinted) | B101: The School Bus windshield and Body windows shall have the manufacturer's typical options that provide tinted glass windows throughout the vehicle and shall comply with Article 9, Section 375.12a. of the New York State Vehicle and Traffic Law.
A102: Rear Axle, "No Spin" | B102: The manufacturer’s standard device (e.g., power-lock, limited-slip, no-spin, positive-traction). | C102: Type of device: | F102: Electronic Stability Control with Automatic Traction control
A103: Tires (Snow) | B103: Snow tread tires shall be provided on all drive wheels. Tires shall be Federal class D/A, STC (with snow traction capability), or class S/T, or A/T, AP with STC, or other class with STC. The price entered for this Optional Equipment shall be for four (4) tires. Tires furnished on the rear wheels shall be the same size and adequate for axle's GAWR. | C103: Rear radial tires size (load range letter) [LT_____/_____R_____._____(_____)]: | F103: 255/70R22.5 (H)
C104: Rear radial tires capacity [_____,_____-lbs]: | F104: 5070
C105: Rear Tires Option Code: | F105: 7752528137
C106: Rear Tires Make & Tread Designation: | F106: Goodyear Fuel Max RTD
...

Sheet C (Item 3-D)
A1: ='A (Item 2-G)'!$A$1 -> GROUP 40524-23254, SCHOOL BUSES (Statewide) Attachment 1 - Specifications and Pricing (Revised October 15, 2026)
A2: PC69861 Leonard Bus Sales, Inc.
A3: LOT C (Item 3-D)
A4: Type C, 58 Pupil Conventional Front-Engine Bus (Diesel, Minimum 58 Pupils)
A6: PART 1: Product information for the Base Item(s) Awarded | F6: IC Bus | G6: IC Bus
A7: Category | B7: Information provided in Yellow Cells | F7: Diesel | G7: Gas
A8: Engine | B8: Information identifying the engine for the fuel type offered. | F8: 12ERP, Engine, Diesel Cummins B6.7 220HP | G8: 12DLP, Engine, Gasoline (PSI 8.8L) 265HP
A9: NYS DOT Approval Number | B9: The NYS DOT Approval Number for the School Bus. Only School Buses approved by NYS DOT Passenger Carrier Safety Bureau for use as 2022 and newer Models, as indicated by a NYS DOT Approval Number, shall be delivered pursuant to the Contract. | F9: 2134-NY-60-00WC-ATC | G9: 2134-NY-60-00WC-ATC
A10: Chassis Make | B10: The OEM company name of a Chassis. | F10: IC BUS | G10: IC BUS
A11: Chassis Model | B11: The Model name of the Chassis. | F11: CE | G11: CE
A12: Chassis Model Code | B12: The OEM code used to identify the subset of the Chassis Model. | F12: PB105 | G12: PB105
A13: Body Make | B13: The OEM company name of a Body. | F13: IC BUS | G13: IC BUS
A14: Body Model | B14: The Model name of the Body. | F14: CE | G14: CE
A15: Body Model Code | B15: The OEM code used to identify the subset of the Body Model. | F15: PB105 | G15: PB105
A16: Pick Up Allowance | B16: The dollar amount, per School Bus, that will be deducted from the Base Item NYS Contract Price, if the Authorized User elects to pick up the School Bus at the Contractor's location. | F16: 0 | G16: 0
A17: Delivery Time | B17: The estimated delivery time for the School Bus, expressed in number of calendar days, required to make delivery after receipt of a final Purchase Order (After Receipt of Order (“ARO”)). | F17: 180-300 Days | G17: 180-300 Days
A19: PART 2: Pricing for the Base Item, Additional Body Section, and Additional Options | F19: IC Bus | G19: IC Bus
A20: Category | B20: Information provided in Yellow Cells | F20: Diesel | G20: Gas
A21: Base Item NYS Contract Price | B21: The per unit NYS Contract Price (dollar amount) for the School Bus described in the Base Item Specifications. The Base Item NYS Contract Price includes any OEM fees, all customs duties and charges, all vehicle preparation and clean-up charges, NYS DOT inspection, installation charges, delivery and all other incidentals normally included with providing a School Bus, but excludes Optional Equipment, Additional Body Section(s), and Additional Options. | F21: =133733*('PPI Adj'!D6) -> 156066.41 | G21: =131590*('PPI Adj'!D6) -> 153565.53
A22: Additional Options NYS Discount | B22: The minimum percentage amount that shall be deducted from the MSRP for all Additional Options purchased under the Contract for this Item. | F22: 16 | G22: 16
A24: PART 3: Base Item Specifications | F24: IC Bus | G24: IC Bus
A25: Category | B25: Specification | C25: Information provided in Yellow Cells | F25: Diesel | G25: Gas
A26: General | B26: A School Bus with a Body installed upon a cowl and Chassis constructed using a chassis with a hood and front fender assembly. All of the engine is in front of the windshield and the entrance door is behind the front wheels. This is also known as a conventional school bus. This type also includes the cutaway truck chassis or truck chassis with cab, with or without a left side door, and with a GVWR greater than 16,000 pounds. | C26: Gross Vehicle Weight Rating (GVWR) [lbs]: | F26: 27800 | G26: 27800
A27: Capacity | B27: Minimum fifty-eight (58) Pupils. | C27: Number of rows: | F27: 10 | G27: 10
C28: Number of Pupils: | F28: 60 | G28: 60
A29: Rear Wheels | B29: Dual Rear Wheel (DRW)
A30: Dimensions | C30: Wheelbase [inches]: | F30: 236 | G30: 236
C31: Length (bumper to bumper) [inches]: | F31: 408.14 | G31: 408.14
C32: Body width (inside) [inches]: | F32: 90 | G32: 90
C33: Body headroom (standard) [inches]: | F33: 78 | G33: 78
C34: Cowl to rear axle length [inches]: | F34: 210.92 | G34: 210.92
A35: Cowl/Hood | B35: Forward tilting style cowl/hood assembly.
A36: Front Axle | C36: Gross Axle Weight Rating (GAWR) [lbs]: | F36: 8000 | G36: 8000
C37: Front axle capacity [lbs]: | F37: 8000 | G37: 8000
A38: Rear Axle | C38: Gross Axle Weight Rating (GAWR) [lbs]: | F38: 19800 | G38: 19800
C39: Rear axle capacity [lbs]: | F39: 19800 | G39: 19800
A40: Steering | B40: Power steering
A41: Brakes | B41: Chassis manufacturer's typical full air service brake system. A liquid-cooled, engine-lubricated air compressor, that is compliant with FMVSS (49 CFR 571.121.S5.1.1.), shall be provided. The air brake system shall be equipped with an automatic drain valve on the wet tank that may be unheated, a valve that can be manually opened on each air tank, and an air dryer/ejector that may be unheated. The system shall include a spring set parking brake. System shall be compliant with FMVSS (49 CFR 571.121), including the latest revision thereof. All brakes shall have automatic slack adjusters. | C41: Air Compressor size, Make & Model: | F41: 18.7 CFM, Cummins | G41: 18.7 CFM, Cummins
C42: Air Dryer size, Make & Model: | F42: AD-9, Bendix, 04EBS | G42: AD-9, Bendix, 04EBS
A44: Brakes | B44: Antilock Brake System (ABS), and an audio & visual warning system for system malfunctions.
A45: Tires | B45: Tires shall meet the minimum requirements for the Chassis Model, as published by the Chassis manufacturer. | C45: Front radial tires size (load range letter) | F45: 10R22.5 (G | G45: 10R22.5 (G
C46: Front radial tires capacity | F46: 5677 | G46: 5677
C47: Rear radial tires size (load range letter) | F47: 10R22.5 (G | G47: 10R22.5 (G
C48: Rear radial tires capacity | F48: 5355 | G48: 5355
C49: Front Tires Option Code: | F49: 7372115809 | G49: 7372115809
C50: Front Tires Make & Tread Designation: | F50: Hankook AH37 | G50: Hankook AH37
C51: Rear Tires Option Code: | F51: 7372115809 | G51: 7372115809
C52: Rear Tires Make & Tread Designation: | F52: Hankook AH37 | G52: Hankook AH37
A53: Transmission | B53: Automatic transmission with manufacturer's standard or optional temperature indicator at the operator's control panel. | C53: Number of forward gears: | F53: 6 | G53: 6
C54: Gears direct or w/O.D.?: | F54: Double Overdrive | G54: Double Overdrive
C55: Option Code, Make & Model: | F55: 13ARV, 2500 PTS | G55: 13ARV, 2500 PTS
A56: Engine | B56: Engine shall have a manufacturer's standard water cooled engine complete with accessories, as called for under classification. Engine shall develop full-rated torque and horsepower without requiring the use of premium grade fuel for any condition of operation. The Diesel engine shall develop full-rated torque and horsepower with the use of both ultra low sulfur grade diesel fuel and renewable diesel fuel.
A57: Engine Equipment | B57: Engine shall include silicone radiator and heater hoses (or equivalently rated/warranted). Diesel engine shall include cold weather starting aid.
A58: Alternator | B58: Alternator shall be of the integrally-rectified type, with an SAE continuous ampere output rating that is capable of at least powering all electrical devices energized simultaneously and an additional output of ten (10) or more amperes; and shall be driven by a single serpentine belt (or equivalent) or gear driven, and shall have full-transistor type voltage regulators. Wiring harness sizes shall be not less than the alternator manufacturer's recommendations. | C58: Option Code, Make & Model: | F58: 08GXG LN AVI160P2003 | G58: 08GXG LN AVI160P2003
C59: Capacity [amps]: | F59: 240 | G59: 240
A60: Battery(ies) | B60: Three (3) "No Maintenance" type batteries with a total capacity of 2400-CCA and a 145-minute reserve capacity. The battery cables (- and +) shall be the same size and weight and be equal to (or better than) the larger cable recommended by the School Bus manufacturer. | C60: Model or Option Code: | F60: 08NBX | G60: 08NBX
C61: Number of batteries: | F61: 3 | G61: 3
C62: Cold Cranking Amp (CCA) rating of each battery at 0oF | F62: 2850 | G62: 2850
A63: Electrical | B63: Units shall have headlights turned on when the engine is running.
A64: Electrical | B64: Driver's compartment dome light shall be so directed to provide illumination for the bus driver and be controlled by an independent switch.
A65: Electrical | B65: All exterior lamps, except headlamps, shall be Light Emitting Diode (LED) design that meet applicable SAE standards.
A66: Horns | B66: An electrical horn(s) shall be provided that meets SAE standard J377. An air horn shall not be an approved Compatible Equivalent.
A67: Door (Entrance) | B67: Minimum 24 inch opening. | C67: Type and clear width [inches]: | F67: Air, 32 | G67: Air, 32
A68: Stepwell (Entrance) | B68: Structural, tread and riser members shall be constructed entirely of rust/corrosion-resistant steel, components and fasteners or materials of equivalent or stronger structural integrity. Manufacturer's standard floor/stair coverings shall be used for finish surfaces.
A69: Fuel Tank(s) | B69: Diesel and gasoline engine Base Items shall have a sixty (60) gallon fuel capacity. LPG and CNG shall have the minimum construction and protection required by NFPA | C69: Capacity [gallons/cu. ft.]: | F69: 65 | G69: 65
C70: Number and location of fuel tanks: | F70: 1 tank, Between the frame rails and behind the rear axle | G70: 1 tank, Between the frame rails and behind the rear axle
A71: Mirrors | B71: The vertical rectangular exterior driving mirrors shall be the heated defrosting type with their own switch and pilot light. Crossview mirrors shall be provided at front corners of each bus.
A72: Seating | B72: Manufacturer's standard or optional seat spacing that meets or exceeds the NYCRR minimum requirement for the respective class of School Bus with the minimum Pupil capacity stated above.
A73: Seatbelt (ambulatory) | B73: Seat belts shall be provided for each individual seating space. Seat belts shall meet current federal safety standards and shall be of a type approved by, and installed in accordance, with the rules and regulations established by NYS DOT in subdivision five (5) of section three-hundred eighty-three (383) of the New York State Vehicle and Traffic Laws dated July 30, 1986 and NYCRR, Title 17, Part 720, or the latest revision thereof.
A74: Stop Arm(s) (Power) | B74: Shall be entrance-door activated, electric or air-positioning type, and be provided streetside on all School Buses. It shall be compliant with FMVSS (49 CFR 571.131). Buses with a capacity of 45 persons or more shall have an additional and same model stop-arm at the rear streetside of the bus. | C74: Make & Model: | F74: Specialty 2980 | G74: Specialty 2980
A75: "School Bus" Signs | B75: Both front and rear shall comply with Article 9, Section 375.20 of the New York State Vehicle and Traffic Law.
A76: 8 Lamp Warning System (School Bus) | B76: Shall be compliant with SAE J887. | C76: Make & Model: | F76: Sound Off 49PTA | G76: Sound Off 49PTA
A77: Exterior Reflective Markings | B77: All units with a capacity of ten (10) or more Pupils shall be equipped with exterior reflective markings as required by FMVSS (49 CFR 571.217) and NYCRR (Title 15, Department of Motor Vehicles, Part D, 46.12).
A78: Floor | B78: Manufacturer's standard insulated floor design shall be provided throughout the School Bus.
A79: Heaters | B79: Minimum passenger compartment heating shall meet the requirements of NYCRR, Title 17, Part 720.4(I) Heaters, or the latest revision thereof.
A80: Door (Rear Emergency Exit) | B80: Shall include lower glass.
A82: PART 4: Optional Equipment NYS Contract Pricing | F82: IC Bus | G82: IC Bus
A83: Optional Equipment (see Specifications and Equipment Provided below) | F83: Diesel | G83: Gas
A84: Capacity - Delete One (1) Row of Seating | F84: =-500*('PPI Adj'!D6) -> -583.5 | G84: =-500*('PPI Adj'!D6) -> -583.5
A85: Child Presence Check / Alarm | F85: =361*('PPI Adj'!D6) -> 421.287 | G85: =361*('PPI Adj'!D6) -> 421.287
A86: Glass (Tinted) | F86: =550*('PPI Adj'!D6) -> 641.85 | G86: =550*('PPI Adj'!D6) -> 641.85
A87: Rear Axle, "No Spin" | F87: Included in Base Item | G87: Included in Base Item
A88: Tires (Snow) | F88: =250*('PPI Adj'!D6) -> 291.75 | G88: =250*('PPI Adj'!D6) -> 291.75
A89: Tires (All-Season) | F89: Included in Base Item | G89: Included in Base Item
A90: Floor With Recessed Wheelchair Restraint Track For One Wheelchair Station. | F90: =300*('PPI Adj'!D6) -> 350.1 | G90: =300*('PPI Adj'!D6) -> 350.1
A91: Floor (Flat) With Recessed Wheelchair Track Throughout Entire Body | F91: Not Available | G91: Not Available
A92: Wheelchair Lift | F92: =8605*('PPI Adj'!D6) -> 10042.035 | G92: =8605*('PPI Adj'!D6) -> 10042.035
A93: Roof Ventilator / Emergency Exit | F93: Included in Base Item | G93: Included in Base Item
A94: White Roof | F94: =790*('PPI Adj'!D6) -> 921.93 | G94: =790*('PPI Adj'!D6) -> 921.93
A95: High Headroom | F95: Included in Base Item | G95: Included in Base Item
A96: Crossing Arm | F96: =48*('PPI Adj'!D6) -> 56.016 | G96: =48*('PPI Adj'!D6) -> 56.016
A97: Auxiliary Engine Coolant Heater | F97: =6902*('PPI Adj'!D6) -> 8054.634 | G97: =6902*('PPI Adj'!D6) -> 8054.634
A98: Vandal Lock | F98: =781*('PPI Adj'!D6) -> 911.427 | G98: =781*('PPI Adj'!D6) -> 911.427
A99: Air Conditioning | F99: =14206*('PPI Adj'!D6) -> 16578.402 | G99: =14206*('PPI Adj'!D6) -> 16578.402
A100: School Bus Safety Camera | F100: =3055*('PPI Adj'!D6) -> 3565.185 | G100: =3055*('PPI Adj'!D6) -> 3565.185
A101: Delete Exterior LED Lamps | F101: =-893*('PPI Adj'!D6) -> -1042.131 | G101: =-893*('PPI Adj'!D6) -> -1042.131
A102: Multifunction School Activity Bus | F102: =-946*('PPI Adj'!D6) -> -1103.982 | G102: =-946*('PPI Adj'!D6) -> -1103.982
A104: PART 4: Optional Equipment Specifications | F104: IC Bus | G104: IC Bus
A105: Optional Equipment | B105: Specification | C105: Information provided in Yellow Cells | F105: Diesel | G105: Gas
A106: Capacity - Delete One (1) Row of Seating | B106: Delete one (1) full row of seating (both left and right sides) without removing a Body section from the Base Item, or altering the spacing between the remaining seats.
...

Sheet C (Item 4-D)
A1: ='A (Item 2-G)'!$A$1 -> GROUP 40524-23254, SCHOOL BUSES (Statewide) Attachment 1 - Specifications and Pricing (Revised October 15, 2026)
A2: PC69861 Leonard Bus Sales, Inc.
A3: LOT C (Item 4-D)
A4: Type C, 64 Pupil Conventional Front-Engine Bus (Diesel, Minimum 64 Pupils)
A6: PART 1: Product information for the Base Item(s) Awarded | F6: IC Bus
A7: Category | B7: Information provided in Yellow Cells | F7: Diesel | G7: Gas | H7: LPG
A8: Engine | B8: Information identifying the engine for the fuel type offered. | F8: 12ERP, Engine, Diesel Cummins B6.7 220HP | G8: 12DLP, Engine, Gasoline (PSI 8.8L) 265HP | H8: 12PAD, PSI 8.8L LPG, 270HP
A9: NYS DOT Approval Number | B9: The NYS DOT Approval Number for the School Bus. Only School Buses approved by NYS DOT Passenger Carrier Safety Bureau for use as 2022 and newer Models, as indicated by a NYS DOT Approval Number, shall be delivered pursuant to the Contract. | F9: 2101-NY-66-00WC-ATC | G9: 2101-NY-66-00WC-ATC | H9: 2101-NY-66-00WC-ATC
A10: Chassis Make | B10: The OEM company name of a Chassis. | F10: IC BUS | G10: IC BUS | H10: IC BUS
A11: Chassis Model | B11: The Model name of the Chassis. | F11: CE | G11: CE | H11: CE
A12: Chassis Model Code | B12: The OEM code used to identify the subset of the Chassis Model. | F12: PB105 | G12: MA055 | H12: PB105
A13: Body Make | B13: The OEM company name of a Body. | F13: IC BUS | G13: IC BUS | H13: IC BUS
A14: Body Model | B14: The Model name of the Body. | F14: CE | G14: CE | H14: CE
A15: Body Model Code | B15: The OEM code used to identify the subset of the Body Model. | F15: PB105 | G15: MA055 | H15: PB105
A16: Pick Up Allowance | B16: The dollar amount, per School Bus, that will be deducted from the Base Item NYS Contract Price, if the Authorized User elects to pick up the School Bus at the Contractor's location. | F16: 0 | G16: 0 | H16: 0
A17: Delivery Time | B17: The estimated delivery time for the School Bus, expressed in number of calendar days, required to make delivery after receipt of a final Purchase Order (After Receipt of Order (“ARO”)). | F17: 180-300 Days | G17: 180-300 Days | H17: 180-300 Days
A19: PART 2: Pricing for the Base Item, Additional Body Section, and Additional Options | F19: IC Bus
A20: Category | B20: Information provided in Yellow Cells | F20: Diesel | G20: Gas | H20: LPG
A21: Base Item NYS Contract Price | B21: The per unit NYS Contract Price (dollar amount) for the School Bus described in the Base Item Specifications. The Base Item NYS Contract Price includes any OEM fees, all customs duties and charges, all vehicle preparation and clean-up charges, NYS DOT inspection, installation charges, delivery and all other incidentals normally included with providing a School Bus, but excludes Optional Equipment, Additional Body Section(s), and Additional Options. | F21: =135093*('PPI Adj'!D6) -> 157653.53 | G21: =132696*('PPI Adj'!D6) -> 154856.23 | H21: =143624*('PPI Adj'!D6) -> 167609.21
A22: Additional Options NYS Discount | B22: The minimum percentage amount that shall be deducted from the MSRP for all Additional Options purchased under the Contract for this Item. | F22: 16 | G22: 16 | H22: 16
A24: PART 3: Base Item Specifications | F24: IC Bus
A25: Category | B25: Specification | C25: Information provided in Yellow Cells | F25: Diesel | G25: Gas | H25: LPG
A26: General | B26: A School Bus with a Body installed upon a cowl and Chassis constructed using a chassis with a hood and front fender assembly. All of the engine is in front of the windshield and the entrance door is behind the front wheels. This is also known as a conventional school bus. This type also includes the cutaway truck chassis or truck chassis with cab, with or without a left side door, and with a GVWR greater than 16,000 pounds. | C26: Gross Vehicle Weight Rating (GVWR) [lbs]: | F26: 29800 | G26: 29800 | H26: 29800
A27: Capacity | B27: Minimum sixty-four (64) Pupils. | C27: Number of rows: | F27: 11 | G27: 11 | H27: 11
C28: Number of Pupils: | F28: 66 | G28: 66 | H28: 66
A29: Rear Wheels | B29: Dual Rear Wheel (DRW)
A30: Dimensions | C30: Wheelbase [inches]: | F30: 254 | G30: 254 | H30: 254
C31: Length (bumper to bumper) [inches]: | F31: 435.14 | G31: 435.14 | H31: 435.14
C32: Body width (inside) [inches]: | F32: 90 | G32: 90 | H32: 90
C33: Body headroom (standard) [inches]: | F33: 78 | G33: 78 | H33: 78
C34: Cowl to rear axle length [inches]: | F34: 228.92 | G34: 228.92 | H34: 228.92
A35: Cowl/Hood | B35: Forward tilting style cowl/hood assembly.
A36: Front Axle | C36: Gross Axle Weight Rating (GAWR) [lbs]: | F36: 10000 | G36: 10000 | H36: 10000
C37: Front axle capacity [lbs]: | F37: 10000 | G37: 10000 | H37: 10000
A38: Rear Axle | C38: Gross Axle Weight Rating (GAWR) [lbs]: | F38: 19800 | G38: 19800 | H38: 19800
C39: Rear axle capacity [lbs]: | F39: 19800 | G39: 19800 | H39: 19800
A40: Steering | B40: Power steering
A41: Brakes | B41: Chassis manufacturer's typical full air service brake system. A liquid-cooled, engine-lubricated air compressor, that is compliant with FMVSS (49 CFR 571.121.S5.1.1.), shall be provided. The air brake system shall be equipped with an automatic drain valve on the wet tank that may be unheated, a valve that can be manually opened on each air tank, and an air dryer/ejector that may be unheated. The system shall include a spring set parking brake. System shall be compliant with FMVSS (49 CFR 571.121), including the latest revision thereof. All brakes shall have automatic slack adjusters. | C41: Air Compressor size, Make & Model: | F41: 18.7 CFM, Cummins | G41: 18.7 CFM, Cummins | H41: 18.7 CFM, Cummins
C42: Air Dryer size, Make & Model: | F42: AD-9, Bendix, 04EBS | G42: AD-9, Bendix, 04EBS | H42: AD-9, Bendix, 04EBS
A44: Brakes | B44: Antilock Brake System (ABS), and an audio & visual warning system for system malfunctions.
A45: Tires | B45: Tires shall meet the minimum requirements for the Chassis Model, as published by the Chassis manufacturer. | C45: Front radial tires size (load range letter) | F45: 10R22.5 (G | G45: 10R22.5 (G | H45: 10R22.5 (G
C46: Front radial tires capacity | F46: 5677 | G46: 5677 | H46: 5677
C47: Rear radial tires size (load range letter) | F47: 10R22.5 (G | G47: 10R22.5 (G | H47: 10R22.5 (G
C48: Rear radial tires capacity | F48: 5355 | G48: 5355 | H48: 5355
C49: Front Tires Option Code: | F49: 7372115809 | G49: 7372115809 | H49: 7372115809
C50: Front Tires Make & Tread Designation: | F50: Hankook AH37 | G50: Hankook AH37 | H50: Hankook AH37
C51: Rear Tires Option Code: | F51: 7372115809 | G51: 7372115809 | H51: 7372115809
C52: Rear Tires Make & Tread Designation: | F52: Hankook AH37 | G52: Hankook AH37 | H52: Hankook AH37
A53: Transmission | B53: Automatic transmission with manufacturer's standard or optional temperature indicator at the operator's control panel. | C53: Number of forward gears: | F53: 6 | G53: 6 | H53: 6
C54: Gears direct or w/O.D.?: | F54: Double Overdrive | G54: Double Overdrive | H54: Double Overdrive
C55: Option Code, Make & Model: | F55: 13ARV, 2500 PTS | G55: 13ARV, 2500 PTS | H55: 13ARV, 2500 PTS
A56: Engine | B56: Engine shall have a manufacturer's standard water cooled engine complete with accessories, as called for under classification. Engine shall develop full-rated torque and horsepower without requiring the use of premium grade fuel for any condition of operation. The Diesel engine shall develop full-rated torque and horsepower with the use of both ultra low sulfur grade diesel fuel and renewable diesel fuel.
A57: Engine Equipment | B57: Engine shall include silicone radiator and heater hoses (or equivalently rated/warranted). Diesel engine shall include cold weather starting aid.
A58: Alternator | B58: Alternator shall be of the integrally-rectified type, with an SAE continuous ampere output rating that is capable of at least powering all electrical devices energized simultaneously and an additional output of ten (10) or more amperes; and shall be driven by a single serpentine belt (or equivalent) or gear driven, and shall have full-transistor type voltage regulators. Wiring harness sizes shall be not less than the alternator manufacturer's recommendations. | C58: Option Code, Make & Model: | F58: 08GXG LN AVI160P2003 | G58: 08GXG LN AVI160P2003 | H58: 08GXG LN AVI160P2003
C59: Capacity [amps]: | F59: 240 | G59: 240 | H59: 240
A60: Battery(ies) | B60: Three (3) "No Maintenance" type batteries with a total capacity of 2400-CCA and a 145-minute reserve capacity. The battery cables (- and +) shall be the same size and weight and be equal to (or better than) the larger cable recommended by the School Bus manufacturer. | C60: Model or Option Code: | F60: 08NBX | G60: 08NBX | H60: 08NBX
C61: Number of batteries: | F61: 3 | G61: 3 | H61: 3
C62: Cold Cranking Amp (CCA) rating of each battery at 0oF | F62: 2850 | G62: 2850 | H62: 2850
A63: Electrical | B63: Units shall have headlights turned on when the engine is running.
A64: Electrical | B64: Driver's compartment dome light shall be so directed to provide illumination for the bus driver and be controlled by an independent switch.
A65: Electrical | B65: All exterior lamps, except headlamps, shall be Light Emitting Diode (LED) design that meet applicable SAE standards.
A66: Horns | B66: An electrical horn(s) shall be provided that meets SAE standard J377. An air horn shall not be an approved Compatible Equivalent.
A67: Door (Entrance) | B67: Minimum 24 inch opening. | C67: Type and clear width [inches]: | F67: Air, 32 | G67: Air, 32 | H67: Air, 32
A68: Stepwell (Entrance) | B68: Structural, tread and riser members shall be constructed entirely of rust/corrosion-resistant steel, components and fasteners or materials of equivalent or stronger structural integrity. Manufacturer's standard floor/stair coverings shall be used for finish surfaces.
A69: Fuel Tank(s) | B69: Diesel and gasoline engine Base Items shall have a sixty (60) gallon fuel capacity. LPG and CNG shall have the minimum construction and protection required by NFPA | C69: Capacity [gallons/cu. ft.]: | F69: 65 | G69: 65 | H69: 65
C70: Number and location of fuel tanks: | F70: 1 tank, Between the frame rails and behind the rear axle | G70: 1 tank, Between the frame rails and behind the rear axle | H70: 1 tank, Between the frame rails and behind the rear axle
A71: Mirrors | B71: The vertical rectangular exterior driving mirrors shall be the heated defrosting type with their own switch and pilot light. Crossview mirrors shall be provided at front corners of each bus.
A72: Seating | B72: Manufacturer's standard or optional seat spacing that meets or exceeds the NYCRR minimum requirement for the respective class of School Bus with the minimum Pupil capacity stated above.
A73: Seatbelt (ambulatory) | B73: Seat belts shall be provided for each individual seating space. Seat belts shall meet current federal safety standards and shall be of a type approved by, and installed in accordance, with the rules and regulations established by NYS DOT in subdivision five (5) of section three-hundred eighty-three (383) of the New York State Vehicle and Traffic Laws dated July 30, 1986 and NYCRR, Title 17, Part 720, or the latest revision thereof.
A74: Stop Arm(s) (Power) | B74: Shall be entrance-door activated, electric or air-positioning type, and be provided streetside on all School Buses. It shall be compliant with FMVSS (49 CFR 571.131). Buses with a capacity of 45 persons or more shall have an additional and same model stop-arm at the rear streetside of the bus. | C74: Make & Model: | F74: Specialty 2980 | G74: Specialty 2980 | H74: Specialty 2980
A75: "School Bus" Signs | B75: Both front and rear shall comply with Article 9, Section 375.20 of the New York State Vehicle and Traffic Law.
A76: 8 Lamp Warning System (School Bus) | B76: Shall be compliant with SAE J887. | C76: Make & Model: | F76: Sound Off 49NGJ | G76: Sound Off 49NGJ | H76: Sound Off 49NGJ
A77: Exterior Reflective Markings | B77: All units with a capacity of ten (10) or more Pupils shall be equipped with exterior reflective markings as required by FMVSS (49 CFR 571.217) and NYCRR (Title 15, Department of Motor Vehicles, Part D, 46.12).
A78: Floor | B78: Manufacturer's standard insulated floor design shall be provided throughout the School Bus.
A79: Heaters | B79: Minimum passenger compartment heating shall meet the requirements of NYCRR, Title 17, Part 720.4(I) Heaters, or the latest revision thereof.
A80: Door (Rear Emergency Exit) | B80: Shall include lower glass.
A82: PART 4: Optional Equipment NYS Contract Pricing | F82: IC Bus
A83: Optional Equipment (see Specifications and Equipment Provided below) | F83: Diesel | G83: Gas | H83: LPG
A84: Capacity - Delete One (1) Row of Seating | F84: =-500*('PPI Adj'!D6) -> -583.5 | G84: =-500*('PPI Adj'!D6) -> -583.5 | H84: =-500*('PPI Adj'!D6) -> -583.5
A85: Child Presence Check / Alarm | F85: =361*('PPI Adj'!D6) -> 421.287 | G85: =361*('PPI Adj'!D6) -> 421.287 | H85: =361*('PPI Adj'!D6) -> 421.287
A86: Glass (Tinted) | F86: =600*('PPI Adj'!D6) -> 700.2 | G86: =600*('PPI Adj'!D6) -> 700.2 | H86: =600*('PPI Adj'!D6) -> 700.2
A87: Rear Axle, "No Spin" | F87: Included in Base Item | G87: Included in Base Item | H87: Included in Base Item
A88: Tires (Snow) | F88: =250*('PPI Adj'!D6) -> 291.75 | G88: =250*('PPI Adj'!D6) -> 291.75 | H88: =250*('PPI Adj'!D6) -> 291.75
A89: Tires (All-Season) | F89: Included in Base Item | G89: Included in Base Item | H89: Included in Base Item
A90: Floor With Recessed Wheelchair Restraint Track For One Wheelchair Station. | F90: =300*('PPI Adj'!D6) -> 350.1 | G90: =300*('PPI Adj'!D6) -> 350.1 | H90: =300*('PPI Adj'!D6) -> 350.1
A91: Floor (Flat) With Recessed Wheelchair Track Throughout Entire Body | F91: Not Available | G91: Not Available | H91: Not Available
A92: Wheelchair Lift | F92: =8605*('PPI Adj'!D6) -> 10042.035 | G92: =8605*('PPI Adj'!D6) -> 10042.035 | H92: =8605*('PPI Adj'!D6) -> 10042.035
A93: Roof Ventilator / Emergency Exit | F93: Included in Base Item | G93: Included in Base Item | H93: Included in Base Item
A94: White Roof | F94: =790*('PPI Adj'!D6) -> 921.93 | G94: =790*('PPI Adj'!D6) -> 921.93 | H94: =790*('PPI Adj'!D6) -> 921.93
A95: High Headroom | F95: Included in Base Item | G95: Included in Base Item | H95: Included in Base Item
A96: Crossing Arm | F96: =48*('PPI Adj'!D6) -> 56.016 | G96: =48*('PPI Adj'!D6) -> 56.016 | H96: =48*('PPI Adj'!D6) -> 56.016
A97: Auxiliary Engine Coolant Heater | F97: =6902*('PPI Adj'!D6) -> 8054.634 | G97: =6902*('PPI Adj'!D6) -> 8054.634 | H97: =6902*('PPI Adj'!D6) -> 8054.634
A98: Vandal Lock | F98: =783*('PPI Adj'!D6) -> 913.761 | G98: =783*('PPI Adj'!D6) -> 913.761 | H98: =783*('PPI Adj'!D6) -> 913.761
A99: Air Conditioning | F99: =14206*('PPI Adj'!D6) -> 16578.402 | G99: =14206*('PPI Adj'!D6) -> 16578.402 | H99: =14206*('PPI Adj'!D6) -> 16578.402
A100: School Bus Safety Camera | F100: =3055*('PPI Adj'!D6) -> 3565.185 | G100: =3055*('PPI Adj'!D6) -> 3565.185 | H100: =3055*('PPI Adj'!D6) -> 3565.185
A101: Delete Exterior LED Lamps | F101: =-893*('PPI Adj'!D6) -> -1042.131 | G101: =-893*('PPI Adj'!D6) -> -1042.131 | H101: =-893*('PPI Adj'!D6) -> -1042.131
A102: Multifunction School Activity Bus | F102: =-946*('PPI Adj'!D6) -> -1103.982 | G102: =-946*('PPI Adj'!D6) -> -1103.982 | H102: =-946*('PPI Adj'!D6) -> -1103.982
A104: PART 4: Optional Equipment Specifications | F104: IC Bus
A105: Optional Equipment | B105: Specification | C105: Information provided in Yellow Cells | F105: Diesel | G105: Gas | H105: LPG
A106: Capacity - Delete One (1) Row of Seating | B106: Delete one (1) full row of seating (both left and right sides) without removing a Body section from the Base Item, or altering the spacing between the remaining seats.
...

Sheet C (Item 4-EV)
A1: ='A (Item 2-G)'!$A$1 -> GROUP 40524-23254, SCHOOL BUSES (Statewide) Attachment 1 - Specifications and Pricing (Revised October 15, 2026)
A2: PC69861 Leonard Bus Sales, Inc.
A3: LOT C (Item 4-EV)
A4: Type C, 64 Pupil Conventional Front-Engine Bus (Electric, Minimum 64 Pupils)
A6: PART 1: Product information for the Base Item(s) Awarded | F6: IC Bus
A7: Category | B7: Information provided in Yellow Cells | F7: ELECTRIC
A8: Engine | B8: Information identifying the engine for the fuel type offered. | F8: Dana SUMO TM4 Motor/Inverter System, 335hp/255kW (peak), 255hp/190kW (continuous).
A9: NYS DOT Approval Number | B9: The NYS DOT Approval Number for the School Bus. Only School Buses approved by NYS DOT Passenger Carrier Safety Bureau for use as 2022 and newer Models, as indicated by a NYS DOT Approval Number, shall be delivered pursuant to the Contract. | F9: 2195-NY-66-00WC-ATC
A10: Chassis Make | B10: The OEM company name of a Chassis. | F10: IC BUS
A11: Chassis Model | B11: The Model name of the Chassis | F11: CE Series Electric
A12: Chassis Model Code | B12: The OEM code used to identify the subset of the Chassis Model. | F12: PB10E
A13: Body Make | B13: The OEM company name of a Body. | F13: IC BUS
A14: Body Model | B14: The Model name of the Body | F14: PB10E
A15: Body Model Code | B15: The OEM code used to identify the subset of the Body Model. | F15: CE Series
A16: Pick Up Allowance | B16: The dollar amount, per School Bus, that will be deducted from the Base Item NYS Contract Price, if the Authorized User elects to pick up the School Bus at the Contractor's location. | F16: 0
A17: Delivery Time | B17: The estimated delivery time for the School Bus, expressed in number of calendar days, required to make delivery after receipt of a final Purchase Order (After Receipt of Order (“ARO”)) | F17: 180-300 Days
A19: PART 2: Pricing for the Base Item, Additional Body Section, and Additional Options | F19: IC Bus
A20: Category | B20: Information provided in Yellow Cells | F20: ELECTRIC
A21: Base Item NYS Contract Price | B21: The per unit NYS Contract Price (dollar amount) for the School Bus described in the Base Item Specifications. The Base Item NYS Contract Price includes any OEM fees, all customs duties and charges, all vehicle preparation and clean-up charges, NYS DOT inspection, installation charges, delivery and all other incidentals normally included with providing a School Bus, but excludes Optional Equipment, Additional Body Section(s), and Additional Options. | F21: =376178*('PPI Adj'!D6) -> 438999.73
A22: Additional Options NYS Discount | B22: The minimum percentage amount that shall be deducted from the MSRP for all Additional Options purchased under the Contract for this Item. | F22: 16
A24: PART 3: Base Item Specifications | F24: IC Bus
A25: Category | B25: Specification | C25: Information provided in Yellow Cells | F25: ELECTRIC
A26: General | B26: A School Bus with a Body installed upon a cowl and Chassis constructed using a chassis with a hood and front fender assembly. All of the engine is in front of the windshield and the entrance door is behind the front wheels. This is also known as a conventional school bus. This type also includes the cutaway truck chassis or truck chassis with cab, with or without a left side door, and with a GVWR greater than 16,000 pounds. | C26: Gross Vehicle Weight Rating (GVWR) [lbs]: | F26: 33000
A27: Capacity | B27: Minimum forty-six (46) Pupils. | C27: Number of rows: | F27: 11
C28: Number of Pupils: | F28: 66
A29: Rear Wheels | B29: Dual Rear Wheel (DRW)
A30: Dimensions | C30: Wheelbase [inches]: | F30: 254
C31: Length (bumper to bumper) [inches]: | F31: 435.14
C32: Body width (inside) [inches]: | F32: 90
C33: Body headroom (standard) [inches]: | F33: 78
C34: Cowl to rear axle length [inches]: | F34: 228.92
A35: Cowl/Hood | B35: Forward tilting style cowl/hood assembly.
A36: Front Axle | C36: Gross Axle Weight Rating (GAWR) [lbs]: | F36: 10000
C37: Front axle capacity [lbs]: | F37: 10000
A38: Rear Axle | C38: Gross Axle Weight Rating (GAWR) [lbs]: | F38: 23000
C39: Rear axle capacity [lbs]: | F39: 23000
A40: Steering | B40: Power steering
A41: Brakes | B41: Chassis manufacturer's typical full air service brake system. A liquid-cooled, engine-lubricated air compressor, that is compliant with FMVSS (49 CFR 571.121.S5.1.1.), shall be provided. The air brake system shall be equipped with an automatic drain valve on the wet tank that may be unheated, a valve that can be manually opened on each air tank, and an air dryer/ejector that may be unheated. The system shall include a spring set parking brake. System shall be compliant with FMVSS (49 CFR 571.121), including the latest revision thereof. All brakes shall have automatic slack adjusters. | C41: Air Compressor size, Make & Model: | F41: Quanxing 10.6 CFM
C42: Air Dryer size, Make & Model: | F42: Bendix ADIP
A44: Brakes | B44: Antilock Brake System (ABS), and an audio & visual warning system for system malfunctions.
A45: Tires | B45: Tires shall meet the minimum requirements for the Chassis Model, as published by the Chassis manufacturer. | C45: Front radial tires size (load range letter) | F45: 11R22.5 (H)
C46: Front radial tires capacity | F46: 6610 Single
C47: Rear radial tires size (load range letter) | F47: 11R22.5 (H)
C48: Rear radial tires capacity | F48: 6005 Dual
C49: Front Tires Option Code: | F49: 7382135443
C50: Front Tires Make & Tread Designation: | F50: Continental HS3+
C51: Rear Tires Option Code: | F51: 7382135443
C52: Rear Tires Make & Tread Designation: | F52: Continental HS3+
A53: Transmission | B53: Automatic transmission with manufacturer's standard or optional temperature indicator at the operator's control panel. | C53: Number of forward gears: | F53: 1
C54: Gears direct or w/O.D.?: | F54: Direct
C55: Option Code, Make & Model: | F55: Not Applicable
A56: Propulsion System | B56: Propulsion system which furnishes high-wattage electric power to the motor(s), that propels the vehicle forward or backward, and is sometimes referred to as the “main or power drive circuitry.” | C56: Vehicle range on full charge [miles]: | F56: 135
A57: Battery(ies) | B57: Three (3) "No Maintenance" type batteries with a total capacity of 2400-CCA and a 145-minute reserve capacity. The battery cables (- and +) shall be the same size and weight and be equal to (or better than) the larger cable recommended by the School Bus manufacturer. | C57: Number of Batteries: | F57: 2
C58: Type of Batteries: | F58: LFP/Lithium Ion
C59: System Design Voltage: | F59: 608V
A60: Electrical | B60: Units shall have headlights turned on when the engine is running.
A61: Electrical | B61: Driver's compartment dome light shall be so directed to provide illumination for the bus driver and be controlled by an independent switch.
A62: Electrical | B62: All exterior lamps, except headlamps, shall be Light Emitting Diode (LED) design that meet applicable SAE standards.
A63: Horns | B63: An electrical horn(s) shall be provided that meets SAE standard J377. An air horn shall not be an approved Compatible Equivalent.
A64: Door (Entrance) | B64: Minimum 24 inch opening. | C64: Type and clear width [inches]: | F64: O/O Air, 32"
A65: Stepwell (Entrance) | B65: Structural, tread and riser members shall be constructed entirely of rust/corrosion-resistant steel, components and fasteners or materials of equivalent or stronger structural integrity. Manufacturer's standard floor/stair coverings shall be used for finish surfaces.
A66: Mirrors | B66: The vertical rectangular exterior driving mirrors shall be the heated defrosting type with their own switch and pilot light. Crossview mirrors shall be provided at front corners of each bus.
A67: Seating | B67: Manufacturer's standard or optional seat spacing that meets or exceeds the NYCRR minimum requirement for the respective class of School Bus with the minimum Pupil capacity stated above.
A68: Seatbelt (ambulatory) | B68: Seat belts shall be provided for each individual seating space. Seat belts shall meet current federal safety standards and shall be of a type approved by, and installed in accordance, with the rules and regulations established by NYS DOT in subdivision five (5) of section three-hundred eighty-three (383) of the New York State Vehicle and Traffic Laws dated July 30, 1986 and NYCRR, Title 17, Part 720, or the latest revision thereof.
A69: Stop Arm(s) (Power) | B69: Shall be entrance-door activated, electric or air-positioning type, and be provided streetside on all School Buses. It shall be compliant with FMVSS (49 CFR 571.131). Buses with a capacity of 45 persons or more shall have an additional and same model stop-arm at the rear streetside of the bus. | C69: Make & Model: | F69: Speciality 2980
A70: "School Bus" Signs | B70: Both front and rear shall comply with Article 9, Section 375.20 of the New York State Vehicle and Traffic Law.
A71: 8 Lamp Warning System (School Bus) | B71: Shall be compliant with SAE J887. | C71: Make & Model: | F71: Sound Off 49NGJ
A72: Exterior Reflective Markings | B72: All units with a capacity of ten (10) or more Pupils shall be equipped with exterior reflective markings as required by FMVSS (49 CFR 571.217) and NYCRR (Title 15, Department of Motor Vehicles, Part D, 46.12).
A73: Floor | B73: Manufacturer's standard insulated floor design shall be provided throughout the School Bus.
A74: Heaters | B74: Minimum passenger compartment heating shall meet the requirements of NYCRR, Title 17, Part 720.4(I) Heaters, or the latest revision thereof. | C74: Heater Power Source: | F74: Propulsion Battery System
A75: Door (Rear Emergency Exit) | B75: Shall include lower glass.
A77: PART 4: Optional Equipment NYS Contract Pricing | F77: IC Bus
A78: Optional Equipment (see Specifications and Equipment Provided below) | F78: ELECTRIC
A79: Capacity - Delete One (1) Row of Seating | F79: =-500*('PPI Adj'!D6) -> -583.5
A80: Child Presence Check / Alarm | F80: =361*('PPI Adj'!D6) -> 421.287
A81: Glass (Tinted) | F81: =600*('PPI Adj'!D6) -> 700.2
A82: Rear Axle, "No Spin" | F82: Included in Base Item
A83: Tires (Snow) for 4 tires | F83: =250*('PPI Adj'!D6) -> 291.75
A84: Tires (All-Season) | F84: Included in Base Item
A85: Floor With Recessed Wheelchair Restraint Track For One Wheelchair Station. | F85: =300*('PPI Adj'!D6) -> 350.1
A86: Floor (Flat) With Recessed Wheelchair Track Throughout Entire Body | F86: Not Available
A87: Wheelchair Lift | F87: =8605*('PPI Adj'!D6) -> 10042.035
A88: Roof Ventilator / Emergency Exit | F88: Included in Base Item
A89: White Roof | F89: =790*('PPI Adj'!D6) -> 921.93
A90: High Headroom | F90: Included in Base Item
A91: Crossing Arm | F91: =48*('PPI Adj'!D6) -> 56.016
A92: Vandal Lock | F92: =783*('PPI Adj'!D6) -> 913.761
A93: Air Conditioning | F93: =17000*('PPI Adj'!D6) -> 19839
A94: School Bus Safety Camera | F94: =3055*('PPI Adj'!D6) -> 3565.185
A95: Multifunction School Activity Bus | F95: =-946*('PPI Adj'!D6) -> -1103.982
A97: PART 4: Optional Equipment Specifications | F97: IC Bus
A98: Optional Equipment | B98: Specification | C98: Information provided in Yellow Cells | F98: ELECTRIC
A99: Capacity - Delete One (1) Row of Seating | B99: Delete one (1) full row of seating (both left and right sides) without removing a Body section from the Base Item, or altering the spacing between the remaining seats.
A100: Child Presence Check / Alarm | B100: Shall be the Child Check-mate System Model EP 2, or Compatible Equivalent. | C100: Make & Model: | F100: Child Check Mate EP1, 47EXC
A101: Glass (Tinted) | B101: The School Bus windshield and Body windows shall have the manufacturer's typical options that provide tinted glass windows throughout the vehicle and shall comply with Article 9, Section 375.12a. of the New York State Vehicle and Traffic Law.
A102: Rear Axle, "No Spin" | B102: The manufacturer’s standard device (e.g., power-lock, limited-slip, no-spin, positive-traction). | C102: Type of device: | F102: Electronic Stability Control with Automatic Traction control
A103: Tires (Snow) | B103: Snow tread tires shall be provided on all drive wheels. Tires shall be Federal class D/A, STC (with snow traction capability), or class S/T, or A/T, AP with STC, or other class with STC. The price entered for this Optional Equipment shall be for four (4) tires. Tires furnished on the rear wheels shall be the same size and adequate for axle's GAWR. | C103: Rear radial tires size (load range letter) [LT_____/_____R_____._____(_____)]: | F103: 11R22.5 (H)
C104: Rear radial tires capacity [_____,_____-lbs]: | F104: 6005 Dual
C105: Rear Tires Option Code: | F105: 7372135444
C106: Rear Tires Make & Tread Designation: | F106: Continental HDR2+
...

Sheet D (Item 3-EV)
A1: ='A (Item 2-G)'!$A$1 -> GROUP 40524-23254, SCHOOL BUSES (Statewide) Attachment 1 - Specifications and Pricing (Revised October 15, 2026)
A2: PC69861 Leonard Bus Sales, Inc.
A3: LOT D (Item 3-EV)
A4: Type D, 77 Pupil Transit Style Bus (Electric, Minimum 77 Pupils, Maximum 84 Pupils)
A6: PART 1: Product information for the Base Item(s) Awarded | F6: GreenPower
A7: Category | B7: Information provided in Yellow Cells | F7: ELECTRIC
A8: Propulsion System | B8: Information identifying the engine for the fuel type offered. | F8: GreenPower 193.56 kWh battery storage system powering the 350 kW Dana TM4 electric motor (TZ488XSPE351WH).
A9: NYS DOT Approval Number | B9: The NYS DOT Approval Number for the School Bus. Only School Buses approved by NYS DOT Passenger Carrier Safety Bureau for use as 2022 and newer Models, as indicated by a NYS DOT Approval Number, shall be delivered pursuant to the Contract. | F9: 002-NY-84-00WC-GPM
A10: Chassis Make | B10: The OEM company name of a Chassis. | F10: GreenPower Motor
A11: Chassis Model | B11: The Model name of the Chassis | F11: BEAST
A12: Chassis Model Code | B12: The OEM code used to identify the subset of the Chassis Model. | F12: LCK6120EVDP
A13: Body Make | B13: The OEM company name of a Body. | F13: GreenPower Motor
A14: Body Model | B14: The Model name of the Body | F14: BEAST
A15: Body Model Code | B15: The OEM code used to identify the subset of the Body Model. | F15: BEAST 90
A16: Pick Up Allowance | B16: The dollar amount, per School Bus, that will be deducted from the Base Item NYS Contract Price, if the Authorized User elects to pick up the School Bus at the Contractor's location. | F16: 100
A17: Delivery Time | B17: The estimated delivery time for the School Bus, expressed in number of calendar days, required to make delivery after receipt of a final Purchase Order (After Receipt of Order (“ARO”)) | F17: 270-300 days
A19: PART 2: Pricing for the Base Item, Additional Body Section, and Additional Options | F19: GreenPower
A20: Category | B20: Information provided in Yellow Cells | F20: ELECTRIC
A21: Base Item NYS Contract Price | B21: The per unit NYS Contract Price (dollar amount) for the School Bus described in the Base Item Specifications. The Base Item NYS Contract Price includes any OEM fees, all customs duties and charges, all vehicle preparation and clean-up charges, NYS DOT inspection, installation charges, delivery and all other incidentals normally included with providing a School Bus, but excludes Optional Equipment, Additional Body Section(s), and Additional Options. | F21: =393900*('PPI Adj'!D6) -> 459681.3
A22: Additional Options NYS Discount | B22: The minimum percentage amount that shall be deducted from the MSRP for all Additional Options purchased under the Contract for this Item. | F22: 16
A24: PART 3: Base Item Specifications | F24: GreenPower
A25: Category | B25: Specification | C25: Information provided in Yellow Cells | F25: ELECTRIC
A26: General | B26: A School Bus with a Body installed upon a a Chassis or unitized type construction, with a GVWR of greater than 16,000 pounds and designed to carry more than 10 persons. The entrance door is ahead of the front wheels. | C26: Gross Vehicle Weight Rating (GVWR) [lbs]: | F26: 42,990 lbs.
A27: Capacity | B27: Minimum seventy-seven (77) Pupils with a maximum of eighty-four (84) Pupils. | C27: Number of rows: | F27: 14 rows
C28: Number of Pupils: | F28: 84 passengers
A29: Rear Wheels | B29: Dual Rear Wheel (DRW)
A30: Dimensions | C30: Wheelbase [inches]: | F30: 240.15"
C31: Length (bumper to bumper) [inches]: | F31: 472.5"
C32: Body width (inside) [inches]: | F32: 94"
C33: Body headroom (standard) [inches]: | F33: 74"
C34: Cowl to rear axle length [inches]: | F34: 340"
A35: Front Axle | C35: Gross Axle Weight Rating (GAWR) [lbs]: | F35: 14,330 lbs.
C36: Front axle capacity [lbs]: | F36: 14,330 lbs.
A37: Rear Axle | C37: Gross Axle Weight Rating (GAWR) [lbs]: | F37: 28,660 lbs.
C38: Rear axle capacity [lbs]: | F38: 28,660 lbs.
A39: Steering | B39: Power steering
A40: Brakes | B40: Chassis manufacturer's typical full air service brake system. A liquid-cooled, engine-lubricated air compressor, that is compliant with FMVSS (49 CFR 571.121.S5.1.1.), shall be provided. The air brake system shall be equipped with an automatic drain valve on the wet tank that may be unheated, a valve that can be manually opened on each air tank, and an air dryer/ejector that may be unheated. The system shall include a spring set parking brake. System shall be compliant with FMVSS (49 CFR 571.121), including the latest revision thereof. All brakes shall have automatic slack adjusters. | C40: Air Compressor size, Make & Model: | F40: 4kW,Naili,APMF4.0
C41: Air Dryer size, Make & Model: | F41: Wabco, 432 410 007 0
A43: Brakes | B43: Antilock Brake System (ABS), and an audio & visual warning system for system malfunctions.
A44: Tires | B44: Tires shall meet the minimum requirements for the Chassis Model, as published by the Chassis manufacturer. | C44: Front radial tires size (load range letter) | F44: 315/80r22.5 (L)
C45: Front radial tires capacity | F45: 10,200 lbs SINGLE
C46: Rear radial tires size (load range letter) | F46: 315/80r22.5 (L)
C47: Rear radial tires capacity | F47: 9,090 lbs DUAL
C48: Front Tires Option Code: | F48: 5532063
C49: Front Tires Make & Tread Designation: | F49: Sumitomo ST528
C50: Rear Tires Option Code: | F50: 5532063
C51: Rear Tires Make & Tread Designation: | F51: Sumitomo ST528
A52: Transmission | B52: Automatic transmission with manufacturer's standard or optional temperature indicator at the operator's control panel. | C52: Number of forward gears: | F52: 1
C53: Gears direct or w/O.D.?: | F53: Direct
C54: Option Code, Make & Model: | F54: Not Applicable
A55: Propulsion System | B55: Propulsion system which furnishes high-wattage electric power to the motor(s), that propels the vehicle forward or backward, and is sometimes referred to as the “main or power drive circuitry.” | C55: Vehicle range on full charge [miles]: | F55: 120 miles from 100%-20%, without turning heating or AC on.
A56: Battery(ies) | C56: Number of Batteries: | F56: Six
C57: Type of Batteries: | F57: Lithium Iron Phosphate LiFePO
C58: System Design Voltage: | F58: 614.4V
A59: Electrical | B59: Units shall have headlights turned on when the engine is running.
A60: Electrical | B60: Driver's compartment dome light shall be so directed to provide illumination for the bus driver and be controlled by an independent switch.
A61: Electrical | B61: All exterior lamps, except headlamps, shall be Light Emitting Diode (LED) design that meet applicable SAE standards.
A62: Horns | B62: An electrical horn(s) shall be provided that meets SAE standard J377. An air horn shall not be an approved Compatible Equivalent.
A63: Door (Entrance) | B63: Minimum 24 inch opening. | C63: Type and clear width [inches]: | F63: Electric, 34
A64: Stepwell (Entrance) | B64: Structural, tread and riser members shall be constructed entirely of rust/corrosion-resistant steel, components and fasteners or materials of equivalent or stronger structural integrity. Manufacturer's standard floor/stair coverings shall be used for finish surfaces.
A65: Mirrors | B65: The vertical rectangular exterior driving mirrors shall be the heated defrosting type with their own switch and pilot light. Crossview mirrors shall be provided at front corners of each bus.
A66: Seating | B66: Manufacturer's standard or optional seat spacing that meets or exceeds the NYCRR minimum requirement for the respective class of School Bus with the minimum Pupil capacity stated above.
A67: Seatbelt (ambulatory) | B67: Seat belts shall be provided for each individual seating space. Seat belts shall meet current federal safety standards and shall be of a type approved by, and installed in accordance, with the rules and regulations established by NYS DOT in subdivision five (5) of section three-hundred eighty-three (383) of the New York State Vehicle and Traffic Laws dated July 30, 1986 and NYCRR, Title 17, Part 720, or the latest revision thereof.
A68: Stop Arm(s) (Power) | B68: Shall be entrance-door activated, electric or air-positioning type, and be provided streetside on all School Buses. It shall be compliant with FMVSS (49 CFR 571.131). Buses with a capacity of 45 persons or more shall have an additional and same model stop-arm at the rear streetside of the bus. | C68: Make & Model: | F68: First Light Safety 100947-000 STOP ARM ASSEMBLY - FISA, ELECTRIC, FRONT
A69: "School Bus" Signs | B69: Both front and rear shall comply with Article 9, Section 375.20 of the New York State Vehicle and Traffic Law.
A70: 8 Lamp Warning System (School Bus) | B70: Shall be compliant with SAE J887. | C70: Make & Model: | F70: GP PLC control
A71: Exterior Reflective Markings | B71: All units with a capacity of ten (10) or more Pupils shall be equipped with exterior reflective markings as required by FMVSS (49 CFR 571.217) and NYCRR (Title 15, Department of Motor Vehicles, Part D, 46.12).
A72: Floor | B72: Manufacturer's standard insulated floor design shall be provided throughout the School Bus.
A73: Heaters | B73: Minimum passenger compartment heating shall meet the requirements of NYCRR, Title 17, Part 720.4(I) Heaters, or the latest revision thereof. | C73: Heater Power Source: | F73: Propulsion battery
A74: Door (Rear Emergency Exit) | B74: Shall include lower glass.
A76: PART 4: Optional Equipment NYS Contract Pricing | F76: GreenPower
A77: Optional Equipment (see Specifications and Equipment Provided below) | F77: ELECTRIC
A78: Capacity - Delete One (1) Row of Seating | F78: =-500*('PPI Adj'!D6) -> -583.5
A79: Child Presence Check / Alarm | F79: Included in Base Item
A80: Glass (Tinted) | F80: Included in Base Item
A81: Rear Axle, "No Spin" | F81: Included in Base Item
A82: Tires (Snow) for 4 tires | F82: Included in Base Item
A83: Tires (All-Season) | F83: Included in Base Item
A84: Floor With Recessed Wheelchair Restraint Track For One Wheelchair Station. | F84: Included in Base Item
A85: Floor (Flat) With Recessed Wheelchair Track Throughout Entire Body | F85: Included in Base Item
A86: Wheelchair Lift | F86: =8834*('PPI Adj'!D6) -> 10309.278
A87: Roof Ventilator / Emergency Exit | F87: Included in Base Item
A88: White Roof | F88: Included in Base Item
A89: High Headroom | F89: Included in Base Item
A90: Crossing Arm | F90: =680*('PPI Adj'!D6) -> 793.56
A91: Vandal Lock | F91: Included in Base Item
A92: Air Conditioning | F92: Included in Base Item
A93: School Bus Safety Camera | F93: =3726*('PPI Adj'!D6) -> 4348.242
A94: Multifunction School Activity Bus | F94: =-946*('PPI Adj'!D6) -> -1103.982
A96: PART 4: Optional Equipment Specifications | F96: GreenPower
A97: Optional Equipment | B97: Specification | C97: Information provided in Yellow Cells | F97: ELECTRIC
A98: Capacity - Delete One (1) Row of Seating | B98: Delete one (1) full row of seating (both left and right sides) without removing a Body section from the Base Item, or altering the spacing between the remaining seats.
A99: Child Presence Check / Alarm | B99: Shall be the Child Check-mate System Model EP 2, or Compatible Equivalent. | C99: Make & Model: | F99: ChildCheck Mate EP1 Plus
A100: Glass (Tinted) | B100: The School Bus windshield and Body windows shall have the manufacturer's typical options that provide tinted glass windows throughout the vehicle and shall comply with Article 9, Section 375.12a. of the New York State Vehicle and Traffic Law.
A101: Rear Axle, "No Spin" | B101: The manufacturer’s standard device (e.g., power-lock, limited-slip, no-spin, positive-traction). | C101: Type of device: | F101: Traction Control
A102: Tires (Snow) | B102: Snow tread tires shall be provided on all drive wheels. Tires shall be Federal class D/A, STC (with snow traction capability), or class S/T, or A/T, AP with STC, or other class with STC. The price entered for this Optional Equipment shall be for four (4) tires. Tires furnished on the rear wheels shall be the same size and adequate for axle's GAWR. | C102: Rear radial tires size (load range letter) [LT_____/_____R_____._____(_____)]: | F102: 315/80r22.5 (L)
C103: Rear radial tires capacity [_____,_____-lbs]: | F103: 8,270 lbs DUAL
C104: Rear Tires Option Code: | F104: 4355
C105: Rear Tires Make & Tread Designation: | F105: Michelin XDN2
A106: Tires (All-Season) | B106: All-season tread, tubeless, radial tires having a Federal class designation S/T or STC shall be provided. Tires shall be Michelin XDS, XDS-2, XZY3, or Compatible Equivalent. The price entered for this Optional Equipment shall be for six (6) tires. Tires furnished on the rear wheels shall be the same size and adequate for axle's GAWR. | C106: Front radial tires size (load range letter) [LT_____/_____R_____._____(_____)]: | F106: 315/80r22.5 (L)
...

Sheet PPI Adj
A1: Hide before posting
B2: PPI Series ID | D2: WPU1413
B3: 08/2022 PPI | D3: 322.792 | E3: 10/2017 PPI | G3: 243.1
B4: 10/2026 PPI | D4: 376.62 | E4: =B4 -> 10/2026 PPI | G4: =D4 -> 376.62
B5: Adj. Factor | D5: =D4/D3 -> 1.1667575 | E5: Adj. Factor | G5: =G4/G3 -> 1.549239
B6: Round to 1000th | D6: =ROUND(D5,3) -> 1.167 | E6: Round to 1000th | G6: =ROUND(G5,3) -> 1.549
