Workbook

Sheet Attachment 1 - Summary
B1: Group 40524-23254, SCHOOL BUSES (Statewide) Attachment 1 - Specifications and Pricing (Revised October 15, 2026)
B2: PC69863 Nesco Bus and Truck Sales, Inc.
B3: The Contractor has been awarded the following Items, and shall offer Base Items, Optional Equipment and Additional Body Sections sold under the Contract at net prices that are equal to the applicable NYS Contract Price that is listed on the Contract Pricelist, or less. An Authorized User may choose to add one (1) or more of the Optional Equipment from the list of Optional Equipment, and/or Additional Body Sections, associated with the Base Item (see Contract Section 3.7 Optional Equipment and Additional Body Sections). Additional Options offered by the Contractor, that are listed on the OEM or Contractor-Published Pricelist(s), may also be requested by the Authorized User (see Contract Section 3.8 Additional Options).
B4: Name and description of worksheets included in this workbook:
B5: Tab Name | C5: Description of Tab or Item | D5: Fuel Types Awarded | E5: Item Availability by County (Under this Contract) | F5: Pupil Capacity | G5: Tab Color
B6: Attachment 1 - Summary | C6: Summary of Attachment 1 - Specifications and Pricing (this worksheet)
B7: A (Item 2-G) | C7: Lot A (Item 2-G): Type A-1, SRW, Cutaway, 4 Rows | D7: Gasoline | E7: Bronx, Kings, Nassau, New York, Queens, Richmond, and Suffolk Counties. For all other Counties, please see Contract PC69862, Matthews Buses, Inc. | F7: Minimum 16
B8: A (Item 3-G) | C8: Lot A (Item 3-G): Type A-2, DRW, Cutaway, 4 Rows | D8: Gasoline | E8: Bronx, Kings, Nassau, New York, Queens, Richmond, and Suffolk Counties. For all other Counties, please see Contract PC69862, Matthews Buses, Inc. | F8: Minimum 20
B9: A (Item 3-EV) | C9: Lot A (Item 3-EV): Type A-2, DRW, Cutaway, 4 Rows | D9: Electric | E9: Bronx, Kings, Nassau, New York, Queens, Richmond, and Suffolk Counties. For all other Counties, please see Contract PC69862, Matthews Buses, Inc. | F9: Minimum 20
B10: A (Item 4-G) | C10: Lot A (Item 4-G): Type A-2, DRW, Cutaway, 4 Rows | D10: Gasoline | E10: Bronx, Kings, Nassau, New York, Queens, Richmond, and Suffolk Counties. For all other Counties, please see Contract PC69862, Matthews Buses, Inc. | F10: Minimum 24
B11: A (Item 4-EV) | C11: Lot A (Item 4-EV): Type A-2, DRW, Cutaway, 4 Rows | D11: Electric | E11: Bronx, Kings, Nassau, New York, Queens, Richmond, and Suffolk Counties. For all other Counties, please see Contract PC69862, Matthews Buses, Inc. | F11: Minimum 24
B12: A (Item 5-G) | C12: Lot A (Item 5-G): Type A-2, DRW, Cutaway, 5 Rows | D12: Gasoline, LPG | E12: Bronx, Kings, Nassau, New York, Queens, Richmond, and Suffolk Counties. For all other Counties, please see Contract PC69862, Matthews Buses, Inc. | F12: Minimum 30
B13: C (Item 1-D) | C13: Lot C (Item 1-D): Type C, Conventional Bus | D13: Diesel | E13: Bronx, Kings, Nassau, New York, Queens, Richmond, and Suffolk Counties. For all other Counties, please see Contract PC69862, Matthews Buses, Inc. | F13: Minimum 24
B14: C (Item 2-D) | C14: Lot C (Item 2-D): Type C, Conventional Bus | D14: Diesel | E14: Bronx, Kings, Nassau, New York, Queens, Richmond, and Suffolk Counties. For all other Counties, please see Contract PC69862, Matthews Buses, Inc. | F14: Minimum 46
B15: C (Item 2-EV) | C15: Lot C (Item 2-EV): Type C, Conventional Bus | D15: Electric | E15: Bronx, Kings, Nassau, New York, Queens, Richmond, and Suffolk Counties. For all other Counties, please see Contract PC69862, Matthews Buses, Inc. | F15: Minimum 46
B16: C (Item 3-D) | C16: Lot C (Item 3-D): Type C, Conventional Bus | D16: Diesel, CNG | E16: Bronx, Kings, Nassau, New York, Queens, Richmond, and Suffolk Counties. For all other Counties, please see Contract PC69862, Matthews Buses, Inc. | F16: Minimum 58
B17: C (Item 4-D) | C17: Lot C (Item 4-D): Type C, Conventional Bus | D17: Diesel, CNG | E17: Bronx, Kings, Nassau, New York, Queens, Richmond, and Suffolk Counties. For all other Counties, please see Contract PC69862, Matthews Buses, Inc. | F17: Minimum 64
B18: C (Item 4-EV) | C18: Lot C (Item 4-EV): Type C, Conventional Bus | D18: Electric | E18: Bronx, Kings, Nassau, New York, Queens, Richmond, and Suffolk Counties. For all other Counties, please see Contract PC69862, Matthews Buses, Inc. | F18: Minimum 64
... B23: D (Item 5-D) | C23: Lot D (Item 5-D): Type D, Rear Engine (Pusher) Bus | D23: Diesel, CNG | E23: Bronx, Kings, Nassau, New York, Queens, Richmond, and Suffolk Counties. For all other Counties, please see Contract PC69862, Matthews Buses, Inc. | F23: Minimum 72

Sheet A (Item 2-G)
A1: GROUP 40524-23254, SCHOOL BUSES (Statewide) Attachment 1 - Specifications and Pricing (Revised October 15, 2026)
A2: ='Attachment 1 - Summary'!B2 -> PC69863 Nesco Bus and Truck Sales, Inc.
A3: LOT A (Item 2-G)
A4: Type A-1, SRW, Cutaway, 4 Rows (Gasoline; Minimum 16 Pupils)
A6: PART 1: Product information for the Base Item(s) Awarded | F6: General Motors / Thomas
A7: Category | B7: Information provided in Yellow Cells | F7: Gasoline
A8: Engine | B8: Information identifying the engine for the fuel type offered. | F8: LV1, GM 4.3L Vortec, 6 cylinders, 4.3L, 276HP@5200, 298 LB FT Torque @ 3800
A9: NYS DOT Approval Number | B9: The NYS DOT Approval Number for the School Bus. Only School Buses approved by NYS DOT Passenger Carrier Safety Bureau for use as 2022 and newer Models, as indicated by a NYS DOT Approval Number, shall be delivered pursuant to the Contract. | F9: 1623-NY-16-00WC-TBB
A10: Chassis Make | B10: The OEM company name of a Chassis. | F10: General Motors
A11: Chassis Model | B11: The Model name of the Chassis. | F11: 3500
A12: Chassis Model Code | B12: The OEM code used to identify the subset of the Chassis Model. | F12: CG33503
A13: Body Make | B13: The OEM company name of a Body. | F13: Thomas
A14: Body Model | B14: The Model name of the Body. | F14: Minotour
A15: Body Model Code | B15: The OEM code used to identify the subset of the Body Model. | F15: 041LS
A16: Pick Up Allowance | B16: The dollar amount, per School Bus, that will be deducted from the Base Item NYS Contract Price, if the Authorized User elects to pick up the School Bus at the Contractor's location. | F16: 100
A17: Delivery Time | B17: The estimated delivery time for the School Bus, expressed in number of calendar days, required to make delivery after receipt of a final Purchase Order (After Receipt of Order (“ARO”)). | F17: 210
A19: PART 2: Pricing for the Base Item, Additional Body Section, and Additional Options | F19: General Motors / Thomas
A20: Category | B20: Information provided in Yellow Cells | F20: Gasoline
A21: Base Item NYS Contract Price | B21: The per unit NYS Contract Price (dollar amount) for the School Bus described in the Base Item Specifications. The Base Item NYS Contract Price includes any OEM fees, all customs duties and charges, all vehicle preparation and clean-up charges, NYS DOT inspection, installation charges, delivery and all other incidentals normally included with providing a School Bus, but excludes Optional Equipment, Additional Body Section(s), and Additional Options. | F21: =63101.27*('PPI Adj'!D6) -> 73639.182
A22: Additional Body Section NYS Contract Price | B22: The per unit NYS Contract Price (dollar amount) for adding one (1) Additional Body Section, excluding seats and other interior features, to the Base Item and the applicable Base Item NYS Contract Price. | F22: =1641*('PPI Adj'!D6) -> 1915.047
A23: Additional Options NYS Discount | B23: The minimum percentage amount that shall be deducted from the MSRP for all Additional Options purchased under the Contract for this Item. | F23: 20
A25: PART 3: Base Item Specifications | F25: General Motors / Thomas
A26: Category | B26: Specification | C26: Information provided in Yellow Cells | F26: Gasoline
A27: General | B27: A conversion School Bus constructed using a cutaway front-section vehicle with a left side driver’s door, with a GVWR of 10,000 pounds or less. | C27: Gross Vehicle Weight Rating (GVWR) [lbs]: | F27: 9900
A28: Capacity | B28: Minimum four (4) rows for sixteen (16) Pupils | C28: Number of rows: | F28: 4
C29: Number of Pupils: | F29: 16
A30: Rear Wheels | B30: Single Rear Wheel (SRW)
A31: Dimensions | C31: Wheelbase [inches]: | F31: 139
C32: Length (bumper to bumper) [inches]: | F32: 227.8
C33: Body width (inside) [inches]: | F33: 78
C34: Body headroom (standard) [inches]: | F34: 73
C35: Cowl to rear axle length [inches]: | F35: 77.6
A36: Front Axle | C36: Gross Axle Weight Rating (GAWR) [lbs]: | F36: 4100
C37: Front axle capacity [lbs]: | F37: 4100
A38: Rear Axle | C38: Gross Axle Weight Rating (GAWR) [lbs]: | F38: 6084
C39: Rear axle capacity [lbs]: | F39: 6084
A40: Steering | B40: Power steering
A41: Tires | B41: Tires shall meet the minimum requirements for the Chassis Model, as published by the Chassis manufacturer. | C41: Front radial tires size (load range letter) | F41: LT245/75R16E
C42: Front radial tires capacity | F42: 2205 each
C43: Rear radial tires size (load range letter) | F43: LT245/75R16E
...

Sheet A (Item 3-G)
A1: ='A (Item 2-G)'!$A$1 -> GROUP 40524-23254, SCHOOL BUSES (Statewide) Attachment 1 - Specifications and Pricing (Revised October 15, 2026)
A2: ='Attachment 1 - Summary'!B2 -> PC69863 Nesco Bus and Truck Sales, Inc.
A3: LOT A (Item 3-G)
A4: Type A-2, DRW, Cutaway, 4 Rows (Gasoline; Minimum 20 Pupils)
A6: PART 1: Product information for the Base Item(s) Awarded | F6: Ford / Thomas
A7: Category | B7: Information provided in Yellow Cells | F7: Gasoline
A8: Engine | B8: Information identifying the engine for the fuel type offered. | F8: 99S Ford Triton V8, 10 cylinder,7.3L,325HP @ 4250 RPM, 450LBFT torque @ 3750 RPM
A9: NYS DOT Approval Number | B9: The NYS DOT Approval Number for the School Bus. Only School Buses approved by NYS DOT Passenger Carrier Safety Bureau for use as 2022 and newer Models, as indicated by a NYS DOT Approval Number, shall be delivered pursuant to the Contract. | F9: 1462-NY-20-00WC-TBB
A10: Chassis Make | B10: The OEM company name of a Chassis. | F10: Ford
A11: Chassis Model | B11: The Model name of the Chassis. | F11: E-350
A12: Chassis Model Code | B12: The OEM code used to identify the subset of the Chassis Model. | F12: E3F
A13: Body Make | B13: The OEM company name of a Body. | F13: Thomas
A14: Body Model | B14: The Model name of the Body. | F14: Minotour
A15: Body Model Code | B15: The OEM code used to identify the subset of the Body Model. | F15: 041MS
A16: Pick Up Allowance | B16: The dollar amount, per School Bus, that will be deducted from the Base Item NYS Contract Price, if the Authorized User elects to pick up the School Bus at the Contractor's location. | F16: 100
A17: Delivery Time | B17: The estimated delivery time for the School Bus, expressed in number of calendar days, required to make delivery after receipt of a final Purchase Order (After Receipt of Order (“ARO”)). | F17: 210 days
A19: PART 2: Pricing for the Base Item, Additional Body Section, and Additional Options | F19: Ford / Thomas
A20: Category | B20: Information provided in Yellow Cells | F20: Gasoline
A21: Base Item NYS Contract Price | B21: The per unit NYS Contract Price (dollar amount) for the School Bus described in the Base Item Specifications. The Base Item NYS Contract Price includes any OEM fees, all customs duties and charges, all vehicle preparation and clean-up charges, NYS DOT inspection, installation charges, delivery and all other incidentals normally included with providing a School Bus, but excludes Optional Equipment, Additional Body Section(s), and Additional Options. | F21: =76912.31*('PPI Adj'!D6) -> 89756.666
A22: Additional Body Section NYS Contract Price | B22: The per unit NYS Contract Price (dollar amount) for adding one (1) Additional Body Section, excluding seats and other interior features, to the Base Item and the applicable Base Item NYS Contract Price. | F22: =1641*('PPI Adj'!D6) -> 1915.047
A23: Additional Options NYS Discount | B23: The minimum percentage amount that shall be deducted from the MSRP for all Additional Options purchased under the Contract for this Item. | F23: 20
A25: PART 3: Base Item Specifications | F25: Ford / Thomas
A26: Category | B26: Specification | C26: Information provided in Yellow Cells | F26: Gasoline
A27: General | B27: A conversion School Bus constructed using a cutaway front-section vehicle with a left side driver’s door, with a GVWR equal to or greater than 10,001 pounds and less than or equal to 21,500 pounds. | C27: Gross Vehicle Weight Rating (GVWR) [lbs]: | F27: 11500
A28: Capacity | B28: Minimum four (4) rows for twenty (20) Pupils. | C28: Number of rows: | F28: 4
C29: Number of Pupils: | F29: 20
A30: Rear Wheels | B30: Dual Rear Wheel (DRW)
A31: Dimensions | C31: Wheelbase [inches]: | F31: 138
C32: Length (bumper to bumper) [inches]: | F32: 233
C33: Body width (inside) [inches]: | F33: 90
C34: Body headroom (standard) [inches]: | F34: 73
C35: Cowl to rear axle length [inches]: | F35: 74.6
A36: Front Axle | C36: Gross Axle Weight Rating (GAWR) [lbs]: | F36: 4600
C37: Front axle capacity [lbs]: | F37: 5000
A38: Rear Axle | C38: Gross Axle Weight Rating (GAWR) [lbs]: | F38: 7800
C39: Rear axle capacity [lbs]: | F39: 7800
A40: Steering | B40: Power steering
A41: Tires | B41: Tires shall meet the minimum requirements for the Chassis Model, as published by the Chassis manufacturer. | C41: Front radial tires size (load range letter) | F41: LT225/75R16E
C42: Front radial tires capacity | F42: 2680
C43: Rear radial tires size (load range letter) | F43: LT225/75R16E
...

Sheet A (Item 3-EV)
A1: ='A (Item 2-G)'!$A$1 -> GROUP 40524-23254, SCHOOL BUSES (Statewide) Attachment 1 - Specifications and Pricing (Revised October 15, 2026)
A2: ='Attachment 1 - Summary'!B2 -> PC69863 Nesco Bus and Truck Sales, Inc.
A3: LOT A (Item 3-EV)
A4: Type A-2, DRW, Cutaway, 4 Rows (Electric; Minimum 20 Pupils, Maximum 23 Pupils)
A6: PART 1: Product information for the Base Item(s) Awarded | F6: Ford
A7: Category | B7: Information to provide in Yellow Cells | F7: Electric
A8: Propulsion System | B8: Information identifying the Make and Model propulsion system offered. | F8: JJE TM5145 Permanent Magnet Synchronous Motor Peak Torque 1,253 Ft.Lb. Continuous Power 170kW Peak Power 280kW Voltage
A9: NYS DOT Approval Number | B9: The NYS DOT Approval Number for the School Bus. Only School Buses approved by NYS DOT Passenger Carrier Safety Bureau for use as 2022 and newer Models, as indicated by a NYS DOT Approval Number, shall be delivered pursuant to the Contract. | F9: 2042-NY-22-00WC-TBB
A10: Chassis Model Year | B10: The Model Year, (e.g. 2022, 2023), of the Chassis | F10: 2024
A11: Chassis Make | B11: The Make, (e.g. Ford, General Motors, International, Freightliner), of the Chassis | F11: Ford
A12: Chassis Model | B12: The Model name (e.g., Transit T-350, 4500, HC, M2) of the Chassis | F12: E-450
A13: Chassis Model Code | B13: The Model Code (i.e., the OEM code used to identify a particular subset of a Model) of the Chassis, if applicable | F13: E-Series
A14: Body Model Year | B14: The Model Year or Current Production Year, (e.g. 2022, 2023) of the Body | F14: 2024
A15: Body Make | B15: The Make (e.g. Microbird, Collins, Starcraft, Trans Tech) of the Body | F15: Thomas
A16: Body Model | B16: The the Model name (e.g., T-Series, MB-II, Minotour, Roadstar) of the Body | F16: Minotour
A17: Body Model Code | B17: The Model Code (i.e., the OEM code used to identify a particular subset of a Model) of the Body, if applicable | F17: 051MS
A18: Pick Up Allowance | B18: The dollar amount, per School Bus, that will be deducted from the Base Item NYS Contract Prices, if the Authorized User elects to pick up the School Bus at the Contractor's location. | F18: 100
A19: Delivery Time | B19: The estimated delivery time for the School Bus bid, expressed in number of calendar days (e.g., "90-120 days"), required to make delivery after receipt of a final Purchase Order (After Receipt of Order (“ARO”)). | F19: 210-365 days
A21: PART 2: Pricing for the Base Item, Additional Body Section, and Additional Options | F21: Ford
A22: Category | B22: Information provided in Yellow Cells | F22: Electric
A23: Base Item NYS Contract Price | B23: The per unit NYS Contract Price (dollar amount) for the School Bus described in the Base Item Specifications. The Base Item NYS Contract Price includes any OEM fees, all customs duties and charges, all vehicle preparation and clean-up charges, NYS DOT inspection, installation charges, delivery and all other incidentals normally included with providing a School Bus, but excludes Optional Equipment, Additional Body Section(s), and Additional Options. | F23: =302994.23*('PPI Adj'!L6) -> 313296.03
A24: Additional Options NYS Discount | B24: The minimum percentage amount that shall be deducted from the MSRP for all Additional Options purchased under the Contract for this Item. | F24: 20
A26: PART 3: Base Item Specifications | F26: Ford
A27: Category | B27: Specification | C27: Information provided in Yellow Cells | F27: Electric
A28: General | B28: A conversion School Bus constructed using a cutaway front-section vehicle with a left side driver’s door, with a GVWR equal to or greater than 10,001 pounds and less than or equal to 21,500 pounds. | C28: Gross Vehicle Weight Rating (GVWR) [lbs]: | F28: 14500
A29: Capacity | B29: Minimum four (4) rows for twenty (20) Pupils with a maximum of twenty-three (23) Pupils. | C29: Number of rows: | F29: 4
C30: Number of Pupils: | F30: 22
A31: Rear Wheels | B31: Dual Rear Wheel (DRW)
A32: Dimensions | C32: Wheelbase [inches]: | F32: 158
C33: Length (bumper to bumper) [inches]: | F33: 260.3
C34: Body width (inside) [inches]: | F34: 90
C35: Body headroom (standard) [inches]: | F35: 73
C36: Cowl to rear axle length [inches]: | F36: 92.3
A37: Front Axle | C37: Gross Axle Weight Rating (GAWR) [lbs]: | F37: 5000
C38: Front axle capacity [lbs]: | F38: 5000
A39: Rear Axle | C39: Gross Axle Weight Rating (GAWR) [lbs]: | F39: 9600
C40: Rear axle capacity [lbs]: | F40: 9600
A41: Steering | B41: Power steering
A42: Tires | B42: Tires shall meet the minimum requirements for the Chassis Model, as published by the Chassis manufacturer. | C42: Front radial tires size (load range letter) [LT_____/_____R_____._____(_____)]: | F42: LT225/75RX16-E
C43: Front radial tires capacity (per tire) [_____,_____-lbs]: | F43: 2680
...

Sheet A (Item 4-G)
A1: ='A (Item 2-G)'!$A$1 -> GROUP 40524-23254, SCHOOL BUSES (Statewide) Attachment 1 - Specifications and Pricing (Revised October 15, 2026)
A2: ='Attachment 1 - Summary'!B2 -> PC69863 Nesco Bus and Truck Sales, Inc.
A3: LOT A (Item 4-G)
A4: Type A-2, DRW, Cutaway, 4 Rows (Gasoline; Minimum 24 Pupils)
A6: PART 1: Product information for the Base Item(s) Awarded | F6: General Motors / Thomas
A7: Category | B7: Information provided in Yellow Cells | F7: Gasoline
A8: Engine | B8: Information identifying the engine for the fuel type offered. | F8: L8T, GM 6.6L Vortec, 8 Cylinders, 6.6L,401 HP @5200 RPM,464 LBFT Torque @ 4000 RPM
A9: NYS DOT Approval Number | B9: The NYS DOT Approval Number for the School Bus. Only School Buses approved by NYS DOT Passenger Carrier Safety Bureau for use as 2022 and newer Models, as indicated by a NYS DOT Approval Number, shall be delivered pursuant to the Contract. | F9: 1642-NY-24-00WC-TBB
A10: Chassis Make | B10: The OEM company name of a Chassis. | F10: General Motors
A11: Chassis Model | B11: The Model name of the Chassis. | F11: 3500
A12: Chassis Model Code | B12: The OEM code used to identify the subset of the Chassis Model. | F12: CG33503
A13: Body Make | B13: The OEM company name of a Body. | F13: Thomas
A14: Body Model | B14: The Model name of the Body. | F14: Minotour
A15: Body Model Code | B15: The OEM code used to identify the subset of the Body Model. | F15: 041MS
A16: Pick Up Allowance | B16: The dollar amount, per School Bus, that will be deducted from the Base Item NYS Contract Price, if the Authorized User elects to pick up the School Bus at the Contractor's location. | F16: 100
A17: Delivery Time | B17: The estimated delivery time for the School Bus, expressed in number of calendar days, required to make delivery after receipt of a final Purchase Order (After Receipt of Order (“ARO”)). | F17: 210 days
A19: PART 2: Pricing for the Base Item, Additional Body Section, and Additional Options | F19: General Motors / Thomas
A20: Category | B20: Information provided in Yellow Cells | F20: Gasoline
A21: Base Item NYS Contract Price | B21: The per unit NYS Contract Price (dollar amount) for the School Bus described in the Base Item Specifications. The Base Item NYS Contract Price includes any OEM fees, all customs duties and charges, all vehicle preparation and clean-up charges, NYS DOT inspection, installation charges, delivery and all other incidentals normally included with providing a School Bus, but excludes Optional Equipment, Additional Body Section(s), and Additional Options. | F21: =67935.09*('PPI Adj'!D6) -> 79280.25
A22: Additional Body Section NYS Contract Price | B22: The per unit NYS Contract Price (dollar amount) for adding one (1) Additional Body Section, excluding seats and other interior features, to the Base Item and the applicable Base Item NYS Contract Price. | F22: =1641*('PPI Adj'!D6) -> 1915.047
A23: Additional Options NYS Discount | B23: The minimum percentage amount that shall be deducted from the MSRP for all Additional Options purchased under the Contract for this Item. | F23: 20
A25: PART 3: Base Item Specifications | F25: General Motors / Thomas
A26: Category | B26: Specification | C26: Information provided in Yellow Cells | F26: Gasoline
A27: General | B27: A conversion School Bus constructed using a cutaway front-section vehicle with a left side driver’s door, with a GVWR equal to or greater than 10,001 pounds and less than or equal to 21,500 pounds. | C27: Gross Vehicle Weight Rating (GVWR) [lbs]: | F27: 12300
A28: Capacity | B28: Minimum four (4) rows for twenty-four (24) Pupils. | C28: Number of rows: | F28: 4
C29: Number of Pupils: | F29: 24
A30: Rear Wheels | B30: Dual Rear Wheel (DRW)
A31: Dimensions | C31: Wheelbase [inches]: | F31: 139
C32: Length (bumper to bumper) [inches]: | F32: 237.8
C33: Body width (inside) [inches]: | F33: 90
C34: Body headroom (standard) [inches]: | F34: 73
C35: Cowl to rear axle length [inches]: | F35: 74
A36: Front Axle | C36: Gross Axle Weight Rating (GAWR) [lbs]: | F36: 4300
C37: Front axle capacity [lbs]: | F37: 4300
A38: Rear Axle | C38: Gross Axle Weight Rating (GAWR) [lbs]: | F38: 8600
C39: Rear axle capacity [lbs]: | F39: 8600
A40: Steering | B40: Power steering
A41: Tires | B41: Tires shall meet the minimum requirements for the Chassis Model, as published by the Chassis manufacturer. | C41: Front radial tires size (load range letter) | F41: LT225/75R16E
C42: Front radial tires capacity | F42: 2680
C43: Rear radial tires size (load range letter) | F43: LT225/75R16E
...

Sheet A (Item 4-EV)
A1: ='A (Item 2-G)'!$A$1 -> GROUP 40524-23254, SCHOOL BUSES (Statewide) Attachment 1 - Specifications and Pricing (Revised October 15, 2026)
A2: ='Attachment 1 - Summary'!B2 -> PC69863 Nesco Bus and Truck Sales, Inc.
A3: LOT A (Item 4-EV)
A4: Type A-2, DRW, Cutaway, 4 Rows (Electric; Minimum 24 Pupils, Maxium 29 Pupils)
A6: PART 1: Product information for the Base Item(s) Awarded | F6: GM
A7: Category | B7: Information provided in Yellow Cells | F7: Electric
A8: Propulsion System | B8: Information identifying the Make and Model propulsion system offered. | F8: JJE TM5145 Permanent Magnet Synchronous Motor Peak Torque 1,253 Ft.Lb. Continuous Power 170kW Peak Power 280kW Voltage
A9: NYS DOT Approval Number | B9: The NYS DOT Approval Number for the School Bus. Only School Buses approved by NYS DOT Passenger Carrier Safety Bureau for use as 2022 and newer Models, as indicated by a NYS DOT Approval Number, shall be delivered pursuant to the Contract. | F9: 2040-NY-24-00WC-TBB
A10: Chassis Model Year | B10: The Model Year, (e.g. 2022, 2023), of the Chassis | F10: 2024
A11: Chassis Make | B11: The Make, (e.g. Ford, General Motors, International, Freightliner), of the Chassis | F11: General Motors
A12: Chassis Model | B12: The Model name (e.g., Transit T-350, 4500, HC, M2) of the Chassis | F12: 4500
A13: Chassis Model Code | B13: The Model Code (i.e., the OEM code used to identify a particular subset of a Model) of the Chassis, if applicable | F13: CG33803
A14: Body Model Year | B14: The Model Year or Current Production Year, (e.g. 2022, 2023) of the Body | F14: 2024
A15: Body Make | B15: The Make (e.g. Microbird, Collins, Starcraft, Trans Tech) of the Body | F15: Thomas
A16: Body Model | B16: The Model name (e.g., T-Series, MB-II, Minotour, Roadstar) of the Body | F16: Minotour
A17: Body Model Code | B17: The Model Code (i.e., the OEM code used to identify a particular subset of a Model) of the Body, if applicable | F17: 051MS
A18: Pick Up Allowance | B18: The dollar amount, per School Bus, that will be deducted from the Base Item NYS Contract Prices , if the Authorized User elects to pick up the School Bus at the Contractor's location. | F18: 100
A19: Delivery Time | B19: The estimated delivery time for the School Bus, expressed in number of calendar days (e.g., "90-120 days"), required to make delivery after receipt of a final Purchase Order (After Receipt of Order (“ARO”)). | F19: 210-365 days
A21: PART 2: Pricing for the Base Item, Additional Body Section, and Additional Options | F21: GM
A22: Category | B22: Information provided in Yellow Cells | F22: Electric
A23: Base Item NYS Contract Price | B23: The per unit NYS Contract Price (dollar amount) for the School Bus described in the Base Item Specifications. The Base Item NYS Contract Price includes any OEM fees, all customs duties and charges, all vehicle preparation and clean-up charges, NYS DOT inspection, installation charges, delivery and all other incidentals normally included with providing a School Bus, but excludes Optional Equipment, Additional Body Section(s), and Additional Options. | F23: =297998*('PPI Adj'!L6) -> 308129.93
A24: Additional Options NYS Discount | B24: The minimum percentage amount that shall be deducted from the MSRP for all Additional Options purchased under the Contract for this Item. | F24: 20
A27: PART 3: Base Item Specifications | F27: GM
A28: Category | B28: Specification | C28: Information provided in Column F | F28: Electric
A29: General | B29: A conversion School Bus constructed using a cutaway front-section vehicle with a left side driver’s door, with a GVWR equal to or greater than 10,001 pounds and less than or equal to 21,500 pounds. | C29: Gross Vehicle Weight Rating (GVWR) [lbs]: | F29: 14200
A30: Capacity | B30: Minimum four (4) rows for twenty-four (24) Pupils with a maximum of twenty-nine (29) Pupils. | C30: Number of rows: | F30: 4
D31: Number of Pupils: | F31: 24
A32: Rear Wheels | B32: Dual Rear Wheel (DRW)
A33: Dimensions | C33: Wheelbase [inches]: | F33: 159
C34: Length (bumper to bumper) [inches]: | F34: 266.5
C35: Body width (inside) [inches]: | F35: 90
C36: Body headroom (standard) [inches]: | F36: 73
C37: Cowl to rear axle length [inches]: | F37: 94.1
A38: Front Axle | C38: Gross Axle Weight Rating (GAWR) [lbs]: | F38: 4600
C39: Front axle capacity [lbs]: | F39: 4600
A40: Rear Axle | C40: Gross Axle Weight Rating (GAWR) [lbs]: | F40: 9600
C41: Rear axle capacity [lbs]: | F41: 9600
A42: Steering | B42: Power steering
A43: Tires | B43: Tires shall meet the minimum requirements for the Chassis Model, as published by the Chassis manufacturer. | C43: Front radial tires size (load range letter) [LT_____/_____R_____._____(_____)]: | F43: LT225/75R16E
C44: Front radial tires capacity (per tire) [_____,_____-lbs]: | F44: 2335
...

Sheet DNU--A (Item 4-EV)_Ford
A1: GROUP 40524-23254, SCHOOL BUSES (Statewide) Attachment 1 - Specifications and Pricing (Revised May 30, 2025)
A2: ='Attachment 1 - Summary'!B2 -> PC69863 Nesco Bus and Truck Sales, Inc.
A3: LOT A (Item 4-EV)
A4: Type A-2, DRW, Cutaway, 4 Rows (Electric; Minimum 24 Pupils, Maxium 29 Pupils)
A6: PART 1: Product information for the Base Item(s) Awarded | F6: Ford
A7: Category | B7: Information provided in Yellow cells | F7: Electric
A8: Propulsion System | B8: Information identifying the Make and Model propulsion system offered. | F8: JJE TM5145 Permanent Magnet Synchronous Motor Peak Torque 1,253 Ft.Lb. Continuous Power 170kW Peak Power 280kW Voltage
A9: NYS DOT Approval Number | B9: The NYS DOT Approval Number for the School Bus bid. Only School Buses approved by NYS DOT Passenger Carrier Safety Bureau for use as 2022 and newer Models, as indicated by a NYS DOT Approval Number, shall be delivered pursuant to the Contract. | F9: 1241-NY-24-00WC-TBB
A10: Chassis Model Year | B10: The Model Year, (e.g. 2022, 2023), of the Chassis | F10: 2024
A11: Chassis Make | B11: The Make, (e.g. Ford, General Motors, International, Freightliner), of the Chassis | F11: Ford
A12: Chassis Model | B12: The Model name (e.g., Transit T-350, 4500, HC, M2) of the Chassis | F12: E-450
A13: Chassis Model Code | B13: The Model Code (i.e., the OEM code used to identify a particular subset of a Model) of the Chassis, if applicable | F13: E-Series
A14: Body Model Year | B14: The Model Year or Current Production Year, (e.g. 2022, 2023) of the Body | F14: 2024
A15: Body Make | B15: The Make (e.g. Microbird, Collins, Starcraft, Trans Tech) of the Body | F15: Thomas
A16: Body Model | B16: The Model name (e.g., T-Series, MB-II, Minotour, Roadstar) of the Body | F16: Minotour
A17: Body Model Code | B17: The Model Code (i.e., the OEM code used to identify a particular subset of a Model) of the Body, if applicable | F17: 051MS
A18: Pick Up Allowance | B18: The dollar amount, per School Bus, that will be deducted from the Base Item NYS Contract Price, if the Authorized User elects to pick up the School Bus at the Contractor's location. | F18: 100
A19: Delivery Time | B19: The estimated delivery time for the School Bus, expressed in number of calendar days (e.g., "90-120 days"), required to make delivery after receipt of a final Purchase Order (After Receipt of Order (“ARO”)). | F19: 210-365 days
A21: PART 2: Pricing for the Base Item, Additional Body Section, and Additional Options
A22: Category | B22: Information provided in Yellow Cells | F22: Electric
A23: Base Item NYS Contract Price | B23: The per unit NYS Contract Price (dollar amount) for the School Bus described in the Base Item Specifications. The Base Item NYS Contract Price includes any OEM fees, all customs duties and charges, all vehicle preparation and clean-up charges, NYS DOT inspection, installation charges, delivery and all other incidentals normally included with providing a School Bus, but excludes Optional Equipment, Additional Body Section(s), and Additional Options. | F23: 294205.6
A24: Additional Options NYS Discount | B24: The minimum percentage amount that shall be deducted from the MSRP for all Additional Options purchased under the Contract for this Item (see IFB Section 6.5.2 Additional Options Price). [Enter a number only (e.g., 5.5); Do not type a percentage sign (%) after the number; For 5.5%, enter 5.5, not 0.055]. The Additional Options NYS Discount entered by a Bidder must be greater than 0%, or less than or equal to 100%. | F24: 20
A27: PART 3: Base Item Specifications
A28: Category | B28: Specification | C28: Information provided in Yellow cells | F28: Spec for Equipment Provided
A29: General | B29: A conversion School Bus constructed using a cutaway front-section vehicle with a left side driver’s door, with a GVWR equal to or greater than 10,001 pounds and less than or equal to 21,500 pounds. | D29: Gross Vehicle Weight Rating (GVWR) [lbs]: | F29: 14500
A30: Capacity | B30: Minimum four (4) rows for twenty-four (24) Pupils with a maximum of twenty-nine (29) Pupils. | D30: Number of rows: | F30: 4
D31: Number of Pupils: | F31: 24
A32: Rear Wheels | B32: Dual Rear Wheel (DRW)
A33: Dimensions | D33: Wheelbase [inches]: | F33: 158
D34: Length (bumper to bumper) [inches]: | F34: 260.3
D35: Body width (inside) [inches]: | F35: 90
D36: Body headroom (standard) [inches]: | F36: 73
D37: Cowl to rear axle length [inches]: | F37: 92.3
A38: Front Axle | D38: Gross Axle Weight Rating (GAWR) [lbs]: | F38: 5000
D39: Front axle capacity [lbs]: | F39: 5000
A40: Rear Axle | D40: Gross Axle Weight Rating (GAWR) [lbs]: | F40: 9600
D41: Rear axle capacity [lbs]: | F41: 9600
A42: Steering | B42: Power steering
A43: Tires | B43: Tires shall meet the minimum requirements for the Chassis Model, as published by the Chassis manufacturer. | D43: Front radial tires size (load range letter) [LT_____/_____R_____._____(_____)]: | F43: LT225/75R16E
D44: Front radial tires capacity (per tire) [_____,_____-lbs]: | F44: 2335
...

Sheet DNU--A (Item 4-EV)_GM
A1: GROUP 40524-23254, SCHOOL BUSES (Statewide) Attachment 1 - Specifications and Pricing (Revised May 30, 2025)
A2: ='Attachment 1 - Summary'!B2 -> PC69863 Nesco Bus and Truck Sales, Inc.
A3: LOT A (Item 4-EV)
A4: Type A-2, DRW, Cutaway, 4 Rows (Electric; Minimum 24 Pupils, Maxium 29 Pupils)
A6: PART 1: Product information for the Base Item(s) Awarded | F6: GM
A7: Category | B7: Information provided in Yellow Cells | F7: Electric
A8: Propulsion System | B8: Information identifying the Make and Model propulsion system offered. | F8: JJE TM5145 Permanent Magnet Synchronous Motor Peak Torque 1,253 Ft.Lb. Continuous Power 170kW Peak Power 280kW Voltage
A9: NYS DOT Approval Number | B9: The NYS DOT Approval Number for the School Bus. Only School Buses approved by NYS DOT Passenger Carrier Safety Bureau for use as 2022 and newer Models, as indicated by a NYS DOT Approval Number, shall be delivered pursuant to the Contract. | F9: 2040-NY-24-00WC-TBB
A10: Chassis Model Year | B10: The Model Year, (e.g. 2022, 2023), of the Chassis | F10: 2024
A11: Chassis Make | B11: The Make, (e.g. Ford, General Motors, International, Freightliner), of the Chassis | F11: General Motors
A12: Chassis Model | B12: The Model name (e.g., Transit T-350, 4500, HC, M2) of the Chassis | F12: 4500
A13: Chassis Model Code | B13: The Model Code (i.e., the OEM code used to identify a particular subset of a Model) of the Chassis, if applicable | F13: CG33803
A14: Body Model Year | B14: The Model Year or Current Production Year, (e.g. 2022, 2023) of the Body | F14: 2024
A15: Body Make | B15: The Make (e.g. Microbird, Collins, Starcraft, Trans Tech) of the Body | F15: Thomas
A16: Body Model | B16: The Model name (e.g., T-Series, MB-II, Minotour, Roadstar) of the Body | F16: Minotour
A17: Body Model Code | B17: The Model Code (i.e., the OEM code used to identify a particular subset of a Model) of the Body, if applicable | F17: 051MS
A18: Pick Up Allowance | B18: The dollar amount, per School Bus, that will be deducted from the Base Item NYS Contract Prices , if the Authorized User elects to pick up the School Bus at the Contractor's location. | F18: 100
A19: Delivery Time | B19: The estimated delivery time for the School Bus, expressed in number of calendar days (e.g., "90-120 days"), required to make delivery after receipt of a final Purchase Order (After Receipt of Order (“ARO”)). | F19: 210-365 days
A21: PART 2: Pricing for the Base Item, Additional Body Section, and Additional Options | F21: Electric
A22: Category | B22: Information provided in Yellow Cells
A23: Base Item NYS Contract Price | B23: The per unit NYS Contract Price (dollar amount) for the School Bus described in the Base Item Specifications. The Base Item NYS Contract Price includes any OEM fees, all customs duties and charges, all vehicle preparation and clean-up charges, NYS DOT inspection, installation charges, delivery and all other incidentals normally included with providing a School Bus, but excludes Optional Equipment, Additional Body Section(s), and Additional Options. | F23: 297998
A24: Additional Options NYS Discount | B24: The minimum percentage amount that shall be deducted from the MSRP for all Additional Options purchased under the Contract for this Item. | F24: 20
A27: PART 3: Base Item Specifications | F27: Spec for Equipment Provided
A28: Category | B28: Specification | C28: Information to provide in Column F
A29: General | B29: A conversion School Bus constructed using a cutaway front-section vehicle with a left side driver’s door, with a GVWR equal to or greater than 10,001 pounds and less than or equal to 21,500 pounds. | C29: Gross Vehicle Weight Rating (GVWR) [lbs]: | F29: 14200
A30: Capacity | B30: Minimum four (4) rows for twenty-four (24) Pupils with a maximum of twenty-nine (29) Pupils. | C30: Number of rows: | F30: 4
D31: Number of Pupils: | F31: 24
A32: Rear Wheels | B32: Dual Rear Wheel (DRW)
A33: Dimensions | C33: Wheelbase [inches]: | F33: 159
C34: Length (bumper to bumper) [inches]: | F34: 266.5
C35: Body width (inside) [inches]: | F35: 90
C36: Body headroom (standard) [inches]: | F36: 73
C37: Cowl to rear axle length [inches]: | F37: 94.1
A38: Front Axle | C38: Gross Axle Weight Rating (GAWR) [lbs]: | F38: 4600
C39: Front axle capacity [lbs]: | F39: 4600
A40: Rear Axle | C40: Gross Axle Weight Rating (GAWR) [lbs]: | F40: 9600
C41: Rear axle capacity [lbs]: | F41: 9600
A42: Steering | B42: Power steering
A43: Tires | B43: Tires shall meet the minimum requirements for the Chassis Model, as published by the Chassis manufacturer. | C43: Front radial tires size (load range letter) [LT_____/_____R_____._____(_____)]: | F43: LT225/75R16E
C44: Front radial tires capacity (per tire) [_____,_____-lbs]: | F44: 2335
...

Sheet DNU_--A (Item 4-EV)_GM
A1: GROUP 40524-23254, SCHOOL BUSES (Statewide) Attachment 1 - Specifications and Pricing (Revised May 29, 2025)
A2: ='Attachment 1 - Summary'!B2 -> PC69863 Nesco Bus and Truck Sales, Inc.
A3: LOT A (Item 4-EV)
A4: Type A-2, DRW, Cutaway, 4 Rows (Electric; Minimum 24 Pupils, Maxium 29 Pupils)
A6: PART 1: Enter Product information for the Base Item(s) bid in the in the Yellow Cells below
A7: Category | B7: Information provided in Yellow cells | F7: Electric | G7: Comments/Notes
A8: Propulsion System | B8: Enter information identifying the Make and Model propulsion system offered. | F8: JJE TM5145 Permanent Magnet Synchronous Motor Peak Torque 1,253 Ft.Lb. Continuous Power 170kW Peak Power 280kW Voltage | G8: This sheet is for a GM Chassis. See additional attached worksheet for Ford chassis
A9: NYS DOT Approval Number | B9: Enter the NYS DOT Approval Number for the School Bus bid. If a NYS DOT Approval Number for the School Bus bid has not been issued at the time of the bid submittal, enter "Pending," In accordance with IFB Section 4.2.3 NYS DOT Approval Number, for each Item bid, a NYS DOT Approval Number must either be on file with, or have been applied for with, the NYS DOT Passenger Carrier Safety Bureau and must be obtained within 90 days of the start date of the contract. Failure to obtain a NYS DOT Approval Number within 90 days of the start date of the contract may result in the award for that item being suspended in accordance with Appendix B, Clause 42 Suspension of Work. Only School Buses approved by NYS DOT Passenger Carrier Safety Bureau for use as 2022 and newer Models, as indicated by a NYS DOT Approval Number, shall be delivered pursuant to the Contract. | F9: 2024-NY-24-00WC-TBB
A10: Chassis Model Year | B10: Enter Model Year, (e.g. 2022, 2023), of the Chassis bid | F10: 2024
A11: Chassis Make | B11: Enter Make, (e.g. Ford, General Motors, International, Freightliner), of the Chassis bid | F11: General Motors
A12: Chassis Model | B12: Enter the Model name (e.g., Transit T-350, 4500, HC, M2) of the Chassis bid | F12: 4500
A13: Chassis Model Code | B13: Enter the Model Code (i.e., the OEM code used to identify a particular subset of a Model) of the Chassis bid, if applicable | F13: CG33803
A14: Body Model Year | B14: Enter Model Year or Current Production Year, (e.g. 2022, 2023) of the Body bid | F14: 2024
A15: Body Make | B15: Enter Make (e.g. Microbird, Collins, Starcraft, Trans Tech) of the Body bid | F15: Thomas
A16: Body Model | B16: Enter the Model name (e.g., T-Series, MB-II, Minotour, Roadstar) of the Body bid | F16: Minotour
A17: Body Model Code | B17: Enter the Model Code (i.e., the OEM code used to identify a particular subset of a Model) of the Body bid, if applicable | F17: 051MS
A18: Pick Up Allowance | B18: Enter the dollar amount, per School Bus, that will be deducted from the Base Item NYS Contract Prices entered below, if the Authorized User elects to pick up the School Bus at the Contractor's location. [Do not enter a negative number]. | F18: 100
A19: Delivery Time | B19: Enter the estimated delivery time for the School Bus bid, expressed in number of calendar days (e.g., "90-120 days"), required to make delivery after receipt of a final Purchase Order (After Receipt of Order (“ARO”)). | F19: 210-365 days
A21: PART 2: Pricing for the Base Item, Additional Body Section, and Additional Options
A22: Category | B22: Information to provide in Column F | F22: Electric
A23: Base Item NYS Contract Price | B23: Enter the per unit NYS Contract Price (dollar amount) for the School Bus described in the Base Item Specifications. The Base Item NYS Contract Price includes any OEM fees, all customs duties and charges, all vehicle preparation and clean-up charges, NYS DOT inspection, installation charges, delivery and all other incidentals normally included with providing a School Bus, but excludes Optional Equipment, Additional Body Section(s), and Additional Options. | F23: 291705.6
A24: Base Item Evaluation Amount | B24: A quantity used in this IFB for evaluation. This number is based on historic sales and anticipated future needs, and is for evaluation purposes only. It is not a guaranteed purchase under the resultant Contract(s). | F24: 5
A25: Base Item Evaluation Price | B25: [Automatically calculated: The Base Item Evaluation Amount multiplied by the Base Item NYS Contract Price] | F25: =F24*F23 -> 1458528
A26: Total Optional Equipment Evaluation Price | B26: The sum of the Optional Equipment Evaluation Prices automatically calculated in Column J of Part 4: Optional Equipment Specifications and Pricing. [Automatically calculated: Equal to the value in Column J, Row 118 below] If "Enter Pricing in PART 4: Column H" appears in this Row in Cell F29, that indicates that the Bidder has failed to enter one or more Optional Equipment NYS Contract Prices for a required Optional Equipment in PART 4: Optional Equipment Specifications and Pricing. Failure to provide an Optional Equipment NYS Contract Price for one or more Optional Equipment may result in the bid being deemed non-responsive for that individual Optional Equipment and may result in the disqualification of the bid for the applicable Item. | F26: =IF(I110="Enter Pricing in PART 4: Column H","Enter Pricing in PART 4: Column H",I110) -> 13929.235
A27: Additional Options Evaluation Amount | B27: A dollar amount used in this IFB for evaluation. This number is based on historic sales and anticipated future needs, and is for evaluation purposes only. It is not a guaranteed purchase under the resultant Contract(s). | F27: 8400
A28: Additional Options NYS Discount | B28: Enter the minimum percentage amount that shall be deducted from the MSRP for all Additional Options purchased under the Contract for this Item (see IFB Section 6.5.2 Additional Options Price). [Enter a number only (e.g., 5.5); Do not type a percentage sign (%) after the number; For 5.5%, enter 5.5, not 0.055]. The Additional Options NYS Discount entered by a Bidder must be greater than 0%, or less than or equal to 100%. | F28: 20
A29: Additional Options Evaluation Price | B29: [Automatically calculated: The Additional Options Evaluation Amount minus the Additional Options NYS Discount] | F29: =F27*F24*(1-(F28/100)) -> 33600
A30: Grand Total For Item | B30: The Grand Total For Item is the dollar amount calculated in this IFB to the evaluate an Item. [Automatically calculated: The Base Item Evaluation Price, plus the Total Optional Equipment Evaluation Price, plus the Additional Options Evaluation Price] If "No Bid" appears in this Row in Cell F33, that indicates that the Bidder has failed to enter all required pricing information (i.e., the Base Item NYS Contract Price, Optional Equipment NYS Contract Prices, and Additional Options NYS Discount) on this worksheet. Failure to enter all required pricing information for an Item may result in the bid being deemed non-responsive for that Item and may result in the disqualification of the bid for the applicable Item. | F30: =IF(OR(F23="",F26="Enter Pricing in PART 4: Column H",F28=""),"No Bid",(F25+F26+F29)) -> 1506057.2
A33: PART 3: Base Item Specifications
A34: Category | B34: Specification | C34: Information to provide in Yellow cells | E34: Spec for Equipment Provided
A35: General | B35: A conversion School Bus constructed using a cutaway front-section vehicle with a left side driver’s door, with a GVWR equal to or greater than 10,001 pounds and less than or equal to 21,500 pounds. | C35: Gross Vehicle Weight Rating (GVWR) [lbs]: | E35: 14200
A36: Capacity | B36: Minimum four (4) rows for twenty-four (24) Pupils with a maximum of twenty-nine (29) Pupils. | C36: Number of rows: | E36: 4
C37: Number of Pupils: | E37: 24
A38: Rear Wheels | B38: Dual Rear Wheel (DRW)
A39: Dimensions | C39: Wheelbase [inches]: | E39: 159
C40: Length (bumper to bumper) [inches]: | E40: 266.5
C41: Body width (inside) [inches]: | E41: 90
C42: Body headroom (standard) [inches]: | E42: 73
C43: Cowl to rear axle length [inches]: | E43: 94.1
A44: Front Axle | C44: Gross Axle Weight Rating (GAWR) [lbs]: | E44: 4600
...

Sheet A (Item 5-G)
A1: ='A (Item 2-G)'!$A$1 -> GROUP 40524-23254, SCHOOL BUSES (Statewide) Attachment 1 - Specifications and Pricing (Revised October 15, 2026)
A2: ='Attachment 1 - Summary'!B2 -> PC69863 Nesco Bus and Truck Sales, Inc.
A3: Lot A (Item 5-G)
A4: Type A-2, DRW, Cutaway, 5 Rows (Gasoline; Minimum 30 Pupils)
A6: PART 1: Product information for the Base Item(s) Awarded | F6: General Motors / Thomas
A7: Category | B7: Information provided in Yellow Cells | F7: Gasoline
A8: Engine | B8: Information identifying the engine for the fuel type offered. | F8: L8T, GM 6.6L Vortec, 8 Cylinders, 6.6L,401 HP @5200 RPM,464 LBFT Torque @ 4000 RPM
A9: NYS DOT Approval Number | B9: The NYS DOT Approval Number for the School Bus. Only School Buses approved by NYS DOT Passenger Carrier Safety Bureau for use as 2022 and newer Models, as indicated by a NYS DOT Approval Number, shall be delivered pursuant to the Contract. | F9: 1553-NY-30-00WC-TBB
A10: Chassis Make | B10: The OEM company name of a Chassis. | F10: General Motors
A11: Chassis Model | B11: The Model name of the Chassis. | F11: 4500
A12: Chassis Model Code | B12: The OEM code used to identify the subset of the Chassis Model. | F12: CG33803
A13: Body Make | B13: The OEM company name of a Body. | F13: Thomas
A14: Body Model | B14: The Model name of the Body. | F14: Minotour
A15: Body Model Code | B15: The OEM code used to identify the subset of the Body Model. | F15: 051MS
A16: Pick Up Allowance | B16: The dollar amount, per School Bus, that will be deducted from the Base Item NYS Contract Price, if the Authorized User elects to pick up the School Bus at the Contractor's location. | F16: 100
A17: Delivery Time | B17: The estimated delivery time for the School Bus, expressed in number of calendar days, required to make delivery after receipt of a final Purchase Order (After Receipt of Order (“ARO”)). | F17: 210
A19: PART 2: Pricing for the Base Item, Additional Body Section, and Additional Options | F19: General Motors / Thomas
A20: Category | B20: Information provided in Yellow Cells | F20: Gasoline
A21: Base Item NYS Contract Price | B21: The per unit NYS Contract Price (dollar amount) for the School Bus described in the Base Item Specifications. The Base Item NYS Contract Price includes any OEM fees, all customs duties and charges, all vehicle preparation and clean-up charges, NYS DOT inspection, installation charges, delivery and all other incidentals normally included with providing a School Bus, but excludes Optional Equipment, Additional Body Section(s), and Additional Options. | F21: =72453.74*('PPI Adj'!D6) -> 84553.515
A22: Additional Body Section NYS Contract Price | B22: The per unit NYS Contract Price (dollar amount) for adding one (1) Additional Body Section, excluding seats and other interior features, to the Base Item and the applicable Base Item NYS Contract Price. | F22: =1641*('PPI Adj'!D6) -> 1915.047
A23: Additional Options NYS Discount | B23: The minimum percentage amount that shall be deducted from the MSRP for all Additional Options purchased under the Contract for this Item. | F23: 20
A25: PART 3: Base Item Specifications | F25: General Motors / Thomas
A26: Category | B26: Specification | C26: Information provided in Yellow Cells | F26: Gasoline
A27: General | B27: A conversion School Bus constructed using a cutaway front-section vehicle with a left side driver’s door, with a GVWR equal to or greater than 10,001 pounds and less than or equal to 21,500 pounds. | C27: Gross Vehicle Weight Rating (GVWR) [lbs]: | F27: 14200
A28: Capacity | B28: Minimum five (5) rows for thirty (30) Pupils. | C28: Number of rows: | F28: 5
C29: Number of Pupils: | F29: 30
A30: Rear Wheels | B30: Dual Rear Wheel (DRW)
A31: Dimensions | C31: Wheelbase [inches]: | F31: 159
C32: Length (bumper to bumper) [inches]: | F32: 266.5
C33: Body width (inside) [inches]: | F33: 90
C34: Body headroom (standard) [inches]: | F34: 73
C35: Cowl to rear axle length [inches]: | F35: 94.1
A36: Front Axle | C36: Gross Axle Weight Rating (GAWR) [lbs]: | F36: 4600
C37: Front axle capacity [lbs]: | F37: 4600
A38: Rear Axle | C38: Gross Axle Weight Rating (GAWR) [lbs]: | F38: 9600
C39: Rear axle capacity [lbs]: | F39: 9600
A40: Steering | B40: Power steering
A41: Tires | B41: Tires shall meet the minimum requirements for the Chassis Model, as published by the Chassis manufacturer. | C41: Front radial tires size (load range letter) | F41: LT225/75R16E
C42: Front radial tires capacity | F42: 2335
C43: Rear radial tires size (load range letter) | F43: LT225/75R16E
...

Sheet C (Item 1-D)
A1: ='A (Item 2-G)'!$A$1 -> GROUP 40524-23254, SCHOOL BUSES (Statewide) Attachment 1 - Specifications and Pricing (Revised October 15, 2026)
A2: ='Attachment 1 - Summary'!B2 -> PC69863 Nesco Bus and Truck Sales, Inc.
A3: LOT C (Item 1-D)
A4: Type C, 28 Pupil Conventional Front-Engine Bus (Diesel, Minimum 28 Pupils)
A6: PART 1: Product information for the Base Item(s) Awarded | F6: Freightliner / Thomas
A7: Category | B7: Information provided in Yellow Cells | F7: Diesel
A8: Engine | B8: Information identifying the engine for the fuel type offered. | F8: FL-101-2N2 Cummins ISB, 6 Cylinders, 6.7L, 200HP @ 2300 RPM, 520 LBFT Torque @ 1600 RPM
A9: NYS DOT Approval Number | B9: The NYS DOT Approval Number for the School Bus. Only School Buses approved by NYS DOT Passenger Carrier Safety Bureau for use as 2022 and newer Models, as indicated by a NYS DOT Approval Number, shall be delivered pursuant to the Contract. | F9: 1536-NY-30-00WC-TBB
A10: Chassis Make | B10: The OEM company name of a Chassis. | F10: Freightliner
A11: Chassis Model | B11: The Model name of the Chassis. | F11: B2
A12: Chassis Model Code | B12: The OEM code used to identify the subset of the Chassis Model. | F12: B2106 | I12: `
A13: Body Make | B13: The OEM company name of a Body. | F13: Thomas
A14: Body Model | B14: The Model name of the Body. | F14: C2
A15: Body Model Code | B15: The OEM code used to identify the subset of the Body Model. | F15: 161TS
A16: Pick Up Allowance | B16: The dollar amount, per School Bus, that will be deducted from the Base Item NYS Contract Price, if the Authorized User elects to pick up the School Bus at the Contractor's location. | F16: 100
A17: Delivery Time | B17: The estimated delivery time for the School Bus, expressed in number of calendar days, required to make delivery after receipt of a final Purchase Order (After Receipt of Order (“ARO”)). | F17: 210 days
A19: PART 2: Pricing for the Base Item, Additional Body Section, and Additional Options | F19: Freightliner / Thomas
A20: Category | B20: Information provided in Yellow Cells | F20: Diesel
A21: Base Item NYS Contract Price | B21: The per unit NYS Contract Price (dollar amount) for the School Bus described in the Base Item Specifications. The Base Item NYS Contract Price includes any OEM fees, all customs duties and charges, all vehicle preparation and clean-up charges, NYS DOT inspection, installation charges, delivery and all other incidentals normally included with providing a School Bus, but excludes Optional Equipment, Additional Body Section(s), and Additional Options. | F21: =116565.17*('PPI Adj'!D6) -> 136031.55
A22: Additional Options NYS Discount | B22: The minimum percentage amount that shall be deducted from the MSRP for all Additional Options purchased under the Contract for this Item. | F22: 20
A24: PART 3: Base Item Specifications | F24: Freightliner / Thomas
A25: Category | B25: Specification | C25: Information provided in Yellow Cells | F25: Diesel
A26: General | B26: A School Bus with a Body installed upon a cowl and Chassis constructed using a chassis with a hood and front fender assembly. All of the engine is in front of the windshield and the entrance door is behind the front wheels. This is also known as a conventional school bus. This type also includes the cutaway truck chassis or truck chassis with cab, with or without a left side door, and with a GVWR greater than 16,000 pounds. | C26: Gross Vehicle Weight Rating (GVWR) [lbs]: | F26: 25500
A27: Capacity | B27: Minimum twenty-eight (28) Pupils. | C27: Number of rows: | F27: 5
C28: Number of Pupils: | F28: 30
A29: Rear Wheels | B29: Dual Rear Wheel (DRW)
A30: Dimensions | C30: Wheelbase [inches]: | F30: 158
C31: Length (bumper to bumper) [inches]: | F31: 299.8
C32: Body width (inside) [inches]: | F32: 90
C33: Body headroom (standard) [inches]: | F33: 78
C34: Cowl to rear axle length [inches]: | F34: 255
A35: Cowl/Hood | B35: Forward tilting style cowl/hood assembly.
A36: Front Axle | C36: Gross Axle Weight Rating (GAWR) [lbs]: | F36: 8000
C37: Front axle capacity [lbs]: | F37: 8000
A38: Rear Axle | C38: Gross Axle Weight Rating (GAWR) [lbs]: | F38: 17500
C39: Rear axle capacity [lbs]: | F39: 17500
A40: Steering | B40: Power steering
A41: Brakes | B41: Chassis manufacturer's typical full air service brake system. A liquid-cooled, engine-lubricated air compressor, that is compliant with FMVSS (49 CFR 571.121.S5.1.1.), shall be provided. The air brake system shall be equipped with an automatic drain valve on the wet tank that may be unheated, a valve that can be manually opened on each air tank, and an air dryer/ejector that may be unheated. The system shall include a spring set parking brake. System shall be compliant with FMVSS (49 CFR 571.121), including the latest revision thereof. All brakes shall have automatic slack adjusters. | C41: Air Compressor size, Make & Model: | F41: 18.7 CFM, Cummins
C42: Air Dryer size, Make & Model: | F42: 25 CFM, Bendix AD9
A44: Brakes | B44: Antilock Brake System (ABS), and an audio & visual warning system for system malfunctions.
...

Sheet C (Item 2-D)
A1: ='A (Item 2-G)'!$A$1 -> GROUP 40524-23254, SCHOOL BUSES (Statewide) Attachment 1 - Specifications and Pricing (Revised October 15, 2026)
A2: ='Attachment 1 - Summary'!B2 -> PC69863 Nesco Bus and Truck Sales, Inc.
A3: LOT C (Item 2-D)
A4: Type C, 46 Pupil Conventional Front-Engine Bus (Diesel, Minimum 46 Pupils)
A6: PART 1: Product information for the Base Item(s) Awarded | F6: Freightliner / Thomas
A7: Category | B7: Information provided in Yellow Cells | F7: Diesel
A8: Engine | B8: Information identifying the engine for the fuel type offered. | F8: FL-101-2N2 Cummins ISB, 6 Cylinders, 6.7L, 200HP @ 2300 RPM, 520 LBFT Torque @ 1600 RPM
A9: NYS DOT Approval Number | B9: The NYS DOT Approval Number for the School Bus. Only School Buses approved by NYS DOT Passenger Carrier Safety Bureau for use as 2022 and newer Models, as indicated by a NYS DOT Approval Number, shall be delivered pursuant to the Contract. | F9: 1478-NY-48-00WC-TBB
A10: Chassis Make | B10: The OEM company name of a Chassis. | F10: Freightliner
A11: Chassis Model | B11: The Model name of the Chassis. | F11: B2
A12: Chassis Model Code | B12: The OEM code used to identify the subset of the Chassis Model. | F12: B2106
A13: Body Make | B13: The OEM company name of a Body. | F13: Thomas
A14: Body Model | B14: The Model name of the Body. | F14: C2
A15: Body Model Code | B15: The OEM code used to identify the subset of the Body Model. | F15: 221TS
A16: Pick Up Allowance | B16: The dollar amount, per School Bus, that will be deducted from the Base Item NYS Contract Price, if the Authorized User elects to pick up the School Bus at the Contractor's location. | F16: 100
A17: Delivery Time | B17: The estimated delivery time for the School Bus, expressed in number of calendar days, required to make delivery after receipt of a final Purchase Order (After Receipt of Order (“ARO”)). | F17: 210 days
A19: PART 2: Pricing for the Base Item, Additional Body Section, and Additional Options | F19: Freightliner / Thomas
A20: Category | B20: Information provided in Yellow Cells | F20: Diesel
A21: Base Item NYS Contract Price | B21: The per unit NYS Contract Price (dollar amount) for the School Bus described in the Base Item Specifications. The Base Item NYS Contract Price includes any OEM fees, all customs duties and charges, all vehicle preparation and clean-up charges, NYS DOT inspection, installation charges, delivery and all other incidentals normally included with providing a School Bus, but excludes Optional Equipment, Additional Body Section(s), and Additional Options. | F21: =132514.03*('PPI Adj'!D6) -> 154643.87
A22: Additional Options NYS Discount | B22: The minimum percentage amount that shall be deducted from the MSRP for all Additional Options purchased under the Contract for this Item. | F22: 20
A24: PART 3: Base Item Specifications | F24: Freightliner / Thomas
A25: Category | B25: Specification | C25: Information provided in Yellow Cells | F25: Diesel
A26: General | B26: A School Bus with a Body installed upon a cowl and Chassis constructed using a chassis with a hood and front fender assembly. All of the engine is in front of the windshield and the entrance door is behind the front wheels. This is also known as a conventional school bus. This type also includes the cutaway truck chassis or truck chassis with cab, with or without a left side door, and with a GVWR greater than 16,000 pounds. | C26: Gross Vehicle Weight Rating (GVWR) [lbs]: | F26: 26500
A27: Capacity | B27: Minimum forty-six (46) Pupils. | C27: Number of rows: | F27: 8
C28: Number of Pupils: | F28: 48
A29: Rear Wheels | B29: Dual Rear Wheel (DRW)
A30: Dimensions | C30: Wheelbase [inches]: | F30: 199
C31: Length (bumper to bumper) [inches]: | F31: 359.7
C32: Body width (inside) [inches]: | F32: 90
C33: Body headroom (standard) [inches]: | F33: 78
C34: Cowl to rear axle length [inches]: | F34: 315
A35: Cowl/Hood | B35: Forward tilting style cowl/hood assembly.
A36: Front Axle | C36: Gross Axle Weight Rating (GAWR) [lbs]: | F36: 9000
C37: Front axle capacity [lbs]: | F37: 10000
A38: Rear Axle | C38: Gross Axle Weight Rating (GAWR) [lbs]: | F38: 17500
C39: Rear axle capacity [lbs]: | F39: 17500
A40: Steering | B40: Power steering
