Workbook

Sheet Attachment 1 - Summary
B1: Group 40524-23254, SCHOOL BUSES (Statewide) Attachment 1 - Specifications and Pricing (Revised October 15, 2026)
B2: PC69864 New York Bus Sales, LLC
B3: The Contractor has been awarded the following Items, and shall offer Base Items, Optional Equipment and Additional Body Sections sold under the Contract at net prices that are equal to the applicable NYS Contract Price that is listed on the Contract Pricelist, or less. An Authorized User may choose to add one (1) or more of the Optional Equipment from the list of Optional Equipment, and/or Additional Body Sections, associated with the Base Item (see Contract Section 3.7 Optional Equipment and Additional Body Sections). Additional Options offered by the Contractor, that are listed on the OEM or Contractor-Published Pricelist(s), may also be requested by the Authorized User (see Contract Section 3.8 Additional Options).
B4: Name and description of worksheets included in this workbook:
B5: Tab Name | C5: Description of Tab or Item | D5: Fuel Types Awarded | E5: Item Availability by County (Under this Contract) | F5: Pupil Capacity | G5: Tab Color
B6: Attachment 1 - Summary | C6: Summary of Attachment 1 - Specifications and Pricing (this worksheet)
B7: A (Item 2-G) | C7: Lot A (Item 2-G): Type A-1, SRW, Cutaway, 4 Rows | D7: Gasoline | E7: All counties, EXCEPT Bronx, Kings, Nassau, New York, Queens, Richmond, Suffolk, Westchester, and Rockland Counties. For Bronx, Kings, Nassau, New York, Queens, Richmond, Suffolk, Westchester, and Rockland Counties, please see Contract PC69860, JP Bus & Truck Repair, LTD DBA Bird Bus Sales. | F7: Minimum 16
B8: A (Item 3-G) | C8: Lot A (Item 3-G): Type A-2, DRW, Cutaway, 4 Rows | D8: Gasoline | E8: All counties, EXCEPT Bronx, Kings, Nassau, New York, Queens, Richmond, Suffolk, Westchester, and Rockland Counties. For Bronx, Kings, Nassau, New York, Queens, Richmond, Suffolk, Westchester, and Rockland Counties, please see Contract PC69860, JP Bus & Truck Repair, LTD DBA Bird Bus Sales. | F8: Minimum 20
B9: A (Item 4-G) | C9: Lot A (Item 4-G): Type A-2, DRW, Cutaway, 4 Rows | D9: Gasoline | E9: All counties, EXCEPT Bronx, Kings, Nassau, New York, Queens, Richmond, Suffolk, Westchester, and Rockland Counties. For Bronx, Kings, Nassau, New York, Queens, Richmond, Suffolk, Westchester, and Rockland Counties, please see Contract PC69860, JP Bus & Truck Repair, LTD DBA Bird Bus Sales. | F9: Minimum 24
B10: A (Item 4-EV) | C10: Lot A (Item 4-EV): Type A-2, DRW, Cutaway, 4 Rows | D10: Electric | E10: All counties, EXCEPT Bronx, Kings, Nassau, New York, Queens, Richmond, Suffolk, Westchester, and Rockland Counties. For Bronx, Kings, Nassau, New York, Queens, Richmond, Suffolk, Westchester, and Rockland Counties, please see Contract PC69860, JP Bus & Truck Repair, LTD DBA Bird Bus Sales. | F10: Minimum 24
B11: A (Item 5-G) | C11: Lot A (Item 5-G): Type A-2, DRW, Cutaway, 5 Rows | D11: Gasoline, LPG | E11: All counties, EXCEPT Bronx, Kings, Nassau, New York, Queens, Richmond, Suffolk, Westchester, and Rockland Counties. For Bronx, Kings, Nassau, New York, Queens, Richmond, Suffolk, Westchester, and Rockland Counties, please see Contract PC69860, JP Bus & Truck Repair, LTD DBA Bird Bus Sales. | F11: Minimum 30
B12: A (Item 5-EV) | C12: Lot A (Item 5-EV): Type A-2, DRW, Cutaway, 5 Rows | D12: Electric | E12: All counties, EXCEPT Bronx, Kings, Nassau, New York, Queens, Richmond, Suffolk, Westchester, and Rockland Counties. For Bronx, Kings, Nassau, New York, Queens, Richmond, Suffolk, Westchester, and Rockland Counties, please see Contract PC69860, JP Bus & Truck Repair, LTD DBA Bird Bus Sales. | F12: Minimum 30
B13: C (Item 1-D) | C13: Lot C (Item 1-D): Type C, Conventional Bus | D13: Diesel, Gasoline, LPG | E13: All counties, EXCEPT Bronx, Kings, Nassau, New York, Queens, Richmond, Suffolk, Westchester, and Rockland Counties. For Bronx, Kings, Nassau, New York, Queens, Richmond, Suffolk, Westchester, and Rockland Counties, please see Contract PC69860, JP Bus & Truck Repair, LTD DBA Bird Bus Sales. | F13: Minimum 24
B14: C (Item 2-D) | C14: Lot C (Item 2-D): Type C, Conventional Bus | D14: Diesel, Gasoline, LPG | E14: All counties, EXCEPT Bronx, Kings, Nassau, New York, Queens, Richmond, Suffolk, Westchester, and Rockland Counties. For Bronx, Kings, Nassau, New York, Queens, Richmond, Suffolk, Westchester, and Rockland Counties, please see Contract PC69860, JP Bus & Truck Repair, LTD DBA Bird Bus Sales. | F14: Minimum 46
B15: C (Item 3-D) | C15: Lot C (Item 3-D): Type C, Conventional Bus | D15: Diesel, Gasoline, LPG | E15: All counties, EXCEPT Bronx, Kings, Nassau, New York, Queens, Richmond, Suffolk, Westchester, and Rockland Counties. For Bronx, Kings, Nassau, New York, Queens, Richmond, Suffolk, Westchester, and Rockland Counties, please see Contract PC69860, JP Bus & Truck Repair, LTD DBA Bird Bus Sales. | F15: Minimum 58
B16: C (Item 4-D) | C16: Lot C (Item 4-D): Type C, Conventional Bus | D16: Diesel, Gasoline, LPG | E16: All counties, EXCEPT Bronx, Kings, Nassau, New York, Queens, Richmond, Suffolk, Westchester, and Rockland Counties. For Bronx, Kings, Nassau, New York, Queens, Richmond, Suffolk, Westchester, and Rockland Counties, please see Contract PC69860, JP Bus & Truck Repair, LTD DBA Bird Bus Sales. | F16: Minimum 64
B17: C (Item 4-EV) | C17: Lot C (Item 4-EV): Type C, Conventional Bus | D17: Electric | E17: All counties, EXCEPT Bronx, Kings, Nassau, New York, Queens, Richmond, Suffolk, Westchester, and Rockland Counties. For Bronx, Kings, Nassau, New York, Queens, Richmond, Suffolk, Westchester, and Rockland Counties, please see Contract PC69860, JP Bus & Truck Repair, LTD DBA Bird Bus Sales. | F17: Minimum 64
B18: D (Item 1-D) | C18: Lot D (Item 1-D): Type D, Forward Control Transit Style Bus | D18: Diesel | E18: All counties, EXCEPT Bronx, Kings, Nassau, New York, Queens, Richmond, Suffolk, Westchester, and Rockland Counties. For Bronx, Kings, Nassau, New York, Queens, Richmond, Suffolk, Westchester, and Rockland Counties, please see Contract PC69860, JP Bus & Truck Repair, LTD DBA Bird Bus Sales. | F18: Minimum 24
... B24: D (Item 5-EV) | C24: Lot D (Item 5-EV): Type D, Rear Engine (Pusher) Bus | D24: Electric | E24: All counties, EXCEPT Bronx, Kings, Nassau, New York, Queens, Richmond, Suffolk, Westchester, and Rockland Counties. For Bronx, Kings, Nassau, New York, Queens, Richmond, Suffolk, Westchester, and Rockland Counties, please see Contract PC69860, JP Bus & Truck Repair, LTD DBA Bird Bus Sales. | F24: Minimum 72

Sheet A (Item 2-G)
A1: GROUP 40524-23254, SCHOOL BUSES (Statewide) Attachment 1 - Specifications and Pricing (Revised October 15, 2026)
A2: PC69864 New York Bus Sales, LLC
A3: LOT A (Item 2-G)
A4: Type A-1, SRW, Cutaway, 4 Rows (Gasoline; Minimum 16 Pupils)
A6: PART 1: Product information for the Base Item(s) Awarded | F6: General Motors / Microbird
A7: Category | B7: Information provided in Yellow Cells | F7: Gasoline
A8: Engine | B8: Information identifying the engine for the fuel type offered. | F8: LV1, 4.3L, 6 Cyl., 276HP @5,200 RPM, 298 Ft. Lbs. torque @ 3,900 RPM
A9: NYS DOT Approval Number | B9: The NYS DOT Approval Number for the School Bus. Only School Buses approved by NYS DOT Passenger Carrier Safety Bureau for use as 2022 and newer Models, as indicated by a NYS DOT Approval Number, shall be delivered pursuant to the Contract. | F9: 1659-NY-16-00WC-MBI
A10: Chassis Make | B10: The OEM company name of a Chassis. | F10: General Motors
A11: Chassis Model | B11: The Model name of the Chassis. | F11: 3500
A12: Chassis Model Code | B12: The OEM code used to identify the subset of the Chassis Model. | F12: U33503-SG3
A13: Body Make | B13: The OEM company name of a Body. | F13: Microbird
A14: Body Model | B14: The Model name of the Body. | F14: MBII
A15: Body Model Code | B15: The OEM code used to identify the subset of the Body Model. | F15: UGQD4NLDSQ
A16: Pick Up Allowance | B16: The dollar amount, per School Bus, that will be deducted from the Base Item NYS Contract Price, if the Authorized User elects to pick up the School Bus at the Contractor's location. | F16: 100
A17: Delivery Time | B17: The estimated delivery time for the School Bus, expressed in number of calendar days, required to make delivery after receipt of a final Purchase Order (After Receipt of Order (“ARO”)). | F17: 210-270
A19: PART 2: Pricing for the Base Item, Additional Body Section, and Additional Options | F19: General Motors / Microbird
A20: Category | B20: Information provided in Yellow Cells | F20: Gasoline
A21: Base Item NYS Contract Price | B21: The per unit NYS Contract Price (dollar amount) for the School Bus described in the Base Item Specifications. The Base Item NYS Contract Price includes any OEM fees, all customs duties and charges, all vehicle preparation and clean-up charges, NYS DOT inspection, installation charges, delivery and all other incidentals normally included with providing a School Bus, but excludes Optional Equipment, Additional Body Section(s), and Additional Options. | F21: =72900*('PPI Adj'!D6) -> 85074.3
A22: Additional Body Section NYS Contract Price | B22: The per unit NYS Contract Price (dollar amount) for adding one (1) Additional Body Section, excluding seats and other interior features, to the Base Item and the applicable Base Item NYS Contract Price. | F22: Not Available
A23: Additional Options NYS Discount | B23: The minimum percentage amount that shall be deducted from the MSRP for all Additional Options purchased under the Contract for this Item. | F23: 12
A25: PART 3: Base Item Specifications | F25: General Motors / Microbird
A26: Category | B26: Specification | C26: Information provided in Yellow Cells | F26: Gasoline
A27: General | B27: A conversion School Bus constructed using a cutaway front-section vehicle with a left side driver’s door, with a GVWR of 10,000 pounds or less. | C27: Gross Vehicle Weight Rating (GVWR) [lbs]: | F27: 9900
A28: Capacity | B28: Minimum four (4) rows for sixteen (16) Pupils | C28: Number of rows: | F28: 4
C29: Number of Pupils: | F29: 16
A30: Rear Wheels | B30: Single Rear Wheel (SRW)
A31: Dimensions | C31: Wheelbase [inches]: | F31: 139
C32: Length (bumper to bumper) [inches]: | F32: 234
C33: Body width (inside) [inches]: | F33: 82
C34: Body headroom (standard) [inches]: | F34: 66
C35: Cowl to rear axle length [inches]: | F35: 80
A36: Front Axle | C36: Gross Axle Weight Rating (GAWR) [lbs]: | F36: 4100
C37: Front axle capacity [lbs]: | F37: 4100
A38: Rear Axle | C38: Gross Axle Weight Rating (GAWR) [lbs]: | F38: 6084
C39: Rear axle capacity [lbs]: | F39: 6084
A40: Steering | B40: Power steering
A41: Tires | B41: Tires shall meet the minimum requirements for the Chassis Model, as published by the Chassis manufacturer. | C41: Front radial tires size (load range letter) | F41: LT245/75R 16 ( E )
C42: Front radial tires capacity | F42: 3042
C43: Rear radial tires size (load range letter) | F43: LT245/75R 16 ( E )
C44: Rear radial tires capacity | F44: 3042
C45: Front Tires Option Code: | F45: XLP
C46: Front Tires Make & Tread Designation: | F46: Bridgestone, All Season
C47: Rear Tires Option Code: | F47: YLP
C48: Rear Tires Make & Tread Designation: | F48: Bridgestone, All Season
A49: Transmission | B49: Automatic transmission | C49: Number of forward gears: | F49: 8
C50: Gears direct or w/O.D.?: | F50: w/OD
C51: Option Code, Make & Model: | F51: M5U
A52: Engine | B52: Engine shall have a manufacturer's standard water cooled engine complete with accessories, as called for under classification. Engine shall develop full-rated torque and horsepower without requiring the use of premium grade fuel for any condition of operation. If a Diesel engine is offered, it shall develop full-rated torque and horsepower with the use of both ultra low sulfur grade diesel fuel and renewable diesel fuel.
A53: Alternator | B53: Alternator shall be of the integrally-rectified type, with an SAE continuous ampere output rating that is capable of at least powering all electrical devices energized simultaneously and an additional output of ten (10) or more amperes; and shall be driven by a single serpentine belt (or equivalent) or gear driven, and shall have full-transistor type voltage regulators. Wiring harness sizes shall be not less than the alternator manufacturer's recommendations. | C53: Option Code, Make & Model: | F53: KW5, GM OEM
C54: Capacity [amps]: | F54: 220
A55: Battery(ies) | C55: Model or Option Code: | F55: TP3
C56: Number of batteries: | F56: 2
C57: CCA of each battery: | F57: 770
A58: Electrical | B58: Units shall have headlights turned on when the engine is running.
A59: Electrical | B59: Driver's compartment dome light shall be so directed to provide illumination for the bus driver and be controlled by an independent switch.
A60: Electrical | B60: All exterior lamps, except headlamps, shall be Light Emitting Diode (LED) design that meet applicable SAE standards.
A61: Horns | B61: An electrical horn(s) shall be provided that meets SAE standard J377.
A62: Door (Entrance) | C62: Type and clear width [inches]: | F62: O/O 24"
A63: Fuel Tank(s) | B63: Gasoline and diesel engines Base Items shall have a Twenty-Five (25) gallon fuel capacity. LPG and CNG shall have the minimum construction and protection required by NFPA. | C63: Capacity [gallons]: | F63: 32 Gallons
A64: Mirrors | B64: The exterior driving mirrors shall be the heated defrosting type with their own switch and pilot light. Crossview mirrors shall be provided at front corners of each bus.
A65: Seating | B65: Manufacturer's standard or optional seat spacing that meets or exceeds the NYCRR minimum requirement for the respective class of School Bus with the minimum Pupil capacity stated above.
A66: Seatbelt (ambulatory) | B66: Type II seat belts shall be provided for each individual seating space. Seat belts shall meet current federal safety standards and shall be of a type approved by, and installed in accordance with, the rules and regulations established by NYS DOT in subdivision five (5) of section three-hundred eighty-three (383) of the New York State Vehicle and Traffic Laws dated July 30, 1986 and NYCRR, Title 17, Part 720, or the latest revision thereof.
A67: Stop Arm(s) (Power) | B67: Shall be entrance-door activated, electric or air-positioning type, and be provided streetside on all School Buses. It shall be compliant with FMVSS (49 CFR 571.131). | C67: Make & Model: | F67: SMI, SE27900-SP
A68: "School Bus" Signs | B68: Both front and rear shall comply with Article 9, Section 375.20 of the New York State Vehicle and Traffic Law.
A69: 8 Lamp Warning System (School Bus) | B69: Shall be compliant with SAE J887. | C69: Make & Model: | F69: Lucidity Enterprise, 12958A/R
A70: Exterior Reflective Markings | B70: All units with a capacity of ten (10) or more Pupils shall be equipped with exterior reflective markings as required by FMVSS (49 CFR 571.217) and NYCRR (Title 15, Department of Motor Vehicles, Part D, 46.12).
A71: Floor | B71: Manufacturer's standard insulated floor design shall be provided throughout the School Bus.
A72: Heaters | B72: Minimum passenger compartment heating shall meet the requirements of NYCRR, Title 17, Part 720.4(I) Heaters, or the latest revision thereof.
A73: Door (Rear Emergency Exit) | B73: Shall include lower glass.
A75: PART 4: Optional Equipment NYS Contract Pricing | F75: General Motors / Microbird
A76: Optional Equipment (see Specifications and Equipment Provided below) | F76: Gasoline
A77: Capacity - Add One (1) Row of Seating | F77: Not Available
A78: Capacity - Delete One (1) Row of Seating | F78: =-1257.64*('PPI Adj'!D6) -> -1467.6659
A79: Child Presence Check / Alarm | F79: =593.33*('PPI Adj'!D6) -> 692.41611
A80: Glass (Tinted) | F80: Included in Base Item
A81: Rear Axle, "No Spin" | F81: =325*('PPI Adj'!D6) -> 379.275
A82: Tires (Snow) | F82: =371.13*('PPI Adj'!D6) -> 433.10871
A83: Tires (All-Season) | F83: Included in Base Item
A84: Floor With Recessed Wheelchair Restraint Track For One Wheelchair Station. | F84: =650.5*('PPI Adj'!D6) -> 759.1335
A85: Floor (Flat) With Recessed Wheelchair Track Throughout Entire Body | F85: =1568.09*('PPI Adj'!D6) -> 1829.961
A86: Wheelchair Lift | F86: =7296.4*('PPI Adj'!D6) -> 8514.8988
A87: White Roof | F87: =546.02*('PPI Adj'!D6) -> 637.20534
A88: Crossing Arm | F88: =669.22*('PPI Adj'!D6) -> 780.97974
A89: Additional Passenger Area Heater (Under Passenger Seat) | F89: =230.63*('PPI Adj'!D6) -> 269.14521
A90: Auxiliary Engine Coolant Heater | F90: Not Available
A91: Vandal Lock | F91: =157.7*('PPI Adj'!D6) -> 184.0359
A92: Air Conditioning | F92: =3416.45*('PPI Adj'!D6) -> 3986.9971
A93: School Bus Safety Camera | F93: =1800*('PPI Adj'!D6) -> 2100.6
A94: Delete Exterior LED Lamps | F94: =-473.13*('PPI Adj'!D6) -> -552.14271
A95: Multifunction School Activity Bus | F95: =1427.13*('PPI Adj'!D6) -> 1665.4607
A97: PART 4: Optional Equipment Specifications | F97: General Motors / Microbird
A98: Optional Equipment | B98: Specification | C98: Information provided in Yellow Cells | F98: Gasoline
A99: Capacity - Add One (1) Row of Seating | B99: Add one (1) row of seating to an Additional Body Section that has been added to the Base Item.
A100: Capacity - Delete One (1) Row of Seating | B100: Delete one (1) full row of seating (both left and right sides) without removing a Body section from the Base Item, or altering the spacing between the remaining seats. | F100: Delete two seats with lap belts and seat equipment
A101: Child Presence Check / Alarm | B101: Shall be the Child Check-mate System Model EP 2, or Compatible Equivalent. | C101: Make & Model: | F101: Child Check-mate, EP2
A102: Glass (Tinted) | B102: The School Bus windshield and Body windows shall have the manufacturer's typical options that provide tinted glass windows throughout the vehicle and shall comply with Article 9, Section 375.12a. of the New York State Vehicle and Traffic Law. | F102: Included in Base Price
A103: Rear Axle, "No Spin" | B103: The manufacturer’s standard device (e.g., power-lock, limited-slip, no-spin, positive-traction). | C103: Type of device: | F103: Locking Differential
A104: Tires (Snow) | B104: Snow tread tires shall be provided on all drive wheels. Tires shall be Federal class D/A, STC (with snow traction capability), or class S/T, or A/T, AP with STC, or other class with STC. Tires of the same size and ply-rating as front tires shall be furnished on the rear wheels. The price entered for this Optional Equipment shall be for two (2) tires. | C104: Rear radial tires size (load range letter) | F104: LT245/75R 16 ( E )
C105: Rear radial tires capacity | F105: 3,042 lbs
...

Sheet A (Item 3-G)
A1: ='A (Item 2-G)'!$A$1 -> GROUP 40524-23254, SCHOOL BUSES (Statewide) Attachment 1 - Specifications and Pricing (Revised October 15, 2026)
A2: PC69864 New York Bus Sales, LLC
A3: LOT A (Item 3-G)
A4: Type A-2, DRW, Cutaway, 4 Rows (Gasoline; Minimum 20 Pupils)
A6: PART 1: Product information for the Base Item(s) Awarded | F6: Ford / Microbird | H6: General Motors / Microbird
A7: Category | B7: Information provided in Yellow Cells | F7: Gasoline | H7: Gasoline
A8: Engine | B8: Information identifying the engine for the fuel type offered. | F8: 99k, Ford 7.3L, 8 cylinder, 300 HP@ 3,900 RMP, 425 Ft. Lbs Torque @ 3,250 RPM | H8: L8T, 6.6L, 8 Cyl., 401HP @5,200 RPM, 464 Ft. Lbs. torque @ 4,000 RPM
A9: NYS DOT Approval Number | B9: The NYS DOT Approval Number for the School Bus. Only School Buses approved by NYS DOT Passenger Carrier Safety Bureau for use as 2022 and newer Models, as indicated by a NYS DOT Approval Number, shall be delivered pursuant to the Contract. | F9: 1643-NY-20-00WC-MBI | H9: 1650-NY-20-00WC-MBI
A10: Chassis Make | B10: The OEM company name of a Chassis. | F10: Ford | H10: General Motors
A11: Chassis Model | B11: The Model name of the Chassis. | F11: E-350 | H11: 3500
A12: Chassis Model Code | B12: The OEM code used to identify the subset of the Chassis Model. | F12: U158-DNF | H12: U335-DG66
A13: Body Make | B13: The OEM company name of a Body. | F13: Microbird | H13: Microbird
A14: Body Model | B14: The Model name of the Body. | F14: G5 | H14: G5
A15: Body Model Code | B15: The OEM code used to identify the subset of the Body Model. | F15: UFH51NHWST | H15: UGU51NHWST
A16: Pick Up Allowance | B16: The dollar amount, per School Bus, that will be deducted from the Base Item NYS Contract Price, if the Authorized User elects to pick up the School Bus at the Contractor's location. | F16: 100 | H16: 100
A17: Delivery Time | B17: The estimated delivery time for the School Bus, expressed in number of calendar days, required to make delivery after receipt of a final Purchase Order (After Receipt of Order (“ARO”)). | F17: 210-270 | H17: 210-270
A19: PART 2: Pricing for the Base Item, Additional Body Section, and Additional Options | F19: Ford / Microbird | H19: General Motors / Microbird
A20: Category | B20: Information provided in Yellow Cells | F20: Gasoline | H20: Gasoline
A21: Base Item NYS Contract Price | B21: The per unit NYS Contract Price (dollar amount) for the School Bus described in the Base Item Specifications. The Base Item NYS Contract Price includes any OEM fees, all customs duties and charges, all vehicle preparation and clean-up charges, NYS DOT inspection, installation charges, delivery and all other incidentals normally included with providing a School Bus, but excludes Optional Equipment, Additional Body Section(s), and Additional Options. | F21: =78900*('PPI Adj'!D6) -> 92076.3 | H21: =76100*('PPI Adj'!D6) -> 88808.7
A22: Additional Body Section NYS Contract Price | B22: The per unit NYS Contract Price (dollar amount) for adding one (1) Additional Body Section, excluding seats and other interior features, to the Base Item and the applicable Base Item NYS Contract Price. | F22: Not Available | H22: Not Available
A23: Additional Options NYS Discount | B23: The minimum percentage amount that shall be deducted from the MSRP for all Additional Options purchased under the Contract for this Item. | F23: 12 | H23: 12
A25: PART 3: Base Item Specifications | F25: Chevrolet / Trans Tech | H25: General Motors / Microbird
A26: Category | B26: Specification | C26: Information provided in Yellow Cells | F26: Gasoline | H26: Gasoline
A27: General | B27: A conversion School Bus constructed using a cutaway front-section vehicle with a left side driver’s door, with a GVWR equal to or greater than 10,001 pounds and less than or equal to 21,500 pounds. | C27: Gross Vehicle Weight Rating (GVWR) [lbs]: | F27: 11500 | H27: 12300
A28: Capacity | B28: Minimum four (4) rows for twenty (20) Pupils. | C28: Number of rows: | F28: 4 | H28: 4
C29: Number of Pupils: | F29: 20 | H29: 20
A30: Rear Wheels | B30: Dual Rear Wheel (DRW) | F30: DRW | H30: DRW
A31: Dimensions | C31: Wheelbase [inches]: | F31: 138 | H31: 139
C32: Length (bumper to bumper) [inches]: | F32: 257 | H32: 262
C33: Body width (inside) [inches]: | F33: 93 | H33: 93
C34: Body headroom (standard) [inches]: | F34: 76 | H34: 76
C35: Cowl to rear axle length [inches]: | F35: 82 | H35: 80
A36: Front Axle | C36: Gross Axle Weight Rating (GAWR) [lbs]: | F36: 4050 | H36: 4300
C37: Front axle capacity [lbs]: | F37: 4050 | H37: 4300
A38: Rear Axle | C38: Gross Axle Weight Rating (GAWR) [lbs]: | F38: 7800 | H38: 8600
C39: Rear axle capacity [lbs]: | F39: 7800 | H39: 8600
A40: Steering | B40: Power steering
A41: Tires | B41: Tires shall meet the minimum requirements for the Chassis Model, as published by the Chassis manufacturer. | C41: Front radial tires size (load range letter) | F41: LT225/75RX16-E | H41: LT225/75R16-E
C42: Front radial tires capacity | F42: 2680 | H42: 2680
C43: Rear radial tires size (load range letter) | F43: LT225/75RX16-(E) | H43: LT225/75R16-(E)
C44: Rear radial tires capacity | F44: 2470 | H44: 2470
C45: Front Tires Option Code: | F45: T68 | H45: XHF
C46: Front Tires Make & Tread Designation: | F46: Hankook All Season | H46: Grabber HTS
C47: Rear Tires Option Code: | F47: T68 | H47: XHF
C48: Rear Tires Make & Tread Designation: | F48: Hankook All Season | H48: Grabber HTS
A49: Transmission | B49: Automatic transmission | C49: Number of forward gears: | F49: 6 | H49: 8
C50: Gears direct or w/O.D.?: | F50: w/ O/D | H50: w/ O/D
C51: Option Code, Make & Model: | F51: 44P | H51: MYD, GM
A52: Engine | B52: Engine shall have a manufacturer's standard water cooled engine complete with accessories, as called for under classification. Engine shall develop full-rated torque and horsepower without requiring the use of premium grade fuel for any condition of operation. If a Diesel engine is offered, it shall develop full-rated torque and horsepower with the use of both ultra low sulfur grade diesel fuel and renewable diesel fuel.
A53: Alternator | B53: Alternator shall be of the integrally-rectified type, with an SAE continuous ampere output rating that is capable of at least powering all electrical devices energized simultaneously and an additional output of ten (10) or more amperes; and shall be driven by a single serpentine belt (or equivalent) or gear driven, and shall have full-transistor type voltage regulators. Wiring harness sizes shall be not less than the alternator manufacturer's recommendations. | C53: Option Code, Make & Model: | F53: ALT-21, Ford OEM | H53: KW5, GM OEM
C54: Capacity [amps]: | F54: 210 | H54: 220
A55: Battery(ies) | C55: Model or Option Code: | F55: BAT-21 | H55: TP3
C56: Number of batteries: | F56: 1 | H56: 2
C57: CCA of each battery: | F57: 750 | H57: 770
A58: Electrical | B58: Units shall have headlights turned on when the engine is running.
A59: Electrical | B59: Driver's compartment dome light shall be so directed to provide illumination for the bus driver and be controlled by an independent switch.
A60: Electrical | B60: All exterior lamps, except headlamps, shall be Light Emitting Diode (LED) design that meet applicable SAE standards.
A61: Horns | B61: An electrical horn(s) shall be provided that meets SAE standard J377.
A62: Door (Entrance) | C62: Type and clear width [inches]: | F62: O/O 32" | H62: O/O 32"
A63: Fuel Tank(s) | B63: Gasoline and diesel engines Base Items shall have a Twenty-Five (25) gallon fuel capacity. LPG and CNG shall have the minimum construction and protection required by NFPA. | C63: Capacity [gallons]: | F63: 40 Gallons | H63: 32 Gallons
A64: Mirrors | B64: The exterior driving mirrors shall be the heated defrosting type with their own switch and pilot light. Crossview mirrors shall be provided at front corners of each bus.
A65: Seating | B65: Manufacturer's standard or optional seat spacing that meets or exceeds the NYCRR minimum requirement for the respective class of School Bus with the minimum Pupil capacity stated above.
A66: Seatbelt (ambulatory) | B66: Seat belts shall be provided for each individual seating space. Seat belts shall meet current federal safety standards and shall be of a type approved by, and installed in accordance with, the rules and regulations established by NYS DOT in subdivision five (5) of section three-hundred eighty-three (383) of the New York State Vehicle and Traffic Laws dated July 30, 1986 and NYCRR, Title 17, Part 720, or the latest revision thereof.
A67: Stop Arm(s) (Power) | B67: Shall be entrance-door activated, electric or air-positioning type, and be provided streetside on all School Buses. It shall be compliant with FMVSS (49 CFR 571.131). | C67: Make & Model: | F67: SMI, SE27900-SP | H67: SMI, SE27900-SP
A68: "School Bus" Signs | B68: Both front and rear shall comply with Article 9, Section 375.20 of the New York State Vehicle and Traffic Law.
A69: 8 Lamp Warning System (School Bus) | B69: Shall be compliant with SAE J887. | C69: Make & Model: | F69: Lucidity Enterprise, 12958A/R | H69: Lucidity Enterprise, 12958A/R
A70: Exterior Reflective Markings | B70: All units with a capacity of ten (10) or more Pupils shall be equipped with exterior reflective markings as required by FMVSS (49 CFR 571.217) and NYCRR (Title 15, Department of Motor Vehicles, Part D, 46.12).
A71: Floor | B71: Manufacturer's standard insulated floor design shall be provided throughout the School Bus.
A72: Heaters | B72: Minimum passenger compartment heating shall meet the requirements of NYCRR, Title 17, Part 720.4(I) Heaters, or the latest revision thereof.
A73: Door (Rear Emergency Exit) | B73: Shall include lower glass.
A75: PART 4: Optional Equipment NYS Contract Pricing | F75: Ford / Microbird | H75: General Motors / Microbird
A76: Optional Equipment (see Specifications and Equipment Provided below) | F76: Gasoline | H76: Gasoline
A77: Capacity - Add One (1) Row of Seating | F77: Not Available | H77: Not Available
A78: Capacity - Delete One (1) Row of Seating | F78: =-1257.64*('PPI Adj'!D6) -> -1467.6659 | H78: =-1257.64*('PPI Adj'!D6) -> -1467.6659
A79: Child Presence Check / Alarm | F79: =593.33*('PPI Adj'!D6) -> 692.41611 | H79: =593.33*('PPI Adj'!D6) -> 692.41611
A80: Glass (Tinted) | F80: Included in Base Item | H80: Included in Base Item
A81: Rear Axle, "No Spin" | F81: =270*('PPI Adj'!D6) -> 315.09 | H81: =325*('PPI Adj'!D6) -> 379.275
A82: Tires (Snow) | F82: =371.13*('PPI Adj'!D6) -> 433.10871 | H82: =371.13*('PPI Adj'!D6) -> 433.10871
A83: Tires (All-Season) | F83: Included in Base Item | H83: Included in Base Item
A84: Floor With Recessed Wheelchair Restraint Track For One Wheelchair Station. | F84: =650.5*('PPI Adj'!D6) -> 759.1335 | H84: =650.5*('PPI Adj'!D6) -> 759.1335
A85: Floor (Flat) With Recessed Wheelchair Track Throughout Entire Body | F85: =1568.09*('PPI Adj'!D6) -> 1829.961 | H85: =1568.09*('PPI Adj'!D6) -> 1829.961
A86: Wheelchair Lift | F86: =7296.4*('PPI Adj'!D6) -> 8514.8988 | H86: =7296.4*('PPI Adj'!D6) -> 8514.8988
A87: Roof Ventilator / Emergency Exit | F87: =514.48*('PPI Adj'!D6) -> 600.39816 | H87: =514.48*('PPI Adj'!D6) -> 600.39816
A88: White Roof | F88: Included in Base Item | H88: Included in Base Item
A89: Crossing Arm | F89: =669.22*('PPI Adj'!D6) -> 780.97974 | H89: =669.22*('PPI Adj'!D6) -> 780.97974
A90: Additional Passenger Area Heater (Under Passenger Seat) | F90: =230.63*('PPI Adj'!D6) -> 269.14521 | H90: =230.63*('PPI Adj'!D6) -> 269.14521
A91: Auxiliary Engine Coolant Heater | F91: Not Available | H91: Not Available
A92: Vandal Lock | F92: =157.7*('PPI Adj'!D6) -> 184.0359 | H92: =157.7*('PPI Adj'!D6) -> 184.0359
A93: Air Conditioning | F93: =5658.67*('PPI Adj'!D6) -> 6603.6679 | H93: =5658.67*('PPI Adj'!D6) -> 6603.6679
A94: School Bus Safety Camera | F94: =1800*('PPI Adj'!D6) -> 2100.6 | H94: =1800*('PPI Adj'!D6) -> 2100.6
A95: Delete Exterior LED Lamps | F95: =-473.13*('PPI Adj'!D6) -> -552.14271 | H95: =-473.13*('PPI Adj'!D6) -> -552.14271
A96: Multifunction School Activity Bus | F96: =1427.13*('PPI Adj'!D6) -> 1665.4607 | H96: =1427.13*('PPI Adj'!D6) -> 1665.4607
A98: PART 4: Optional Equipment Specifications | F98: Ford / Microbird | H98: General Motors / Microbird
A99: Optional Equipment | B99: Specification | C99: Information provided in Yellow Cells | F99: Gasoline | H99: Gasoline
A100: Capacity - Add One (1) Row of Seating | B100: Add one (1) row of seating to an Additional Body Section that has been added to the Base Item. | F100: Not Available | H100: Not Available
A101: Capacity - Delete One (1) Row of Seating | B101: Delete one (1) full row of seating (both left and right sides) without removing a Body section from the Base Item, or altering the spacing between the remaining seats. | F101: Delete two seats with lap belts and seat equipment | H101: Delete two seats with lap belts and seat equipment
A102: Child Presence Check / Alarm | B102: Shall be the Child Check-mate System Model EP 2, or Compatible Equivalent. | C102: Make & Model: | F102: Child Check-mate, EP2 | H102: Child Check-mate, EP2
A103: Glass (Tinted) | B103: The School Bus windshield and Body windows shall have the manufacturer's typical options that provide tinted glass windows throughout the vehicle and shall comply with Article 9, Section 375.12a. of the New York State Vehicle and Traffic Law. | F103: Included in Base Price | H103: Included in Base Price
A104: Rear Axle, "No Spin" | B104: The manufacturer’s standard device (e.g., power-lock, limited-slip, no-spin, positive-traction). | C104: Type of device: | F104: Limited Slip | H104: Limited Slip
A105: Tires (Snow) | B105: Snow tread tires shall be provided on all drive wheels. Tires shall be Federal class D/A, STC (with snow traction capability), or class S/T, or A/T, AP with STC, or other class with STC. The price entered for this Optional Equipment shall be for four (4) tires. Tires furnished on the rear wheels shall be the same size and adequate for axle's GAWR. | C105: Rear radial tires size (load range letter) | F105: LT225/75R16-E | H105: LT225/75R16-E
...

Sheet A (Item 4-G)
A1: ='A (Item 2-G)'!$A$1 -> GROUP 40524-23254, SCHOOL BUSES (Statewide) Attachment 1 - Specifications and Pricing (Revised October 15, 2026)
A2: PC69864 New York Bus Sales, LLC
A3: LOT A (Item 4-G)
A4: Type A-2, DRW, Cutaway, 4 Rows (Gasoline; Minimum 24 Pupils)
A6: PART 1: Product information for the Base Item(s) Awarded | F6: General Motors / Microbird
A7: Category | B7: Information provided in Yellow Cells | F7: Gasoline
A8: Engine | B8: Information identifying the engine for the fuel type offered. | F8: L8T, 6.6L, 8 Cyl., 401HP @5,200 RPM, 464 Ft. Lbs. torque @ 4,000 RPM
A9: NYS DOT Approval Number | B9: The NYS DOT Approval Number for the School Bus. Only School Buses approved by NYS DOT Passenger Carrier Safety Bureau for use as 2022 and newer Models, as indicated by a NYS DOT Approval Number, shall be delivered pursuant to the Contract. | F9: 1597-NY-24-00WC-MBI
A10: Chassis Make | B10: The OEM company name of a Chassis. | F10: General Motors
A11: Chassis Model | B11: The Model name of the Chassis. | F11: 3500
A12: Chassis Model Code | B12: The OEM code used to identify the subset of the Chassis Model. | F12: U335-DG66
A13: Body Make | B13: The OEM company name of a Body. | F13: Microbird
A14: Body Model | B14: The Model name of the Body. | F14: G5
A15: Body Model Code | B15: The OEM code used to identify the subset of the Body Model. | F15: UGU51NHWSS
A16: Pick Up Allowance | B16: The dollar amount, per School Bus, that will be deducted from the Base Item NYS Contract Price, if the Authorized User elects to pick up the School Bus at the Contractor's location. | F16: 100
A17: Delivery Time | B17: The estimated delivery time for the School Bus, expressed in number of calendar days, required to make delivery after receipt of a final Purchase Order (After Receipt of Order (“ARO”)). | F17: 210-270
A19: PART 2: Pricing for the Base Item, Additional Body Section, and Additional Options | F19: General Motors / Microbird
A20: Category | B20: Information provided in Yellow Cells | F20: Gasoline
A21: Base Item NYS Contract Price | B21: The per unit NYS Contract Price (dollar amount) for the School Bus described in the Base Item Specifications. The Base Item NYS Contract Price includes any OEM fees, all customs duties and charges, all vehicle preparation and clean-up charges, NYS DOT inspection, installation charges, delivery and all other incidentals normally included with providing a School Bus, but excludes Optional Equipment, Additional Body Section(s), and Additional Options. | F21: =77800*('PPI Adj'!D6) -> 90792.6
A22: Additional Body Section NYS Contract Price | B22: The per unit NYS Contract Price (dollar amount) for adding one (1) Additional Body Section, excluding seats and other interior features, to the Base Item and the applicable Base Item NYS Contract Price. | F22: Not Available
A23: Additional Options NYS Discount | B23: The minimum percentage amount that shall be deducted from the MSRP for all Additional Options purchased under the Contract for this Item. | F23: 12
A25: PART 3: Base Item Specifications | F25: General Motors / Microbird
A26: Category | B26: Specification | C26: Information provided in Yellow Cells | F26: Gasoline
A27: General | B27: A conversion School Bus constructed using a cutaway front-section vehicle with a left side driver’s door, with a GVWR equal to or greater than 10,001 pounds and less than or equal to 21,500 pounds. | C27: Gross Vehicle Weight Rating (GVWR) [lbs]: | F27: 12300
A28: Capacity | B28: Minimum four (4) rows for twenty-four (24) Pupils. | C28: Number of rows: | F28: 4
C29: Number of Pupils: | F29: 24
A30: Rear Wheels | B30: Dual Rear Wheel (DRW) | F30: DRW
A31: Dimensions | C31: Wheelbase [inches]: | F31: 159
C32: Length (bumper to bumper) [inches]: | F32: 289
C33: Body width (inside) [inches]: | F33: 93
C34: Body headroom (standard) [inches]: | F34: 76
C35: Cowl to rear axle length [inches]: | F35: 80
A36: Front Axle | C36: Gross Axle Weight Rating (GAWR) [lbs]: | F36: 4300
C37: Front axle capacity [lbs]: | F37: 4300
A38: Rear Axle | C38: Gross Axle Weight Rating (GAWR) [lbs]: | F38: 8600
C39: Rear axle capacity [lbs]: | F39: 8600
A40: Steering | B40: Power steering
A41: Tires | B41: Tires shall meet the minimum requirements for the Chassis Model, as published by the Chassis manufacturer. | C41: Front radial tires size (load range letter) | F41: LT225/75R16-E
C42: Front radial tires capacity | F42: 2680
C43: Rear radial tires size (load range letter) | F43: LT225/75R16-(E)
C44: Rear radial tires capacity | F44: 2470
C45: Front Tires Option Code: | F45: XHF
C46: Front Tires Make & Tread Designation: | F46: Grabber HTS
C47: Rear Tires Option Code: | F47: XHF
C48: Rear Tires Make & Tread Designation: | F48: Grabber HTS
A49: Transmission | B49: Automatic transmission | C49: Number of forward gears: | F49: 6
C50: Gears direct or w/O.D.?: | F50: w/ O/D
C51: Option Code, Make & Model: | F51: MYD, GM
A52: Engine | B52: Engine shall have a manufacturer's standard water cooled engine complete with accessories, as called for under classification. Engine shall develop full-rated torque and horsepower without requiring the use of premium grade fuel for any condition of operation. If a Diesel engine is offered, it shall develop full-rated torque and horsepower with the use of both ultra low sulfur grade diesel fuel and renewable diesel fuel.
A53: Alternator | B53: Alternator shall be of the integrally-rectified type, with an SAE continuous ampere output rating that is capable of at least powering all electrical devices energized simultaneously and an additional output of ten (10) or more amperes; and shall be driven by a single serpentine belt (or equivalent) or gear driven, and shall have full-transistor type voltage regulators. Wiring harness sizes shall be not less than the alternator manufacturer's recommendations. | C53: Option Code, Make & Model: | F53: KW5, GM OEM
C54: Capacity [amps]: | F54: 220
A55: Battery(ies) | C55: Model or Option Code: | F55: TP3
C56: Number of batteries: | F56: 2
C57: CCA of each battery: | F57: 770
A58: Electrical | B58: Units shall have headlights turned on when the engine is running.
A59: Electrical | B59: Driver's compartment dome light shall be so directed to provide illumination for the bus driver and be controlled by an independent switch.
A60: Electrical | B60: All exterior lamps, except headlamps, shall be Light Emitting Diode (LED) design that meet applicable SAE standards.
A61: Horns | B61: An electrical horn(s) shall be provided that meets SAE standard J377.
A62: Door (Entrance) | C62: Type and clear width [inches]: | F62: O/O 32"
A63: Fuel Tank(s) | B63: Gasoline and diesel engines Base Items shall have a Thirty (30) gallon fuel capacity. LPG and CNG shall have the minimum construction and protection required by NFPA. | C63: Capacity [gallons]: | F63: 32 Gallons
A64: Mirrors | B64: The exterior driving mirrors shall be the heated defrosting type with their own switch and pilot light. Crossview mirrors shall be provided at front corners of each bus.
A65: Seating | B65: Manufacturer's standard or optional seat spacing that meets or exceeds the NYCRR minimum requirement for the respective class of School Bus with the minimum Pupil capacity stated above.
A66: Seatbelt (ambulatory) | B66: Seat belts shall be provided for each individual seating space. Seat belts shall meet current federal safety standards and shall be of a type approved by, and installed in accordance with, the rules and regulations established by NYS DOT in subdivision five (5) of section three-hundred eighty-three (383) of the New York State Vehicle and Traffic Laws dated July 30, 1986 and NYCRR, Title 17, Part 720, or the latest revision thereof.
A67: Stop Arm(s) (Power) | B67: Shall be entrance-door activated, electric or air-positioning type, and be provided streetside on all School Buses. It shall be compliant with FMVSS (49 CFR 571.131). | C67: Make & Model: | F67: SMI, SE27900-SP
A68: "School Bus" Signs | B68: Both front and rear shall comply with Article 9, Section 375.20 of the New York State Vehicle and Traffic Law.
A69: 8 Lamp Warning System (School Bus) | B69: Shall be compliant with SAE J887. | C69: Make & Model: | F69: Lucidity Enterprise, 12958A/R
A70: Exterior Reflective Markings | B70: All units with a capacity of ten (10) or more Pupils shall be equipped with exterior reflective markings as required by FMVSS (49 CFR 571.217) and NYCRR (Title 15, Department of Motor Vehicles, Part D, 46.12).
A71: Floor | B71: Manufacturer's standard insulated floor design shall be provided throughout the School Bus.
A72: Heaters | B72: Minimum passenger compartment heating shall meet the requirements of NYCRR, Title 17, Part 720.4(I) Heaters, or the latest revision thereof.
A73: Door (Rear Emergency Exit) | B73: Shall include lower glass.
A75: PART 4: Optional Equipment NYS Contract Pricing | F75: General Motors / Microbird
A76: Optional Equipment (see Specifications and Equipment Provided below) | F76: Gasoline
A77: Capacity - Add One (1) Row of Seating | F77: Not Available
A78: Capacity - Delete One (1) Row of Seating | F78: =-1257.64*('PPI Adj'!D6) -> -1467.6659
A79: Child Presence Check / Alarm | F79: =593.33*('PPI Adj'!D6) -> 692.41611
A80: Glass (Tinted) | F80: Included in Base Item
A81: Rear Axle, "No Spin" | F81: =325*('PPI Adj'!D6) -> 379.275
A82: Tires (Snow) | F82: =371.13*('PPI Adj'!D6) -> 433.10871
A83: Tires (All-Season) | F83: Included in Base Item
A84: Floor With Recessed Wheelchair Restraint Track For One Wheelchair Station. | F84: =650.5*('PPI Adj'!D6) -> 759.1335
A85: Floor (Flat) With Recessed Wheelchair Track Throughout Entire Body | F85: =1568.09*('PPI Adj'!D6) -> 1829.961
A86: Wheelchair Lift | F86: =7296.4*('PPI Adj'!D6) -> 8514.8988
A87: Roof Ventilator / Emergency Exit | F87: =514.48*('PPI Adj'!D6) -> 600.39816
A88: White Roof | F88: Included in Base Item
A89: Crossing Arm | F89: =669.22*('PPI Adj'!D6) -> 780.97974
A90: Additional Passenger Area Heater (Under Passenger Seat) | F90: =230.63*('PPI Adj'!D6) -> 269.14521
A91: Auxiliary Engine Coolant Heater | F91: Not Available
A92: Vandal Lock | F92: =157.7*('PPI Adj'!D6) -> 184.0359
A93: Air Conditioning | F93: =5658.67*('PPI Adj'!D6) -> 6603.6679
A94: School Bus Safety Camera | F94: =1800*('PPI Adj'!D6) -> 2100.6
A95: Delete Exterior LED Lamps | F95: =-473.13*('PPI Adj'!D6) -> -552.14271
A96: Multifunction School Activity Bus | F96: =1427.13*('PPI Adj'!D6) -> 1665.4607
A98: PART 4: Optional Equipment Specifications | F98: General Motors / Microbird
A99: Optional Equipment | B99: Specification | C99: Information provided in Yellow Cells | F99: Gasoline
A100: Capacity - Add One (1) Row of Seating | B100: Add one (1) row of seating to an Additional Body Section that has been added to the Base Item. | F100: Not Available
A101: Capacity - Delete One (1) Row of Seating | B101: Delete one (1) full row of seating (both left and right sides) without removing a Body section from the Base Item, or altering the spacing between the remaining seats. | F101: Delete two seats with lap belts and seat equipment
A102: Child Presence Check / Alarm | B102: Shall be the Child Check-mate System Model EP 2, or Compatible Equivalent. | C102: Make & Model: | F102: Child Check-mate, EP2
A103: Glass (Tinted) | B103: The School Bus windshield and Body windows shall have the manufacturer's typical options that provide tinted glass windows throughout the vehicle and shall comply with Article 9, Section 375.12a. of the New York State Vehicle and Traffic Law. | F103: Included in Base Price
A104: Rear Axle, "No Spin" | B104: The manufacturer’s standard device (e.g., power-lock, limited-slip, no-spin, positive-traction). | C104: Type of device: | F104: Locking Differential
A105: Tires (Snow) | B105: Snow tread tires shall be provided on all drive wheels. Tires shall be Federal class D/A, STC (with snow traction capability), or class S/T, or A/T, AP with STC, or other class with STC. The price entered for this Optional Equipment shall be for four (4) tires. Tires furnished on the rear wheels shall be the same size and adequate for axle's GAWR. | C105: Rear radial tires size (load range letter) | F105: LT225/75R16-E
...

Sheet A (Item 4-EV)
A1: ='A (Item 2-G)'!$A$1 -> GROUP 40524-23254, SCHOOL BUSES (Statewide) Attachment 1 - Specifications and Pricing (Revised October 15, 2026)
A2: ='Attachment 1 - Summary'!B2 -> PC69864 New York Bus Sales, LLC
A3: LOT A (Item 4-EV)
A4: Type A-2, DRW, Cutaway, 4 Rows (Electric; Minimum 24 Pupils)
A6: PART 1: Product information for the Base Item(s) Awarded | F6: Ford / Microbird
A7: Category | B7: Information provided in Yellow Cells | F7: Electric
A8: Propulsion System | B8: Information identifying the Make and Model propulsion system offered. | F8: Remy 215HP (160KW), 206lbs-pi (280N-m) with Drive TM4
A9: NYS DOT Approval Number | B9: The NYS DOT Approval Number for the School Bus. Only School Buses approved by NYS DOT Passenger Carrier Safety Bureau for use as 2022 and newer Models, as indicated by a NYS DOT Approval Number, shall be delivered pursuant to the Contract. | F9: 751-NY-24-00WC-MBI
A10: Chassis Make | B10: The OEM company name of a Chassis. | F10: Ford
A11: Chassis Model | B11: The Model name of the Chassis. | F11: E-450
A12: Chassis Model Code | B12: The OEM code used to identify the subset of the Chassis Model. | F12: U158-DNF
A13: Body Make | B13: The OEM company name of a Body. | F13: Microbird
A14: Body Model | B14: The Model name of the Body. | F14: G5
A15: Body Model Code | B15: The OEM code used to identify the subset of the Body Model. | F15: UFG52NYWSP
A16: Pick Up Allowance | B16: The dollar amount, per School Bus, that will be deducted from the Base Item NYS Contract Price, if the Authorized User elects to pick up the School Bus at the Contractor's location. | F16: 100
A17: Delivery Time | B17: The estimated delivery time for the School Bus, expressed in number of calendar days, required to make delivery after receipt of a final Purchase Order (After Receipt of Order (“ARO”)). | F17: 210-365
A19: PART 2: Pricing for the Base Item, Additional Body Section, and Additional Options | F19: Ford / Microbird
A20: Category | B20: Information provided in Yellow Cells | F20: Electric
A21: Base Item NYS Contract Price | B21: The per unit NYS Contract Price (dollar amount) for the School Bus described in the Base Item Specifications. The Base Item NYS Contract Price includes any OEM fees, all customs duties and charges, all vehicle preparation and clean-up charges, NYS DOT inspection, installation charges, delivery and all other incidentals normally included with providing a School Bus, but excludes Optional Equipment, Additional Body Section(s), and Additional Options. | F21: =276900*('PPI Adj'!D6) -> 323142.3
A22: Additional Body Section NYS Contract Price | B22: The per unit NYS Contract Price (dollar amount) for adding one (1) Additional Body Section, excluding seats and other interior features, to the Base Item and the applicable Base Item NYS Contract Price. | F22: Not Available
A23: Additional Options NYS Discount | B23: The minimum percentage amount that shall be deducted from the MSRP for all Additional Options purchased under the Contract for this Item. | F23: 12
A25: PART 3: Base Item Specifications | F25: Ford / Microbird
A26: Category | B26: Specification | C26: Information provided in Yellow Cells | F26: Electric
A27: General | B27: A conversion School Bus constructed using a cutaway front-section vehicle with a left side driver’s door, with a GVWR equal to or greater than 10,001 pounds and less than or equal to 21,500 pounds. | C27: Gross Vehicle Weight Rating (GVWR) [lbs]: | F27: 14500
A28: Capacity | B28: Minimum four (4) rows for twenty-four (24) Pupils. | C28: Number of rows: | F28: 4
C29: Number of Pupils: | F29: 24
A30: Rear Wheels | B30: Dual Rear Wheel (DRW) | F30: DRW
A31: Dimensions | C31: Wheelbase [inches]: | F31: 158
C32: Length (bumper to bumper) [inches]: | F32: 283
C33: Body width (inside) [inches]: | F33: 93
C34: Body headroom (standard) [inches]: | F34: 76
C35: Cowl to rear axle length [inches]: | F35: 100
A36: Front Axle | C36: Gross Axle Weight Rating (GAWR) [lbs]: | F36: 5000
C37: Front axle capacity [lbs]: | F37: 5000
A38: Rear Axle | C38: Gross Axle Weight Rating (GAWR) [lbs]: | F38: 9600
C39: Rear axle capacity [lbs]: | F39: 9600
A40: Steering | B40: Power steering
A41: Tires | B41: Tires shall meet the minimum requirements for the Chassis Model, as published by the Chassis manufacturer. | C41: Front radial tires size (load range letter) | F41: LT225/75RX16-E
C42: Front radial tires capacity | F42: 2680
C43: Rear radial tires size (load range letter) | F43: LT225/75RX16-(E)
C44: Rear radial tires capacity | F44: 2470
C45: Front Tires Option Code: | F45: T68
C46: Front Tires Make & Tread Designation: | F46: Hankook All Season
C47: Rear Tires Option Code: | F47: T68
C48: Rear Tires Make & Tread Designation: | F48: Hankook All Season
A49: Transmission | B49: Automatic transmission | C49: Number of forward gears: | F49: 2
C50: Gears direct or w/O.D.?: | F50: Direct
C51: Option Code, Make & Model: | F51: EVPT, Bert B6C4
A52: Propulsion System | B52: Propulsion system which furnishes high-wattage electric power to the motor(s), that propels the vehicle forward or backward, and is sometimes referred to as the “main or power drive circuitry.” | C52: Vehicle range on full charge [miles]: | F52: 100
A53: Battery(ies) | C53: Number of Batteries: | F53: 2
C54: Type of Batteries: | F54: Lithium-ion
C55: System Design Voltage: | F55: 350
A56: Electrical | B56: Units shall have headlights turned on when the propulsion system is on.
A57: Electrical | B57: Driver's compartment dome light shall be so directed to provide illumination for the bus driver and be controlled by an independent switch.
A58: Electrical | B58: All exterior lamps, except headlamps, shall be Light Emitting Diode (LED) design that meet applicable SAE standards.
A59: Horns | B59: An electrical horn(s) shall be provided that meets SAE standard J377.
A60: Door (Entrance) | C60: Type and clear width [inches]: | F60: O/O 32"
A61: Mirrors | B61: The exterior driving mirrors shall be the heated defrosting type with their own switch and pilot light. Crossview mirrors shall be provided at front corners of each bus.
A62: Seating | B62: Manufacturer's standard or optional seat spacing that meets or exceeds the NYCRR minimum requirement for the respective class of School Bus with the minimum Pupil capacity stated above.
A63: Seatbelt (ambulatory) | B63: Seat belts shall be provided for each individual seating space. Seat belts shall meet current federal safety standards and shall be of a type approved by, and installed in accordance with, the rules and regulations established by NYS DOT in subdivision five (5) of section three-hundred eighty-three (383) of the New York State Vehicle and Traffic Laws dated July 30, 1986 and NYCRR, Title 17, Part 720, or the latest revision thereof.
A64: Stop Arm(s) (Power) | B64: Shall be entrance-door activated, electric or air-positioning type, and be provided streetside on all School Buses. It shall be compliant with FMVSS (49 CFR 571.131). | C64: Make & Model: | F64: SMI, SE27900-SP
A65: "School Bus" Signs | B65: Both front and rear shall comply with Article 9, Section 375.20 of the New York State Vehicle and Traffic Law.
A66: 8 Lamp Warning System (School Bus) | B66: Shall be compliant with SAE J887. | C66: Make & Model: | F66: Lucidity Enterprise, 12958A/R
A67: Exterior Reflective Markings | B67: All units with a capacity of ten (10) or more Pupils shall be equipped with exterior reflective markings as required by FMVSS (49 CFR 571.217) and NYCRR (Title 15, Department of Motor Vehicles, Part D, 46.12).
A68: Floor | B68: Manufacturer's standard insulated floor design shall be provided throughout the School Bus.
A69: Heaters | B69: Minimum passenger compartment heating shall meet the requirements of NYCRR, Title 17, Part 720.4(I) Heaters, or the latest revision thereof. | C69: Provide information on power source for heater unit(s). (Propulsion Battery(ies), Auxiliary Battery(ies) or Fuel Source) | F69: High Voltage System
A70: Door (Rear Emergency Exit) | B70: Shall include lower glass.
A72: PART 4: Optional Equipment NYS Contract Pricing | F72: Ford / Microbird
A73: Optional Equipment (see Specifications and Equipment Provided below) | F73: Electric
A74: Capacity - Add One (1) Row of Seating | F74: =1257.64*('PPI Adj'!D6) -> 1467.6659
A75: Capacity - Delete One (1) Row of Seating | F75: =-1257.64*('PPI Adj'!D6) -> -1467.6659
A76: Child Presence Check / Alarm | F76: =593.33*('PPI Adj'!D6) -> 692.41611
A77: Glass (Tinted) | F77: Included in Base Item
A78: Rear Axle, "No Spin" | F78: =270*('PPI Adj'!D6) -> 315.09
A79: Tires (Snow) | F79: =371.13*('PPI Adj'!D6) -> 433.10871
A80: Tires (All-Season) | F80: Included in Base Item
A81: Floor With Recessed Wheelchair Restraint Track For One Wheelchair Station. | F81: =650.5*('PPI Adj'!D6) -> 759.1335
A82: Floor (Flat) With Recessed Wheelchair Track Throughout Entire Body | F82: =1568.09*('PPI Adj'!D6) -> 1829.961
A83: Wheelchair Lift | F83: =7296.4*('PPI Adj'!D6) -> 8514.8988
A84: Roof Ventilator / Emergency Exit | F84: =514.48*('PPI Adj'!D6) -> 600.39816
A85: White Roof | F85: Included in Base Item
A86: Crossing Arm | F86: =669.22*('PPI Adj'!D6) -> 780.97974
A87: Additional Passenger Area Heater (Under Passenger Seat) | F87: =230.63*('PPI Adj'!D6) -> 269.14521
A88: Vandal Lock | F88: =157.7*('PPI Adj'!D6) -> 184.0359
A89: Air Conditioning | F89: =13905.83*('PPI Adj'!D6) -> 16228.104
A90: School Bus Safety Camera | F90: =1800*('PPI Adj'!D6) -> 2100.6
A91: Delete Exterior LED Lamps | F91: =-473.13*('PPI Adj'!D6) -> -552.14271
A92: Multifunction School Activity Bus | F92: =1427.13*('PPI Adj'!D6) -> 1665.4607
A94: PART 4: Optional Equipment Specifications | F94: Ford / Microbird
A95: Optional Equipment | B95: Specification | C95: Information provided in Yellow Cells | F95: Electric
A96: Capacity - Add One (1) Row of Seating | B96: Add one (1) row of seating to an Additional Body Section that has been added to the Base Item. | F96: Add two seats with lap belts and seat equipment
A97: Capacity - Delete One (1) Row of Seating | B97: Delete one (1) full row of seating (both left and right sides) without removing a Body section from the Base Item, or altering the spacing between the remaining seats. | F97: Delete two seats with lap belts and seat equipment
A98: Child Presence Check / Alarm | B98: Shall be the Child Check-mate System Model EP 2, or Compatible Equivalent. | C98: Make & Model: | F98: Child Check-mate, EP2
A99: Glass (Tinted) | B99: The School Bus windshield and Body windows shall have the manufacturer's typical options that provide tinted glass windows throughout the vehicle and shall comply with Article 9, Section 375.12a. of the New York State Vehicle and Traffic Law. | F99: Included in Base Price
A100: Rear Axle, "No Spin" | B100: The manufacturer’s standard device (e.g., power-lock, limited-slip, no-spin, positive-traction). | C100: Type of device: | F100: Limited Slip
A101: Tires (Snow) | B101: Snow tread tires shall be provided on all drive wheels. Tires shall be Federal class D/A, STC (with snow traction capability), or class S/T, or A/T, AP with STC, or other class with STC. The price entered for this Optional Equipment shall be for four (4) tires. Tires furnished on the rear wheels shall be the same size and adequate for axle's GAWR. | C101: Rear radial tires size (load range letter) | F101: LT225/75R16-E
C102: Rear radial tires capacity | F102: 2470
C103: Rear Tires Option Code: | F103: CHA129
C104: Rear Tires Make & Tread Designation: | F104: Goodyear, Workhorse
A105: Tires (All-Season) | B105: All-season tread, tubeless, radial tires having a Federal class designation S/T or STC shall be provided. Tires shall be Michelin LTX M/S, or LTX M/S Commercial, or XPS Traction tread series, or Compatible Equivalent. The price entered for this Optional Equipment shall be for six (6) tires. Tires furnished on the rear wheels shall be the same size and adequate for axle's GAWR. | C105: Front radial tires size (load range letter)
...

Sheet A (Item 5-G)
A1: ='A (Item 2-G)'!$A$1 -> GROUP 40524-23254, SCHOOL BUSES (Statewide) Attachment 1 - Specifications and Pricing (Revised October 15, 2026)
A2: PC69864 New York Bus Sales, LLC
A3: LOT A (Item 5-G)
A4: Type A-2, DRW, Cutaway, 5 Rows (Gasoline; Minimum 30 Pupils)
A6: PART 1: Product information for the Base Item(s) Awarded | F6: Ford / Microbird | I6: General Motors / Microbird
A7: Category | B7: Information provided in Yellow Cells | F7: Gasoline | G7: LPG | I7: Gasoline
A8: Engine | B8: Information identifying the engine for the fuel type offered. | F8: 99k, Ford 7.3L, 8 cylinder, 300 HP@ 3,900 RMP, 425 Ft. Lbs Torque @ 3,250 RPM | G8: 99k, Ford 7.3L, 8 cylinder, 300 HP@ 3,900 RMP, 425 Ft. Lbs Torque @ 3,250 RPM | I8: L8T, 6.6L, 8 Cyl., 401HP @5,200 RPM, 464 Ft. Lbs. torque @ 4,000 RPM
A9: NYS DOT Approval Number | B9: The NYS DOT Approval Number for the School Bus. Only School Buses approved by NYS DOT Passenger Carrier Safety Bureau for use as 2022 and newer Models, as indicated by a NYS DOT Approval Number, shall be delivered pursuant to the Contract. | F9: 1546-NY-30-00WC-MBI | G9: 1645-NY-30-00WC-MBI | I9: 1599-NY-30-00WC-MBI
A10: Chassis Make | B10: The OEM company name of a Chassis. | F10: Ford | G10: Ford | I10: General Motors
A11: Chassis Model | B11: The Model name of the Chassis. | F11: E-450 | G11: E-Series | I11: 3500
A12: Chassis Model Code | B12: The OEM code used to identify the subset of the Chassis Model. | F12: U158-DNF | G12: E-450 | I12: U338-DG66
A13: Body Make | B13: The OEM company name of a Body. | F13: Microbird | G13: Microbird | I13: Microbird
A14: Body Model | B14: The Model name of the Body. | F14: G5 | G14: G5 | I14: G5
A15: Body Model Code | B15: The OEM code used to identify the subset of the Body Model. | F15: UFH52NHWST | G15: UFH52NHWST | I15: UGU52NHWSS
A16: Pick Up Allowance | B16: The dollar amount, per School Bus, that will be deducted from the Base Item NYS Contract Price, if the Authorized User elects to pick up the School Bus at the Contractor's location. | F16: 100 | G16: 100 | I16: 100
A17: Delivery Time | B17: The estimated delivery time for the School Bus, expressed in number of calendar days, required to make delivery after receipt of a final Purchase Order (After Receipt of Order (“ARO”)). | F17: 210-270 | G17: 210-270 | I17: 210-270
A19: PART 2: Pricing for the Base Item, Additional Body Section, and Additional Options | F19: Ford / Microbird | I19: General Motors / Microbird
A20: Category | B20: Information provided in Yellow Cells | F20: Gasoline | G20: LPG | I20: Gasoline
A21: Base Item NYS Contract Price | B21: The per unit NYS Contract Price (dollar amount) for the School Bus described in the Base Item Specifications. The Base Item NYS Contract Price includes any OEM fees, all customs duties and charges, all vehicle preparation and clean-up charges, NYS DOT inspection, installation charges, delivery and all other incidentals normally included with providing a School Bus, but excludes Optional Equipment, Additional Body Section(s), and Additional Options. | F21: =84000*('PPI Adj'!D6) -> 98028 | G21: =104700*('PPI Adj'!D6) -> 122184.9 | I21: =79900*('PPI Adj'!D6) -> 93243.3
A22: Additional Body Section NYS Contract Price | B22: The per unit NYS Contract Price (dollar amount) for adding one (1) Additional Body Section, excluding seats and other interior features, to the Base Item and the applicable Base Item NYS Contract Price. | F22: Not Available | G22: Not Available | I22: Not Available
A23: Additional Options NYS Discount | B23: The minimum percentage amount that shall be deducted from the MSRP for all Additional Options purchased under the Contract for this Item. | F23: 12 | G23: 12 | I23: 12
A25: PART 3: Base Item Specifications | F25: Ford / Microbird | I25: General Motors / Microbird
A26: Category | B26: Specification | C26: Information provided in Yellow Cells | F26: Gasoline | G26: LPG | I26: Gasoline
A27: General | B27: A conversion School Bus constructed using a cutaway front-section vehicle with a left side driver’s door, with a GVWR equal to or greater than 10,001 pounds and less than or equal to 21,500 pounds. | C27: Gross Vehicle Weight Rating (GVWR) [lbs]: | F27: 14500 | G27: 14500 | I27: 12300
A28: Capacity | B28: Minimum five (5) rows for thirty (30) Pupils. | C28: Number of rows: | F28: 5 | G28: 5 | I28: 5
C29: Number of Pupils: | F29: 30 | G29: 30 | I29: 30
A30: Rear Wheels | B30: Dual Rear Wheel (DRW) | F30: DRW | G30: DRW | I30: DRW
A31: Dimensions | C31: Wheelbase [inches]: | F31: 158 | G31: 158 | I31: 159
C32: Length (bumper to bumper) [inches]: | F32: 283 | G32: 283 | I32: 289
C33: Body width (inside) [inches]: | F33: 93 | G33: 93 | I33: 93
C34: Body headroom (standard) [inches]: | F34: 76 | G34: 76 | I34: 76
C35: Cowl to rear axle length [inches]: | F35: 100 | G35: 100 | I35: 100
A36: Front Axle | C36: Gross Axle Weight Rating (GAWR) [lbs]: | F36: 5000 | G36: 5000 | I36: 4300
C37: Front axle capacity [lbs]: | F37: 5000 | G37: 5000 | I37: 4300
A38: Rear Axle | C38: Gross Axle Weight Rating (GAWR) [lbs]: | F38: 9600 | G38: 9600 | I38: 8600
C39: Rear axle capacity [lbs]: | F39: 9600 | G39: 9600 | I39: 8600
A40: Steering | B40: Power steering
A41: Tires | B41: Tires shall meet the minimum requirements for the Chassis Model, as published by the Chassis manufacturer. | C41: Front radial tires size (load range letter) | F41: LT225/75RX16-E | G41: LT225/75RX16-E | I41: LT225/75R16-E
C42: Front radial tires capacity | F42: 2680 | G42: 2680 | I42: 2680
C43: Rear radial tires size (load range letter) | F43: LT225/75RX16-(E) | G43: LT225/75RX16-(E) | I43: LT225/75R16-(E)
C44: Rear radial tires capacity | F44: 2470 | G44: 2470 | I44: 2470
C45: Front Tires Option Code: | F45: T68 | G45: T68 | I45: XHF
C46: Front Tires Make & Tread Designation: | F46: Hankook All Season | G46: Hankook All Season | I46: Grabber HTS
C47: Rear Tires Option Code: | F47: T68 | G47: T68 | I47: XHF
C48: Rear Tires Make & Tread Designation: | F48: Hankook All Season | G48: Hankook All Season | I48: Grabber HTS
A49: Transmission | B49: Automatic transmission | C49: Number of forward gears: | F49: 6 | G49: 6 | I49: 8
C50: Gears direct or w/O.D.?: | F50: w/ O/D | G50: w/ O/D | I50: w/ O/D
C51: Option Code, Make & Model: | F51: 44P | G51: 44P | I51: MYD, GM
A52: Engine | B52: Engine shall have a manufacturer's standard water cooled engine complete with accessories, as called for under classification. Engine shall develop full-rated torque and horsepower without requiring the use of premium grade fuel for any condition of operation. If a Diesel engine is offered, it shall develop full-rated torque and horsepower with the use of both ultra low sulfur grade diesel fuel and renewable diesel fuel.
A53: Alternator | B53: Alternator shall be of the integrally-rectified type, with an SAE continuous ampere output rating that is capable of at least powering all electrical devices energized simultaneously and an additional output of ten (10) or more amperes; and shall be driven by a single serpentine belt (or equivalent) or gear driven, and shall have full-transistor type voltage regulators. Wiring harness sizes shall be not less than the alternator manufacturer's recommendations. | C53: Option Code, Make & Model: | F53: ALT-21, Ford OEM | G53: ALT-21, Ford OEM | I53: KW5, GM OEM
C54: Capacity [amps]: | F54: 210 | G54: 210 | I54: 220
A55: Battery(ies) | C55: Model or Option Code: | F55: BAT-21 | G55: BAT-21 | I55: TP3
C56: Number of batteries: | F56: 1 | G56: 1 | I56: 2
C57: CCA of each battery: | F57: 750 | G57: 750 | I57: 770
A58: Electrical | B58: Units shall have headlights turned on when the engine is running.
A59: Electrical | B59: Driver's compartment dome light shall be so directed to provide illumination for the bus driver and be controlled by an independent switch.
A60: Electrical | B60: All exterior lamps, except headlamps, shall be Light Emitting Diode (LED) design that meet applicable SAE standards.
A61: Horns | B61: An electrical horn(s) shall be provided that meets SAE standard J377.
A62: Door (Entrance) | C62: Type and clear width [inches]: | F62: O/O 32" | G62: O/O 32" | I62: O/O 32"
A63: Fuel Tank(s) | B63: Gasoline and diesel engines Base Items shall have a Thirty (30) gallon fuel capacity. LPG and CNG shall have the minimum construction and protection required by NFPA. | C63: Capacity [gallons]: | F63: 40 Gallons | G63: 40 Gallons | I63: 32 Gallons
A64: Mirrors | B64: The exterior driving mirrors shall be the heated defrosting type with their own switch and pilot light. Crossview mirrors shall be provided at front corners of each bus.
A65: Seating | B65: Manufacturer's standard or optional seat spacing that meets or exceeds the NYCRR minimum requirement for the respective class of School Bus with the minimum Pupil capacity stated above.
A66: Seatbelt (ambulatory) | B66: Seat belts shall be provided for each individual seating space. Seat belts shall meet current federal safety standards and shall be of a type approved by, and installed in accordance with, the rules and regulations established by NYS DOT in subdivision five (5) of section three-hundred eighty-three (383) of the New York State Vehicle and Traffic Laws dated July 30, 1986 and NYCRR, Title 17, Part 720, or the latest revision thereof.
A67: Stop Arm(s) (Power) | B67: Shall be entrance-door activated, electric or air-positioning type, and be provided streetside on all School Buses. It shall be compliant with FMVSS (49 CFR 571.131). | C67: Make & Model: | F67: SMI, SE27900-SP | G67: SMI, SE27900-SP | I67: SMI, SE27900-SP
A68: "School Bus" Signs | B68: Both front and rear shall comply with Article 9, Section 375.20 of the New York State Vehicle and Traffic Law.
A69: 8 Lamp Warning System (School Bus) | B69: Shall be compliant with SAE J887. | C69: Make & Model: | F69: Lucidity Enterprise, 12958A/R | G69: Lucidity Enterprise, 12958A/R | I69: Lucidity Enterprise, 12958A/R
A70: Exterior Reflective Markings | B70: All units with a capacity of ten (10) or more Pupils shall be equipped with exterior reflective markings as required by FMVSS (49 CFR 571.217) and NYCRR (Title 15, Department of Motor Vehicles, Part D, 46.12).
A71: Floor | B71: Manufacturer's standard insulated floor design shall be provided throughout the School Bus.
A72: Heaters | B72: Minimum passenger compartment heating shall meet the requirements of NYCRR, Title 17, Part 720.4(I) Heaters, or the latest revision thereof.
A73: Door (Rear Emergency Exit) | B73: Shall include lower glass.
A75: PART 4: Optional Equipment NYS Contract Pricing | F75: Ford / Microbird | I75: General Motors / Microbird
A76: Optional Equipment (see Specifications and Equipment Provided below) | F76: Gasoline | G76: LPG | I76: Gasoline
A77: Capacity - Add One (1) Row of Seating | F77: Not Available | G77: Not Available | I77: Not Available
A78: Capacity - Delete One (1) Row of Seating | F78: =-1257.64*('PPI Adj'!D6) -> -1467.6659 | G78: =-1257.64*('PPI Adj'!D6) -> -1467.6659 | I78: =-1257.64*('PPI Adj'!D6) -> -1467.6659
A79: Child Presence Check / Alarm | F79: =593.33*('PPI Adj'!D6) -> 692.41611 | G79: =593.33*('PPI Adj'!D6) -> 692.41611 | I79: =593.33*('PPI Adj'!D6) -> 692.41611
A80: Glass (Tinted) | F80: Included in Base Item | G80: Included in Base Item | I80: Included in Base Item
A81: Rear Axle, "No Spin" | F81: =270*('PPI Adj'!D6) -> 315.09 | G81: =270*('PPI Adj'!D6) -> 315.09 | I81: =325*('PPI Adj'!D6) -> 379.275
A82: Tires (Snow) | F82: =371.13*('PPI Adj'!D6) -> 433.10871 | G82: =371.13*('PPI Adj'!D6) -> 433.10871 | I82: =371.13*('PPI Adj'!D6) -> 433.10871
A83: Tires (All-Season) | F83: Included in Base Item | G83: Included in Base Item | I83: Included in Base Item
A84: Floor With Recessed Wheelchair Restraint Track For One Wheelchair Station. | F84: =650.5*('PPI Adj'!D6) -> 759.1335 | G84: =650.5*('PPI Adj'!D6) -> 759.1335 | I84: =650.5*('PPI Adj'!D6) -> 759.1335
A85: Floor (Flat) With Recessed Wheelchair Track Throughout Entire Body | F85: =1568.09*('PPI Adj'!D6) -> 1829.961 | G85: =1568.09*('PPI Adj'!D6) -> 1829.961 | I85: =1568.09*('PPI Adj'!D6) -> 1829.961
A86: Wheelchair Lift | F86: =7296.4*('PPI Adj'!D6) -> 8514.8988 | G86: =7296.4*('PPI Adj'!D6) -> 8514.8988 | I86: =7296.4*('PPI Adj'!D6) -> 8514.8988
A87: Roof Ventilator / Emergency Exit | F87: =514.48*('PPI Adj'!D6) -> 600.39816 | G87: =514.48*('PPI Adj'!D6) -> 600.39816 | I87: =514.48*('PPI Adj'!D6) -> 600.39816
A88: White Roof | F88: Included in Base Item | G88: Included in Base Item | I88: Included in Base Item
A89: Crossing Arm | F89: =669.22*('PPI Adj'!D6) -> 780.97974 | G89: =669.22*('PPI Adj'!D6) -> 780.97974 | I89: =669.22*('PPI Adj'!D6) -> 780.97974
A90: Additional Passenger Area Heater (Under Passenger Seat) | F90: =230.63*('PPI Adj'!D6) -> 269.14521 | G90: =230.63*('PPI Adj'!D6) -> 269.14521 | I90: =230.63*('PPI Adj'!D6) -> 269.14521
A91: Auxiliary Engine Coolant Heater | F91: Not Available | G91: Not Available | I91: Not Available
A92: Vandal Lock | F92: =157.7*('PPI Adj'!D6) -> 184.0359 | G92: =157.7*('PPI Adj'!D6) -> 184.0359 | I92: =157.7*('PPI Adj'!D6) -> 184.0359
A93: Air Conditioning | F93: =3836.94*('PPI Adj'!D6) -> 4477.709 | G93: =3836.94*('PPI Adj'!D6) -> 4477.709 | I93: =3836.94*('PPI Adj'!D6) -> 4477.709
A94: School Bus Safety Camera | F94: =1800*('PPI Adj'!D6) -> 2100.6 | G94: =1800*('PPI Adj'!D6) -> 2100.6 | I94: =1800*('PPI Adj'!D6) -> 2100.6
A95: Delete Exterior LED Lamps | F95: =-473.13*('PPI Adj'!D6) -> -552.14271 | G95: =-473.13*('PPI Adj'!D6) -> -552.14271 | I95: =-473.13*('PPI Adj'!D6) -> -552.14271
A96: Multifunction School Activity Bus | F96: =1427.13*('PPI Adj'!D6) -> 1665.4607 | G96: =1427.13*('PPI Adj'!D6) -> 1665.4607 | I96: =1427.13*('PPI Adj'!D6) -> 1665.4607
A98: PART 4: Optional Equipment Specifications | F98: Ford / Microbird | I98: General Motors / Microbird
A99: Optional Equipment | B99: Specification | C99: Information provided in Yellow Cells | F99: Gasoline | G99: LPG | I99: Gasoline
A100: Capacity - Add One (1) Row of Seating | B100: Add one (1) row of seating to an Additional Body Section that has been added to the Base Item.
A101: Capacity - Delete One (1) Row of Seating | B101: Delete one (1) full row of seating (both left and right sides) without removing a Body section from the Base Item, or altering the spacing between the remaining seats. | F101: Delete two seats with lap belts and seat equipment | G101: Delete two seats with lap belts and seat equipment | I101: Delete two seats with lap belts and seat equipment
A102: Child Presence Check / Alarm | B102: Shall be the Child Check-mate System Model EP 2, or Compatible Equivalent. | C102: Make & Model: | F102: Child Check-mate, EP2 | G102: Child Check-mate, EP2 | I102: Child Check-mate, EP2
A103: Glass (Tinted) | B103: The School Bus windshield and Body windows shall have the manufacturer's typical options that provide tinted glass windows throughout the vehicle and shall comply with Article 9, Section 375.12a. of the New York State Vehicle and Traffic Law. | F103: Included in Base Price | G103: Included in Base Price | I103: Included in Base Price
A104: Rear Axle, "No Spin" | B104: The manufacturer’s standard device (e.g., power-lock, limited-slip, no-spin, positive-traction). | C104: Type of device: | F104: Limited Slip | G104: Limited Slip | I104: Locking Differential
A105: Tires (Snow) | B105: Snow tread tires shall be provided on all drive wheels. Tires shall be Federal class D/A, STC (with snow traction capability), or class S/T, or A/T, AP with STC, or other class with STC. The price entered for this Optional Equipment shall be for four (4) tires. Tires furnished on the rear wheels shall be the same size and adequate for axle's GAWR. | C105: Rear radial tires size (load range letter) | F105: LT225/75R16-E | G105: LT225/75R16-E | I105: LT225/75R16-E
...

Sheet A (Item 5-EV)
A1: ='A (Item 2-G)'!$A$1 -> GROUP 40524-23254, SCHOOL BUSES (Statewide) Attachment 1 - Specifications and Pricing (Revised October 15, 2026)
A2: ='Attachment 1 - Summary'!B2 -> PC69864 New York Bus Sales, LLC
A3: LOT A (Item 5-EV)
A4: Type A-2, DRW, Cutaway, 5 Rows (Electric; Minimum 30 Pupils)
A6: PART 1: Product information for the Base Item(s) Awarded | F6: Ford / Microbird
A7: Category | B7: Information provided in Yellow Cells | F7: Electric
A8: Propulsion System | B8: Information identifying the Make and Model propulsion system offered. | F8: Remy 215HP (160KW), 206lbs-pi (280N-m) with Drive TM4
A9: NYS DOT Approval Number | B9: The NYS DOT Approval Number for the School Bus. Only School Buses approved by NYS DOT Passenger Carrier Safety Bureau for use as 2022 and newer Models, as indicated by a NYS DOT Approval Number, shall be delivered pursuant to the Contract. | F9: 1646-NY-30-00WC-MBI
A10: Chassis Make | B10: The OEM company name of a Chassis. | F10: Ford
A11: Chassis Model | B11: The Model name of the Chassis. | F11: E-450
A12: Chassis Model Code | B12: The OEM code used to identify the subset of the Chassis Model. | F12: U158-DNF
A13: Body Make | B13: The OEM company name of a Body. | F13: Microbird
A14: Body Model | B14: The Model name of the Body. | F14: G5
A15: Body Model Code | B15: The OEM code used to identify the subset of the Body Model. | F15: UFH52NHWST
A16: Pick Up Allowance | B16: The dollar amount, per School Bus, that will be deducted from the Base Item NYS Contract Price, if the Authorized User elects to pick up the School Bus at the Contractor's location. | F16: 100
A17: Delivery Time | B17: The estimated delivery time for the School Bus, expressed in number of calendar days, required to make delivery after receipt of a final Purchase Order (After Receipt of Order (“ARO”)). | F17: 210-365
A19: PART 2: Pricing for the Base Item, Additional Body Section, and Additional Options | F19: Ford / Microbird
A20: Category | B20: Information provided in Yellow Cells | F20: Electric
A21: Base Item NYS Contract Price | B21: The per unit NYS Contract Price (dollar amount) for the School Bus described in the Base Item Specifications. The Base Item NYS Contract Price includes any OEM fees, all customs duties and charges, all vehicle preparation and clean-up charges, NYS DOT inspection, installation charges, delivery and all other incidentals normally included with providing a School Bus, but excludes Optional Equipment, Additional Body Section(s), and Additional Options. | F21: =278500*('PPI Adj'!D6) -> 325009.5
A22: Additional Body Section NYS Contract Price | B22: The per unit NYS Contract Price (dollar amount) for adding one (1) Additional Body Section, excluding seats and other interior features, to the Base Item and the applicable Base Item NYS Contract Price. | F22: Not Available
A23: Additional Options NYS Discount | B23: The minimum percentage amount that shall be deducted from the MSRP for all Additional Options purchased under the Contract for this Item. | F23: 12
A25: PART 3: Base Item Specifications | F25: Ford / Microbird
A26: Category | B26: Specification | C26: Information provided in Yellow Cells | F26: Electric
A27: General | B27: A conversion School Bus constructed using a cutaway front-section vehicle with a left side driver’s door, with a GVWR equal to or greater than 10,001 pounds and less than or equal to 21,500 pounds. | C27: Gross Vehicle Weight Rating (GVWR) [lbs]: | F27: 14500
A28: Capacity | B28: Minimum five (5) rows for thirty (30) Pupils. | C28: Number of rows: | F28: 5
C29: Number of Pupils: | F29: 30
A30: Rear Wheels | B30: Dual Rear Wheel (DRW) | F30: DRW
A31: Dimensions | C31: Wheelbase [inches]: | F31: 158
C32: Length (bumper to bumper) [inches]: | F32: 283
C33: Body width (inside) [inches]: | F33: 93
C34: Body headroom (standard) [inches]: | F34: 76
C35: Cowl to rear axle length [inches]: | F35: 100
A36: Front Axle | C36: Gross Axle Weight Rating (GAWR) [lbs]: | F36: 5000
C37: Front axle capacity [lbs]: | F37: 5000
A38: Rear Axle | C38: Gross Axle Weight Rating (GAWR) [lbs]: | F38: 9600
C39: Rear axle capacity [lbs]: | F39: 9600
A40: Steering | B40: Power steering
A41: Tires | B41: Tires shall meet the minimum requirements for the Chassis Model, as published by the Chassis manufacturer. | C41: Front radial tires size (load range letter) | F41: LT225/75RX16-E
C42: Front radial tires capacity | F42: 2680
C43: Rear radial tires size (load range letter) | F43: LT225/75RX16-(E)
C44: Rear radial tires capacity | F44: 2470
C45: Front Tires Option Code: | F45: T68
C46: Front Tires Make & Tread Designation: | F46: Hankook All Season
C47: Rear Tires Option Code: | F47: T68
C48: Rear Tires Make & Tread Designation: | F48: Hankook All Season
A49: Transmission | B49: Automatic transmission | C49: Number of forward gears: | F49: 2
C50: Gears direct or w/O.D.?: | F50: Direct
C51: Option Code, Make & Model: | F51: EVPT, Bert B6C4
A52: Propulsion System | B52: Propulsion system which furnishes high-wattage electric power to the motor(s), that propels the vehicle forward or backward, and is sometimes referred to as the “main or power drive circuitry.” | C52: Vehicle range on full charge [miles]: | F52: 100
A53: Battery(ies) | C53: Number of Batteries: | F53: 2
C54: Type of Batteries: | F54: Lithium-ion
C55: System Design Voltage: | F55: 350
A56: Electrical | B56: Units shall have headlights turned on when the propulsion system is on.
A57: Electrical | B57: Driver's compartment dome light shall be so directed to provide illumination for the bus driver and be controlled by an independent switch.
A58: Electrical | B58: All exterior lamps, except headlamps, shall be Light Emitting Diode (LED) design that meet applicable SAE standards.
A59: Horns | B59: An electrical horn(s) shall be provided that meets SAE standard J377.
A60: Door (Entrance) | C60: Type and clear width [inches]: | F60: O/O 32"
A61: Mirrors | B61: The exterior driving mirrors shall be the heated defrosting type with their own switch and pilot light. Crossview mirrors shall be provided at front corners of each bus.
A62: Seating | B62: Manufacturer's standard or optional seat spacing that meets or exceeds the NYCRR minimum requirement for the respective class of School Bus with the minimum Pupil capacity stated above.
A63: Seatbelt (ambulatory) | B63: Seat belts shall be provided for each individual seating space. Seat belts shall meet current federal safety standards and shall be of a type approved by, and installed in accordance with, the rules and regulations established by NYS DOT in subdivision five (5) of section three-hundred eighty-three (383) of the New York State Vehicle and Traffic Laws dated July 30, 1986 and NYCRR, Title 17, Part 720, or the latest revision thereof.
A64: Stop Arm(s) (Power) | B64: Shall be entrance-door activated, electric or air-positioning type, and be provided streetside on all School Buses. It shall be compliant with FMVSS (49 CFR 571.131). | C64: Make & Model: | F64: SMI, SE27900-SP
A65: "School Bus" Signs | B65: Both front and rear shall comply with Article 9, Section 375.20 of the New York State Vehicle and Traffic Law.
A66: 8 Lamp Warning System (School Bus) | B66: Shall be compliant with SAE J887. | C66: Make & Model: | F66: Lucidity Enterprise, 12958A/R
A67: Exterior Reflective Markings | B67: All units with a capacity of ten (10) or more Pupils shall be equipped with exterior reflective markings as required by FMVSS (49 CFR 571.217) and NYCRR (Title 15, Department of Motor Vehicles, Part D, 46.12).
A68: Floor | B68: Manufacturer's standard insulated floor design shall be provided throughout the School Bus.
A69: Heaters | B69: Minimum passenger compartment heating shall meet the requirements of NYCRR, Title 17, Part 720.4(I) Heaters, or the latest revision thereof. | C69: Provide information on power source for heater unit(s). (Propulsion Battery(ies), Auxiliary Battery(ies) or Fuel Source) | F69: High Voltage System
A70: Door (Rear Emergency Exit) | B70: Shall include lower glass.
A72: PART 4: Optional Equipment NYS Contract Pricing | F72: Ford / Microbird
A73: Optional Equipment (see Specifications and Equipment Provided below) | F73: Electric
A74: Capacity - Add One (1) Row of Seating | F74: Not Available
A75: Capacity - Delete One (1) Row of Seating | F75: =-1257.64*('PPI Adj'!D6) -> -1467.6659
A76: Child Presence Check / Alarm | F76: =593.33*('PPI Adj'!D6) -> 692.41611
A77: Glass (Tinted) | F77: Included in Base Item
A78: Rear Axle, "No Spin" | F78: =270*('PPI Adj'!D6) -> 315.09
A79: Tires (Snow) | F79: =371.13*('PPI Adj'!D6) -> 433.10871
A80: Tires (All-Season) | F80: Included in Base Item
A81: Floor With Recessed Wheelchair Restraint Track For One Wheelchair Station. | F81: =650.5*('PPI Adj'!D6) -> 759.1335
A82: Floor (Flat) With Recessed Wheelchair Track Throughout Entire Body | F82: =1568.09*('PPI Adj'!D6) -> 1829.961
A83: Wheelchair Lift | F83: =7296.4*('PPI Adj'!D6) -> 8514.8988
A84: Roof Ventilator / Emergency Exit | F84: =514.48*('PPI Adj'!D6) -> 600.39816
A85: White Roof | F85: Included in Base Item
A86: Crossing Arm | F86: =669.22*('PPI Adj'!D6) -> 780.97974
A87: Additional Passenger Area Heater (Under Passenger Seat) | F87: =230.63*('PPI Adj'!D6) -> 269.14521
A88: Vandal Lock | F88: =157.7*('PPI Adj'!D6) -> 184.0359
A89: Air Conditioning | F89: =13905.83*('PPI Adj'!D6) -> 16228.104
A90: School Bus Safety Camera | F90: =1800*('PPI Adj'!D6) -> 2100.6
A91: Delete External LED Lamps | F91: =-473.13*('PPI Adj'!D6) -> -552.14271
A92: Multifunction School Activity Bus | F92: =1427.13*('PPI Adj'!D6) -> 1665.4607
A94: PART 4: Optional Equipment Specifications | F94: Ford / Microbird
A95: Optional Equipment | B95: Specification | C95: Information provided in Yellow Cells | F95: Electric
A96: Capacity - Add One (1) Row of Seating | B96: Add one (1) row of seating to an Additional Body Section that has been added to the Base Item.
A97: Capacity - Delete One (1) Row of Seating | B97: Delete one (1) full row of seating (both left and right sides) without removing a Body section from the Base Item, or altering the spacing between the remaining seats. | F97: Delete two seats with lap belts and seat equipment
A98: Child Presence Check / Alarm | B98: Shall be the Child Check-mate System Model EP 2, or Compatible Equivalent. | C98: Make & Model: | F98: Child Check-mate, EP2
A99: Glass (Tinted) | B99: The School Bus windshield and Body windows shall have the manufacturer's typical options that provide tinted glass windows throughout the vehicle and shall comply with Article 9, Section 375.12a. of the New York State Vehicle and Traffic Law. | F99: Included in Base Price
A100: Rear Axle, "No Spin" | B100: The manufacturer’s standard device (e.g., power-lock, limited-slip, no-spin, positive-traction). | C100: Type of device: | F100: Limited Slip
A101: Tires (Snow) | B101: Snow tread tires shall be provided on all drive wheels. Tires shall be Federal class D/A, STC (with snow traction capability), or class S/T, or A/T, AP with STC, or other class with STC. The price entered for this Optional Equipment shall be for four (4) tires. Tires furnished on the rear wheels shall be the same size and adequate for axle's GAWR. | C101: Rear radial tires size (load range letter) | F101: LT225/75R16-E
C102: Rear radial tires capacity | F102: 2470
C103: Rear Tires Option Code: | F103: CHA129
C104: Rear Tires Make & Tread Designation: | F104: Goodyear, Workhorse
A105: Tires (All-Season) | B105: All-season tread, tubeless, radial tires having a Federal class designation S/T or STC shall be provided. Tires shall be Michelin LTX M/S, or LTX M/S Commercial, or XPS Traction tread series, or Compatible Equivalent. The price entered for this Optional Equipment shall be for six (6) tires. Tires furnished on the rear wheels shall be the same size and adequate for axle's GAWR. | C105: Front radial tires size (load range letter)
...

Sheet C (Item 1-D)
A1: ='A (Item 2-G)'!$A$1 -> GROUP 40524-23254, SCHOOL BUSES (Statewide) Attachment 1 - Specifications and Pricing (Revised October 15, 2026)
A2: ='Attachment 1 - Summary'!B2 -> PC69864 New York Bus Sales, LLC
A3: LOT C (Item 1-D)
A4: Type C, 28 Pupil Conventional Front-Engine Bus (Diesel, Minimum 28 Pupils)
A6: PART 1: Product information for the Base Item(s) Awarded | F6: Blue Bird
A7: Category | B7: Information provided in Yellow Cells | F7: Diesel | G7: Gas | H7: LPG
A8: Engine | B8: Information identifying the engine for the fuel type offered. | F8: 40179-47; Cummins B6.7; 6 Cyl, 6.7L, 200HP at 2,400 RPM, 520 lb. ft. torque @ 1,600 RPM. | G8: 40166-03, Ford 7.3L; 8 Cyl, 350 HP @3,900 RPM, 468 lb. ft. torque @ 3,900 RPM | H8: 40166-03, Ford 7.3L; 8 Cyl, 350 HP @3,900 RPM, 468 lb. ft. torque @ 3,900 RPM
A9: NYS DOT Approval Number | B9: The NYS DOT Approval Number for the School Bus. Only School Buses approved by NYS DOT Passenger Carrier Safety Bureau for use as 2022 and newer Models, as indicated by a NYS DOT Approval Number, shall be delivered pursuant to the Contract. | F9: 2125-NY-36-00WC-BBB | G9: 2141-NY-42-00WC-BBB | H9: 2125-NY-36-00WC-BBB
A10: Chassis Make | B10: The OEM company name of a Chassis. | F10: Blue Bird | G10: Blue Bird | H10: Blue Bird
A11: Chassis Model | B11: The Model name of the Chassis. | F11: BBCV | G11: BBCV | H11: BBCV
A12: Chassis Model Code | B12: The OEM code used to identify the subset of the Chassis Model. | F12: 1910 | G12: 2311 | H12: 1910 | K12: `
A13: Body Make | B13: The OEM company name of a Body. | F13: Blue Bird | G13: Blue Bird | H13: Blue Bird
A14: Body Model | B14: The Model name of the Body. | F14: Vision | G14: Vision | H14: Vision
A15: Body Model Code | B15: The OEM code used to identify the subset of the Body Model. | F15: 1910 | G15: 2311 | H15: 1910
A16: Pick Up Allowance | B16: The dollar amount, per School Bus, that will be deducted from the Base Item NYS Contract Price, if the Authorized User elects to pick up the School Bus at the Contractor's location. | F16: 100 | G16: 100 | H16: 100
A17: Delivery Time | B17: The estimated delivery time for the School Bus, expressed in number of calendar days, required to make delivery after receipt of a final Purchase Order (After Receipt of Order (“ARO”)). | F17: 210-270 | G17: 210-270 | H17: 210-270
A19: PART 2: Pricing for the Base Item, Additional Body Section, and Additional Options | F19: Blue Bird
A20: Category | B20: Information provided in Yellow Cells | F20: Diesel | G20: Gas | H20: LPG
A21: Base Item NYS Contract Price | B21: The per unit NYS Contract Price (dollar amount) for the School Bus described in the Base Item Specifications. The Base Item NYS Contract Price includes any OEM fees, all customs duties and charges, all vehicle preparation and clean-up charges, NYS DOT inspection, installation charges, delivery and all other incidentals normally included with providing a School Bus, but excludes Optional Equipment, Additional Body Section(s), and Additional Options. | F21: =124400*('PPI Adj'!D6) -> 145174.8 | G21: =122800*('PPI Adj'!D6) -> 143307.6 | H21: =133300*('PPI Adj'!D6) -> 155561.1
A22: Additional Options NYS Discount | B22: The minimum percentage amount that shall be deducted from the MSRP for all Additional Options purchased under the Contract for this Item. | F22: 22 | G22: 22 | H22: 22
A24: PART 3: Base Item Specifications | F24: Blue Bird
A25: Category | B25: Specification | C25: Information provided in Yellow Cells | F25: Diesel | G25: Gas | H25: LPG
A26: General | B26: A School Bus with a Body installed upon a cowl and Chassis constructed using a chassis with a hood and front fender assembly. All of the engine is in front of the windshield and the entrance door is behind the front wheels. This is also known as a conventional school bus. This type also includes the cutaway truck chassis or truck chassis with cab, with or without a left side door, and with a GVWR greater than 16,000 pounds. | C26: Gross Vehicle Weight Rating (GVWR) [lbs]: | F26: 29000 | G26: 29000 | H26: 29000
A27: Capacity | B27: Minimum twenty-eight (28) Pupils. | C27: Number of rows: | F27: 6 | G27: 6 | H27: 6
C28: Number of Pupils: | F28: 36 | G28: Gasoline is 42 Passenger, approval number 2141-NY-42-00WC-BBB | H28: 36
A29: Rear Wheels | B29: Dual Rear Wheel (DRW)
A30: Dimensions | C30: Wheelbase [inches]: | F30: 169 | G30: 169 | H30: 169
C31: Length (bumper to bumper) [inches]: | F31: 306.72 | G31: 306.72 | H31: 306.72
C32: Body width (inside) [inches]: | F32: 90.75" | G32: 90.75" | H32: 90.75"
C33: Body headroom (standard) [inches]: | F33: 77" | G33: 77" | H33: 77"
C34: Cowl to rear axle length [inches]: | F34: 211.47 | G34: 211.47 | H34: 211.47
A35: Cowl/Hood | B35: Forward tilting style cowl/hood assembly.
A36: Front Axle | C36: Gross Axle Weight Rating (GAWR) [lbs]: | F36: 10000 | G36: 10000 | H36: 10000
C37: Front axle capacity [lbs]: | F37: 12000 | G37: 12000 | H37: 12000
A38: Rear Axle | C38: Gross Axle Weight Rating (GAWR) [lbs]: | F38: 19000 | G38: 19000 | H38: 19000
C39: Rear axle capacity [lbs]: | F39: 21000 | G39: 21000 | H39: 21000
A40: Steering | B40: Power steering
A41: Brakes | B41: Chassis manufacturer's typical full air service brake system. A liquid-cooled, engine-lubricated air compressor, that is compliant with FMVSS (49 CFR 571.121.S5.1.1.), shall be provided. The air brake system shall be equipped with an automatic drain valve on the wet tank that may be unheated, a valve that can be manually opened on each air tank, and an air dryer/ejector that may be unheated. The system shall include a spring set parking brake. System shall be compliant with FMVSS (49 CFR 571.121), including the latest revision thereof. All brakes shall have automatic slack adjusters. | C41: Air Compressor size, Make & Model: | F41: 18.7 CFM, Cummins | G41: 18.7 CFM, Cummins | H41: 18.7 CFM, Cummins
C42: Air Dryer size, Make & Model: | F42: 7" x 10.3" Bendix AD-IP | G42: 7" x 10.3" Bendix AD-IP | H42: 7" x 10.3" Bendix AD-IP
A44: Brakes | B44: Antilock Brake System (ABS), and an audio & visual warning system for system malfunctions.
A45: Tires | B45: Tires shall meet the minimum requirements for the Chassis Model, as published by the Chassis manufacturer. | C45: Front radial tires size (load range letter) | F45: 11R22.5 (H) | G45: 11R22.5 (H) | H45: 11R22.5 (H)
C46: Front radial tires capacity | F46: 6610 | G46: 6610 | H46: 6610
C47: Rear radial tires size (load range letter) | F47: 11R22.5 (H) | G47: 11R22.5 (H) | H47: 11R22.5 (H)
C48: Rear radial tires capacity | F48: 6005 | G48: 6005 | H48: 6005
C49: Front Tires Option Code: | F49: 40356-13 | G49: 40356-13 | H49: 40356-13
C50: Front Tires Make & Tread Designation: | F50: Kumho, KRS12E | G50: Kumho, KRS12E | H50: Kumho, KRS12E
C51: Rear Tires Option Code: | F51: 40356-13 | G51: 40356-13 | H51: 40356-13
C52: Rear Tires Make & Tread Designation: | F52: Kumho, KRS12E | G52: Kumho, KRS12E | H52: Kumho, KRS12E
A53: Transmission | B53: Automatic transmission with manufacturer's standard or optional temperature indicator at the operator's control panel. | C53: Number of forward gears: | F53: 5 | G53: 5 | H53: 5
C54: Gears direct or w/O.D.?: | F54: Direct | G54: Direct | H54: Direct
C55: Option Code, Make & Model: | F55: 40432-14, Allison 2500 | G55: 40432-14, Allison 2500 | H55: 40432-14, Allison 2500
A56: Engine | B56: Engine shall have a manufacturer's standard water cooled engine complete with accessories, as called for under classification. Engine shall develop full-rated torque and horsepower without requiring the use of premium grade fuel for any condition of operation. The Diesel engine shall develop full-rated torque and horsepower with the use of both ultra low sulfur grade diesel fuel and renewable diesel fuel.
A57: Engine Equipment | B57: Engine shall include silicone radiator and heater hoses (or equivalently rated/warranted). Diesel engine shall include cold weather starting aid. | F57: 40108-01 | G57: 40108-01 | H57: 40108-01
A58: Alternator | B58: Alternator shall be of the integrally-rectified type, with an SAE continuous ampere output rating that is capable of at least powering all electrical devices energized simultaneously and an additional output of ten (10) or more amperes; and shall be driven by a single serpentine belt (or equivalent) or gear driven, and shall have full-transistor type voltage regulators. Wiring harness sizes shall be not less than the alternator manufacturer's recommendations. | C58: Option Code, Make & Model: | F58: 40134-07, L/N AVI160 | G58: 40134-07, L/N AVI160 | H58: 40134-07, L/N AVI160
C59: Capacity [amps]: | F59: 240 | G59: 240 | H59: 240
A60: Battery(ies) | B60: Three (3) "No Maintenance" type batteries with a total capacity of 2400-CCA and a 145-minute reserve capacity. The battery cables (- and +) shall be the same size and weight and be equal to (or better than) the larger cable recommended by the School Bus manufacturer. | C60: Model or Option Code: | F60: 40142-06 | G60: 40142-06 | H60: 40142-06
C61: Number of batteries: | F61: 3 | G61: 3 | H61: 3
C62: Cold Cranking Amp (CCA) rating of each battery at 0oF | F62: 700 | G62: 700 | H62: 700
A63: Electrical | B63: Units shall have headlights turned on when the engine is running.
A64: Electrical | B64: Driver's compartment dome light shall be so directed to provide illumination for the bus driver and be controlled by an independent switch.
A65: Electrical | B65: All exterior lamps, except headlamps, shall be Light Emitting Diode (LED) design that meet applicable SAE standards.
A66: Horns | B66: An electrical horn(s) shall be provided that meets SAE standard J377. An air horn shall not be an approved Compatible Equivalent.
A67: Door (Entrance) | B67: Minimum 24 inch opening. | C67: Type and clear width [inches]: | F67: O/O 27" | G67: O/O 27" | H67: O/O 27"
A68: Stepwell (Entrance) | B68: Structural, tread and riser members shall be constructed entirely of rust/corrosion-resistant steel, components and fasteners or materials of equivalent or stronger structural integrity. Manufacturer's standard floor/stair coverings shall be used for finish surfaces.
A69: Fuel Tank(s) | B69: Diesel and gasoline engine Base Items shall have a thirty (30) gallon fuel capacity. LPG and CNG shall have the minimum construction and protection required by NFPA | C69: Capacity [gallons/cu. ft.]: | F69: 45 Gallons | G69: 45 Gallons | H69: 45 Gallons
C70: Number and location of fuel tanks: | F70: 1 Center Mount, Aft of axle | G70: 1 Center Mount, Aft of axle | H70: 1 Center Mount, Aft of axle
A71: Mirrors | B71: The vertical rectangular exterior driving mirrors shall be the heated defrosting type with their own switch and pilot light. Crossview mirrors shall be provided at front corners of each bus.
A72: Seating | B72: Manufacturer's standard or optional seat spacing that meets or exceeds the NYCRR minimum requirement for the respective class of School Bus with the minimum Pupil capacity stated above.
A73: Seatbelt (ambulatory) | B73: Seat belts shall be provided for each individual seating space. Seat belts shall meet current federal safety standards and shall be of a type approved by, and installed in accordance, with the rules and regulations established by NYS DOT in subdivision five (5) of section three-hundred eighty-three (383) of the New York State Vehicle and Traffic Laws dated July 30, 1986 and NYCRR, Title 17, Part 720, or the latest revision thereof.
A74: Stop Arm(s) (Power) | B74: Shall be entrance-door activated, electric or air-positioning type, and be provided streetside on all School Buses. It shall be compliant with FMVSS (49 CFR 571.131). Buses with a capacity of 45 persons or more shall have an additional and same model stop-arm at the rear streetside of the bus. | C74: Make & Model: | F74: Electric, Specialty SE27970D-SP | G74: Electric, Specialty SE27970D-SP | H74: Electric, Specialty SE27970D-SP
A75: "School Bus" Signs | B75: Both front and rear shall comply with Article 9, Section 375.20 of the New York State Vehicle and Traffic Law.
A76: 8 Lamp Warning System (School Bus) | B76: Shall be compliant with SAE J887. | C76: Make & Model: | F76: Lucidity 00124870/72 | G76: Lucidity 00124870/72 | H76: Lucidity 00124870/72
A77: Exterior Reflective Markings | B77: All units with a capacity of ten (10) or more Pupils shall be equipped with exterior reflective markings as required by FMVSS (49 CFR 571.217) and NYCRR (Title 15, Department of Motor Vehicles, Part D, 46.12).
A78: Floor | B78: Manufacturer's standard insulated floor design shall be provided throughout the School Bus.
A79: Heaters | B79: Minimum passenger compartment heating shall meet the requirements of NYCRR, Title 17, Part 720.4(I) Heaters, or the latest revision thereof.
A80: Door (Rear Emergency Exit) | B80: Shall include lower glass.
A82: PART 4: Optional Equipment NYS Contract Pricing | F82: Blue Bird
A83: Optional Equipment (see Specifications and Equipment Provided below) | F83: Diesel | G83: Gas | H83: LPG
A84: Capacity - Delete One (1) Row of Seating | F84: =-1337.32*('PPI Adj'!D6) -> -1560.6524 | G84: =-1337.32*('PPI Adj'!D6) -> -1560.6524 | H84: =-1337.32*('PPI Adj'!D6) -> -1560.6524
A85: Child Presence Check / Alarm | F85: =544.44*('PPI Adj'!D6) -> 635.36148 | G85: =544.44*('PPI Adj'!D6) -> 635.36148 | H85: =544.44*('PPI Adj'!D6) -> 635.36148
A86: Glass (Tinted) | F86: =412.37*('PPI Adj'!D6) -> 481.23579 | G86: =412.37*('PPI Adj'!D6) -> 481.23579 | H86: =412.37*('PPI Adj'!D6) -> 481.23579
A87: Rear Axle, "No Spin" | F87: =1340.82*('PPI Adj'!D6) -> 1564.7369 | G87: =1340.82*('PPI Adj'!D6) -> 1564.7369 | H87: =1340.82*('PPI Adj'!D6) -> 1564.7369
A88: Tires (Snow) | F88: =655.98*('PPI Adj'!D6) -> 765.52866 | G88: =655.98*('PPI Adj'!D6) -> 765.52866 | H88: =655.98*('PPI Adj'!D6) -> 765.52866
A89: Tires (All-Season) | F89: Included in Base Item | G89: Included in Base Item | H89: Included in Base Item
A90: Floor With Recessed Wheelchair Restraint Track For One Wheelchair Station. | F90: =1202.76*('PPI Adj'!D6) -> 1403.6209 | G90: =1202.76*('PPI Adj'!D6) -> 1403.6209 | H90: =1202.76*('PPI Adj'!D6) -> 1403.6209
A91: Floor (Flat) With Recessed Wheelchair Track Throughout Entire Body | F91: =2876.45*('PPI Adj'!D6) -> 3356.8171 | G91: =2876.45*('PPI Adj'!D6) -> 3356.8171 | H91: =2876.45*('PPI Adj'!D6) -> 3356.8171
A92: Wheelchair Lift | F92: =6533.28*('PPI Adj'!D6) -> 7624.3378 | G92: =6533.28*('PPI Adj'!D6) -> 7624.3378 | H92: =6533.28*('PPI Adj'!D6) -> 7624.3378
A93: Roof Ventilator / Emergency Exit | F93: =97.5*('PPI Adj'!D6) -> 113.7825 | G93: =97.5*('PPI Adj'!D6) -> 113.7825 | H93: =97.5*('PPI Adj'!D6) -> 113.7825
A94: White Roof | F94: =397.8*('PPI Adj'!D6) -> 464.2326 | G94: =397.8*('PPI Adj'!D6) -> 464.2326 | H94: =397.8*('PPI Adj'!D6) -> 464.2326
A95: High Headroom | F95: Included in Base Item | G95: Included in Base Item | H95: Included in Base Item
A96: Crossing Arm | F96: =723.06*('PPI Adj'!D6) -> 843.81102 | G96: =723.06*('PPI Adj'!D6) -> 843.81102 | H96: =723.06*('PPI Adj'!D6) -> 843.81102
A97: Auxiliary Engine Coolant Heater | F97: =3939.22*('PPI Adj'!D6) -> 4597.0697 | G97: =3939.22*('PPI Adj'!D6) -> 4597.0697 | H97: =3939.22*('PPI Adj'!D6) -> 4597.0697
A98: Vandal Lock | F98: =421.2*('PPI Adj'!D6) -> 491.5404 | G98: =421.2*('PPI Adj'!D6) -> 491.5404 | H98: =421.2*('PPI Adj'!D6) -> 491.5404
A99: Air Conditioning | F99: =5349*('PPI Adj'!D6) -> 6242.283 | G99: =5349*('PPI Adj'!D6) -> 6242.283 | H99: =5349*('PPI Adj'!D6) -> 6242.283
A100: School Bus Safety Camera | F100: =1800*('PPI Adj'!D6) -> 2100.6 | G100: =1800*('PPI Adj'!D6) -> 2100.6 | H100: =1800*('PPI Adj'!D6) -> 2100.6
A101: Delete Exterior LED Lamps | F101: =-413.21*('PPI Adj'!D6) -> -482.21607 | G101: =-413.21*('PPI Adj'!D6) -> -482.21607 | H101: =-413.21*('PPI Adj'!D6) -> -482.21607
A102: Multifunction School Activity Bus | F102: =1013.03*('PPI Adj'!D6) -> 1182.206 | G102: =1013.03*('PPI Adj'!D6) -> 1182.206 | H102: =1013.03*('PPI Adj'!D6) -> 1182.206
A104: PART 4: Optional Equipment Specifications | F104: Blue Bird
A105: Optional Equipment | B105: Specification | C105: Information provided in Yellow Cells | F105: Diesel | G105: Gas | H105: LPG
A106: Capacity - Delete One (1) Row of Seating | B106: Delete one (1) full row of seating (both left and right sides) without removing a Body section from the Base Item, or altering the spacing between the remaining seats. | F106: Delete two rear seats with lap belts | G106: Delete two rear seats with lap belts | H106: Delete two rear seats with lap belts
...

Sheet C (Item 1-EV) 
A1: ='A (Item 2-G)'!$A$1 -> GROUP 40524-23254, SCHOOL BUSES (Statewide) Attachment 1 - Specifications and Pricing (Revised October 15, 2026)
A2: ='[1]Attachment 1 - Summary'!B2 -> PC69864 New York Bus Sales, LLC
A3: LOT C (Item 1-EV)
A4: Type C, 28 Pupil Conventional Bus (Electric, Minimum 28 Pupils, Maximum 45 Pupils)
A6: PART 1: Product information for the Base Item(s) Awarded | F6: Blue Bird
A7: Category | B7: Information provided in Yellow Cells | F7: Electric
A8: Propulsion System | B8: Enter information identifying the Make and Model propulsion system offered. | F8: TM4 LSM200CHV3000; Six Phase AC Perm. Magnet Induct. Motor; 315 Peak HP, 2400 Peak Torque
A9: NYS DOT Approval Number | B9: The NYS DOT Approval Number for the School Bus. Only School Buses approved by NYS DOT Passenger Carrier Safety Bureau for use as 2022 and newer Models, as indicated by a NYS DOT Approval Number, shall be delivered pursuant to the Contract. | F9: 2321-NY-42-00WC-BBB
A10: Chassis Model Year | B10: Enter Model Year, (e.g. 2022, 2023), of the Chassis bid | F10: 2026
A11: Chassis Make | B11: The OEM company name of a Chassis. | F11: Blue Bird
A12: Chassis Model | B12: The Model name of the Chassis. | F12: BBCV
A13: Chassis Model Code | B13: The OEM code used to identify the subset of the Chassis Model. | F13: 2508 | I13: `
A14: Body Model Year | B14: Enter Model Year, (e.g. 2022, 2023), of the Body bid | F14: 2026
A15: Body Make | B15: The OEM company name of a Body. | F15: Blue Bird
A16: Body Model | B16: The Model name of the Body. | F16: BBCV
A17: Body Model Code | B17: The OEM code used to identify the subset of the Body Model. | F17: 2508
A18: Pick Up Allowance | B18: The dollar amount, per School Bus, that will be deducted from the Base Item NYS Contract Price, if the Authorized User elects to pick up the School Bus at the Contractor's location. | F18: 100
A19: Delivery Time | B19: The estimated delivery time for the School Bus, expressed in number of calendar days, required to make delivery after receipt of a final Purchase Order (After Receipt of Order (“ARO”)). | F19: 210-365
A21: PART 2: Pricing for the Base Item, Additional Body Section, and Additional Options | F21: Blue Bird
A22: Category | B22: Information provided in Yellow Cells | F22: Electric
A23: Base Item NYS Contract Price | B23: The per unit NYS Contract Price (dollar amount) for the School Bus described in the Base Item Specifications. The Base Item NYS Contract Price includes any OEM fees, all customs duties and charges, all vehicle preparation and clean-up charges, NYS DOT inspection, installation charges, delivery and all other incidentals normally included with providing a School Bus, but excludes Optional Equipment, Additional Body Section(s), and Additional Options. | F23: =425886*'PPI Adj'!H6 -> 443773.21
A24: Additional Options NYS Discount | B24: The minimum percentage amount that shall be deducted from the MSRP for all Additional Options purchased under the Contract for this Item. | F24: 22
A26: PART 3: Base Item Specifications | F26: Blue Bird
A27: Category | B27: Specification | C27: Information provided in Yellow Cells | F27: Electric
A28: General | B28: A School Bus with a Body installed upon a cowl and Chassis constructed using a chassis with a hood and front fender assembly. All of the engine is in front of the windshield and the entrance door is behind the front wheels. This is also known as a conventional school bus. This type also includes the cutaway truck chassis or truck chassis with cab, with or without a left side door, and with a GVWR greater than 16,000 pounds. | C28: Gross Vehicle Weight Rating (GVWR) [lbs]: | F28: 33000
A29: Capacity | B29: Minimum twenty-eight (28) Pupils. | C29: Number of rows: | F29: 7
C30: Number of Pupils: | F30: 42
A31: Rear Wheels | B31: Dual Rear Wheel (DRW)
A32: Dimensions | C32: Wheelbase [inches]: | F32: 217"
C33: Length (bumper to bumper) [inches]: | F33: 379.29
C34: Body width (inside) [inches]: | F34: 90.75"
C35: Body headroom (standard) [inches]: | F35: 77"
C36: Cowl to rear axle length [inches]: | F36: 205.71
A37: Cowl/Hood | B37: Forward tilting style cowl/hood assembly.
A38: Front Axle | C38: Gross Axle Weight Rating (GAWR) [lbs]: | F38: 12000
C39: Front axle capacity [lbs]: | F39: 12000
A40: Rear Axle | C40: Gross Axle Weight Rating (GAWR) [lbs]: | F40: 23000
C41: Rear axle capacity [lbs]: | F41: 23000
A42: Steering | B42: Power steering
A43: Brakes | B43: Chassis manufacturer's typical full air service brake system. A liquid-cooled, engine-lubricated air compressor, that is compliant with FMVSS (49 CFR 571.121.S5.1.1.), shall be provided. The air brake system shall be equipped with an automatic drain valve on the wet tank that may be unheated, a valve that can be manually opened on each air tank, and an air dryer/ejector that may be unheated. The system shall include a spring set parking brake. System shall be compliant with FMVSS (49 CFR 571.121), including the latest revision thereof. All brakes shall have automatic slack adjusters. | C43: Air Compressor size, Make & Model: | F43: AirSquared, P17H043D
C44: Air Dryer size, Make & Model: | F44: 7" x 10.3" Bendix AD-IP
A46: Brakes | B46: Antilock Brake System (ABS), and an audio & visual warning system for system malfunctions.
A47: Tires | B47: Tires shall meet the minimum requirements for the Chassis Model, as published by the Chassis manufacturer. | C47: Front radial tires size (load range letter) | F47: 11R22.5 (H)
C48: Front radial tires capacity | F48: 6610
C49: Rear radial tires size (load range letter) | F49: 11R22.5 (H)
C50: Rear radial tires capacity | F50: 6005
C51: Front Tires Option Code: | F51: 40356-13
C52: Front Tires Make & Tread Designation: | F52: Kumho, KRS12E
C53: Rear Tires Option Code: | F53: 40356-13
C54: Rear Tires Make & Tread Designation: | F54: Kumho, KRS12E
A55: Transmission | B55: Automatic transmission with manufacturer's standard or optional temperature indicator at the operator's control panel. | C55: Number of forward gears: | F55: 1
C56: Gears direct or w/O.D.?: | F56: Direct
C57: Option Code, Make & Model: | F57: N/A - No Transmission
A58: Propulsion System | B58: Propulsion system which furnishes high-wattage electric power to the motor(s), that propels the vehicle forward or backward, and is sometimes referred to as the “main or power drive circuitry.” | C58: Vehicle range on full charge [miles]: | F58: 135
A59: Battery(ies) | B59: Three (3) "No Maintenance" type batteries with a total capacity of 2400-CCA and a 145-minute reserve capacity. The battery cables (- and +) shall be the same size and weight and be equal to (or better than) the larger cable recommended by the School Bus manufacturer. | C59: Number of Batteries: | F59: 14- 2 Strings of 7
C60: Type of Batteries: | F60: Li-NMC-G
C61: System Design Voltage: | F61: 700
A62: Electrical | B62: Units shall have headlights turned on when the engine is running.
A63: Electrical | B63: Driver's compartment dome light shall be so directed to provide illumination for the bus driver and be controlled by an independent switch.
A64: Electrical | B64: All exterior lamps, except headlamps, shall be Light Emitting Diode (LED) design that meet applicable SAE standards.
A65: Horns | B65: An electrical horn(s) shall be provided that meets SAE standard J377. An air horn shall not be an approved Compatible Equivalent.
A66: Door (Entrance) | B66: Minimum 24 inch opening. | C66: Type and clear width [inches]: | F66: O/O 27"
A67: Stepwell (Entrance) | B67: Structural, tread and riser members shall be constructed entirely of rust/corrosion-resistant steel, components and fasteners or materials of equivalent or stronger structural integrity. Manufacturer's standard floor/stair coverings shall be used for finish surfaces.
A68: Mirrors | B68: The vertical rectangular exterior driving mirrors shall be the heated defrosting type with their own switch and pilot light. Crossview mirrors shall be provided at front corners of each bus.
A69: Seating | B69: Manufacturer's standard or optional seat spacing that meets or exceeds the NYCRR minimum requirement for the respective class of School Bus with the minimum Pupil capacity stated above.
A70: Seatbelt (ambulatory) | B70: Seat belts shall be provided for each individual seating space. Seat belts shall meet current federal safety standards and shall be of a type approved by, and installed in accordance, with the rules and regulations established by NYS DOT in subdivision five (5) of section three-hundred eighty-three (383) of the New York State Vehicle and Traffic Laws dated July 30, 1986 and NYCRR, Title 17, Part 720, or the latest revision thereof.
A71: Stop Arm(s) (Power) | B71: Shall be entrance-door activated, electric or air-positioning type, and be provided streetside on all School Buses. It shall be compliant with FMVSS (49 CFR 571.131). Buses with a capacity of 45 persons or more shall have an additional and same model stop-arm at the rear streetside of the bus. | C71: Make & Model: | F71: Electric, Specialty SE27970D-SP
A72: "School Bus" Signs | B72: Both front and rear shall comply with Article 9, Section 375.20 of the New York State Vehicle and Traffic Law.
A73: 8 Lamp Warning System (School Bus) | B73: Shall be compliant with SAE J887. | C73: Make & Model: | F73: Lucidity 00124870/72
A74: Exterior Reflective Markings | B74: All units with a capacity of ten (10) or more Pupils shall be equipped with exterior reflective markings as required by FMVSS (49 CFR 571.217) and NYCRR (Title 15, Department of Motor Vehicles, Part D, 46.12).
A75: Floor | B75: Manufacturer's standard insulated floor design shall be provided throughout the School Bus.
A76: Heaters | B76: Minimum passenger compartment heating shall meet the requirements of NYCRR, Title 17, Part 720.4(I) Heaters, or the latest revision thereof. | F76: Propulsion Batteries
A77: Door (Rear Emergency Exit) | B77: Shall include lower glass.
A79: PART 4: Optional Equipment NYS Contract Pricing | F79: Blue Bird
A80: Optional Equipment (see Specifications and Equipment Provided below) | F80: Electric
A81: Capacity - Delete One (1) Row of Seating | F81: =-1453.67*'PPI Adj'!H6 -> -1514.7241
A82: Child Presence Check / Alarm | F82: =591.81*'PPI Adj'!H6 -> 616.66602
A83: Glass (Tinted) | F83: =704.57*'PPI Adj'!H6 -> 734.16194
A84: Rear Axle, "No Spin" | F84: =1457.47*'PPI Adj'!H6 -> 1518.6837
A85: Tires (Snow) | F85: =655.98*'PPI Adj'!H6 -> 683.53116
A86: Tires (All-Season) | F86: Included in Base Item
A87: Floor With Recessed Wheelchair Restraint Track For One Wheelchair Station. | F87: =1307.4*'PPI Adj'!H6 -> 1362.3108
A88: Floor (Flat) With Recessed Wheelchair Track Throughout Entire Body | F88: =4546.22*'PPI Adj'!H6 -> 4737.1612
A89: Wheelchair Lift | F89: =6533.28*'PPI Adj'!H6 -> 6807.6778
A90: Roof Ventilator / Emergency Exit | F90: =105.98*'PPI Adj'!H6 -> 110.43116
A91: White Roof | F91: =432.41*'PPI Adj'!H6 -> 450.57122
A92: High Headroom | F92: Included in Base Item
A93: Crossing Arm | F93: =785.97*'PPI Adj'!H6 -> 818.98074
A94: Auxiliary Engine Coolant Heater | F94: =3939.22*'PPI Adj'!H6 -> 4104.6672
A95: Vandal Lock | F95: =421.2*'PPI Adj'!H6 -> 438.8904
A96: Air Conditioning | F96: =23397.19*'PPI Adj'!H6 -> 24379.872
A97: School Bus Safety Camera | F97: =1956.6*'PPI Adj'!H6 -> 2038.7772
A98: Delete Exterior LED Lamps | F98: =-413.21*'PPI Adj'!H6 -> -430.56482
A99: Multifunction School Activity Bus | F99: =1101.16*'PPI Adj'!H6 -> 1147.4087
A101: PART 4: Optional Equipment Specifications | F101: Blue Bird
A102: Optional Equipment | B102: Specification | C102: Information provided in Yellow Cells | F102: Electric
A103: Capacity - Delete One (1) Row of Seating | B103: Delete one (1) full row of seating (both left and right sides) without removing a Body section from the Base Item, or altering the spacing between the remaining seats. | F103: Child Check Mate, CCM-3
A104: Child Presence Check / Alarm | B104: Shall be the Child Check-mate System Model EP 2, or Compatible Equivalent. | C104: Make & Model: | F104: Child Check Mate, CCM-3
A105: Glass (Tinted) | B105: The School Bus windshield and Body windows shall have the manufacturer's typical options that provide tinted glass windows throughout the vehicle and shall comply with Article 9, Section 375.12a. of the New York State Vehicle and Traffic Law.
A106: Rear Axle, "No Spin" | B106: The manufacturer’s standard device (e.g., power-lock, limited-slip, no-spin, positive-traction). | C106: Type of device: | F106: 40018-60, No Spin
...

Sheet C (Item 2-D)
A1: ='A (Item 2-G)'!$A$1 -> GROUP 40524-23254, SCHOOL BUSES (Statewide) Attachment 1 - Specifications and Pricing (Revised October 15, 2026)
A2: ='Attachment 1 - Summary'!B2 -> PC69864 New York Bus Sales, LLC
A3: LOT C (Item 2-D)
A4: Type C, 46 Pupil Conventional Front-Engine Bus (Diesel, Minimum 46 Pupils)
A6: PART 1: Product information for the Base Item(s) Awarded | F6: Blue Bird
A7: Category | B7: Information provided in Yellow Cells | F7: Diesel | G7: Gas | H7: LPG
A8: Engine | B8: Information identifying the engine for the fuel type offered. | F8: 40179-47; Cummins B6.7; 6 Cyl, 6.7L, 200HP at 2,400 RPM, 520 lb. ft. torque @ 1,600 RPM. | G8: 40166-03, Ford 7.3L; 8 Cyl, 350 HP @3,900 RPM, 468 lb. ft. torque @ 3,900 RPM | H8: 40166-03, Ford 7.3L; 8 Cyl, 350 HP @3,900 RPM, 468 lb. ft. torque @ 3,900 RPM
A9: NYS DOT Approval Number | B9: The NYS DOT Approval Number for the School Bus. Only School Buses approved by NYS DOT Passenger Carrier Safety Bureau for use as 2022 and newer Models, as indicated by a NYS DOT Approval Number, shall be delivered pursuant to the Contract. | F9: 2127-NY-48-00WC-BBB | G9: 2127-NY-48-00WC-BBB | H9: 2127-NY-48-00WC-BBB
A10: Chassis Make | B10: The OEM company name of a Chassis. | F10: Blue Bird | G10: Blue Bird | H10: Blue Bird
A11: Chassis Model | B11: The Model name of the Chassis. | F11: BBCV | G11: BBCV | H11: BBCV
A12: Chassis Model Code | B12: The OEM code used to identify the subset of the Chassis Model. | F12: 2610 | G12: 2610 | H12: 2610
A13: Body Make | B13: The OEM company name of a Body. | F13: Blue Bird | G13: Blue Bird | H13: Blue Bird
A14: Body Model | B14: The Model name of the Body. | F14: Vision | G14: Vision | H14: Vision
A15: Body Model Code | B15: The OEM code used to identify the subset of the Body Model. | F15: 2610 | G15: 2610 | H15: 2610
A16: Pick Up Allowance | B16: The dollar amount, per School Bus, that will be deducted from the Base Item NYS Contract Price, if the Authorized User elects to pick up the School Bus at the Contractor's location. | F16: 100 | G16: 100 | H16: 100
A17: Delivery Time | B17: The estimated delivery time for the School Bus, expressed in number of calendar days, required to make delivery after receipt of a final Purchase Order (After Receipt of Order (“ARO”)). | F17: 210-270 | G17: 210-270 | H17: 210-270
A19: PART 2: Pricing for the Base Item, Additional Body Section, and Additional Options | F19: Blue Bird
A20: Category | B20: Information provided in Yellow Cells | F20: Diesel | G20: Gas | H20: LPG
A21: Base Item NYS Contract Price | B21: The per unit NYS Contract Price (dollar amount) for the School Bus described in the Base Item Specifications. The Base Item NYS Contract Price includes any OEM fees, all customs duties and charges, all vehicle preparation and clean-up charges, NYS DOT inspection, installation charges, delivery and all other incidentals normally included with providing a School Bus, but excludes Optional Equipment, Additional Body Section(s), and Additional Options. | F21: =131100*('PPI Adj'!D6) -> 152993.7 | G21: =128200*('PPI Adj'!D6) -> 149609.4 | H21: =138300*('PPI Adj'!D6) -> 161396.1
A22: Additional Options NYS Discount | B22: The minimum percentage amount that shall be deducted from the MSRP for all Additional Options purchased under the Contract for this Item. | F22: 22 | G22: 22 | H22: 22
A24: PART 3: Base Item Specifications | F24: Blue Bird
A25: Category | B25: Specification | C25: Information provided in Yellow Cells | F25: Diesel | G25: Gas | H25: LPG
A26: General | B26: A School Bus with a Body installed upon a cowl and Chassis constructed using a chassis with a hood and front fender assembly. All of the engine is in front of the windshield and the entrance door is behind the front wheels. This is also known as a conventional school bus. This type also includes the cutaway truck chassis or truck chassis with cab, with or without a left side door, and with a GVWR greater than 16,000 pounds. | C26: Gross Vehicle Weight Rating (GVWR) [lbs]: | F26: 29000 | G26: 29000 | H26: 29000
A27: Capacity | B27: Minimum forty-six (46) Pupils. | C27: Number of rows: | F27: 8 | G27: 8 | H27: 8
C28: Number of Pupils: | F28: 48 | G28: 48 | H28: 48
A29: Rear Wheels | B29: Dual Rear Wheel (DRW)
A30: Dimensions | C30: Wheelbase [inches]: | F30: 217" | G30: 217" | H30: 217"
C31: Length (bumper to bumper) [inches]: | F31: 393.29" | G31: 393.29" | H31: 393.29"
C32: Body width (inside) [inches]: | F32: 90.75" | G32: 90.75" | H32: 90.75"
C33: Body headroom (standard) [inches]: | F33: 77" | G33: 77" | H33: 77"
C34: Cowl to rear axle length [inches]: | F34: 261.75" | G34: 261.75" | H34: 261.75"
A35: Cowl/Hood | B35: Forward tilting style cowl/hood assembly.
A36: Front Axle | C36: Gross Axle Weight Rating (GAWR) [lbs]: | F36: 10000 | G36: 10000 | H36: 10000
C37: Front axle capacity [lbs]: | F37: 12000 | G37: 12000 | H37: 12000
A38: Rear Axle | C38: Gross Axle Weight Rating (GAWR) [lbs]: | F38: 19000 | G38: 19000 | H38: 19000
C39: Rear axle capacity [lbs]: | F39: 21000 | G39: 21000 | H39: 21000
A40: Steering | B40: Power steering
A41: Brakes | B41: Chassis manufacturer's typical full air service brake system. A liquid-cooled, engine-lubricated air compressor, that is compliant with FMVSS (49 CFR 571.121.S5.1.1.), shall be provided. The air brake system shall be equipped with an automatic drain valve on the wet tank that may be unheated, a valve that can be manually opened on each air tank, and an air dryer/ejector that may be unheated. The system shall include a spring set parking brake. System shall be compliant with FMVSS (49 CFR 571.121), including the latest revision thereof. All brakes shall have automatic slack adjusters. | C41: Air Compressor size, Make & Model: | F41: 18.7 CFM, Cummins | G41: 18.7 CFM, Cummins | H41: 18.7 CFM, Cummins
C42: Air Dryer size, Make & Model: | F42: 7" x 10.3" Bendix AD-IP | G42: 7" x 10.3" Bendix AD-IP | H42: 7" x 10.3" Bendix AD-IP
A44: Brakes | B44: Antilock Brake System (ABS), and an audio & visual warning system for system malfunctions.
A45: Tires | B45: Tires shall meet the minimum requirements for the Chassis Model, as published by the Chassis manufacturer. | C45: Front radial tires size (load range letter) | F45: 11R22.5 (H) | G45: 11R22.5 (H) | H45: 11R22.5 (H)
C46: Front radial tires capacity | F46: 6610 | G46: 6610 | H46: 6610
C47: Rear radial tires size (load range letter) | F47: 11R22.5 (H) | G47: 11R22.5 (H) | H47: 11R22.5 (H)
C48: Rear radial tires capacity | F48: 6005 | G48: 6005 | H48: 6005
C49: Front Tires Option Code: | F49: 40356-13 | G49: 40356-13 | H49: 40356-13
C50: Front Tires Make & Tread Designation: | F50: Kumho, KRS12E | G50: Kumho, KRS12E | H50: Kumho, KRS12E
C51: Rear Tires Option Code: | F51: 40356-13 | G51: 40356-13 | H51: 40356-13
C52: Rear Tires Make & Tread Designation: | F52: Kumho, KRS12E | G52: Kumho, KRS12E | H52: Kumho, KRS12E
A53: Transmission | B53: Automatic transmission with manufacturer's standard or optional temperature indicator at the operator's control panel. | C53: Number of forward gears: | F53: 5 | G53: 5 | H53: 5
C54: Gears direct or w/O.D.?: | F54: Direct | G54: Direct | H54: Direct
C55: Option Code, Make & Model: | F55: 40432-14, Allison 2500 | G55: 40432-14, Allison 2500 | H55: 40432-14, Allison 2500
A56: Engine | B56: Engine shall have a manufacturer's standard water cooled engine complete with accessories, as called for under classification. Engine shall develop full-rated torque and horsepower without requiring the use of premium grade fuel for any condition of operation. The Diesel engine shall develop full-rated torque and horsepower with the use of both ultra low sulfur grade diesel fuel and renewable diesel fuel.
A57: Engine Equipment | B57: Engine shall include silicone radiator and heater hoses (or equivalently rated/warranted). Diesel engine shall include cold weather starting aid. | F57: 40108-01 | G57: 40108-01 | H57: 40108-01
A58: Alternator | B58: Alternator shall be of the integrally-rectified type, with an SAE continuous ampere output rating that is capable of at least powering all electrical devices energized simultaneously and an additional output of ten (10) or more amperes; and shall be driven by a single serpentine belt (or equivalent) or gear driven, and shall have full-transistor type voltage regulators. Wiring harness sizes shall be not less than the alternator manufacturer's recommendations. | C58: Option Code, Make & Model: | F58: 40134-07, L/N AVI160 | G58: 40134-07, L/N AVI160 | H58: 40134-07, L/N AVI160
C59: Capacity [amps]: | F59: 240 | G59: 240 | H59: 240
A60: Battery(ies) | B60: Three (3) "No Maintenance" type batteries with a total capacity of 2400-CCA and a 145-minute reserve capacity. The battery cables (- and +) shall be the same size and weight and be equal to (or better than) the larger cable recommended by the School Bus manufacturer. | C60: Model or Option Code: | F60: 40142-06 | G60: 40142-06 | H60: 40142-06
C61: Number of batteries: | F61: 3 | G61: 3 | H61: 3
C62: Cold Cranking Amp (CCA) rating of each battery at 0oF | F62: 700 | G62: 700 | H62: 700
A63: Electrical | B63: Units shall have headlights turned on when the engine is running.
A64: Electrical | B64: Driver's compartment dome light shall be so directed to provide illumination for the bus driver and be controlled by an independent switch.
A65: Electrical | B65: All exterior lamps, except headlamps, shall be Light Emitting Diode (LED) design that meet applicable SAE standards.
A66: Horns | B66: An electrical horn(s) shall be provided that meets SAE standard J377. An air horn shall not be an approved Compatible Equivalent.
A67: Door (Entrance) | B67: Minimum 24 inch opening. | C67: Type and clear width [inches]: | F67: O/O 27" | G67: O/O 27" | H67: O/O 27"
A68: Stepwell (Entrance) | B68: Structural, tread and riser members shall be constructed entirely of rust/corrosion-resistant steel, components and fasteners or materials of equivalent or stronger structural integrity. Manufacturer's standard floor/stair coverings shall be used for finish surfaces.
A69: Fuel Tank(s) | B69: Diesel and gasoline engine Base Items shall have a thirty (30) gallon fuel capacity. LPG and CNG shall have the minimum construction and protection required by NFPA | C69: Capacity [gallons/cu. ft.]: | F69: 60 Gallons | G69: 60 Gallons | H69: 60 Gallons
C70: Number and location of fuel tanks: | F70: 1 Center Mount, Aft of axle | G70: 1 Center Mount, Aft of axle | H70: 1 Center Mount, Aft of axle
A71: Mirrors | B71: The vertical rectangular exterior driving mirrors shall be the heated defrosting type with their own switch and pilot light. Crossview mirrors shall be provided at front corners of each bus.
A72: Seating | B72: Manufacturer's standard or optional seat spacing that meets or exceeds the NYCRR minimum requirement for the respective class of School Bus with the minimum Pupil capacity stated above.
A73: Seatbelt (ambulatory) | B73: Seat belts shall be provided for each individual seating space. Seat belts shall meet current federal safety standards and shall be of a type approved by, and installed in accordance, with the rules and regulations established by NYS DOT in subdivision five (5) of section three-hundred eighty-three (383) of the New York State Vehicle and Traffic Laws dated July 30, 1986 and NYCRR, Title 17, Part 720, or the latest revision thereof.
A74: Stop Arm(s) (Power) | B74: Shall be entrance-door activated, electric or air-positioning type, and be provided streetside on all School Buses. It shall be compliant with FMVSS (49 CFR 571.131). Buses with a capacity of 45 persons or more shall have an additional and same model stop-arm at the rear streetside of the bus. | C74: Make & Model: | F74: Electric, Specialty SE27970D-SP | G74: Electric, Specialty SE27970D-SP | H74: Electric, Specialty SE27970D-SP
A75: "School Bus" Signs | B75: Both front and rear shall comply with Article 9, Section 375.20 of the New York State Vehicle and Traffic Law.
A76: 8 Lamp Warning System (School Bus) | B76: Shall be compliant with SAE J887. | C76: Make & Model: | F76: Lucidity 00124870/72 | G76: Lucidity 00124870/72 | H76: Lucidity 00124870/72
A77: Exterior Reflective Markings | B77: All units with a capacity of ten (10) or more Pupils shall be equipped with exterior reflective markings as required by FMVSS (49 CFR 571.217) and NYCRR (Title 15, Department of Motor Vehicles, Part D, 46.12).
A78: Floor | B78: Manufacturer's standard insulated floor design shall be provided throughout the School Bus.
A79: Heaters | B79: Minimum passenger compartment heating shall meet the requirements of NYCRR, Title 17, Part 720.4(I) Heaters, or the latest revision thereof.
A80: Door (Rear Emergency Exit) | B80: Shall include lower glass.
A82: PART 4: Optional Equipment NYS Contract Pricing | F82: Blue Bird
A83: Optional Equipment (see Specifications and Equipment Provided below) | F83: Diesel | G83: Gas | H83: LPG
A84: Capacity - Delete One (1) Row of Seating | F84: =-1337.32*('PPI Adj'!D6) -> -1560.6524 | G84: =-1337.32*('PPI Adj'!D6) -> -1560.6524 | H84: =-1337.32*('PPI Adj'!D6) -> -1560.6524
A85: Child Presence Check / Alarm | F85: =544.44*('PPI Adj'!D6) -> 635.36148 | G85: =544.44*('PPI Adj'!D6) -> 635.36148 | H85: =544.44*('PPI Adj'!D6) -> 635.36148
A86: Glass (Tinted) | F86: =602.62*('PPI Adj'!D6) -> 703.25754 | G86: =602.62*('PPI Adj'!D6) -> 703.25754 | H86: =602.62*('PPI Adj'!D6) -> 703.25754
A87: Rear Axle, "No Spin" | F87: =1340.82*('PPI Adj'!D6) -> 1564.7369 | G87: =1340.82*('PPI Adj'!D6) -> 1564.7369 | H87: =1340.82*('PPI Adj'!D6) -> 1564.7369
A88: Tires (Snow) | F88: =655.98*('PPI Adj'!D6) -> 765.52866 | G88: =655.98*('PPI Adj'!D6) -> 765.52866 | H88: =655.98*('PPI Adj'!D6) -> 765.52866
A89: Tires (All-Season) | F89: Included in Base Item | G89: Included in Base Item | H89: Included in Base Item
A90: Floor With Recessed Wheelchair Restraint Track For One Wheelchair Station. | F90: =1202.76*('PPI Adj'!D6) -> 1403.6209 | G90: =1202.76*('PPI Adj'!D6) -> 1403.6209 | H90: =1202.76*('PPI Adj'!D6) -> 1403.6209
A91: Floor (Flat) With Recessed Wheelchair Track Throughout Entire Body | F91: =4217.27*('PPI Adj'!D6) -> 4921.5541 | G91: =4217.27*('PPI Adj'!D6) -> 4921.5541 | H91: =4217.27*('PPI Adj'!D6) -> 4921.5541
A92: Wheelchair Lift | F92: =6533.28*('PPI Adj'!D6) -> 7624.3378 | G92: =6533.28*('PPI Adj'!D6) -> 7624.3378 | H92: =6533.28*('PPI Adj'!D6) -> 7624.3378
A93: Roof Ventilator / Emergency Exit | F93: =97.5*('PPI Adj'!D6) -> 113.7825 | G93: =97.5*('PPI Adj'!D6) -> 113.7825 | H93: =97.5*('PPI Adj'!D6) -> 113.7825
A94: White Roof | F94: =397.8*('PPI Adj'!D6) -> 464.2326 | G94: =397.8*('PPI Adj'!D6) -> 464.2326 | H94: =397.8*('PPI Adj'!D6) -> 464.2326
A95: High Headroom | F95: Included in Base Item | G95: Included in Base Item | H95: Included in Base Item
A96: Crossing Arm | F96: =723.06*('PPI Adj'!D6) -> 843.81102 | G96: =723.06*('PPI Adj'!D6) -> 843.81102 | H96: =723.06*('PPI Adj'!D6) -> 843.81102
A97: Auxiliary Engine Coolant Heater | F97: =3939.22*('PPI Adj'!D6) -> 4597.0697 | G97: =3939.22*('PPI Adj'!D6) -> 4597.0697 | H97: =3939.22*('PPI Adj'!D6) -> 4597.0697
A98: Vandal Lock | F98: =578.76*('PPI Adj'!D6) -> 675.41292 | G98: =578.76*('PPI Adj'!D6) -> 675.41292 | H98: =578.76*('PPI Adj'!D6) -> 675.41292
A99: Air Conditioning | F99: =7483.25*('PPI Adj'!D6) -> 8732.9528 | G99: =7483.25*('PPI Adj'!D6) -> 8732.9528 | H99: =7483.25*('PPI Adj'!D6) -> 8732.9528
A100: School Bus Safety Camera | F100: =1800*('PPI Adj'!D6) -> 2100.6 | G100: =1800*('PPI Adj'!D6) -> 2100.6 | H100: =1800*('PPI Adj'!D6) -> 2100.6
A101: Delete Exterior LED Lamps | F101: =-413.21*('PPI Adj'!D6) -> -482.21607 | G101: =-413.21*('PPI Adj'!D6) -> -482.21607 | H101: =-413.21*('PPI Adj'!D6) -> -482.21607
A102: Multifunction School Activity Bus | F102: =1013.03*('PPI Adj'!D6) -> 1182.206 | G102: =1013.03*('PPI Adj'!D6) -> 1182.206 | H102: =1013.03*('PPI Adj'!D6) -> 1182.206
A104: PART 4: Optional Equipment Specifications | F104: Blue Bird
A105: Optional Equipment | B105: Specification | C105: Information provided in Yellow Cells | F105: Diesel | G105: Gas | H105: LPG
A106: Capacity - Delete One (1) Row of Seating | B106: Delete one (1) full row of seating (both left and right sides) without removing a Body section from the Base Item, or altering the spacing between the remaining seats. | F106: Delete two rear seats with lap belts | G106: Delete two rear seats with lap belts | H106: Delete two rear seats with lap belts
...

Sheet C (Item 3-D)
A1: ='A (Item 2-G)'!$A$1 -> GROUP 40524-23254, SCHOOL BUSES (Statewide) Attachment 1 - Specifications and Pricing (Revised October 15, 2026)
A2: ='Attachment 1 - Summary'!B2 -> PC69864 New York Bus Sales, LLC
A3: LOT C (Item 3-D)
A4: Type C, 58 Pupil Conventional Front-Engine Bus (Diesel, Minimum 58 Pupils)
A6: PART 1: Product information for the Base Item(s) Awarded | F6: Blue Bird
A7: Category | B7: Information provided in Yellow Cells | F7: Diesel | G7: Gas | H7: LPG
A8: Engine | B8: Information identifying the engine for the fuel type offered. | F8: 40179-47; Cummins B6.7; 6 Cyl, 6.7L, 200HP at 2,400 RPM, 520 lb. ft. torque @ 1,600 RPM. | G8: 40166-03, Ford 7.3L; 8 Cyl, 350 HP @3,900 RPM, 468 lb. ft. torque @ 3,900 RPM | H8: 40166-03, Ford 7.3L; 8 Cyl, 350 HP @3,900 RPM, 468 lb. ft. torque @ 3,900 RPM
A9: NYS DOT Approval Number | B9: The NYS DOT Approval Number for the School Bus. Only School Buses approved by NYS DOT Passenger Carrier Safety Bureau for use as 2022 and newer Models, as indicated by a NYS DOT Approval Number, shall be delivered pursuant to the Contract. | F9: 2212-NY-59-00WC-BBB | G9: 2212-NY-59-00WC-BBB | H9: 2212-NY-59-00WC-BBB
A10: Chassis Make | B10: The OEM company name of a Chassis. | F10: Blue Bird | G10: Blue Bird | H10: Blue Bird
A11: Chassis Model | B11: The Model name of the Chassis. | F11: BBCV | G11: BBCV | H11: BBCV
A12: Chassis Model Code | B12: The OEM code used to identify the subset of the Chassis Model. | F12: 2807 | G12: 2807 | H12: 2807
A13: Body Make | B13: The OEM company name of a Body. | F13: Blue Bird | G13: Blue Bird | H13: Blue Bird
A14: Body Model | B14: The Model name of the Body. | F14: Vision | G14: Vision | H14: Vision
A15: Body Model Code | B15: The OEM code used to identify the subset of the Body Model. | F15: 2807 | G15: 2807 | H15: 2807
A16: Pick Up Allowance | B16: The dollar amount, per School Bus, that will be deducted from the Base Item NYS Contract Price, if the Authorized User elects to pick up the School Bus at the Contractor's location. | F16: 100 | G16: 100 | H16: 100
A17: Delivery Time | B17: The estimated delivery time for the School Bus, expressed in number of calendar days, required to make delivery after receipt of a final Purchase Order (After Receipt of Order (“ARO”)). | F17: 210-270 | G17: 210-270 | H17: 210-270
A19: PART 2: Pricing for the Base Item, Additional Body Section, and Additional Options | F19: Blue Bird
A20: Category | B20: Information provided in Yellow Cells | F20: Diesel | G20: Gas | H20: LPG
A21: Base Item NYS Contract Price | B21: The per unit NYS Contract Price (dollar amount) for the School Bus described in the Base Item Specifications. The Base Item NYS Contract Price includes any OEM fees, all customs duties and charges, all vehicle preparation and clean-up charges, NYS DOT inspection, installation charges, delivery and all other incidentals normally included with providing a School Bus, but excludes Optional Equipment, Additional Body Section(s), and Additional Options. | F21: =133300*('PPI Adj'!D6) -> 155561.1 | G21: =130300*('PPI Adj'!D6) -> 152060.1 | H21: =140300*('PPI Adj'!D6) -> 163730.1
A22: Additional Options NYS Discount | B22: The minimum percentage amount that shall be deducted from the MSRP for all Additional Options purchased under the Contract for this Item. | F22: 22 | G22: 22 | H22: 22
A24: PART 3: Base Item Specifications | F24: Blue Bird
A25: Category | B25: Specification | C25: Information provided in Yellow Cells | F25: Diesel | G25: Gas | H25: LPG
A26: General | B26: A School Bus with a Body installed upon a cowl and Chassis constructed using a chassis with a hood and front fender assembly. All of the engine is in front of the windshield and the entrance door is behind the front wheels. This is also known as a conventional school bus. This type also includes the cutaway truck chassis or truck chassis with cab, with or without a left side door, and with a GVWR greater than 16,000 pounds. | C26: Gross Vehicle Weight Rating (GVWR) [lbs]: | F26: 29000 | G26: 29000 | H26: 29000
A27: Capacity | B27: Minimum fifty-eight (58) Pupils. | C27: Number of rows: | F27: 10 | G27: 10 | H27: 10
C28: Number of Pupils: | F28: 59 | G28: 59 | H28: 59
A29: Rear Wheels | B29: Dual Rear Wheel (DRW)
A30: Dimensions | C30: Wheelbase [inches]: | F30: 238" | G30: 238" | H30: 238"
C31: Length (bumper to bumper) [inches]: | F31: 414.29" | G31: 414.29" | H31: 414.29"
C32: Body width (inside) [inches]: | F32: 90.75" | G32: 90.75" | H32: 90.75"
C33: Body headroom (standard) [inches]: | F33: 77" | G33: 77" | H33: 77"
C34: Cowl to rear axle length [inches]: | F34: 282.75" | G34: 282.75" | H34: 282.75"
A35: Cowl/Hood | B35: Forward tilting style cowl/hood assembly.
A36: Front Axle | C36: Gross Axle Weight Rating (GAWR) [lbs]: | F36: 10000 | G36: 10000 | H36: 10000
C37: Front axle capacity [lbs]: | F37: 12000 | G37: 12000 | H37: 12000
A38: Rear Axle | C38: Gross Axle Weight Rating (GAWR) [lbs]: | F38: 19000 | G38: 19000 | H38: 19000
C39: Rear axle capacity [lbs]: | F39: 21000 | G39: 21000 | H39: 21000
A40: Steering | B40: Power steering
A41: Brakes | B41: Chassis manufacturer's typical full air service brake system. A liquid-cooled, engine-lubricated air compressor, that is compliant with FMVSS (49 CFR 571.121.S5.1.1.), shall be provided. The air brake system shall be equipped with an automatic drain valve on the wet tank that may be unheated, a valve that can be manually opened on each air tank, and an air dryer/ejector that may be unheated. The system shall include a spring set parking brake. System shall be compliant with FMVSS (49 CFR 571.121), including the latest revision thereof. All brakes shall have automatic slack adjusters. | C41: Air Compressor size, Make & Model: | F41: 18.7 CFM, Cummins | G41: 18.7 CFM, Cummins | H41: 18.7 CFM, Cummins
C42: Air Dryer size, Make & Model: | F42: 7" x 10.3" Bendix AD-IP | G42: 7" x 10.3" Bendix AD-IP | H42: 7" x 10.3" Bendix AD-IP
A44: Brakes | B44: Antilock Brake System (ABS), and an audio & visual warning system for system malfunctions.
A45: Tires | B45: Tires shall meet the minimum requirements for the Chassis Model, as published by the Chassis manufacturer. | C45: Front radial tires size (load range letter) | F45: 11R22.5 (H) | G45: 11R22.5 (H) | H45: 11R22.5 (H)
C46: Front radial tires capacity | F46: 6610 | G46: 6610 | H46: 6610
C47: Rear radial tires size (load range letter) | F47: 11R22.5 (H) | G47: 11R22.5 (H) | H47: 11R22.5 (H)
C48: Rear radial tires capacity | F48: 6005 | G48: 6005 | H48: 6005
C49: Front Tires Option Code: | F49: 40356-13 | G49: 40356-13 | H49: 40356-13
C50: Front Tires Make & Tread Designation: | F50: Kumho, KRS12E | G50: Kumho, KRS12E | H50: Kumho, KRS12E
C51: Rear Tires Option Code: | F51: 40356-13 | G51: 40356-13 | H51: 40356-13
C52: Rear Tires Make & Tread Designation: | F52: Kumho, KRS12E | G52: Kumho, KRS12E | H52: Kumho, KRS12E
A53: Transmission | B53: Automatic transmission with manufacturer's standard or optional temperature indicator at the operator's control panel. | C53: Number of forward gears: | F53: 5 | G53: 5 | H53: 5
C54: Gears direct or w/O.D.?: | F54: Direct | G54: Direct | H54: Direct
C55: Option Code, Make & Model: | F55: 40432-14, Allison 2500 | G55: 40432-14, Allison 2500 | H55: 40432-14, Allison 2500
A56: Engine | B56: Engine shall have a manufacturer's standard water cooled engine complete with accessories, as called for under classification. Engine shall develop full-rated torque and horsepower without requiring the use of premium grade fuel for any condition of operation. The Diesel engine shall develop full-rated torque and horsepower with the use of both ultra low sulfur grade diesel fuel and renewable diesel fuel.
A57: Engine Equipment | B57: Engine shall include silicone radiator and heater hoses (or equivalently rated/warranted). Diesel engine shall include cold weather starting aid. | F57: 40108-01 | G57: 40108-01 | H57: 40108-01
A58: Alternator | B58: Alternator shall be of the integrally-rectified type, with an SAE continuous ampere output rating that is capable of at least powering all electrical devices energized simultaneously and an additional output of ten (10) or more amperes; and shall be driven by a single serpentine belt (or equivalent) or gear driven, and shall have full-transistor type voltage regulators. Wiring harness sizes shall be not less than the alternator manufacturer's recommendations. | C58: Option Code, Make & Model: | F58: 40134-07, L/N AVI160 | G58: 40134-07, L/N AVI160 | H58: 40134-07, L/N AVI160
C59: Capacity [amps]: | F59: 240 | G59: 240 | H59: 240
A60: Battery(ies) | B60: Three (3) "No Maintenance" type batteries with a total capacity of 2400-CCA and a 145-minute reserve capacity. The battery cables (- and +) shall be the same size and weight and be equal to (or better than) the larger cable recommended by the School Bus manufacturer. | C60: Model or Option Code: | F60: 40142-06 | G60: 40142-06 | H60: 40142-06
C61: Number of batteries: | F61: 3 | G61: 3 | H61: 3
C62: Cold Cranking Amp (CCA) rating of each battery at 0oF | F62: 700 | G62: 700 | H62: 700
A63: Electrical | B63: Units shall have headlights turned on when the engine is running.
A64: Electrical | B64: Driver's compartment dome light shall be so directed to provide illumination for the bus driver and be controlled by an independent switch.
A65: Electrical | B65: All exterior lamps, except headlamps, shall be Light Emitting Diode (LED) design that meet applicable SAE standards.
A66: Horns | B66: An electrical horn(s) shall be provided that meets SAE standard J377. An air horn shall not be an approved Compatible Equivalent.
A67: Door (Entrance) | B67: Minimum 24 inch opening. | C67: Type and clear width [inches]: | F67: O/O 27" | G67: O/O 27" | H67: O/O 27"
A68: Stepwell (Entrance) | B68: Structural, tread and riser members shall be constructed entirely of rust/corrosion-resistant steel, components and fasteners or materials of equivalent or stronger structural integrity. Manufacturer's standard floor/stair coverings shall be used for finish surfaces.
A69: Fuel Tank(s) | B69: Diesel and gasoline engine Base Items shall have a sixty (60) gallon fuel capacity. LPG and CNG shall have the minimum construction and protection required by NFPA | C69: Capacity [gallons/cu. ft.]: | F69: 60 Gallons | G69: 60 Gallons | H69: 60 Gallons
C70: Number and location of fuel tanks: | F70: 1 Center Mount, Aft of axle | G70: 1 Center Mount, Aft of axle | H70: 1 Center Mount, Aft of axle
A71: Mirrors | B71: The vertical rectangular exterior driving mirrors shall be the heated defrosting type with their own switch and pilot light. Crossview mirrors shall be provided at front corners of each bus.
A72: Seating | B72: Manufacturer's standard or optional seat spacing that meets or exceeds the NYCRR minimum requirement for the respective class of School Bus with the minimum Pupil capacity stated above.
A73: Seatbelt (ambulatory) | B73: Seat belts shall be provided for each individual seating space. Seat belts shall meet current federal safety standards and shall be of a type approved by, and installed in accordance, with the rules and regulations established by NYS DOT in subdivision five (5) of section three-hundred eighty-three (383) of the New York State Vehicle and Traffic Laws dated July 30, 1986 and NYCRR, Title 17, Part 720, or the latest revision thereof.
A74: Stop Arm(s) (Power) | B74: Shall be entrance-door activated, electric or air-positioning type, and be provided streetside on all School Buses. It shall be compliant with FMVSS (49 CFR 571.131). Buses with a capacity of 45 persons or more shall have an additional and same model stop-arm at the rear streetside of the bus. | C74: Make & Model: | F74: Electric, Specialty SE27970D-SP | G74: Electric, Specialty SE27970D-SP | H74: Electric, Specialty SE27970D-SP
A75: "School Bus" Signs | B75: Both front and rear shall comply with Article 9, Section 375.20 of the New York State Vehicle and Traffic Law.
A76: 8 Lamp Warning System (School Bus) | B76: Shall be compliant with SAE J887. | C76: Make & Model: | F76: Lucidity 00124870/72 | G76: Lucidity 00124870/72 | H76: Lucidity 00124870/72
A77: Exterior Reflective Markings | B77: All units with a capacity of ten (10) or more Pupils shall be equipped with exterior reflective markings as required by FMVSS (49 CFR 571.217) and NYCRR (Title 15, Department of Motor Vehicles, Part D, 46.12).
A78: Floor | B78: Manufacturer's standard insulated floor design shall be provided throughout the School Bus.
A79: Heaters | B79: Minimum passenger compartment heating shall meet the requirements of NYCRR, Title 17, Part 720.4(I) Heaters, or the latest revision thereof.
A80: Door (Rear Emergency Exit) | B80: Shall include lower glass.
A82: PART 4: Optional Equipment NYS Contract Pricing | F82: Blue Bird
A83: Optional Equipment (see Specifications and Equipment Provided below) | F83: Diesel | G83: Gas | H83: LPG
A84: Capacity - Delete One (1) Row of Seating | F84: =-1337.32*('PPI Adj'!D6) -> -1560.6524 | G84: =-1337.32*('PPI Adj'!D6) -> -1560.6524 | H84: =-1337.32*('PPI Adj'!D6) -> -1560.6524
A85: Child Presence Check / Alarm | F85: =544.44*('PPI Adj'!D6) -> 635.36148 | G85: =544.44*('PPI Adj'!D6) -> 635.36148 | H85: =544.44*('PPI Adj'!D6) -> 635.36148
A86: Glass (Tinted) | F86: =625.4*('PPI Adj'!D6) -> 729.8418 | G86: =625.4*('PPI Adj'!D6) -> 729.8418 | H86: =625.4*('PPI Adj'!D6) -> 729.8418
A87: Rear Axle, "No Spin" | F87: =1340.82*('PPI Adj'!D6) -> 1564.7369 | G87: =1340.82*('PPI Adj'!D6) -> 1564.7369 | H87: =1340.82*('PPI Adj'!D6) -> 1564.7369
A88: Tires (Snow) | F88: =655.98*('PPI Adj'!D6) -> 765.52866 | G88: =655.98*('PPI Adj'!D6) -> 765.52866 | H88: =655.98*('PPI Adj'!D6) -> 765.52866
A89: Tires (All-Season) | F89: Included in Base Item | G89: Included in Base Item | H89: Included in Base Item
A90: Floor With Recessed Wheelchair Restraint Track For One Wheelchair Station. | F90: =1202.76*('PPI Adj'!D6) -> 1403.6209 | G90: =1202.76*('PPI Adj'!D6) -> 1403.6209 | H90: =1202.76*('PPI Adj'!D6) -> 1403.6209
A91: Floor (Flat) With Recessed Wheelchair Track Throughout Entire Body | F91: =4623.65*('PPI Adj'!D6) -> 5395.7995 | G91: =4623.65*('PPI Adj'!D6) -> 5395.7995 | H91: =4623.65*('PPI Adj'!D6) -> 5395.7995
A92: Wheelchair Lift | F92: =6533.28*('PPI Adj'!D6) -> 7624.3378 | G92: =6533.28*('PPI Adj'!D6) -> 7624.3378 | H92: =6533.28*('PPI Adj'!D6) -> 7624.3378
A93: Roof Ventilator / Emergency Exit | F93: =97.5*('PPI Adj'!D6) -> 113.7825 | G93: =97.5*('PPI Adj'!D6) -> 113.7825 | H93: =97.5*('PPI Adj'!D6) -> 113.7825
A94: White Roof | F94: =397.8*('PPI Adj'!D6) -> 464.2326 | G94: =397.8*('PPI Adj'!D6) -> 464.2326 | H94: =397.8*('PPI Adj'!D6) -> 464.2326
A95: High Headroom | F95: Included in Base Item | G95: Included in Base Item | H95: Included in Base Item
A96: Crossing Arm | F96: =723.06*('PPI Adj'!D6) -> 843.81102 | G96: =723.06*('PPI Adj'!D6) -> 843.81102 | H96: =723.06*('PPI Adj'!D6) -> 843.81102
A97: Auxiliary Engine Coolant Heater | F97: =3939.22*('PPI Adj'!D6) -> 4597.0697 | G97: =3939.22*('PPI Adj'!D6) -> 4597.0697 | H97: =3939.22*('PPI Adj'!D6) -> 4597.0697
A98: Vandal Lock | F98: =578.76*('PPI Adj'!D6) -> 675.41292 | G98: =578.76*('PPI Adj'!D6) -> 675.41292 | H98: =578.76*('PPI Adj'!D6) -> 675.41292
A99: Air Conditioning | F99: =7483.25*('PPI Adj'!D6) -> 8732.9528 | G99: =7483.25*('PPI Adj'!D6) -> 8732.9528 | H99: =7483.25*('PPI Adj'!D6) -> 8732.9528
A100: School Bus Safety Camera | F100: =1800*('PPI Adj'!D6) -> 2100.6 | G100: =1800*('PPI Adj'!D6) -> 2100.6 | H100: =1800*('PPI Adj'!D6) -> 2100.6
A101: Delete Exterior LED Lamps | F101: =-413.21*('PPI Adj'!D6) -> -482.21607 | G101: =-413.21*('PPI Adj'!D6) -> -482.21607 | H101: =-413.21*('PPI Adj'!D6) -> -482.21607
A102: Multifunction School Activity Bus | F102: =1013.03*('PPI Adj'!D6) -> 1182.206 | G102: =1013.03*('PPI Adj'!D6) -> 1182.206 | H102: =1013.03*('PPI Adj'!D6) -> 1182.206
A104: PART 4: Optional Equipment Specifications | F104: Blue Bird | G104: Blue Bird | H104: Blue Bird
A105: Optional Equipment | B105: Specification | C105: Information provided in Yellow Cells | F105: Diesel | G105: Gas | H105: LPG
A106: Capacity - Delete One (1) Row of Seating | B106: Delete one (1) full row of seating (both left and right sides) without removing a Body section from the Base Item, or altering the spacing between the remaining seats. | F106: Delete two rear seats with lap belts | G106: Delete two rear seats with lap belts | H106: Delete two rear seats with lap belts
...

Sheet C (Item 2-EV) 
A1: ='A (Item 2-G)'!$A$1 -> GROUP 40524-23254, SCHOOL BUSES (Statewide) Attachment 1 - Specifications and Pricing (Revised October 15, 2026)
A2: ='[1]Attachment 1 - Summary'!B2 -> PC69864 New York Bus Sales, LLC
A3: LOT C (Item 2-EV)
A4: Type C, 46 Pupil Conventional Bus (Electric, Minimum 46 Pupils, Maximum 57 Pupils)
A6: PART 1: Product information for the Base Item(s) Awarded | F6: Blue Bird
A7: Category | B7: Information provided in Yellow Cells | F7: Electric
A8: Engine | B8: Information identifying the engine for the fuel type offered. | F8: TM4 LSM200CHV3000; Six Phase AC Perm. Magnet Induct. Motor; 315 Peak HP, 2400 Peak Torque
A9: NYS DOT Approval Number | B9: The NYS DOT Approval Number for the School Bus. Only School Buses approved by NYS DOT Passenger Carrier Safety Bureau for use as 2022 and newer Models, as indicated by a NYS DOT Approval Number, shall be delivered pursuant to the Contract. | F9: 2322-NY-48-00WC-BBB
A10: Chassis Model Year | B10: Enter Model Year, (e.g. 2022, 2023), of the Chassis bid | F10: 2026
A11: Chassis Model | B11: The Model name of the Chassis. | F11: BBCV
A12: Chassis Make | B12: Enter Make, (e.g. Ford, General Motors, International, Freightliner), of the Chassis bid | F12: Blue Bird
A13: Body Model Year | B13: Enter Model Year or Current Production Year, (e.g. 2022, 2023) of the Body bid | F13: 2026
A14: Body Make | B14: Enter Make (e.g. IC, Blue Bird, Thomas) of the Body bid | F14: Blue Bird
A15: Body Model | B15: Enter the Model name (e.g., CE, Vision, C2) of the Body bid | F15: BBCV
A16: Body Model Code | B16: Enter the Model Code (i.e., the OEM code used to identify a particular subset of a Model) of the Body bid, if applicable | F16: 2610
A17: Delivery Time | B17: The estimated delivery time for the School Bus, expressed in number of calendar days, required to make delivery after receipt of a final Purchase Order (After Receipt of Order (“ARO”)). | F17: 210-365
A19: PART 2: Pricing for the Base Item, Additional Body Section, and Additional Options | F19: Blue Bird
A20: Category | B20: Information provided in Yellow Cells | F20: Electric
A21: Base Item NYS Contract Price | B21: The per unit NYS Contract Price (dollar amount) for the School Bus described in the Base Item Specifications. The Base Item NYS Contract Price includes any OEM fees, all customs duties and charges, all vehicle preparation and clean-up charges, NYS DOT inspection, installation charges, delivery and all other incidentals normally included with providing a School Bus, but excludes Optional Equipment, Additional Body Section(s), and Additional Options. | F21: =427899*'PPI Adj'!H6 -> 445870.76
A22: Additional Options NYS Discount | B22: The minimum percentage amount that shall be deducted from the MSRP for all Additional Options purchased under the Contract for this Item. | F22: 22
A24: PART 3: Base Item Specifications | F24: Blue Bird
A25: Category | B25: Specification | C25: Information provided in Yellow Cells | F25: Electric
A26: General | B26: A School Bus with a Body installed upon a cowl and Chassis constructed using a chassis with a hood and front fender assembly. All of the engine is in front of the windshield and the entrance door is behind the front wheels. This is also known as a conventional school bus. This type also includes the cutaway truck chassis or truck chassis with cab, with or without a left side door, and with a GVWR greater than 16,000 pounds. | C26: Gross Vehicle Weight Rating (GVWR) [lbs]: | F26: 33000
A27: Capacity | B27: Minimum forty-six (46) Pupils. | C27: Number of rows: | F27: 8
C28: Number of Pupils: | F28: 48
A29: Rear Wheels | B29: Dual Rear Wheel (DRW)
A30: Dimensions | C30: Wheelbase [inches]: | F30: 217"
C31: Length (bumper to bumper) [inches]: | F31: 393.29"
C32: Body width (inside) [inches]: | F32: 90.75"
C33: Body headroom (standard) [inches]: | F33: 77"
C34: Cowl to rear axle length [inches]: | F34: 261.75"
A35: Cowl/Hood | B35: Forward tilting style cowl/hood assembly.
A36: Front Axle | C36: Gross Axle Weight Rating (GAWR) [lbs]: | F36: 12000
C37: Front axle capacity [lbs]: | F37: 12000
A38: Rear Axle | C38: Gross Axle Weight Rating (GAWR) [lbs]: | F38: 23000
C39: Rear axle capacity [lbs]: | F39: 23000
A40: Steering | B40: Power steering
A41: Brakes | B41: Chassis manufacturer's typical full air service brake system. A liquid-cooled, engine-lubricated air compressor, that is compliant with FMVSS (49 CFR 571.121.S5.1.1.), shall be provided. The air brake system shall be equipped with an automatic drain valve on the wet tank that may be unheated, a valve that can be manually opened on each air tank, and an air dryer/ejector that may be unheated. The system shall include a spring set parking brake. System shall be compliant with FMVSS (49 CFR 571.121), including the latest revision thereof. All brakes shall have automatic slack adjusters. | C41: Air Compressor size, Make & Model: | F41: AirSquared, P17H043D
C42: Air Dryer size, Make & Model: | F42: 7" x 10.3" Bendix AD-IP
A44: Brakes | B44: Antilock Brake System (ABS), and an audio & visual warning system for system malfunctions.
A45: Tires | B45: Tires shall meet the minimum requirements for the Chassis Model, as published by the Chassis manufacturer. | C45: Front radial tires size (load range letter) | F45: 11R22.5 (H)
C46: Front radial tires capacity | F46: 6610
C47: Rear radial tires size (load range letter) | F47: 11R22.5 (H)
C48: Rear radial tires capacity | F48: 6005
C49: Front Tires Option Code: | F49: 40356-13
C50: Front Tires Make & Tread Designation: | F50: Kumho, KRS12E
C51: Rear Tires Option Code: | F51: 40356-13
C52: Rear Tires Make & Tread Designation: | F52: Kumho, KRS12E
A53: Transmission | B53: Automatic transmission with manufacturer's standard or optional temperature indicator at the operator's control panel. | C53: Number of forward gears: | F53: 1
C54: Gears direct or w/O.D.?: | F54: Direct
C55: Option Code, Make & Model: | F55: N/A - No Transmission
A56: Propulsion System | B56: Propulsion system which furnishes high-wattage electric power to the motor(s), that propels the vehicle forward or backward, and is sometimes referred to as the “main or power drive circuitry.” | C56: Vehicle range on full charge [miles]: | F56: 135
A57: Battery(ies) | B57: Three (3) "No Maintenance" type batteries with a total capacity of 2400-CCA and a 145-minute reserve capacity. The battery cables (- and +) shall be the same size and weight and be equal to (or better than) the larger cable recommended by the School Bus manufacturer. | C57: Number of Batteries: | F57: 14- 2 Strings of 7
C58: Type of Batteries: | F58: Li-NMC-G
C59: System Design Voltage: | F59: 700
A60: Electrical | B60: Units shall have headlights turned on when the engine is running.
A61: Electrical | B61: Driver's compartment dome light shall be so directed to provide illumination for the bus driver and be controlled by an independent switch.
A62: Electrical | B62: All exterior lamps, except headlamps, shall be Light Emitting Diode (LED) design that meet applicable SAE standards.
A63: Horns | B63: An electrical horn(s) shall be provided that meets SAE standard J377. An air horn shall not be an approved Compatible Equivalent.
A64: Door (Entrance) | B64: Minimum 24 inch opening. | C64: Type and clear width [inches]: | F64: O/O 27"
A65: Stepwell (Entrance) | B65: Structural, tread and riser members shall be constructed entirely of rust/corrosion-resistant steel, components and fasteners or materials of equivalent or stronger structural integrity. Manufacturer's standard floor/stair coverings shall be used for finish surfaces.
A66: Mirrors | B66: The vertical rectangular exterior driving mirrors shall be the heated defrosting type with their own switch and pilot light. Crossview mirrors shall be provided at front corners of each bus.
A67: Seating | B67: Manufacturer's standard or optional seat spacing that meets or exceeds the NYCRR minimum requirement for the respective class of School Bus with the minimum Pupil capacity stated above.
A68: Seatbelt (ambulatory) | B68: Seat belts shall be provided for each individual seating space. Seat belts shall meet current federal safety standards and shall be of a type approved by, and installed in accordance, with the rules and regulations established by NYS DOT in subdivision five (5) of section three-hundred eighty-three (383) of the New York State Vehicle and Traffic Laws dated July 30, 1986 and NYCRR, Title 17, Part 720, or the latest revision thereof.
A69: Stop Arm(s) (Power) | B69: Shall be entrance-door activated, electric or air-positioning type, and be provided streetside on all School Buses. It shall be compliant with FMVSS (49 CFR 571.131). Buses with a capacity of 45 persons or more shall have an additional and same model stop-arm at the rear streetside of the bus. | C69: Make & Model: | F69: Electric, Specialty SE27970D-SP
A70: "School Bus" Signs | B70: Both front and rear shall comply with Article 9, Section 375.20 of the New York State Vehicle and Traffic Law.
A71: 8 Lamp Warning System (School Bus) | B71: Shall be compliant with SAE J887. | C71: Make & Model: | F71: Lucidity 00124870/72
A72: Exterior Reflective Markings | B72: All units with a capacity of ten (10) or more Pupils shall be equipped with exterior reflective markings as required by FMVSS (49 CFR 571.217) and NYCRR (Title 15, Department of Motor Vehicles, Part D, 46.12).
A73: Floor | B73: Manufacturer's standard insulated floor design shall be provided throughout the School Bus.
A74: Heaters | B74: Minimum passenger compartment heating shall meet the requirements of NYCRR, Title 17, Part 720.4(I) Heaters, or the latest revision thereof. | C74: Provide information on power source for heater unit(s). (Propulsion Battery(ies), Auxiliary Battery(ies) or Fuel Source) | F74: Propulsion Batteries
A75: Door (Rear Emergency Exit) | B75: Shall include lower glass.
A77: PART 4: Optional Equipment NYS Contract Pricing | F77: Blue Bird
A78: Optional Equipment (see Specifications and Equipment Provided below) | F78: Electric
A79: Capacity - Delete One (1) Row of Seating | F79: =-1337.32*'PPI Adj'!H6 -> -1393.4874
A80: Child Presence Check / Alarm | F80: =544.44*'PPI Adj'!H6 -> 567.30648
A81: Glass (Tinted) | F81: =704.57*'PPI Adj'!H6 -> 734.16194
A82: Rear Axle, "No Spin" | F82: =1340.82*'PPI Adj'!H6 -> 1397.1344
A83: Tires (Snow) | F83: =655.98*'PPI Adj'!H6 -> 683.53116
A84: Tires (All-Season) | F84: Included in Base Item
A85: Floor With Recessed Wheelchair Restraint Track For One Wheelchair Station. | F85: =1202.76*'PPI Adj'!H6 -> 1253.2759
A86: Floor (Flat) With Recessed Wheelchair Track Throughout Entire Body | F86: =5529.54*'PPI Adj'!H6 -> 5761.7807
A87: Wheelchair Lift | F87: =6533.28*'PPI Adj'!H6 -> 6807.6778
A88: Roof Ventilator / Emergency Exit | F88: =97.5*'PPI Adj'!H6 -> 101.595
A89: White Roof | F89: =397.8*'PPI Adj'!H6 -> 414.5076
A90: High Headroom | F90: Included in Base Item
A91: Crossing Arm | F91: =723.06*'PPI Adj'!H6 -> 753.42852
A92: Vandal Lock | F92: =578.76*'PPI Adj'!H6 -> 603.06792
A93: Air Conditioning | F93: =23397.19*'PPI Adj'!H6 -> 24379.872
A94: School Bus Safety Camera | F94: =1956.6*'PPI Adj'!H6 -> 2038.7772
A95: Delete Exterior LED Lamps | F95: =-449.16*'PPI Adj'!H6 -> -468.02472
A96: Multifunction School Activity Bus | F96: =1013.03*'PPI Adj'!H6 -> 1055.5773
A98: PART 4: Optional Equipment Specifications | F98: Blue Bird
A99: Optional Equipment | B99: Specification | C99: Information provided in Yellow Cells | F99: Electric
A100: Capacity - Delete One (1) Row of Seating | B100: Delete one (1) full row of seating (both left and right sides) without removing a Body section from the Base Item, or altering the spacing between the remaining seats. | F100: Delete two rear seats with lap belts
A101: Child Presence Check / Alarm | B101: Shall be the Child Check-mate System Model EP 2, or Compatible Equivalent. | C101: Make & Model: | F101: Child Check Mate, CCM-3
A102: Glass (Tinted) | B102: The School Bus windshield and Body windows shall have the manufacturer's typical options that provide tinted glass windows throughout the vehicle and shall comply with Article 9, Section 375.12a. of the New York State Vehicle and Traffic Law.
A103: Rear Axle, "No Spin" | B103: The manufacturer’s standard device (e.g., power-lock, limited-slip, no-spin, positive-traction). | C103: Type of device: | F103: 40018-60, No Spin
A104: Tires (Snow) | B104: Snow tread tires shall be provided on all drive wheels. Tires shall be Federal class D/A, STC (with snow traction capability), or class S/T, or A/T, AP with STC, or other class with STC. The price entered for this Optional Equipment shall be for four (4) tires. Tires furnished on the rear wheels shall be the same size and adequate for axle's GAWR. | C104: Rear radial tires size (load range letter) [LT_____/_____R_____._____(_____)]: | F104: 11R22.5 (H)
C105: Rear radial tires capacity [_____,_____-lbs]: | F105: 6610
C106: Rear Tires Option Code: | F106: 40356-09
...

Sheet C (Item 4-D)
A1: ='A (Item 2-G)'!$A$1 -> GROUP 40524-23254, SCHOOL BUSES (Statewide) Attachment 1 - Specifications and Pricing (Revised October 15, 2026)
A2: ='Attachment 1 - Summary'!B2 -> PC69864 New York Bus Sales, LLC
A3: LOT C (Item 4-D)
A4: Type C, 64 Pupil Conventional Front-Engine Bus (Diesel, Minimum 64 Pupils)
A6: PART 1: Product information for the Base Item(s) Awarded | F6: Blue Bird
A7: Category | B7: Information provided in Yellow Cells | F7: Diesel | G7: Gas | H7: LPG
A8: Engine | B8: Information identifying the engine for the fuel type offered. | F8: 40179-47; Cummins B6.7; 6 Cyl, 6.7L, 200HP at 2,400 RPM, 520 lb. ft. torque @ 1,600 RPM. | G8: 40166-03, Ford 7.3L; 8 Cyl, 350 HP @3,900 RPM, 468 lb. ft. torque @ 3,900 RPM | H8: 40166-03, Ford 7.3L; 8 Cyl, 350 HP @3,900 RPM, 468 lb. ft. torque @ 3,900 RPM
A9: NYS DOT Approval Number | B9: The NYS DOT Approval Number for the School Bus. Only School Buses approved by NYS DOT Passenger Carrier Safety Bureau for use as 2022 and newer Models, as indicated by a NYS DOT Approval Number, shall be delivered pursuant to the Contract. | F9: 2147-NY-65-00WC-BBB | G9: 2147-NY-65-00WC-BBB | H9: 2147-NY-65-00WC-BBB
A10: Chassis Make | B10: The OEM company name of a Chassis. | F10: Blue Bird | G10: Blue Bird | H10: Blue Bird
A11: Chassis Model | B11: The Model name of the Chassis. | F11: BBCV | G11: BBCV | H11: BBCV
A12: Chassis Model Code | B12: The OEM code used to identify the subset of the Chassis Model. | F12: 3011 | G12: 3011 | H12: 3011
A13: Body Make | B13: The OEM company name of a Body. | F13: Blue Bird | G13: Blue Bird | H13: Blue Bird
A14: Body Model | B14: The Model name of the Body. | F14: Vision | G14: Vision | H14: Vision
A15: Body Model Code | B15: The OEM code used to identify the subset of the Body Model. | F15: 3011 | G15: 3011 | H15: 3011
A16: Pick Up Allowance | B16: The dollar amount, per School Bus, that will be deducted from the Base Item NYS Contract Price, if the Authorized User elects to pick up the School Bus at the Contractor's location. | F16: 100 | G16: 100 | H16: 100
A17: Delivery Time | B17: The estimated delivery time for the School Bus, expressed in number of calendar days, required to make delivery after receipt of a final Purchase Order (After Receipt of Order (“ARO”)). | F17: 210-270 | G17: 210-270 | H17: 210-270
A19: PART 2: Pricing for the Base Item, Additional Body Section, and Additional Options | F19: Blue Bird
A20: Category | B20: Information provided in Yellow Cells | F20: Diesel | G20: Gas | H20: LPG
A21: Base Item NYS Contract Price | B21: The per unit NYS Contract Price (dollar amount) for the School Bus described in the Base Item Specifications. The Base Item NYS Contract Price includes any OEM fees, all customs duties and charges, all vehicle preparation and clean-up charges, NYS DOT inspection, installation charges, delivery and all other incidentals normally included with providing a School Bus, but excludes Optional Equipment, Additional Body Section(s), and Additional Options. | F21: =135300*('PPI Adj'!D6) -> 157895.1 | G21: =132300*('PPI Adj'!D6) -> 154394.1 | H21: =142300*('PPI Adj'!D6) -> 166064.1
A22: Additional Options NYS Discount | B22: The minimum percentage amount that shall be deducted from the MSRP for all Additional Options purchased under the Contract for this Item. | F22: 22 | G22: 22 | H22: 22
A24: PART 3: Base Item Specifications | F24: Blue Bird
A25: Category | B25: Specification | C25: Information provided in Yellow Cells | F25: Diesel | G25: Gas | H25: LPG
A26: General | B26: A School Bus with a Body installed upon a cowl and Chassis constructed using a chassis with a hood and front fender assembly. All of the engine is in front of the windshield and the entrance door is behind the front wheels. This is also known as a conventional school bus. This type also includes the cutaway truck chassis or truck chassis with cab, with or without a left side door, and with a GVWR greater than 16,000 pounds. | C26: Gross Vehicle Weight Rating (GVWR) [lbs]: | F26: 31000 | G26: 31000 | H26: 31000
A27: Capacity | B27: Minimum sixty-four (64) Pupils. | C27: Number of rows: | F27: 11 | G27: 11 | H27: 11
C28: Number of Pupils: | F28: 65 | G28: 65 | H28: 65
A29: Rear Wheels | B29: Dual Rear Wheel (DRW) | F29: DRW | G29: DRW | H29: DRW
A30: Dimensions | C30: Wheelbase [inches]: | F30: 252 | G30: 252 | H30: 252
C31: Length (bumper to bumper) [inches]: | F31: 442.29 | G31: 442.29 | H31: 442.29
C32: Body width (inside) [inches]: | F32: 90.75 | G32: 90.75 | H32: 90.75
C33: Body headroom (standard) [inches]: | F33: 77 | G33: 77 | H33: 77
C34: Cowl to rear axle length [inches]: | F34: 296.75 | G34: 296.75 | H34: 296.75
A35: Cowl/Hood | B35: Forward tilting style cowl/hood assembly.
A36: Front Axle | C36: Gross Axle Weight Rating (GAWR) [lbs]: | F36: 12000 | G36: 12000 | H36: 12000
C37: Front axle capacity [lbs]: | F37: 12000 | G37: 12000 | H37: 12000
A38: Rear Axle | C38: Gross Axle Weight Rating (GAWR) [lbs]: | F38: 21000 | G38: 21000 | H38: 21000
C39: Rear axle capacity [lbs]: | F39: 21000 | G39: 21000 | H39: 21000
A40: Steering | B40: Power steering
A41: Brakes | B41: Chassis manufacturer's typical full air service brake system. A liquid-cooled, engine-lubricated air compressor, that is compliant with FMVSS (49 CFR 571.121.S5.1.1.), shall be provided. The air brake system shall be equipped with an automatic drain valve on the wet tank that may be unheated, a valve that can be manually opened on each air tank, and an air dryer/ejector that may be unheated. The system shall include a spring set parking brake. System shall be compliant with FMVSS (49 CFR 571.121), including the latest revision thereof. All brakes shall have automatic slack adjusters. | C41: Air Compressor size, Make & Model: | F41: 18.7 CFM, Cummins | G41: 18.7 CFM, Cummins | H41: 18.7 CFM, Cummins
C42: Air Dryer size, Make & Model: | F42: 7" x 10.3" Bendix AD-IP | G42: 7" x 10.3" Bendix AD-IP | H42: 7" x 10.3" Bendix AD-IP
A44: Brakes | B44: Antilock Brake System (ABS), and an audio & visual warning system for system malfunctions.
A45: Tires | B45: Tires shall meet the minimum requirements for the Chassis Model, as published by the Chassis manufacturer. | C45: Front radial tires size (load range letter) | F45: 11R22.5 (H) | G45: 11R22.5 (H) | H45: 11R22.5 (H)
C46: Front radial tires capacity | F46: 6610 | G46: 6610 | H46: 6610
C47: Rear radial tires size (load range letter) | F47: 11R22.5 (H) | G47: 11R22.5 (H) | H47: 11R22.5 (H)
C48: Rear radial tires capacity | F48: 6005 | G48: 6005 | H48: 6005
C49: Front Tires Option Code: | F49: 40356-13 | G49: 40356-13 | H49: 40356-13
C50: Front Tires Make & Tread Designation: | F50: Kumho, KRS12E | G50: Kumho, KRS12E | H50: Kumho, KRS12E
C51: Rear Tires Option Code: | F51: 40356-13 | G51: 40356-13 | H51: 40356-13
C52: Rear Tires Make & Tread Designation: | F52: Kumho, KRS12E | G52: Kumho, KRS12E | H52: Kumho, KRS12E
A53: Transmission | B53: Automatic transmission with manufacturer's standard or optional temperature indicator at the operator's control panel. | C53: Number of forward gears: | F53: 5 | G53: 5 | H53: 5
C54: Gears direct or w/O.D.?: | F54: Direct | G54: Direct | H54: Direct
C55: Option Code, Make & Model: | F55: 40432-14, Allison 2500 | G55: 40432-14, Allison 2500 | H55: 40432-14, Allison 2500
A56: Engine | B56: Engine shall have a manufacturer's standard water cooled engine complete with accessories, as called for under classification. Engine shall develop full-rated torque and horsepower without requiring the use of premium grade fuel for any condition of operation. The Diesel engine shall develop full-rated torque and horsepower with the use of both ultra low sulfur grade diesel fuel and renewable diesel fuel.
A57: Engine Equipment | B57: Engine shall include silicone radiator and heater hoses (or equivalently rated/warranted). Diesel engine shall include cold weather starting aid. | F57: 40108-01 | G57: 40108-01 | H57: 40108-01
A58: Alternator | B58: Alternator shall be of the integrally-rectified type, with an SAE continuous ampere output rating that is capable of at least powering all electrical devices energized simultaneously and an additional output of ten (10) or more amperes; and shall be driven by a single serpentine belt (or equivalent) or gear driven, and shall have full-transistor type voltage regulators. Wiring harness sizes shall be not less than the alternator manufacturer's recommendations. | C58: Option Code, Make & Model: | F58: 40134-07, L/N AVI160 | G58: 40134-07, L/N AVI160 | H58: 40134-07, L/N AVI160
C59: Capacity [amps]: | F59: 240 | G59: 240 | H59: 240
A60: Battery(ies) | B60: Three (3) "No Maintenance" type batteries with a total capacity of 2400-CCA and a 145-minute reserve capacity. The battery cables (- and +) shall be the same size and weight and be equal to (or better than) the larger cable recommended by the School Bus manufacturer. | C60: Model or Option Code: | F60: 40142-06 | G60: 40142-06 | H60: 40142-06
C61: Number of batteries: | F61: 3 | G61: 3 | H61: 3
C62: Cold Cranking Amp (CCA) rating of each battery at 0oF | F62: 700 | G62: 700 | H62: 700
A63: Electrical | B63: Units shall have headlights turned on when the engine is running.
A64: Electrical | B64: Driver's compartment dome light shall be so directed to provide illumination for the bus driver and be controlled by an independent switch.
A65: Electrical | B65: All exterior lamps, except headlamps, shall be Light Emitting Diode (LED) design that meet applicable SAE standards.
A66: Horns | B66: An electrical horn(s) shall be provided that meets SAE standard J377. An air horn shall not be an approved Compatible Equivalent.
A67: Door (Entrance) | B67: Minimum 24 inch opening. | C67: Type and clear width [inches]: | F67: O/O 27" | G67: O/O 27" | H67: O/O 27"
A68: Stepwell (Entrance) | B68: Structural, tread and riser members shall be constructed entirely of rust/corrosion-resistant steel, components and fasteners or materials of equivalent or stronger structural integrity. Manufacturer's standard floor/stair coverings shall be used for finish surfaces.
A69: Fuel Tank(s) | B69: Diesel and gasoline engine Base Items shall have a sixty (60) gallon fuel capacity. LPG and CNG shall have the minimum construction and protection required by NFPA | C69: Capacity [gallons/cu. ft.]: | F69: 60 Gallons | G69: 60 Gallons | H69: 60 Gallons
C70: Number and location of fuel tanks: | F70: 1 Center Mount, Aft of axle | G70: 1 Center Mount, Aft of axle | H70: 1 Center Mount, Aft of axle
A71: Mirrors | B71: The vertical rectangular exterior driving mirrors shall be the heated defrosting type with their own switch and pilot light. Crossview mirrors shall be provided at front corners of each bus.
A72: Seating | B72: Manufacturer's standard or optional seat spacing that meets or exceeds the NYCRR minimum requirement for the respective class of School Bus with the minimum Pupil capacity stated above.
A73: Seatbelt (ambulatory) | B73: Seat belts shall be provided for each individual seating space. Seat belts shall meet current federal safety standards and shall be of a type approved by, and installed in accordance, with the rules and regulations established by NYS DOT in subdivision five (5) of section three-hundred eighty-three (383) of the New York State Vehicle and Traffic Laws dated July 30, 1986 and NYCRR, Title 17, Part 720, or the latest revision thereof.
A74: Stop Arm(s) (Power) | B74: Shall be entrance-door activated, electric or air-positioning type, and be provided streetside on all School Buses. It shall be compliant with FMVSS (49 CFR 571.131). Buses with a capacity of 45 persons or more shall have an additional and same model stop-arm at the rear streetside of the bus. | C74: Make & Model: | F74: Electric, Specialty SE27970D-SP | G74: Electric, Specialty SE27970D-SP | H74: Electric, Specialty SE27970D-SP
A75: "School Bus" Signs | B75: Both front and rear shall comply with Article 9, Section 375.20 of the New York State Vehicle and Traffic Law.
A76: 8 Lamp Warning System (School Bus) | B76: Shall be compliant with SAE J887. | C76: Make & Model: | F76: Lucidity 00124870/72 | G76: Lucidity 00124870/72 | H76: Lucidity 00124870/72
A77: Exterior Reflective Markings | B77: All units with a capacity of ten (10) or more Pupils shall be equipped with exterior reflective markings as required by FMVSS (49 CFR 571.217) and NYCRR (Title 15, Department of Motor Vehicles, Part D, 46.12).
A78: Floor | B78: Manufacturer's standard insulated floor design shall be provided throughout the School Bus.
A79: Heaters | B79: Minimum passenger compartment heating shall meet the requirements of NYCRR, Title 17, Part 720.4(I) Heaters, or the latest revision thereof.
A80: Door (Rear Emergency Exit) | B80: Shall include lower glass.
A82: PART 4: Optional Equipment NYS Contract Pricing | F82: Blue Bird
A83: Optional Equipment (see Specifications and Equipment Provided below) | F83: Diesel | G83: Gas | H83: LPG
A84: Capacity - Delete One (1) Row of Seating | F84: =-1337.32*('PPI Adj'!D6) -> -1560.6524 | G84: =-1337.32*('PPI Adj'!D6) -> -1560.6524 | H84: =-1337.32*('PPI Adj'!D6) -> -1560.6524
A85: Child Presence Check / Alarm | F85: =544.44*('PPI Adj'!D6) -> 635.36148 | G85: =544.44*('PPI Adj'!D6) -> 635.36148 | H85: =544.44*('PPI Adj'!D6) -> 635.36148
A86: Glass (Tinted) | F86: =648.18*('PPI Adj'!D6) -> 756.42606 | G86: =648.18*('PPI Adj'!D6) -> 756.42606 | H86: =648.18*('PPI Adj'!D6) -> 756.42606
A87: Rear Axle, "No Spin" | F87: =1340.82*('PPI Adj'!D6) -> 1564.7369 | G87: =1340.82*('PPI Adj'!D6) -> 1564.7369 | H87: =1340.82*('PPI Adj'!D6) -> 1564.7369
A88: Tires (Snow) | F88: =655.98*('PPI Adj'!D6) -> 765.52866 | G88: =655.98*('PPI Adj'!D6) -> 765.52866 | H88: =655.98*('PPI Adj'!D6) -> 765.52866
A89: Tires (All-Season) | F89: Included in Base Item | G89: Included in Base Item | H89: Included in Base Item
A90: Floor With Recessed Wheelchair Restraint Track For One Wheelchair Station. | F90: =1202.76*('PPI Adj'!D6) -> 1403.6209 | G90: =1202.76*('PPI Adj'!D6) -> 1403.6209 | H90: =1202.76*('PPI Adj'!D6) -> 1403.6209
A91: Floor (Flat) With Recessed Wheelchair Track Throughout Entire Body | F91: =5086.97*('PPI Adj'!D6) -> 5936.494 | G91: =5086.97*('PPI Adj'!D6) -> 5936.494 | H91: =5086.97*('PPI Adj'!D6) -> 5936.494
A92: Wheelchair Lift | F92: =6533.28*('PPI Adj'!D6) -> 7624.3378 | G92: =6533.28*('PPI Adj'!D6) -> 7624.3378 | H92: =6533.28*('PPI Adj'!D6) -> 7624.3378
A93: Roof Ventilator / Emergency Exit | F93: =97.5*('PPI Adj'!D6) -> 113.7825 | G93: =97.5*('PPI Adj'!D6) -> 113.7825 | H93: =97.5*('PPI Adj'!D6) -> 113.7825
A94: White Roof | F94: =397.8*('PPI Adj'!D6) -> 464.2326 | G94: =397.8*('PPI Adj'!D6) -> 464.2326 | H94: =397.8*('PPI Adj'!D6) -> 464.2326
A95: High Headroom | F95: Included in Base Item | G95: Included in Base Item | H95: Included in Base Item
A96: Crossing Arm | F96: =723.06*('PPI Adj'!D6) -> 843.81102 | G96: =723.06*('PPI Adj'!D6) -> 843.81102 | H96: =723.06*('PPI Adj'!D6) -> 843.81102
A97: Auxiliary Engine Coolant Heater | F97: =3939.22*('PPI Adj'!D6) -> 4597.0697 | G97: =3939.22*('PPI Adj'!D6) -> 4597.0697 | H97: =3939.22*('PPI Adj'!D6) -> 4597.0697
A98: Vandal Lock | F98: =578.76*('PPI Adj'!D6) -> 675.41292 | G98: =578.76*('PPI Adj'!D6) -> 675.41292 | H98: =578.76*('PPI Adj'!D6) -> 675.41292
A99: Air Conditioning | F99: =7483.25*('PPI Adj'!D6) -> 8732.9528 | G99: =7483.25*('PPI Adj'!D6) -> 8732.9528 | H99: =7483.25*('PPI Adj'!D6) -> 8732.9528
A100: School Bus Safety Camera | F100: =1800*('PPI Adj'!D6) -> 2100.6 | G100: =1800*('PPI Adj'!D6) -> 2100.6 | H100: =1800*('PPI Adj'!D6) -> 2100.6
A101: Delete Exterior LED Lamps | F101: =-413.21*('PPI Adj'!D6) -> -482.21607 | G101: =-413.21*('PPI Adj'!D6) -> -482.21607 | H101: =-413.21*('PPI Adj'!D6) -> -482.21607
A102: Multifunction School Activity Bus | F102: =1013.03*('PPI Adj'!D6) -> 1182.206 | G102: =1013.03*('PPI Adj'!D6) -> 1182.206 | H102: =1013.03*('PPI Adj'!D6) -> 1182.206
A104: PART 4: Optional Equipment Specifications | F104: Blue Bird
A105: Optional Equipment | B105: Specification | C105: Information provided in Yellow Cells | F105: Diesel | G105: Gas | H105: LPG
A106: Capacity - Delete One (1) Row of Seating | B106: Delete one (1) full row of seating (both left and right sides) without removing a Body section from the Base Item, or altering the spacing between the remaining seats. | F106: Delete two rear seats with lap belts | G106: Delete two rear seats with lap belts | H106: Delete two rear seats with lap belts
...

Sheet C (Item 4-EV)
A1: ='A (Item 2-G)'!$A$1 -> GROUP 40524-23254, SCHOOL BUSES (Statewide) Attachment 1 - Specifications and Pricing (Revised October 15, 2026)
A2: ='Attachment 1 - Summary'!B2 -> PC69864 New York Bus Sales, LLC
A3: LOT C (Item 4-EV)
A4: Type C, 64 Pupil Conventional Front-Engine Bus (Electric, Minimum 64 Pupils)
A6: PART 1: Product information for the Base Item(s) Awarded | F6: Blue Bird
A7: Category | B7: Information provided in Yellow Cells | F7: ELECTRIC
A8: Engine | B8: Information identifying the engine for the fuel type offered. | F8: TM4 LSM200CHV3000; Six Phase AC Perm. Magnet Induct. Motor; 315 Peak HP, 2400 Peak Torque
A9: NYS DOT Approval Number | B9: The NYS DOT Approval Number for the School Bus. Only School Buses approved by NYS DOT Passenger Carrier Safety Bureau for use as 2022 and newer Models, as indicated by a NYS DOT Approval Number, shall be delivered pursuant to the Contract. | F9: 2147-NY-65-00WC-BBB
A10: Chassis Make | B10: The OEM company name of a Chassis. | F10: Blue Bird
A11: Chassis Model | B11: The Model name of the Chassis | F11: BBCV
A12: Chassis Model Code | B12: The OEM code used to identify the subset of the Chassis Model. | F12: 3011
A13: Body Make | B13: The OEM company name of a Body. | F13: Blue Bird
A14: Body Model | B14: The Model name of the Body | F14: Vision
A15: Body Model Code | B15: The OEM code used to identify the subset of the Body Model. | F15: 3011
A16: Pick Up Allowance | B16: The dollar amount, per School Bus, that will be deducted from the Base Item NYS Contract Price, if the Authorized User elects to pick up the School Bus at the Contractor's location. | F16: 100
A17: Delivery Time | B17: The estimated delivery time for the School Bus, expressed in number of calendar days, required to make delivery after receipt of a final Purchase Order (After Receipt of Order (“ARO”)) | F17: 210-365
A19: PART 2: Pricing for the Base Item, Additional Body Section, and Additional Options | F19: Blue Bird
A20: Category | B20: Information provided in Yellow Cells | F20: ELECTRIC
A21: Base Item NYS Contract Price | B21: The per unit NYS Contract Price (dollar amount) for the School Bus described in the Base Item Specifications. The Base Item NYS Contract Price includes any OEM fees, all customs duties and charges, all vehicle preparation and clean-up charges, NYS DOT inspection, installation charges, delivery and all other incidentals normally included with providing a School Bus, but excludes Optional Equipment, Additional Body Section(s), and Additional Options. | F21: =397900*('PPI Adj'!D6) -> 464349.3
A22: Additional Options NYS Discount | B22: The minimum percentage amount that shall be deducted from the MSRP for all Additional Options purchased under the Contract for this Item. | F22: 22
A24: PART 3: Base Item Specifications | F24: Blue Bird
A25: Category | B25: Specification | C25: Information provided in Yellow Cells | F25: ELECTRIC
A26: General | B26: A School Bus with a Body installed upon a cowl and Chassis constructed using a chassis with a hood and front fender assembly. All of the engine is in front of the windshield and the entrance door is behind the front wheels. This is also known as a conventional school bus. This type also includes the cutaway truck chassis or truck chassis with cab, with or without a left side door, and with a GVWR greater than 16,000 pounds. | C26: Gross Vehicle Weight Rating (GVWR) [lbs]: | F26: 33000
A27: Capacity | B27: Minimum forty-six (46) Pupils. | C27: Number of rows: | F27: 11
C28: Number of Pupils: | F28: 65
A29: Rear Wheels | B29: Dual Rear Wheel (DRW) | F29: DRW
A30: Dimensions | C30: Wheelbase [inches]: | F30: 252
C31: Length (bumper to bumper) [inches]: | F31: 442.29
C32: Body width (inside) [inches]: | F32: 90.75
C33: Body headroom (standard) [inches]: | F33: 77
C34: Cowl to rear axle length [inches]: | F34: 296.75
A35: Cowl/Hood | B35: Forward tilting style cowl/hood assembly.
A36: Front Axle | C36: Gross Axle Weight Rating (GAWR) [lbs]: | F36: 12000
C37: Front axle capacity [lbs]: | F37: 12000
A38: Rear Axle | C38: Gross Axle Weight Rating (GAWR) [lbs]: | F38: 23000
C39: Rear axle capacity [lbs]: | F39: 23000
A40: Steering | B40: Power steering
A41: Brakes | B41: Chassis manufacturer's typical full air service brake system. A liquid-cooled, engine-lubricated air compressor, that is compliant with FMVSS (49 CFR 571.121.S5.1.1.), shall be provided. The air brake system shall be equipped with an automatic drain valve on the wet tank that may be unheated, a valve that can be manually opened on each air tank, and an air dryer/ejector that may be unheated. The system shall include a spring set parking brake. System shall be compliant with FMVSS (49 CFR 571.121), including the latest revision thereof. All brakes shall have automatic slack adjusters. | C41: Air Compressor size, Make & Model: | F41: AirSquared, P17H043D
C42: Air Dryer size, Make & Model: | F42: 7" x 10.3" Bendix AD-IP
A44: Brakes | B44: Antilock Brake System (ABS), and an audio & visual warning system for system malfunctions.
A45: Tires | B45: Tires shall meet the minimum requirements for the Chassis Model, as published by the Chassis manufacturer. | C45: Front radial tires size (load range letter) | F45: 11R22.5 (H)
C46: Front radial tires capacity | F46: 6610
C47: Rear radial tires size (load range letter) | F47: 11R22.5 (H)
C48: Rear radial tires capacity | F48: 6005
C49: Front Tires Option Code: | F49: 40356-13
C50: Front Tires Make & Tread Designation: | F50: Kumho, KRS12E
C51: Rear Tires Option Code: | F51: 40356-13
C52: Rear Tires Make & Tread Designation: | F52: Kumho, KRS12E
A53: Transmission | B53: Automatic transmission with manufacturer's standard or optional temperature indicator at the operator's control panel. | C53: Number of forward gears: | F53: 1
C54: Gears direct or w/O.D.?: | F54: Direct
C55: Option Code, Make & Model: | F55: N/A - No Transmission
A56: Propulsion System | B56: Propulsion system which furnishes high-wattage electric power to the motor(s), that propels the vehicle forward or backward, and is sometimes referred to as the “main or power drive circuitry.” | C56: Vehicle range on full charge [miles]: | F56: 120
A57: Battery(ies) | B57: Three (3) "No Maintenance" type batteries with a total capacity of 2400-CCA and a 145-minute reserve capacity. The battery cables (- and +) shall be the same size and weight and be equal to (or better than) the larger cable recommended by the School Bus manufacturer. | C57: Number of Batteries: | F57: 14- 2 Strings of 7
C58: Type of Batteries: | F58: Li-NMC-G
C59: System Design Voltage: | F59: 700
A60: Electrical | B60: Units shall have headlights turned on when the engine is running.
A61: Electrical | B61: Driver's compartment dome light shall be so directed to provide illumination for the bus driver and be controlled by an independent switch.
A62: Electrical | B62: All exterior lamps, except headlamps, shall be Light Emitting Diode (LED) design that meet applicable SAE standards.
A63: Horns | B63: An electrical horn(s) shall be provided that meets SAE standard J377. An air horn shall not be an approved Compatible Equivalent.
A64: Door (Entrance) | B64: Minimum 24 inch opening. | C64: Type and clear width [inches]: | F64: O/O 27"
A65: Stepwell (Entrance) | B65: Structural, tread and riser members shall be constructed entirely of rust/corrosion-resistant steel, components and fasteners or materials of equivalent or stronger structural integrity. Manufacturer's standard floor/stair coverings shall be used for finish surfaces.
A66: Mirrors | B66: The vertical rectangular exterior driving mirrors shall be the heated defrosting type with their own switch and pilot light. Crossview mirrors shall be provided at front corners of each bus.
A67: Seating | B67: Manufacturer's standard or optional seat spacing that meets or exceeds the NYCRR minimum requirement for the respective class of School Bus with the minimum Pupil capacity stated above.
A68: Seatbelt (ambulatory) | B68: Seat belts shall be provided for each individual seating space. Seat belts shall meet current federal safety standards and shall be of a type approved by, and installed in accordance, with the rules and regulations established by NYS DOT in subdivision five (5) of section three-hundred eighty-three (383) of the New York State Vehicle and Traffic Laws dated July 30, 1986 and NYCRR, Title 17, Part 720, or the latest revision thereof.
A69: Stop Arm(s) (Power) | B69: Shall be entrance-door activated, electric or air-positioning type, and be provided streetside on all School Buses. It shall be compliant with FMVSS (49 CFR 571.131). Buses with a capacity of 45 persons or more shall have an additional and same model stop-arm at the rear streetside of the bus. | C69: Make & Model: | F69: Electric, Specialty SE27970D-SP
A70: "School Bus" Signs | B70: Both front and rear shall comply with Article 9, Section 375.20 of the New York State Vehicle and Traffic Law.
A71: 8 Lamp Warning System (School Bus) | B71: Shall be compliant with SAE J887. | C71: Make & Model: | F71: Lucidity 00124870/72
A72: Exterior Reflective Markings | B72: All units with a capacity of ten (10) or more Pupils shall be equipped with exterior reflective markings as required by FMVSS (49 CFR 571.217) and NYCRR (Title 15, Department of Motor Vehicles, Part D, 46.12).
A73: Floor | B73: Manufacturer's standard insulated floor design shall be provided throughout the School Bus.
A74: Heaters | B74: Minimum passenger compartment heating shall meet the requirements of NYCRR, Title 17, Part 720.4(I) Heaters, or the latest revision thereof. | C74: Heater Power Source: | F74: Propulsion Batteries
A75: Door (Rear Emergency Exit) | B75: Shall include lower glass.
A77: PART 4: Optional Equipment NYS Contract Pricing | F77: Blue Bird
A78: Optional Equipment (see Specifications and Equipment Provided below) | F78: ELECTRIC
A79: Capacity - Delete One (1) Row of Seating | F79: =-1337.32*('PPI Adj'!D6) -> -1560.6524
A80: Child Presence Check / Alarm | F80: =544.44*('PPI Adj'!D6) -> 635.36148
A81: Glass (Tinted) | F81: =648.18*('PPI Adj'!D6) -> 756.42606
A82: Rear Axle, "No Spin" | F82: =1340.82*('PPI Adj'!D6) -> 1564.7369
A83: Tires (Snow) for 4 tires | F83: =655.98*('PPI Adj'!D6) -> 765.52866
A84: Tires (All-Season) | F84: Included in Base Item
A85: Floor With Recessed Wheelchair Restraint Track For One Wheelchair Station. | F85: =1202.76*('PPI Adj'!D6) -> 1403.6209
A86: Floor (Flat) With Recessed Wheelchair Track Throughout Entire Body | F86: =5086.97*('PPI Adj'!D6) -> 5936.494
A87: Wheelchair Lift | F87: =6533.28*('PPI Adj'!D6) -> 7624.3378
A88: Roof Ventilator / Emergency Exit | F88: =97.5*('PPI Adj'!D6) -> 113.7825
A89: White Roof | F89: =397.8*('PPI Adj'!D6) -> 464.2326
A90: High Headroom | F90: Included in Base Item
A91: Crossing Arm | F91: =723.06*('PPI Adj'!D6) -> 843.81102
A92: Vandal Lock | F92: =578.76*('PPI Adj'!D6) -> 675.41292
A93: Air Conditioning | F93: =21524.55*('PPI Adj'!D6) -> 25119.15
A94: School Bus Safety Camera | F94: =1800*('PPI Adj'!D6) -> 2100.6
A95: Delete Exterior LED Lamps | F95: =-413.21*('PPI Adj'!D6) -> -482.21607
A96: Multifunction School Activity Bus | F96: =1013.03*('PPI Adj'!D6) -> 1182.206
A98: PART 4: Optional Equipment Specifications | F98: Blue Bird
A99: Optional Equipment | B99: Specification | C99: Information provided in Yellow Cells | F99: ELECTRIC
A100: Capacity - Delete One (1) Row of Seating | B100: Delete one (1) full row of seating (both left and right sides) without removing a Body section from the Base Item, or altering the spacing between the remaining seats. | F100: Delete two rear seats with lap belts
A101: Child Presence Check / Alarm | B101: Shall be the Child Check-mate System Model EP 2, or Compatible Equivalent. | C101: Make & Model: | F101: Child Check Mate, CCM-3
A102: Glass (Tinted) | B102: The School Bus windshield and Body windows shall have the manufacturer's typical options that provide tinted glass windows throughout the vehicle and shall comply with Article 9, Section 375.12a. of the New York State Vehicle and Traffic Law.
A103: Rear Axle, "No Spin" | B103: The manufacturer’s standard device (e.g., power-lock, limited-slip, no-spin, positive-traction). | C103: Type of device: | F103: 40018-60, No Spin
A104: Tires (Snow) | B104: Snow tread tires shall be provided on all drive wheels. Tires shall be Federal class D/A, STC (with snow traction capability), or class S/T, or A/T, AP with STC, or other class with STC. The price entered for this Optional Equipment shall be for four (4) tires. Tires furnished on the rear wheels shall be the same size and adequate for axle's GAWR. | C104: Rear radial tires size (load range letter) [LT_____/_____R_____._____(_____)]: | F104: 11R22.5 (H)
C105: Rear radial tires capacity [_____,_____-lbs]: | F105: 6005
C106: Rear Tires Option Code: | F106: 40356-09
...

Sheet D (Item 1-D)
A1: ='A (Item 2-G)'!$A$1 -> GROUP 40524-23254, SCHOOL BUSES (Statewide) Attachment 1 - Specifications and Pricing (Revised October 15, 2026)
A2: ='Attachment 1 - Summary'!B2 -> PC69864 New York Bus Sales, LLC
A3: LOT D (Item 1-D)
A4: Type D, 53 Pupil Forward Control Transit Style Bus (Diesel; Minimum 24 Pupils, Maximum 64 Pupils)
A6: PART 1: Product information for the Base Item(s) Awarded | F6: Blue Bird
A7: Category | B7: Information provided in Yellow Cells | F7: Diesel
A8: Engine | B8: Information identifying the engine for the fuel type offered. | F8: 40179-47; Cummins B6.7; 6 Cyl, 6.7L, 200HP at 2,400 RPM, 520 lb. ft. torque @ 1,600 RPM.
A9: NYS DOT Approval Number | B9: The NYS DOT Approval Number for the School Bus. Only School Buses approved by NYS DOT Passenger Carrier Safety Bureau for use as 2022 and newer Models, as indicated by a NYS DOT Approval Number, shall be delivered pursuant to the Contract. | F9: 2063-54-00WC-BBB
A10: Chassis Make | B10: The OEM company name of a Chassis. | F10: Blue Bird
A11: Chassis Model | B11: The Model name of the Chassis. | F11: T3FE
A12: Chassis Model Code | B12: The OEM code used to identify the subset of the Chassis Model. | F12: 2903
A13: Body Make | B13: The OEM company name of a Body. | F13: Blue Bird
A14: Body Model | B14: The Model name of the Body. | F14: All American
A15: Body Model Code | B15: The OEM code used to identify the subset of the Body Model. | F15: 2903
A16: Pick Up Allowance | B16: The dollar amount, per School Bus, that will be deducted from the Base Item NYS Contract Price, if the Authorized User elects to pick up the School Bus at the Contractor's location. | F16: 100
A17: Delivery Time | B17: The estimated delivery time for the School Bus, expressed in number of calendar days, required to make delivery after receipt of a final Purchase Order (After Receipt of Order (“ARO”)). | F17: 210-270
A19: PART 2: Pricing for the Base Item, Additional Body Section, and Additional Options | F19: Blue Bird
A20: Category | B20: Information provided in Yellow Cells | F20: Diesel
A21: Base Item NYS Contract Price | B21: The per unit NYS Contract Price (dollar amount) for the School Bus described in the Base Item Specifications. The Base Item NYS Contract Price includes any OEM fees, all customs duties and charges, all vehicle preparation and clean-up charges, NYS DOT inspection, installation charges, delivery and all other incidentals normally included with providing a School Bus, but excludes Optional Equipment, Additional Body Section(s), and Additional Options. | F21: =146100*('PPI Adj'!D6) -> 170498.7
A22: Additional Options NYS Discount | B22: The minimum percentage amount that shall be deducted from the MSRP for all Additional Options purchased under the Contract for this Item. | F22: 22
A24: PART 3: Base Item Specifications | F24: Blue Bird
A25: Category | B25: Specification | C25: Information provided in Yellow Cells | F25: Diesel
A26: General | B26: A School Bus with a Body installed upon a Chassis or unitized type construction, with the engine mounted in the front with a GVWR of greater than 16,000 pounds and designed to carry more than 10 persons. The engine shall be behind the windshield and beside the driver’s seat. The entrance door is ahead of the front wheels. | C26: Gross Vehicle Weight Rating (GVWR) [lbs]: | F26: 29350
A27: Capacity | B27: Minimum twenty-four (24) Pupils. | C27: Number of rows: | F27: 9
C28: Number of Pupils: | F28: 54
A29: Rear Wheels | B29: Dual Rear Wheel (DRW)
A30: Dimensions | C30: Wheelbase [inches]: | F30: 141"
C31: Length (bumper to bumper) [inches]: | F31: 352.9"
C32: Body width (inside) [inches]: | F32: 90.75"
C33: Body headroom (standard) [inches]: | F33: 77"
C34: Cowl to rear axle length [inches]: | F34: 235.5"
A35: Front Axle | C35: Gross Axle Weight Rating (GAWR) [lbs]: | F35: 12350
C36: Front axle capacity [lbs]: | F36: 13200
A37: Rear Axle | C37: Gross Axle Weight Rating (GAWR) [lbs]: | F37: 17000
C38: Rear axle capacity [lbs]: | F38: 21000
A39: Steering | B39: Power steering
A40: Brakes | B40: Chassis manufacturer's typical full air service brake system. A liquid-cooled, engine-lubricated air compressor, that is compliant with FMVSS (49 CFR 571.121.S5.1.1.), shall be provided. The air brake system shall be equipped with an automatic drain valve on the wet tank that may be unheated, a valve that can be manually opened on each air tank, and an air dryer/ejector that may be unheated. The system shall include a spring set parking brake. System shall be compliant with FMVSS (49 CFR 571.121), including the latest revision thereof. All brakes shall have automatic slack adjusters. | C40: Air Compressor size, Make & Model: | F40: MGM
C41: Air Dryer size, Make & Model: | F41: 7" x 10.3" Bendix AD-IP
A43: Brakes | B43: Antilock Brake System (ABS), and an audio & visual warning system for system malfunctions.
A44: Tires | B44: Tires shall meet the minimum requirements for the Chassis Model, as published by the Chassis manufacturer. | C44: Front radial tires size (load range letter) | F44: 11R22.5 (H)
C45: Front radial tires capacity | F45: 6610
C46: Rear radial tires size (load range letter) | F46: 11R22.5 (H)
C47: Rear radial tires capacity | F47: 6005
C48: Front Tires Option Code: | F48: 40356-13
C49: Front Tires Make & Tread Designation: | F49: KRS12E
C50: Rear Tires Option Code: | F50: 40356-13
C51: Rear Tires Make & Tread Designation: | F51: KRS12E
A52: Transmission | B52: Automatic transmission with manufacturer's standard or optional temperature indicator at the operator's control panel. | C52: Number of forward gears: | F52: 5
C53: Gears direct or w/O.D.?: | F53: 1 w/ O.D
C54: Option Code, Make & Model: | F54: 40432-14: Allison 2500PTS
A55: Engine | B55: Engine shall have a manufacturer's standard water cooled engine complete with accessories, as called for under classification. Engine shall develop full-rated torque and horsepower without requiring the use of premium grade fuel for any condition of operation. The Diesel engine shall develop full-rated torque and horsepower with the use of both ultra low sulfur grade diesel fuel and renewable diesel fuel.
A56: Engine Equipment | B56: Engine shall include silicone radiator and heater hoses (or equivalently rated/warranted). Diesel engine shall include cold weather starting aid.
A57: Alternator | B57: Alternator shall be of the integrally-rectified type, with an SAE continuous ampere output rating that is capable of at least powering all electrical devices energized simultaneously and an additional output of ten (10) or more amperes; and shall be driven by a single serpentine belt (or equivalent) or gear driven, and shall have full-transistor type voltage regulators. Wiring harness sizes shall be not less than the alternator manufacturer's recommendations. | C57: Option Code, Make & Model: | F57: 40134-07, L/N AVI160
C58: Capacity [amps]: | F58: 240
A59: Battery(ies) | B59: Three (3) "No Maintenance" type batteries with a total capacity of 2400-CCA and a 145-minute reserve capacity. The battery cables (- and +) shall be the same size and weight and be equal to (or better than) the larger cable recommended by the School Bus manufacturer. | C59: Model or Option Code: | F59: 40142-06
C60: Number of batteries: | F60: 3
C61: Cold Cranking Amp (CCA) rating of each battery at 0oF | F61: 700
A62: Electrical | B62: Units shall have headlights turned on when the engine is running.
A63: Electrical | B63: Driver's compartment dome light shall be so directed to provide illumination for the bus driver and be controlled by an independent switch.
A64: Electrical | B64: All exterior lamps, except headlamps, shall be Light Emitting Diode (LED) design that meet applicable SAE standards.
A65: Horns | B65: An electrical horn(s) shall be provided that meets SAE standard J377. An air horn shall not be an approved Compatible Equivalent.
A66: Door (Entrance) | B66: Minimum 24 inch opening. | C66: Type and clear width [inches]: | F66: O/O Electric, 32"
A67: Stepwell (Entrance) | B67: Structural, tread and riser members shall be constructed entirely of rust/corrosion-resistant steel, components and fasteners or materials of equivalent or stronger structural integrity. Manufacturer's standard floor/stair coverings shall be used for finish surfaces.
A68: Fuel Tank(s) | B68: Diesel and gasoline engine Base Items shall have a sixty (60) gallon fuel capacity. LPG and CNG shall have the minimum construction and protection required by NFPA | C68: Capacity [gallons/cu. ft.]: | F68: 60 Gallons
C69: Number and location of fuel tanks: | F69: 1 Center Mount, Aft of axle
A70: Mirrors | B70: The vertical rectangular exterior driving mirrors shall be the heated defrosting type with their own switch and pilot light. Crossview mirrors shall be provided at front corners of each bus.
A71: Seating | B71: Manufacturer's standard or optional seat spacing that meets or exceeds the NYCRR minimum requirement for the respective class of School Bus with the minimum Pupil capacity stated above.
A72: Seatbelt (ambulatory) | B72: Seat belts shall be provided for each individual seating space. Seat belts shall meet current federal safety standards and shall be of a type approved by, and installed in accordance, with the rules and regulations established by NYS DOT in subdivision five (5) of section three-hundred eighty-three (383) of the New York State Vehicle and Traffic Laws dated July 30, 1986 and NYCRR, Title 17, Part 720, or the latest revision thereof.
A73: Stop Arm(s) (Power) | B73: Shall be entrance-door activated, electric or air-positioning type, and be provided streetside on all School Buses. It shall be compliant with FMVSS (49 CFR 571.131). Buses with a capacity of 45 persons or more shall have an additional and same model stop-arm at the rear streetside of the bus. | C73: Make & Model: | F73: Electric, Specialty SE27970D-SP
