Workbook

Sheet Attachment 1 - Summary
B1: Group 40524-23254, SCHOOL BUSES (Statewide) Attachment 1 - Specifications and Pricing (Revised October 15, 2026)
B2: PC69864 New York Bus Sales, LLC
B3: The Contractor has been awarded the following Items, and shall offer Base Items, Optional Equipment and Additional Body Sections sold under the Contract at net prices that are equal to the applicable NYS Contract Price that is listed on the Contract Pricelist, or less. An Authorized User may choose to add one (1) or more of the Optional Equipment from the list of Optional Equipment, and/or Additional Body Sections, associated with the Base Item (see Contract Section 3.7 Optional Equipment and Additional Body Sections). Additional Options offered by the Contractor, that are listed on the OEM or Contractor-Published Pricelist(s), may also be requested by the Authorized User (see Contract Section 3.8 Additional Options).
B4: Name and description of worksheets included in this workbook:
B5: Tab Name | C5: Description of Tab or Item | D5: Fuel Types Awarded | E5: Item Availability by County (Under this Contract) | F5: Pupil Capacity | G5: Tab Color
B6: Attachment 1 - Summary | C6: Summary of Attachment 1 - Specifications and Pricing (this worksheet)
B7: A (Item 2-G) | C7: Lot A (Item 2-G): Type A-1, SRW, Cutaway, 4 Rows | D7: Gasoline | E7: All counties, EXCEPT Bronx, Kings, Nassau, New York, Queens, Richmond, Suffolk, Westchester, and Rockland Counties. For Bronx, Kings, Nassau, New York, Queens, Richmond, Suffolk, Westchester, and Rockland Counties, please see Contract PC69860, JP Bus & Truck Repair, LTD DBA Bird Bus Sales. | F7: Minimum 16
B8: A (Item 3-G) | C8: Lot A (Item 3-G): Type A-2, DRW, Cutaway, 4 Rows | D8: Gasoline | E8: All counties, EXCEPT Bronx, Kings, Nassau, New York, Queens, Richmond, Suffolk, Westchester, and Rockland Counties. For Bronx, Kings, Nassau, New York, Queens, Richmond, Suffolk, Westchester, and Rockland Counties, please see Contract PC69860, JP Bus & Truck Repair, LTD DBA Bird Bus Sales. | F8: Minimum 20
B9: A (Item 4-G) | C9: Lot A (Item 4-G): Type A-2, DRW, Cutaway, 4 Rows | D9: Gasoline | E9: All counties, EXCEPT Bronx, Kings, Nassau, New York, Queens, Richmond, Suffolk, Westchester, and Rockland Counties. For Bronx, Kings, Nassau, New York, Queens, Richmond, Suffolk, Westchester, and Rockland Counties, please see Contract PC69860, JP Bus & Truck Repair, LTD DBA Bird Bus Sales. | F9: Minimum 24
B10: A (Item 4-EV) | C10: Lot A (Item 4-EV): Type A-2, DRW, Cutaway, 4 Rows | D10: Electric | E10: All counties, EXCEPT Bronx, Kings, Nassau, New York, Queens, Richmond, Suffolk, Westchester, and Rockland Counties. For Bronx, Kings, Nassau, New York, Queens, Richmond, Suffolk, Westchester, and Rockland Counties, please see Contract PC69860, JP Bus & Truck Repair, LTD DBA Bird Bus Sales. | F10: Minimum 24
B11: A (Item 5-G) | C11: Lot A (Item 5-G): Type A-2, DRW, Cutaway, 5 Rows | D11: Gasoline, LPG | E11: All counties, EXCEPT Bronx, Kings, Nassau, New York, Queens, Richmond, Suffolk, Westchester, and Rockland Counties. For Bronx, Kings, Nassau, New York, Queens, Richmond, Suffolk, Westchester, and Rockland Counties, please see Contract PC69860, JP Bus & Truck Repair, LTD DBA Bird Bus Sales. | F11: Minimum 30
B12: A (Item 5-EV) | C12: Lot A (Item 5-EV): Type A-2, DRW, Cutaway, 5 Rows | D12: Electric | E12: All counties, EXCEPT Bronx, Kings, Nassau, New York, Queens, Richmond, Suffolk, Westchester, and Rockland Counties. For Bronx, Kings, Nassau, New York, Queens, Richmond, Suffolk, Westchester, and Rockland Counties, please see Contract PC69860, JP Bus & Truck Repair, LTD DBA Bird Bus Sales. | F12: Minimum 30
B13: C (Item 1-D) | C13: Lot C (Item 1-D): Type C, Conventional Bus | D13: Diesel, Gasoline, LPG | E13: All counties, EXCEPT Bronx, Kings, Nassau, New York, Queens, Richmond, Suffolk, Westchester, and Rockland Counties. For Bronx, Kings, Nassau, New York, Queens, Richmond, Suffolk, Westchester, and Rockland Counties, please see Contract PC69860, JP Bus & Truck Repair, LTD DBA Bird Bus Sales. | F13: Minimum 24
B14: C (Item 2-D) | C14: Lot C (Item 2-D): Type C, Conventional Bus | D14: Diesel, Gasoline, LPG | E14: All counties, EXCEPT Bronx, Kings, Nassau, New York, Queens, Richmond, Suffolk, Westchester, and Rockland Counties. For Bronx, Kings, Nassau, New York, Queens, Richmond, Suffolk, Westchester, and Rockland Counties, please see Contract PC69860, JP Bus & Truck Repair, LTD DBA Bird Bus Sales. | F14: Minimum 46
B15: C (Item 3-D) | C15: Lot C (Item 3-D): Type C, Conventional Bus | D15: Diesel, Gasoline, LPG | E15: All counties, EXCEPT Bronx, Kings, Nassau, New York, Queens, Richmond, Suffolk, Westchester, and Rockland Counties. For Bronx, Kings, Nassau, New York, Queens, Richmond, Suffolk, Westchester, and Rockland Counties, please see Contract PC69860, JP Bus & Truck Repair, LTD DBA Bird Bus Sales. | F15: Minimum 58
B16: C (Item 4-D) | C16: Lot C (Item 4-D): Type C, Conventional Bus | D16: Diesel, Gasoline, LPG | E16: All counties, EXCEPT Bronx, Kings, Nassau, New York, Queens, Richmond, Suffolk, Westchester, and Rockland Counties. For Bronx, Kings, Nassau, New York, Queens, Richmond, Suffolk, Westchester, and Rockland Counties, please see Contract PC69860, JP Bus & Truck Repair, LTD DBA Bird Bus Sales. | F16: Minimum 64
B17: C (Item 4-EV) | C17: Lot C (Item 4-EV): Type C, Conventional Bus | D17: Electric | E17: All counties, EXCEPT Bronx, Kings, Nassau, New York, Queens, Richmond, Suffolk, Westchester, and Rockland Counties. For Bronx, Kings, Nassau, New York, Queens, Richmond, Suffolk, Westchester, and Rockland Counties, please see Contract PC69860, JP Bus & Truck Repair, LTD DBA Bird Bus Sales. | F17: Minimum 64
B18: D (Item 1-D) | C18: Lot D (Item 1-D): Type D, Forward Control Transit Style Bus | D18: Diesel | E18: All counties, EXCEPT Bronx, Kings, Nassau, New York, Queens, Richmond, Suffolk, Westchester, and Rockland Counties. For Bronx, Kings, Nassau, New York, Queens, Richmond, Suffolk, Westchester, and Rockland Counties, please see Contract PC69860, JP Bus & Truck Repair, LTD DBA Bird Bus Sales. | F18: Minimum 24
... B24: D (Item 5-EV) | C24: Lot D (Item 5-EV): Type D, Rear Engine (Pusher) Bus | D24: Electric | E24: All counties, EXCEPT Bronx, Kings, Nassau, New York, Queens, Richmond, Suffolk, Westchester, and Rockland Counties. For Bronx, Kings, Nassau, New York, Queens, Richmond, Suffolk, Westchester, and Rockland Counties, please see Contract PC69860, JP Bus & Truck Repair, LTD DBA Bird Bus Sales. | F24: Minimum 72

Sheet A (Item 2-G)
A1: GROUP 40524-23254, SCHOOL BUSES (Statewide) Attachment 1 - Specifications and Pricing (Revised October 15, 2026)
A2: PC69864 New York Bus Sales, LLC
A3: LOT A (Item 2-G)
A4: Type A-1, SRW, Cutaway, 4 Rows (Gasoline; Minimum 16 Pupils)
A6: PART 1: Product information for the Base Item(s) Awarded | F6: General Motors / Microbird
A7: Category | B7: Information provided in Yellow Cells | F7: Gasoline
A8: Engine | B8: Information identifying the engine for the fuel type offered. | F8: LV1, 4.3L, 6 Cyl., 276HP @5,200 RPM, 298 Ft. Lbs. torque @ 3,900 RPM
A9: NYS DOT Approval Number | B9: The NYS DOT Approval Number for the School Bus. Only School Buses approved by NYS DOT Passenger Carrier Safety Bureau for use as 2022 and newer Models, as indicated by a NYS DOT Approval Number, shall be delivered pursuant to the Contract. | F9: 1659-NY-16-00WC-MBI
A10: Chassis Make | B10: The OEM company name of a Chassis. | F10: General Motors
A11: Chassis Model | B11: The Model name of the Chassis. | F11: 3500
A12: Chassis Model Code | B12: The OEM code used to identify the subset of the Chassis Model. | F12: U33503-SG3
A13: Body Make | B13: The OEM company name of a Body. | F13: Microbird
A14: Body Model | B14: The Model name of the Body. | F14: MBII
A15: Body Model Code | B15: The OEM code used to identify the subset of the Body Model. | F15: UGQD4NLDSQ
A16: Pick Up Allowance | B16: The dollar amount, per School Bus, that will be deducted from the Base Item NYS Contract Price, if the Authorized User elects to pick up the School Bus at the Contractor's location. | F16: 100
A17: Delivery Time | B17: The estimated delivery time for the School Bus, expressed in number of calendar days, required to make delivery after receipt of a final Purchase Order (After Receipt of Order (“ARO”)). | F17: 210-270
A19: PART 2: Pricing for the Base Item, Additional Body Section, and Additional Options | F19: General Motors / Microbird
A20: Category | B20: Information provided in Yellow Cells | F20: Gasoline
A21: Base Item NYS Contract Price | B21: The per unit NYS Contract Price (dollar amount) for the School Bus described in the Base Item Specifications. The Base Item NYS Contract Price includes any OEM fees, all customs duties and charges, all vehicle preparation and clean-up charges, NYS DOT inspection, installation charges, delivery and all other incidentals normally included with providing a School Bus, but excludes Optional Equipment, Additional Body Section(s), and Additional Options. | F21: =72900*('PPI Adj'!D6) -> 85074.3
A22: Additional Body Section NYS Contract Price | B22: The per unit NYS Contract Price (dollar amount) for adding one (1) Additional Body Section, excluding seats and other interior features, to the Base Item and the applicable Base Item NYS Contract Price. | F22: Not Available
A23: Additional Options NYS Discount | B23: The minimum percentage amount that shall be deducted from the MSRP for all Additional Options purchased under the Contract for this Item. | F23: 12
A25: PART 3: Base Item Specifications | F25: General Motors / Microbird
A26: Category | B26: Specification | C26: Information provided in Yellow Cells | F26: Gasoline
A27: General | B27: A conversion School Bus constructed using a cutaway front-section vehicle with a left side driver’s door, with a GVWR of 10,000 pounds or less. | C27: Gross Vehicle Weight Rating (GVWR) [lbs]: | F27: 9900
A28: Capacity | B28: Minimum four (4) rows for sixteen (16) Pupils | C28: Number of rows: | F28: 4
C29: Number of Pupils: | F29: 16
A30: Rear Wheels | B30: Single Rear Wheel (SRW)
A31: Dimensions | C31: Wheelbase [inches]: | F31: 139
C32: Length (bumper to bumper) [inches]: | F32: 234
C33: Body width (inside) [inches]: | F33: 82
C34: Body headroom (standard) [inches]: | F34: 66
C35: Cowl to rear axle length [inches]: | F35: 80
A36: Front Axle | C36: Gross Axle Weight Rating (GAWR) [lbs]: | F36: 4100
C37: Front axle capacity [lbs]: | F37: 4100
A38: Rear Axle | C38: Gross Axle Weight Rating (GAWR) [lbs]: | F38: 6084
C39: Rear axle capacity [lbs]: | F39: 6084
A40: Steering | B40: Power steering
A41: Tires | B41: Tires shall meet the minimum requirements for the Chassis Model, as published by the Chassis manufacturer. | C41: Front radial tires size (load range letter) | F41: LT245/75R 16 ( E )
C42: Front radial tires capacity | F42: 3042
C43: Rear radial tires size (load range letter) | F43: LT245/75R 16 ( E )
...

Sheet A (Item 3-G)
A1: ='A (Item 2-G)'!$A$1 -> GROUP 40524-23254, SCHOOL BUSES (Statewide) Attachment 1 - Specifications and Pricing (Revised October 15, 2026)
A2: PC69864 New York Bus Sales, LLC
A3: LOT A (Item 3-G)
A4: Type A-2, DRW, Cutaway, 4 Rows (Gasoline; Minimum 20 Pupils)
A6: PART 1: Product information for the Base Item(s) Awarded | F6: Ford / Microbird | H6: General Motors / Microbird
A7: Category | B7: Information provided in Yellow Cells | F7: Gasoline | H7: Gasoline
A8: Engine | B8: Information identifying the engine for the fuel type offered. | F8: 99k, Ford 7.3L, 8 cylinder, 300 HP@ 3,900 RMP, 425 Ft. Lbs Torque @ 3,250 RPM | H8: L8T, 6.6L, 8 Cyl., 401HP @5,200 RPM, 464 Ft. Lbs. torque @ 4,000 RPM
A9: NYS DOT Approval Number | B9: The NYS DOT Approval Number for the School Bus. Only School Buses approved by NYS DOT Passenger Carrier Safety Bureau for use as 2022 and newer Models, as indicated by a NYS DOT Approval Number, shall be delivered pursuant to the Contract. | F9: 1643-NY-20-00WC-MBI | H9: 1650-NY-20-00WC-MBI
A10: Chassis Make | B10: The OEM company name of a Chassis. | F10: Ford | H10: General Motors
A11: Chassis Model | B11: The Model name of the Chassis. | F11: E-350 | H11: 3500
A12: Chassis Model Code | B12: The OEM code used to identify the subset of the Chassis Model. | F12: U158-DNF | H12: U335-DG66
A13: Body Make | B13: The OEM company name of a Body. | F13: Microbird | H13: Microbird
A14: Body Model | B14: The Model name of the Body. | F14: G5 | H14: G5
A15: Body Model Code | B15: The OEM code used to identify the subset of the Body Model. | F15: UFH51NHWST | H15: UGU51NHWST
A16: Pick Up Allowance | B16: The dollar amount, per School Bus, that will be deducted from the Base Item NYS Contract Price, if the Authorized User elects to pick up the School Bus at the Contractor's location. | F16: 100 | H16: 100
A17: Delivery Time | B17: The estimated delivery time for the School Bus, expressed in number of calendar days, required to make delivery after receipt of a final Purchase Order (After Receipt of Order (“ARO”)). | F17: 210-270 | H17: 210-270
A19: PART 2: Pricing for the Base Item, Additional Body Section, and Additional Options | F19: Ford / Microbird | H19: General Motors / Microbird
A20: Category | B20: Information provided in Yellow Cells | F20: Gasoline | H20: Gasoline
A21: Base Item NYS Contract Price | B21: The per unit NYS Contract Price (dollar amount) for the School Bus described in the Base Item Specifications. The Base Item NYS Contract Price includes any OEM fees, all customs duties and charges, all vehicle preparation and clean-up charges, NYS DOT inspection, installation charges, delivery and all other incidentals normally included with providing a School Bus, but excludes Optional Equipment, Additional Body Section(s), and Additional Options. | F21: =78900*('PPI Adj'!D6) -> 92076.3 | H21: =76100*('PPI Adj'!D6) -> 88808.7
A22: Additional Body Section NYS Contract Price | B22: The per unit NYS Contract Price (dollar amount) for adding one (1) Additional Body Section, excluding seats and other interior features, to the Base Item and the applicable Base Item NYS Contract Price. | F22: Not Available | H22: Not Available
A23: Additional Options NYS Discount | B23: The minimum percentage amount that shall be deducted from the MSRP for all Additional Options purchased under the Contract for this Item. | F23: 12 | H23: 12
A25: PART 3: Base Item Specifications | F25: Chevrolet / Trans Tech | H25: General Motors / Microbird
A26: Category | B26: Specification | C26: Information provided in Yellow Cells | F26: Gasoline | H26: Gasoline
A27: General | B27: A conversion School Bus constructed using a cutaway front-section vehicle with a left side driver’s door, with a GVWR equal to or greater than 10,001 pounds and less than or equal to 21,500 pounds. | C27: Gross Vehicle Weight Rating (GVWR) [lbs]: | F27: 11500 | H27: 12300
A28: Capacity | B28: Minimum four (4) rows for twenty (20) Pupils. | C28: Number of rows: | F28: 4 | H28: 4
C29: Number of Pupils: | F29: 20 | H29: 20
A30: Rear Wheels | B30: Dual Rear Wheel (DRW) | F30: DRW | H30: DRW
A31: Dimensions | C31: Wheelbase [inches]: | F31: 138 | H31: 139
C32: Length (bumper to bumper) [inches]: | F32: 257 | H32: 262
C33: Body width (inside) [inches]: | F33: 93 | H33: 93
C34: Body headroom (standard) [inches]: | F34: 76 | H34: 76
C35: Cowl to rear axle length [inches]: | F35: 82 | H35: 80
A36: Front Axle | C36: Gross Axle Weight Rating (GAWR) [lbs]: | F36: 4050 | H36: 4300
C37: Front axle capacity [lbs]: | F37: 4050 | H37: 4300
A38: Rear Axle | C38: Gross Axle Weight Rating (GAWR) [lbs]: | F38: 7800 | H38: 8600
C39: Rear axle capacity [lbs]: | F39: 7800 | H39: 8600
A40: Steering | B40: Power steering
A41: Tires | B41: Tires shall meet the minimum requirements for the Chassis Model, as published by the Chassis manufacturer. | C41: Front radial tires size (load range letter) | F41: LT225/75RX16-E | H41: LT225/75R16-E
C42: Front radial tires capacity | F42: 2680 | H42: 2680
C43: Rear radial tires size (load range letter) | F43: LT225/75RX16-(E) | H43: LT225/75R16-(E)
...

Sheet A (Item 4-G)
A1: ='A (Item 2-G)'!$A$1 -> GROUP 40524-23254, SCHOOL BUSES (Statewide) Attachment 1 - Specifications and Pricing (Revised October 15, 2026)
A2: PC69864 New York Bus Sales, LLC
A3: LOT A (Item 4-G)
A4: Type A-2, DRW, Cutaway, 4 Rows (Gasoline; Minimum 24 Pupils)
A6: PART 1: Product information for the Base Item(s) Awarded | F6: General Motors / Microbird
A7: Category | B7: Information provided in Yellow Cells | F7: Gasoline
A8: Engine | B8: Information identifying the engine for the fuel type offered. | F8: L8T, 6.6L, 8 Cyl., 401HP @5,200 RPM, 464 Ft. Lbs. torque @ 4,000 RPM
A9: NYS DOT Approval Number | B9: The NYS DOT Approval Number for the School Bus. Only School Buses approved by NYS DOT Passenger Carrier Safety Bureau for use as 2022 and newer Models, as indicated by a NYS DOT Approval Number, shall be delivered pursuant to the Contract. | F9: 1597-NY-24-00WC-MBI
A10: Chassis Make | B10: The OEM company name of a Chassis. | F10: General Motors
A11: Chassis Model | B11: The Model name of the Chassis. | F11: 3500
A12: Chassis Model Code | B12: The OEM code used to identify the subset of the Chassis Model. | F12: U335-DG66
A13: Body Make | B13: The OEM company name of a Body. | F13: Microbird
A14: Body Model | B14: The Model name of the Body. | F14: G5
A15: Body Model Code | B15: The OEM code used to identify the subset of the Body Model. | F15: UGU51NHWSS
A16: Pick Up Allowance | B16: The dollar amount, per School Bus, that will be deducted from the Base Item NYS Contract Price, if the Authorized User elects to pick up the School Bus at the Contractor's location. | F16: 100
A17: Delivery Time | B17: The estimated delivery time for the School Bus, expressed in number of calendar days, required to make delivery after receipt of a final Purchase Order (After Receipt of Order (“ARO”)). | F17: 210-270
A19: PART 2: Pricing for the Base Item, Additional Body Section, and Additional Options | F19: General Motors / Microbird
A20: Category | B20: Information provided in Yellow Cells | F20: Gasoline
A21: Base Item NYS Contract Price | B21: The per unit NYS Contract Price (dollar amount) for the School Bus described in the Base Item Specifications. The Base Item NYS Contract Price includes any OEM fees, all customs duties and charges, all vehicle preparation and clean-up charges, NYS DOT inspection, installation charges, delivery and all other incidentals normally included with providing a School Bus, but excludes Optional Equipment, Additional Body Section(s), and Additional Options. | F21: =77800*('PPI Adj'!D6) -> 90792.6
A22: Additional Body Section NYS Contract Price | B22: The per unit NYS Contract Price (dollar amount) for adding one (1) Additional Body Section, excluding seats and other interior features, to the Base Item and the applicable Base Item NYS Contract Price. | F22: Not Available
A23: Additional Options NYS Discount | B23: The minimum percentage amount that shall be deducted from the MSRP for all Additional Options purchased under the Contract for this Item. | F23: 12
A25: PART 3: Base Item Specifications | F25: General Motors / Microbird
A26: Category | B26: Specification | C26: Information provided in Yellow Cells | F26: Gasoline
A27: General | B27: A conversion School Bus constructed using a cutaway front-section vehicle with a left side driver’s door, with a GVWR equal to or greater than 10,001 pounds and less than or equal to 21,500 pounds. | C27: Gross Vehicle Weight Rating (GVWR) [lbs]: | F27: 12300
A28: Capacity | B28: Minimum four (4) rows for twenty-four (24) Pupils. | C28: Number of rows: | F28: 4
C29: Number of Pupils: | F29: 24
A30: Rear Wheels | B30: Dual Rear Wheel (DRW) | F30: DRW
A31: Dimensions | C31: Wheelbase [inches]: | F31: 159
C32: Length (bumper to bumper) [inches]: | F32: 289
C33: Body width (inside) [inches]: | F33: 93
C34: Body headroom (standard) [inches]: | F34: 76
C35: Cowl to rear axle length [inches]: | F35: 80
A36: Front Axle | C36: Gross Axle Weight Rating (GAWR) [lbs]: | F36: 4300
C37: Front axle capacity [lbs]: | F37: 4300
A38: Rear Axle | C38: Gross Axle Weight Rating (GAWR) [lbs]: | F38: 8600
C39: Rear axle capacity [lbs]: | F39: 8600
A40: Steering | B40: Power steering
A41: Tires | B41: Tires shall meet the minimum requirements for the Chassis Model, as published by the Chassis manufacturer. | C41: Front radial tires size (load range letter) | F41: LT225/75R16-E
C42: Front radial tires capacity | F42: 2680
C43: Rear radial tires size (load range letter) | F43: LT225/75R16-(E)
...

Sheet A (Item 4-EV)
A1: ='A (Item 2-G)'!$A$1 -> GROUP 40524-23254, SCHOOL BUSES (Statewide) Attachment 1 - Specifications and Pricing (Revised October 15, 2026)
A2: ='Attachment 1 - Summary'!B2 -> PC69864 New York Bus Sales, LLC
A3: LOT A (Item 4-EV)
A4: Type A-2, DRW, Cutaway, 4 Rows (Electric; Minimum 24 Pupils)
A6: PART 1: Product information for the Base Item(s) Awarded | F6: Ford / Microbird
A7: Category | B7: Information provided in Yellow Cells | F7: Electric
A8: Propulsion System | B8: Information identifying the Make and Model propulsion system offered. | F8: Remy 215HP (160KW), 206lbs-pi (280N-m) with Drive TM4
A9: NYS DOT Approval Number | B9: The NYS DOT Approval Number for the School Bus. Only School Buses approved by NYS DOT Passenger Carrier Safety Bureau for use as 2022 and newer Models, as indicated by a NYS DOT Approval Number, shall be delivered pursuant to the Contract. | F9: 751-NY-24-00WC-MBI
A10: Chassis Make | B10: The OEM company name of a Chassis. | F10: Ford
A11: Chassis Model | B11: The Model name of the Chassis. | F11: E-450
A12: Chassis Model Code | B12: The OEM code used to identify the subset of the Chassis Model. | F12: U158-DNF
A13: Body Make | B13: The OEM company name of a Body. | F13: Microbird
A14: Body Model | B14: The Model name of the Body. | F14: G5
A15: Body Model Code | B15: The OEM code used to identify the subset of the Body Model. | F15: UFG52NYWSP
A16: Pick Up Allowance | B16: The dollar amount, per School Bus, that will be deducted from the Base Item NYS Contract Price, if the Authorized User elects to pick up the School Bus at the Contractor's location. | F16: 100
A17: Delivery Time | B17: The estimated delivery time for the School Bus, expressed in number of calendar days, required to make delivery after receipt of a final Purchase Order (After Receipt of Order (“ARO”)). | F17: 210-365
A19: PART 2: Pricing for the Base Item, Additional Body Section, and Additional Options | F19: Ford / Microbird
A20: Category | B20: Information provided in Yellow Cells | F20: Electric
A21: Base Item NYS Contract Price | B21: The per unit NYS Contract Price (dollar amount) for the School Bus described in the Base Item Specifications. The Base Item NYS Contract Price includes any OEM fees, all customs duties and charges, all vehicle preparation and clean-up charges, NYS DOT inspection, installation charges, delivery and all other incidentals normally included with providing a School Bus, but excludes Optional Equipment, Additional Body Section(s), and Additional Options. | F21: =276900*('PPI Adj'!D6) -> 323142.3
A22: Additional Body Section NYS Contract Price | B22: The per unit NYS Contract Price (dollar amount) for adding one (1) Additional Body Section, excluding seats and other interior features, to the Base Item and the applicable Base Item NYS Contract Price. | F22: Not Available
A23: Additional Options NYS Discount | B23: The minimum percentage amount that shall be deducted from the MSRP for all Additional Options purchased under the Contract for this Item. | F23: 12
A25: PART 3: Base Item Specifications | F25: Ford / Microbird
A26: Category | B26: Specification | C26: Information provided in Yellow Cells | F26: Electric
A27: General | B27: A conversion School Bus constructed using a cutaway front-section vehicle with a left side driver’s door, with a GVWR equal to or greater than 10,001 pounds and less than or equal to 21,500 pounds. | C27: Gross Vehicle Weight Rating (GVWR) [lbs]: | F27: 14500
A28: Capacity | B28: Minimum four (4) rows for twenty-four (24) Pupils. | C28: Number of rows: | F28: 4
C29: Number of Pupils: | F29: 24
A30: Rear Wheels | B30: Dual Rear Wheel (DRW) | F30: DRW
A31: Dimensions | C31: Wheelbase [inches]: | F31: 158
C32: Length (bumper to bumper) [inches]: | F32: 283
C33: Body width (inside) [inches]: | F33: 93
C34: Body headroom (standard) [inches]: | F34: 76
C35: Cowl to rear axle length [inches]: | F35: 100
A36: Front Axle | C36: Gross Axle Weight Rating (GAWR) [lbs]: | F36: 5000
C37: Front axle capacity [lbs]: | F37: 5000
A38: Rear Axle | C38: Gross Axle Weight Rating (GAWR) [lbs]: | F38: 9600
C39: Rear axle capacity [lbs]: | F39: 9600
A40: Steering | B40: Power steering
A41: Tires | B41: Tires shall meet the minimum requirements for the Chassis Model, as published by the Chassis manufacturer. | C41: Front radial tires size (load range letter) | F41: LT225/75RX16-E
C42: Front radial tires capacity | F42: 2680
C43: Rear radial tires size (load range letter) | F43: LT225/75RX16-(E)
...

Sheet A (Item 5-G)
A1: ='A (Item 2-G)'!$A$1 -> GROUP 40524-23254, SCHOOL BUSES (Statewide) Attachment 1 - Specifications and Pricing (Revised October 15, 2026)
A2: PC69864 New York Bus Sales, LLC
A3: LOT A (Item 5-G)
A4: Type A-2, DRW, Cutaway, 5 Rows (Gasoline; Minimum 30 Pupils)
A6: PART 1: Product information for the Base Item(s) Awarded | F6: Ford / Microbird | I6: General Motors / Microbird
A7: Category | B7: Information provided in Yellow Cells | F7: Gasoline | G7: LPG | I7: Gasoline
A8: Engine | B8: Information identifying the engine for the fuel type offered. | F8: 99k, Ford 7.3L, 8 cylinder, 300 HP@ 3,900 RMP, 425 Ft. Lbs Torque @ 3,250 RPM | G8: 99k, Ford 7.3L, 8 cylinder, 300 HP@ 3,900 RMP, 425 Ft. Lbs Torque @ 3,250 RPM | I8: L8T, 6.6L, 8 Cyl., 401HP @5,200 RPM, 464 Ft. Lbs. torque @ 4,000 RPM
A9: NYS DOT Approval Number | B9: The NYS DOT Approval Number for the School Bus. Only School Buses approved by NYS DOT Passenger Carrier Safety Bureau for use as 2022 and newer Models, as indicated by a NYS DOT Approval Number, shall be delivered pursuant to the Contract. | F9: 1546-NY-30-00WC-MBI | G9: 1645-NY-30-00WC-MBI | I9: 1599-NY-30-00WC-MBI
A10: Chassis Make | B10: The OEM company name of a Chassis. | F10: Ford | G10: Ford | I10: General Motors
A11: Chassis Model | B11: The Model name of the Chassis. | F11: E-450 | G11: E-Series | I11: 3500
A12: Chassis Model Code | B12: The OEM code used to identify the subset of the Chassis Model. | F12: U158-DNF | G12: E-450 | I12: U338-DG66
A13: Body Make | B13: The OEM company name of a Body. | F13: Microbird | G13: Microbird | I13: Microbird
A14: Body Model | B14: The Model name of the Body. | F14: G5 | G14: G5 | I14: G5
A15: Body Model Code | B15: The OEM code used to identify the subset of the Body Model. | F15: UFH52NHWST | G15: UFH52NHWST | I15: UGU52NHWSS
A16: Pick Up Allowance | B16: The dollar amount, per School Bus, that will be deducted from the Base Item NYS Contract Price, if the Authorized User elects to pick up the School Bus at the Contractor's location. | F16: 100 | G16: 100 | I16: 100
A17: Delivery Time | B17: The estimated delivery time for the School Bus, expressed in number of calendar days, required to make delivery after receipt of a final Purchase Order (After Receipt of Order (“ARO”)). | F17: 210-270 | G17: 210-270 | I17: 210-270
A19: PART 2: Pricing for the Base Item, Additional Body Section, and Additional Options | F19: Ford / Microbird | I19: General Motors / Microbird
A20: Category | B20: Information provided in Yellow Cells | F20: Gasoline | G20: LPG | I20: Gasoline
A21: Base Item NYS Contract Price | B21: The per unit NYS Contract Price (dollar amount) for the School Bus described in the Base Item Specifications. The Base Item NYS Contract Price includes any OEM fees, all customs duties and charges, all vehicle preparation and clean-up charges, NYS DOT inspection, installation charges, delivery and all other incidentals normally included with providing a School Bus, but excludes Optional Equipment, Additional Body Section(s), and Additional Options. | F21: =84000*('PPI Adj'!D6) -> 98028 | G21: =104700*('PPI Adj'!D6) -> 122184.9 | I21: =79900*('PPI Adj'!D6) -> 93243.3
A22: Additional Body Section NYS Contract Price | B22: The per unit NYS Contract Price (dollar amount) for adding one (1) Additional Body Section, excluding seats and other interior features, to the Base Item and the applicable Base Item NYS Contract Price. | F22: Not Available | G22: Not Available | I22: Not Available
A23: Additional Options NYS Discount | B23: The minimum percentage amount that shall be deducted from the MSRP for all Additional Options purchased under the Contract for this Item. | F23: 12 | G23: 12 | I23: 12
A25: PART 3: Base Item Specifications | F25: Ford / Microbird | I25: General Motors / Microbird
A26: Category | B26: Specification | C26: Information provided in Yellow Cells | F26: Gasoline | G26: LPG | I26: Gasoline
A27: General | B27: A conversion School Bus constructed using a cutaway front-section vehicle with a left side driver’s door, with a GVWR equal to or greater than 10,001 pounds and less than or equal to 21,500 pounds. | C27: Gross Vehicle Weight Rating (GVWR) [lbs]: | F27: 14500 | G27: 14500 | I27: 12300
A28: Capacity | B28: Minimum five (5) rows for thirty (30) Pupils. | C28: Number of rows: | F28: 5 | G28: 5 | I28: 5
C29: Number of Pupils: | F29: 30 | G29: 30 | I29: 30
A30: Rear Wheels | B30: Dual Rear Wheel (DRW) | F30: DRW | G30: DRW | I30: DRW
A31: Dimensions | C31: Wheelbase [inches]: | F31: 158 | G31: 158 | I31: 159
C32: Length (bumper to bumper) [inches]: | F32: 283 | G32: 283 | I32: 289
C33: Body width (inside) [inches]: | F33: 93 | G33: 93 | I33: 93
C34: Body headroom (standard) [inches]: | F34: 76 | G34: 76 | I34: 76
C35: Cowl to rear axle length [inches]: | F35: 100 | G35: 100 | I35: 100
A36: Front Axle | C36: Gross Axle Weight Rating (GAWR) [lbs]: | F36: 5000 | G36: 5000 | I36: 4300
C37: Front axle capacity [lbs]: | F37: 5000 | G37: 5000 | I37: 4300
A38: Rear Axle | C38: Gross Axle Weight Rating (GAWR) [lbs]: | F38: 9600 | G38: 9600 | I38: 8600
C39: Rear axle capacity [lbs]: | F39: 9600 | G39: 9600 | I39: 8600
A40: Steering | B40: Power steering
A41: Tires | B41: Tires shall meet the minimum requirements for the Chassis Model, as published by the Chassis manufacturer. | C41: Front radial tires size (load range letter) | F41: LT225/75RX16-E | G41: LT225/75RX16-E | I41: LT225/75R16-E
C42: Front radial tires capacity | F42: 2680 | G42: 2680 | I42: 2680
C43: Rear radial tires size (load range letter) | F43: LT225/75RX16-(E) | G43: LT225/75RX16-(E) | I43: LT225/75R16-(E)
...

Sheet A (Item 5-EV)
A1: ='A (Item 2-G)'!$A$1 -> GROUP 40524-23254, SCHOOL BUSES (Statewide) Attachment 1 - Specifications and Pricing (Revised October 15, 2026)
A2: ='Attachment 1 - Summary'!B2 -> PC69864 New York Bus Sales, LLC
A3: LOT A (Item 5-EV)
A4: Type A-2, DRW, Cutaway, 5 Rows (Electric; Minimum 30 Pupils)
A6: PART 1: Product information for the Base Item(s) Awarded | F6: Ford / Microbird
A7: Category | B7: Information provided in Yellow Cells | F7: Electric
A8: Propulsion System | B8: Information identifying the Make and Model propulsion system offered. | F8: Remy 215HP (160KW), 206lbs-pi (280N-m) with Drive TM4
A9: NYS DOT Approval Number | B9: The NYS DOT Approval Number for the School Bus. Only School Buses approved by NYS DOT Passenger Carrier Safety Bureau for use as 2022 and newer Models, as indicated by a NYS DOT Approval Number, shall be delivered pursuant to the Contract. | F9: 1646-NY-30-00WC-MBI
A10: Chassis Make | B10: The OEM company name of a Chassis. | F10: Ford
A11: Chassis Model | B11: The Model name of the Chassis. | F11: E-450
A12: Chassis Model Code | B12: The OEM code used to identify the subset of the Chassis Model. | F12: U158-DNF
A13: Body Make | B13: The OEM company name of a Body. | F13: Microbird
A14: Body Model | B14: The Model name of the Body. | F14: G5
A15: Body Model Code | B15: The OEM code used to identify the subset of the Body Model. | F15: UFH52NHWST
A16: Pick Up Allowance | B16: The dollar amount, per School Bus, that will be deducted from the Base Item NYS Contract Price, if the Authorized User elects to pick up the School Bus at the Contractor's location. | F16: 100
A17: Delivery Time | B17: The estimated delivery time for the School Bus, expressed in number of calendar days, required to make delivery after receipt of a final Purchase Order (After Receipt of Order (“ARO”)). | F17: 210-365
A19: PART 2: Pricing for the Base Item, Additional Body Section, and Additional Options | F19: Ford / Microbird
A20: Category | B20: Information provided in Yellow Cells | F20: Electric
A21: Base Item NYS Contract Price | B21: The per unit NYS Contract Price (dollar amount) for the School Bus described in the Base Item Specifications. The Base Item NYS Contract Price includes any OEM fees, all customs duties and charges, all vehicle preparation and clean-up charges, NYS DOT inspection, installation charges, delivery and all other incidentals normally included with providing a School Bus, but excludes Optional Equipment, Additional Body Section(s), and Additional Options. | F21: =278500*('PPI Adj'!D6) -> 325009.5
A22: Additional Body Section NYS Contract Price | B22: The per unit NYS Contract Price (dollar amount) for adding one (1) Additional Body Section, excluding seats and other interior features, to the Base Item and the applicable Base Item NYS Contract Price. | F22: Not Available
A23: Additional Options NYS Discount | B23: The minimum percentage amount that shall be deducted from the MSRP for all Additional Options purchased under the Contract for this Item. | F23: 12
A25: PART 3: Base Item Specifications | F25: Ford / Microbird
A26: Category | B26: Specification | C26: Information provided in Yellow Cells | F26: Electric
A27: General | B27: A conversion School Bus constructed using a cutaway front-section vehicle with a left side driver’s door, with a GVWR equal to or greater than 10,001 pounds and less than or equal to 21,500 pounds. | C27: Gross Vehicle Weight Rating (GVWR) [lbs]: | F27: 14500
A28: Capacity | B28: Minimum five (5) rows for thirty (30) Pupils. | C28: Number of rows: | F28: 5
C29: Number of Pupils: | F29: 30
A30: Rear Wheels | B30: Dual Rear Wheel (DRW) | F30: DRW
A31: Dimensions | C31: Wheelbase [inches]: | F31: 158
C32: Length (bumper to bumper) [inches]: | F32: 283
C33: Body width (inside) [inches]: | F33: 93
C34: Body headroom (standard) [inches]: | F34: 76
C35: Cowl to rear axle length [inches]: | F35: 100
A36: Front Axle | C36: Gross Axle Weight Rating (GAWR) [lbs]: | F36: 5000
C37: Front axle capacity [lbs]: | F37: 5000
A38: Rear Axle | C38: Gross Axle Weight Rating (GAWR) [lbs]: | F38: 9600
C39: Rear axle capacity [lbs]: | F39: 9600
A40: Steering | B40: Power steering
A41: Tires | B41: Tires shall meet the minimum requirements for the Chassis Model, as published by the Chassis manufacturer. | C41: Front radial tires size (load range letter) | F41: LT225/75RX16-E
C42: Front radial tires capacity | F42: 2680
C43: Rear radial tires size (load range letter) | F43: LT225/75RX16-(E)
...

Sheet C (Item 1-D)
A1: ='A (Item 2-G)'!$A$1 -> GROUP 40524-23254, SCHOOL BUSES (Statewide) Attachment 1 - Specifications and Pricing (Revised October 15, 2026)
A2: ='Attachment 1 - Summary'!B2 -> PC69864 New York Bus Sales, LLC
A3: LOT C (Item 1-D)
A4: Type C, 28 Pupil Conventional Front-Engine Bus (Diesel, Minimum 28 Pupils)
A6: PART 1: Product information for the Base Item(s) Awarded | F6: Blue Bird
A7: Category | B7: Information provided in Yellow Cells | F7: Diesel | G7: Gas | H7: LPG
A8: Engine | B8: Information identifying the engine for the fuel type offered. | F8: 40179-47; Cummins B6.7; 6 Cyl, 6.7L, 200HP at 2,400 RPM, 520 lb. ft. torque @ 1,600 RPM. | G8: 40166-03, Ford 7.3L; 8 Cyl, 350 HP @3,900 RPM, 468 lb. ft. torque @ 3,900 RPM | H8: 40166-03, Ford 7.3L; 8 Cyl, 350 HP @3,900 RPM, 468 lb. ft. torque @ 3,900 RPM
A9: NYS DOT Approval Number | B9: The NYS DOT Approval Number for the School Bus. Only School Buses approved by NYS DOT Passenger Carrier Safety Bureau for use as 2022 and newer Models, as indicated by a NYS DOT Approval Number, shall be delivered pursuant to the Contract. | F9: 2125-NY-36-00WC-BBB | G9: 2141-NY-42-00WC-BBB | H9: 2125-NY-36-00WC-BBB
A10: Chassis Make | B10: The OEM company name of a Chassis. | F10: Blue Bird | G10: Blue Bird | H10: Blue Bird
A11: Chassis Model | B11: The Model name of the Chassis. | F11: BBCV | G11: BBCV | H11: BBCV
A12: Chassis Model Code | B12: The OEM code used to identify the subset of the Chassis Model. | F12: 1910 | G12: 2311 | H12: 1910 | K12: `
A13: Body Make | B13: The OEM company name of a Body. | F13: Blue Bird | G13: Blue Bird | H13: Blue Bird
A14: Body Model | B14: The Model name of the Body. | F14: Vision | G14: Vision | H14: Vision
A15: Body Model Code | B15: The OEM code used to identify the subset of the Body Model. | F15: 1910 | G15: 2311 | H15: 1910
A16: Pick Up Allowance | B16: The dollar amount, per School Bus, that will be deducted from the Base Item NYS Contract Price, if the Authorized User elects to pick up the School Bus at the Contractor's location. | F16: 100 | G16: 100 | H16: 100
A17: Delivery Time | B17: The estimated delivery time for the School Bus, expressed in number of calendar days, required to make delivery after receipt of a final Purchase Order (After Receipt of Order (“ARO”)). | F17: 210-270 | G17: 210-270 | H17: 210-270
A19: PART 2: Pricing for the Base Item, Additional Body Section, and Additional Options | F19: Blue Bird
A20: Category | B20: Information provided in Yellow Cells | F20: Diesel | G20: Gas | H20: LPG
A21: Base Item NYS Contract Price | B21: The per unit NYS Contract Price (dollar amount) for the School Bus described in the Base Item Specifications. The Base Item NYS Contract Price includes any OEM fees, all customs duties and charges, all vehicle preparation and clean-up charges, NYS DOT inspection, installation charges, delivery and all other incidentals normally included with providing a School Bus, but excludes Optional Equipment, Additional Body Section(s), and Additional Options. | F21: =124400*('PPI Adj'!D6) -> 145174.8 | G21: =122800*('PPI Adj'!D6) -> 143307.6 | H21: =133300*('PPI Adj'!D6) -> 155561.1
A22: Additional Options NYS Discount | B22: The minimum percentage amount that shall be deducted from the MSRP for all Additional Options purchased under the Contract for this Item. | F22: 22 | G22: 22 | H22: 22
A24: PART 3: Base Item Specifications | F24: Blue Bird
A25: Category | B25: Specification | C25: Information provided in Yellow Cells | F25: Diesel | G25: Gas | H25: LPG
A26: General | B26: A School Bus with a Body installed upon a cowl and Chassis constructed using a chassis with a hood and front fender assembly. All of the engine is in front of the windshield and the entrance door is behind the front wheels. This is also known as a conventional school bus. This type also includes the cutaway truck chassis or truck chassis with cab, with or without a left side door, and with a GVWR greater than 16,000 pounds. | C26: Gross Vehicle Weight Rating (GVWR) [lbs]: | F26: 29000 | G26: 29000 | H26: 29000
A27: Capacity | B27: Minimum twenty-eight (28) Pupils. | C27: Number of rows: | F27: 6 | G27: 6 | H27: 6
C28: Number of Pupils: | F28: 36 | G28: Gasoline is 42 Passenger, approval number 2141-NY-42-00WC-BBB | H28: 36
A29: Rear Wheels | B29: Dual Rear Wheel (DRW)
A30: Dimensions | C30: Wheelbase [inches]: | F30: 169 | G30: 169 | H30: 169
C31: Length (bumper to bumper) [inches]: | F31: 306.72 | G31: 306.72 | H31: 306.72
C32: Body width (inside) [inches]: | F32: 90.75" | G32: 90.75" | H32: 90.75"
C33: Body headroom (standard) [inches]: | F33: 77" | G33: 77" | H33: 77"
C34: Cowl to rear axle length [inches]: | F34: 211.47 | G34: 211.47 | H34: 211.47
A35: Cowl/Hood | B35: Forward tilting style cowl/hood assembly.
A36: Front Axle | C36: Gross Axle Weight Rating (GAWR) [lbs]: | F36: 10000 | G36: 10000 | H36: 10000
C37: Front axle capacity [lbs]: | F37: 12000 | G37: 12000 | H37: 12000
A38: Rear Axle | C38: Gross Axle Weight Rating (GAWR) [lbs]: | F38: 19000 | G38: 19000 | H38: 19000
C39: Rear axle capacity [lbs]: | F39: 21000 | G39: 21000 | H39: 21000
A40: Steering | B40: Power steering
A41: Brakes | B41: Chassis manufacturer's typical full air service brake system. A liquid-cooled, engine-lubricated air compressor, that is compliant with FMVSS (49 CFR 571.121.S5.1.1.), shall be provided. The air brake system shall be equipped with an automatic drain valve on the wet tank that may be unheated, a valve that can be manually opened on each air tank, and an air dryer/ejector that may be unheated. The system shall include a spring set parking brake. System shall be compliant with FMVSS (49 CFR 571.121), including the latest revision thereof. All brakes shall have automatic slack adjusters. | C41: Air Compressor size, Make & Model: | F41: 18.7 CFM, Cummins | G41: 18.7 CFM, Cummins | H41: 18.7 CFM, Cummins
C42: Air Dryer size, Make & Model: | F42: 7" x 10.3" Bendix AD-IP | G42: 7" x 10.3" Bendix AD-IP | H42: 7" x 10.3" Bendix AD-IP
A44: Brakes | B44: Antilock Brake System (ABS), and an audio & visual warning system for system malfunctions.
...

Sheet C (Item 1-EV) 
A1: ='A (Item 2-G)'!$A$1 -> GROUP 40524-23254, SCHOOL BUSES (Statewide) Attachment 1 - Specifications and Pricing (Revised October 15, 2026)
A2: ='[1]Attachment 1 - Summary'!B2 -> PC69864 New York Bus Sales, LLC
A3: LOT C (Item 1-EV)
A4: Type C, 28 Pupil Conventional Bus (Electric, Minimum 28 Pupils, Maximum 45 Pupils)
A6: PART 1: Product information for the Base Item(s) Awarded | F6: Blue Bird
A7: Category | B7: Information provided in Yellow Cells | F7: Electric
A8: Propulsion System | B8: Enter information identifying the Make and Model propulsion system offered. | F8: TM4 LSM200CHV3000; Six Phase AC Perm. Magnet Induct. Motor; 315 Peak HP, 2400 Peak Torque
A9: NYS DOT Approval Number | B9: The NYS DOT Approval Number for the School Bus. Only School Buses approved by NYS DOT Passenger Carrier Safety Bureau for use as 2022 and newer Models, as indicated by a NYS DOT Approval Number, shall be delivered pursuant to the Contract. | F9: 2321-NY-42-00WC-BBB
A10: Chassis Model Year | B10: Enter Model Year, (e.g. 2022, 2023), of the Chassis bid | F10: 2026
A11: Chassis Make | B11: The OEM company name of a Chassis. | F11: Blue Bird
A12: Chassis Model | B12: The Model name of the Chassis. | F12: BBCV
A13: Chassis Model Code | B13: The OEM code used to identify the subset of the Chassis Model. | F13: 2508 | I13: `
A14: Body Model Year | B14: Enter Model Year, (e.g. 2022, 2023), of the Body bid | F14: 2026
A15: Body Make | B15: The OEM company name of a Body. | F15: Blue Bird
A16: Body Model | B16: The Model name of the Body. | F16: BBCV
A17: Body Model Code | B17: The OEM code used to identify the subset of the Body Model. | F17: 2508
A18: Pick Up Allowance | B18: The dollar amount, per School Bus, that will be deducted from the Base Item NYS Contract Price, if the Authorized User elects to pick up the School Bus at the Contractor's location. | F18: 100
A19: Delivery Time | B19: The estimated delivery time for the School Bus, expressed in number of calendar days, required to make delivery after receipt of a final Purchase Order (After Receipt of Order (“ARO”)). | F19: 210-365
A21: PART 2: Pricing for the Base Item, Additional Body Section, and Additional Options | F21: Blue Bird
A22: Category | B22: Information provided in Yellow Cells | F22: Electric
A23: Base Item NYS Contract Price | B23: The per unit NYS Contract Price (dollar amount) for the School Bus described in the Base Item Specifications. The Base Item NYS Contract Price includes any OEM fees, all customs duties and charges, all vehicle preparation and clean-up charges, NYS DOT inspection, installation charges, delivery and all other incidentals normally included with providing a School Bus, but excludes Optional Equipment, Additional Body Section(s), and Additional Options. | F23: =425886*'PPI Adj'!H6 -> 443773.21
A24: Additional Options NYS Discount | B24: The minimum percentage amount that shall be deducted from the MSRP for all Additional Options purchased under the Contract for this Item. | F24: 22
A26: PART 3: Base Item Specifications | F26: Blue Bird
A27: Category | B27: Specification | C27: Information provided in Yellow Cells | F27: Electric
A28: General | B28: A School Bus with a Body installed upon a cowl and Chassis constructed using a chassis with a hood and front fender assembly. All of the engine is in front of the windshield and the entrance door is behind the front wheels. This is also known as a conventional school bus. This type also includes the cutaway truck chassis or truck chassis with cab, with or without a left side door, and with a GVWR greater than 16,000 pounds. | C28: Gross Vehicle Weight Rating (GVWR) [lbs]: | F28: 33000
A29: Capacity | B29: Minimum twenty-eight (28) Pupils. | C29: Number of rows: | F29: 7
C30: Number of Pupils: | F30: 42
A31: Rear Wheels | B31: Dual Rear Wheel (DRW)
A32: Dimensions | C32: Wheelbase [inches]: | F32: 217"
C33: Length (bumper to bumper) [inches]: | F33: 379.29
C34: Body width (inside) [inches]: | F34: 90.75"
C35: Body headroom (standard) [inches]: | F35: 77"
C36: Cowl to rear axle length [inches]: | F36: 205.71
A37: Cowl/Hood | B37: Forward tilting style cowl/hood assembly.
A38: Front Axle | C38: Gross Axle Weight Rating (GAWR) [lbs]: | F38: 12000
C39: Front axle capacity [lbs]: | F39: 12000
A40: Rear Axle | C40: Gross Axle Weight Rating (GAWR) [lbs]: | F40: 23000
C41: Rear axle capacity [lbs]: | F41: 23000
A42: Steering | B42: Power steering
A43: Brakes | B43: Chassis manufacturer's typical full air service brake system. A liquid-cooled, engine-lubricated air compressor, that is compliant with FMVSS (49 CFR 571.121.S5.1.1.), shall be provided. The air brake system shall be equipped with an automatic drain valve on the wet tank that may be unheated, a valve that can be manually opened on each air tank, and an air dryer/ejector that may be unheated. The system shall include a spring set parking brake. System shall be compliant with FMVSS (49 CFR 571.121), including the latest revision thereof. All brakes shall have automatic slack adjusters. | C43: Air Compressor size, Make & Model: | F43: AirSquared, P17H043D
...

Sheet C (Item 2-D)
A1: ='A (Item 2-G)'!$A$1 -> GROUP 40524-23254, SCHOOL BUSES (Statewide) Attachment 1 - Specifications and Pricing (Revised October 15, 2026)
A2: ='Attachment 1 - Summary'!B2 -> PC69864 New York Bus Sales, LLC
A3: LOT C (Item 2-D)
A4: Type C, 46 Pupil Conventional Front-Engine Bus (Diesel, Minimum 46 Pupils)
A6: PART 1: Product information for the Base Item(s) Awarded | F6: Blue Bird
A7: Category | B7: Information provided in Yellow Cells | F7: Diesel | G7: Gas | H7: LPG
A8: Engine | B8: Information identifying the engine for the fuel type offered. | F8: 40179-47; Cummins B6.7; 6 Cyl, 6.7L, 200HP at 2,400 RPM, 520 lb. ft. torque @ 1,600 RPM. | G8: 40166-03, Ford 7.3L; 8 Cyl, 350 HP @3,900 RPM, 468 lb. ft. torque @ 3,900 RPM | H8: 40166-03, Ford 7.3L; 8 Cyl, 350 HP @3,900 RPM, 468 lb. ft. torque @ 3,900 RPM
A9: NYS DOT Approval Number | B9: The NYS DOT Approval Number for the School Bus. Only School Buses approved by NYS DOT Passenger Carrier Safety Bureau for use as 2022 and newer Models, as indicated by a NYS DOT Approval Number, shall be delivered pursuant to the Contract. | F9: 2127-NY-48-00WC-BBB | G9: 2127-NY-48-00WC-BBB | H9: 2127-NY-48-00WC-BBB
A10: Chassis Make | B10: The OEM company name of a Chassis. | F10: Blue Bird | G10: Blue Bird | H10: Blue Bird
A11: Chassis Model | B11: The Model name of the Chassis. | F11: BBCV | G11: BBCV | H11: BBCV
A12: Chassis Model Code | B12: The OEM code used to identify the subset of the Chassis Model. | F12: 2610 | G12: 2610 | H12: 2610
A13: Body Make | B13: The OEM company name of a Body. | F13: Blue Bird | G13: Blue Bird | H13: Blue Bird
A14: Body Model | B14: The Model name of the Body. | F14: Vision | G14: Vision | H14: Vision
A15: Body Model Code | B15: The OEM code used to identify the subset of the Body Model. | F15: 2610 | G15: 2610 | H15: 2610
A16: Pick Up Allowance | B16: The dollar amount, per School Bus, that will be deducted from the Base Item NYS Contract Price, if the Authorized User elects to pick up the School Bus at the Contractor's location. | F16: 100 | G16: 100 | H16: 100
A17: Delivery Time | B17: The estimated delivery time for the School Bus, expressed in number of calendar days, required to make delivery after receipt of a final Purchase Order (After Receipt of Order (“ARO”)). | F17: 210-270 | G17: 210-270 | H17: 210-270
A19: PART 2: Pricing for the Base Item, Additional Body Section, and Additional Options | F19: Blue Bird
A20: Category | B20: Information provided in Yellow Cells | F20: Diesel | G20: Gas | H20: LPG
A21: Base Item NYS Contract Price | B21: The per unit NYS Contract Price (dollar amount) for the School Bus described in the Base Item Specifications. The Base Item NYS Contract Price includes any OEM fees, all customs duties and charges, all vehicle preparation and clean-up charges, NYS DOT inspection, installation charges, delivery and all other incidentals normally included with providing a School Bus, but excludes Optional Equipment, Additional Body Section(s), and Additional Options. | F21: =131100*('PPI Adj'!D6) -> 152993.7 | G21: =128200*('PPI Adj'!D6) -> 149609.4 | H21: =138300*('PPI Adj'!D6) -> 161396.1
A22: Additional Options NYS Discount | B22: The minimum percentage amount that shall be deducted from the MSRP for all Additional Options purchased under the Contract for this Item. | F22: 22 | G22: 22 | H22: 22
A24: PART 3: Base Item Specifications | F24: Blue Bird
A25: Category | B25: Specification | C25: Information provided in Yellow Cells | F25: Diesel | G25: Gas | H25: LPG
A26: General | B26: A School Bus with a Body installed upon a cowl and Chassis constructed using a chassis with a hood and front fender assembly. All of the engine is in front of the windshield and the entrance door is behind the front wheels. This is also known as a conventional school bus. This type also includes the cutaway truck chassis or truck chassis with cab, with or without a left side door, and with a GVWR greater than 16,000 pounds. | C26: Gross Vehicle Weight Rating (GVWR) [lbs]: | F26: 29000 | G26: 29000 | H26: 29000
A27: Capacity | B27: Minimum forty-six (46) Pupils. | C27: Number of rows: | F27: 8 | G27: 8 | H27: 8
C28: Number of Pupils: | F28: 48 | G28: 48 | H28: 48
A29: Rear Wheels | B29: Dual Rear Wheel (DRW)
A30: Dimensions | C30: Wheelbase [inches]: | F30: 217" | G30: 217" | H30: 217"
C31: Length (bumper to bumper) [inches]: | F31: 393.29" | G31: 393.29" | H31: 393.29"
C32: Body width (inside) [inches]: | F32: 90.75" | G32: 90.75" | H32: 90.75"
C33: Body headroom (standard) [inches]: | F33: 77" | G33: 77" | H33: 77"
C34: Cowl to rear axle length [inches]: | F34: 261.75" | G34: 261.75" | H34: 261.75"
A35: Cowl/Hood | B35: Forward tilting style cowl/hood assembly.
A36: Front Axle | C36: Gross Axle Weight Rating (GAWR) [lbs]: | F36: 10000 | G36: 10000 | H36: 10000
C37: Front axle capacity [lbs]: | F37: 12000 | G37: 12000 | H37: 12000
A38: Rear Axle | C38: Gross Axle Weight Rating (GAWR) [lbs]: | F38: 19000 | G38: 19000 | H38: 19000
C39: Rear axle capacity [lbs]: | F39: 21000 | G39: 21000 | H39: 21000
A40: Steering | B40: Power steering
A41: Brakes | B41: Chassis manufacturer's typical full air service brake system. A liquid-cooled, engine-lubricated air compressor, that is compliant with FMVSS (49 CFR 571.121.S5.1.1.), shall be provided. The air brake system shall be equipped with an automatic drain valve on the wet tank that may be unheated, a valve that can be manually opened on each air tank, and an air dryer/ejector that may be unheated. The system shall include a spring set parking brake. System shall be compliant with FMVSS (49 CFR 571.121), including the latest revision thereof. All brakes shall have automatic slack adjusters. | C41: Air Compressor size, Make & Model: | F41: 18.7 CFM, Cummins | G41: 18.7 CFM, Cummins | H41: 18.7 CFM, Cummins
C42: Air Dryer size, Make & Model: | F42: 7" x 10.3" Bendix AD-IP | G42: 7" x 10.3" Bendix AD-IP | H42: 7" x 10.3" Bendix AD-IP
A44: Brakes | B44: Antilock Brake System (ABS), and an audio & visual warning system for system malfunctions.
...

Sheet C (Item 3-D)
A1: ='A (Item 2-G)'!$A$1 -> GROUP 40524-23254, SCHOOL BUSES (Statewide) Attachment 1 - Specifications and Pricing (Revised October 15, 2026)
A2: ='Attachment 1 - Summary'!B2 -> PC69864 New York Bus Sales, LLC
A3: LOT C (Item 3-D)
A4: Type C, 58 Pupil Conventional Front-Engine Bus (Diesel, Minimum 58 Pupils)
A6: PART 1: Product information for the Base Item(s) Awarded | F6: Blue Bird
A7: Category | B7: Information provided in Yellow Cells | F7: Diesel | G7: Gas | H7: LPG
A8: Engine | B8: Information identifying the engine for the fuel type offered. | F8: 40179-47; Cummins B6.7; 6 Cyl, 6.7L, 200HP at 2,400 RPM, 520 lb. ft. torque @ 1,600 RPM. | G8: 40166-03, Ford 7.3L; 8 Cyl, 350 HP @3,900 RPM, 468 lb. ft. torque @ 3,900 RPM | H8: 40166-03, Ford 7.3L; 8 Cyl, 350 HP @3,900 RPM, 468 lb. ft. torque @ 3,900 RPM
A9: NYS DOT Approval Number | B9: The NYS DOT Approval Number for the School Bus. Only School Buses approved by NYS DOT Passenger Carrier Safety Bureau for use as 2022 and newer Models, as indicated by a NYS DOT Approval Number, shall be delivered pursuant to the Contract. | F9: 2212-NY-59-00WC-BBB | G9: 2212-NY-59-00WC-BBB | H9: 2212-NY-59-00WC-BBB
A10: Chassis Make | B10: The OEM company name of a Chassis. | F10: Blue Bird | G10: Blue Bird | H10: Blue Bird
A11: Chassis Model | B11: The Model name of the Chassis. | F11: BBCV | G11: BBCV | H11: BBCV
A12: Chassis Model Code | B12: The OEM code used to identify the subset of the Chassis Model. | F12: 2807 | G12: 2807 | H12: 2807
A13: Body Make | B13: The OEM company name of a Body. | F13: Blue Bird | G13: Blue Bird | H13: Blue Bird
A14: Body Model | B14: The Model name of the Body. | F14: Vision | G14: Vision | H14: Vision
A15: Body Model Code | B15: The OEM code used to identify the subset of the Body Model. | F15: 2807 | G15: 2807 | H15: 2807
A16: Pick Up Allowance | B16: The dollar amount, per School Bus, that will be deducted from the Base Item NYS Contract Price, if the Authorized User elects to pick up the School Bus at the Contractor's location. | F16: 100 | G16: 100 | H16: 100
A17: Delivery Time | B17: The estimated delivery time for the School Bus, expressed in number of calendar days, required to make delivery after receipt of a final Purchase Order (After Receipt of Order (“ARO”)). | F17: 210-270 | G17: 210-270 | H17: 210-270
A19: PART 2: Pricing for the Base Item, Additional Body Section, and Additional Options | F19: Blue Bird
A20: Category | B20: Information provided in Yellow Cells | F20: Diesel | G20: Gas | H20: LPG
A21: Base Item NYS Contract Price | B21: The per unit NYS Contract Price (dollar amount) for the School Bus described in the Base Item Specifications. The Base Item NYS Contract Price includes any OEM fees, all customs duties and charges, all vehicle preparation and clean-up charges, NYS DOT inspection, installation charges, delivery and all other incidentals normally included with providing a School Bus, but excludes Optional Equipment, Additional Body Section(s), and Additional Options. | F21: =133300*('PPI Adj'!D6) -> 155561.1 | G21: =130300*('PPI Adj'!D6) -> 152060.1 | H21: =140300*('PPI Adj'!D6) -> 163730.1
A22: Additional Options NYS Discount | B22: The minimum percentage amount that shall be deducted from the MSRP for all Additional Options purchased under the Contract for this Item. | F22: 22 | G22: 22 | H22: 22
A24: PART 3: Base Item Specifications | F24: Blue Bird
A25: Category | B25: Specification | C25: Information provided in Yellow Cells | F25: Diesel | G25: Gas | H25: LPG
A26: General | B26: A School Bus with a Body installed upon a cowl and Chassis constructed using a chassis with a hood and front fender assembly. All of the engine is in front of the windshield and the entrance door is behind the front wheels. This is also known as a conventional school bus. This type also includes the cutaway truck chassis or truck chassis with cab, with or without a left side door, and with a GVWR greater than 16,000 pounds. | C26: Gross Vehicle Weight Rating (GVWR) [lbs]: | F26: 29000 | G26: 29000 | H26: 29000
A27: Capacity | B27: Minimum fifty-eight (58) Pupils. | C27: Number of rows: | F27: 10 | G27: 10 | H27: 10
C28: Number of Pupils: | F28: 59 | G28: 59 | H28: 59
A29: Rear Wheels | B29: Dual Rear Wheel (DRW)
A30: Dimensions | C30: Wheelbase [inches]: | F30: 238" | G30: 238" | H30: 238"
C31: Length (bumper to bumper) [inches]: | F31: 414.29" | G31: 414.29" | H31: 414.29"
C32: Body width (inside) [inches]: | F32: 90.75" | G32: 90.75" | H32: 90.75"
C33: Body headroom (standard) [inches]: | F33: 77" | G33: 77" | H33: 77"
C34: Cowl to rear axle length [inches]: | F34: 282.75" | G34: 282.75" | H34: 282.75"
A35: Cowl/Hood | B35: Forward tilting style cowl/hood assembly.
A36: Front Axle | C36: Gross Axle Weight Rating (GAWR) [lbs]: | F36: 10000 | G36: 10000 | H36: 10000
C37: Front axle capacity [lbs]: | F37: 12000 | G37: 12000 | H37: 12000
A38: Rear Axle | C38: Gross Axle Weight Rating (GAWR) [lbs]: | F38: 19000 | G38: 19000 | H38: 19000
C39: Rear axle capacity [lbs]: | F39: 21000 | G39: 21000 | H39: 21000
A40: Steering | B40: Power steering
A41: Brakes | B41: Chassis manufacturer's typical full air service brake system. A liquid-cooled, engine-lubricated air compressor, that is compliant with FMVSS (49 CFR 571.121.S5.1.1.), shall be provided. The air brake system shall be equipped with an automatic drain valve on the wet tank that may be unheated, a valve that can be manually opened on each air tank, and an air dryer/ejector that may be unheated. The system shall include a spring set parking brake. System shall be compliant with FMVSS (49 CFR 571.121), including the latest revision thereof. All brakes shall have automatic slack adjusters. | C41: Air Compressor size, Make & Model: | F41: 18.7 CFM, Cummins | G41: 18.7 CFM, Cummins | H41: 18.7 CFM, Cummins
C42: Air Dryer size, Make & Model: | F42: 7" x 10.3" Bendix AD-IP | G42: 7" x 10.3" Bendix AD-IP | H42: 7" x 10.3" Bendix AD-IP
A44: Brakes | B44: Antilock Brake System (ABS), and an audio & visual warning system for system malfunctions.
...

Sheet C (Item 2-EV) 
A1: ='A (Item 2-G)'!$A$1 -> GROUP 40524-23254, SCHOOL BUSES (Statewide) Attachment 1 - Specifications and Pricing (Revised October 15, 2026)
A2: ='[1]Attachment 1 - Summary'!B2 -> PC69864 New York Bus Sales, LLC
A3: LOT C (Item 2-EV)
A4: Type C, 46 Pupil Conventional Bus (Electric, Minimum 46 Pupils, Maximum 57 Pupils)
A6: PART 1: Product information for the Base Item(s) Awarded | F6: Blue Bird
A7: Category | B7: Information provided in Yellow Cells | F7: Electric
A8: Engine | B8: Information identifying the engine for the fuel type offered. | F8: TM4 LSM200CHV3000; Six Phase AC Perm. Magnet Induct. Motor; 315 Peak HP, 2400 Peak Torque
A9: NYS DOT Approval Number | B9: The NYS DOT Approval Number for the School Bus. Only School Buses approved by NYS DOT Passenger Carrier Safety Bureau for use as 2022 and newer Models, as indicated by a NYS DOT Approval Number, shall be delivered pursuant to the Contract. | F9: 2322-NY-48-00WC-BBB
A10: Chassis Model Year | B10: Enter Model Year, (e.g. 2022, 2023), of the Chassis bid | F10: 2026
